{"text_format":"1","workbook":"xlsx","n_sheets":2,"sheets":["10 23","Лист1"],"not_rendered":{"charts":0,"images":0,"macros":0,"external_links":0,"defined_names":0,"comments":0,"pivot_tables":0},"unopened":[],"bounds":{"document_bytes":16777216,"sheet_cells":100000,"rows_first":2000,"rows_last":500,"rows_between":2000,"halvings":0,"cell_chars":16384,"cell_head_chars":4096},"cells_cut":0,"cells_raw":0,"read":"whole","date_system":"1900"}

{"sheet":"10 23","index":0,"n_rows":966,"n_cols":10,"rows_kept":966,"cut":false,"hidden":false,"merged":[[12,5,15,5],[12,6,15,9],[12,0,15,0],[12,1,15,1],[12,2,15,2],[12,3,15,3],[12,4,15,4]]}
[]
[null,null,null,null,"Приложение  4  Форма 6"]
[null,null,null,"к Приказу ФАС России № 38/19 от 18.01.2019 г."]
[]
[]
[null,"Информация о наличии (отсутствии) технической возможности доступа к регулируемым услугам"]
[]
[null,"по транспортировке газа по газораспределительным сетям    ООО \"ВельскГазСервис\""]
[]
[null,"                                                                           за      О К Т Я Б Р Ь  2023 года"]
[]
[]
["Точка входа в газораспределительную сеть","Точка выхода из газораспределительной сети","Наименование потребителя","Номер группы газопотребления","Объемы газа в соответствии \nс поступившими заявками, \nмлн. куб. м","Объемы газа в соответствии \nс удовлетворенными заявками, \nмлн. куб. м","Свободная мощность газораспределительной сети, \nмлн. куб. м"]
[]
[]
[]
[1,2,3,4,5,6,"л",1,"п",7]
[]
["ГРС.г.Вельск",{"$f":"Лист1!B16","v":"Вельск,(ул.Гайдара-16В + ул.Дзержинского-210, стр.12)"},{"$f":"Лист1!A16","v":"АО             \"ГТ Энерго\" "},{"$f":"Лист1!C16","v":4},{"$f":"Лист1!BI16/1000","v":0.32169999999999999},{"$f":"Лист1!BH16","v":0.28251800000000005},{"$f":"IF(#REF!>0,#REF!,0)","v":{"$error":"#REF!"}},{"$f":"IF(G19>0,1,0)","v":{"$error":"#REF!"}},{"$f":"IF(#REF!>0,#REF!,0)","v":{"$error":"#REF!"}},{"$f":"E19-F19","v":3.9181999999999939E-2}]
["ГРС.г.Вельск",{"$f":"Лист1!B17","v":""},{"$f":"Лист1!A17","v":""},{"$f":"Лист1!C17","v":4},{"$f":"Лист1!BI17/1000","v":0},{"$f":"Лист1!BH17","v":0},{"$f":"IF(#REF!>0,#REF!,0)","v":{"$error":"#REF!"}},{"$f":"IF(G20>0,1,0)","v":{"$error":"#REF!"}},{"$f":"IF(#REF!>0,#REF!,0)","v":{"$error":"#REF!"}},0]
["ГРС.г.Вельск",{"$f":"Лист1!B18","v":""},{"$f":"Лист1!A18","v":""},{"$f":"Лист1!C18","v":4},{"$f":"Лист1!BI18/1000","v":0},{"$f":"Лист1!BH18","v":0},{"$f":"IF(#REF!>0,#REF!,0)","v":{"$error":"#REF!"}},{"$error":"#REF!"},{"$f":"IF(#REF!>0,#REF!,0)","v":{"$error":"#REF!"}},0]
["ГРС.г.Вельск",{"$f":"Лист1!B19","v":""},{"$f":"Лист1!A19","v":""},{"$f":"Лист1!C19","v":4},{"$f":"Лист1!BI19/1000","v":0},{"$f":"Лист1!BH19","v":0},{"$f":"IF(#REF!>0,#REF!,0)","v":{"$error":"#REF!"}},{"$error":"#REF!"},{"$f":"IF(#REF!>0,#REF!,0)","v":{"$error":"#REF!"}},0]
["ГРС.г.Вельск",{"$f":"Лист1!B20","v":"д.Горка Муравьевская, БМК №2"},{"$f":"Лист1!A20","v":"АО             \"ГТ Энерго\" "},{"$f":"Лист1!C20","v":5},{"$f":"Лист1!BI20/1000","v":8.6599999999999996E-2},{"$f":"Лист1!BH20","v":8.3254999999999996E-2},{"$f":"IF(#REF!>0,#REF!,0)","v":{"$error":"#REF!"}},{"$f":"IF(G23>0,1,0)","v":{"$error":"#REF!"}},{"$f":"IF(#REF!>0,#REF!,0)","v":{"$error":"#REF!"}},3.3450000000000008E-3]
["ГРС.г.Вельск",{"$f":"Лист1!B21","v":""},{"$f":"Лист1!A21","v":""},{"$f":"Лист1!C21","v":5},{"$f":"Лист1!BI21/1000","v":0},{"$f":"Лист1!BH21","v":0},{"$f":"IF(#REF!>0,#REF!,0)","v":{"$error":"#REF!"}},{"$f":"IF(G24>0,1,0)","v":{"$error":"#REF!"}},{"$f":"IF(#REF!>0,#REF!,0)","v":{"$error":"#REF!"}},0]
["ГРС.г.Вельск",{"$f":"Лист1!B22","v":""},{"$f":"Лист1!A22","v":""},{"$f":"Лист1!C22","v":5},{"$f":"Лист1!BI22/1000","v":0},{"$f":"Лист1!BH22","v":0},{"$f":"IF(#REF!>0,#REF!,0)","v":{"$error":"#REF!"}},{"$error":"#REF!"},{"$f":"IF(#REF!>0,#REF!,0)","v":{"$error":"#REF!"}},0]
["ГРС.г.Вельск",{"$f":"Лист1!B23","v":""},{"$f":"Лист1!A23","v":""},{"$f":"Лист1!C23","v":5},{"$f":"Лист1!BI23/1000","v":0},{"$f":"Лист1!BH23","v":0},{"$f":"IF(#REF!>0,#REF!,0)","v":{"$error":"#REF!"}},{"$error":"#REF!"},{"$f":"IF(#REF!>0,#REF!,0)","v":{"$error":"#REF!"}},0]
["ГРС.г.Вельск",{"$f":"Лист1!B24","v":"д.Вороновская, БМК №3"},{"$f":"Лист1!A24","v":"АО             \"ГТ Энерго\" "},{"$f":"Лист1!C24","v":5},{"$f":"Лист1!BI24/1000","v":6.8699999999999997E-2},{"$f":"Лист1!BH24","v":5.2133000000000006E-2},{"$f":"IF(#REF!>0,#REF!,0)","v":{"$error":"#REF!"}},{"$f":"IF(G27>0,1,0)","v":{"$error":"#REF!"}},{"$f":"IF(#REF!>0,#REF!,0)","v":{"$error":"#REF!"}},1.6566999999999991E-2]
["ГРС.г.Вельск",{"$f":"Лист1!B25","v":""},{"$f":"Лист1!A25","v":""},{"$f":"Лист1!C25","v":5},{"$f":"Лист1!BI25/1000","v":0},{"$f":"Лист1!BH25","v":0},{"$f":"IF(#REF!>0,#REF!,0)","v":{"$error":"#REF!"}},{"$f":"IF(G28>0,1,0)","v":{"$error":"#REF!"}},{"$f":"IF(#REF!>0,#REF!,0)","v":{"$error":"#REF!"}},0]
["ГРС.г.Вельск",{"$f":"Лист1!B26","v":""},{"$f":"Лист1!A26","v":""},{"$f":"Лист1!C26","v":5},{"$f":"Лист1!BI26/1000","v":0},{"$f":"Лист1!BH26","v":0},{"$f":"IF(#REF!>0,#REF!,0)","v":{"$error":"#REF!"}},{"$error":"#REF!"},{"$f":"IF(#REF!>0,#REF!,0)","v":{"$error":"#REF!"}},0]
["ГРС.г.Вельск",{"$f":"Лист1!B27","v":""},{"$f":"Лист1!A27","v":""},{"$f":"Лист1!C27","v":5},{"$f":"Лист1!BI27/1000","v":0},{"$f":"Лист1!BH27","v":0},{"$f":"IF(#REF!>0,#REF!,0)","v":{"$error":"#REF!"}},{"$error":"#REF!"},{"$f":"IF(#REF!>0,#REF!,0)","v":{"$error":"#REF!"}},0]
["ГРС.г.Вельск",{"$f":"Лист1!B28","v":"Вельск, ул.Революционная-73 (ПУ-29)"},{"$f":"Лист1!A28","v":"АО             \"ГТ Энерго\" "},{"$f":"Лист1!C28","v":5},{"$f":"Лист1!BI28/1000","v":6.3700000000000007E-2},{"$f":"Лист1!BH28","v":4.3136000000000001E-2},{"$f":"IF(#REF!>0,#REF!,0)","v":{"$error":"#REF!"}},{"$f":"IF(G31>0,1,0)","v":{"$error":"#REF!"}},{"$f":"IF(#REF!>0,#REF!,0)","v":{"$error":"#REF!"}},2.0564000000000006E-2]
["ГРС.г.Вельск",{"$f":"Лист1!B29","v":""},{"$f":"Лист1!A29","v":""},{"$f":"Лист1!C29","v":5},{"$f":"Лист1!BI29/1000","v":0},{"$f":"Лист1!BH29","v":0},{"$f":"IF(#REF!>0,#REF!,0)","v":{"$error":"#REF!"}},{"$f":"IF(G32>0,1,0)","v":{"$error":"#REF!"}},{"$f":"IF(#REF!>0,#REF!,0)","v":{"$error":"#REF!"}},0]
["ГРС.г.Вельск",{"$f":"Лист1!B30","v":""},{"$f":"Лист1!A30","v":""},{"$f":"Лист1!C30","v":5},{"$f":"Лист1!BI30/1000","v":0},{"$f":"Лист1!BH30","v":0},{"$f":"IF(#REF!>0,#REF!,0)","v":{"$error":"#REF!"}},{"$error":"#REF!"},{"$f":"IF(#REF!>0,#REF!,0)","v":{"$error":"#REF!"}},0]
["ГРС.г.Вельск",{"$f":"Лист1!B31","v":""},{"$f":"Лист1!A31","v":""},{"$f":"Лист1!C31","v":5},{"$f":"Лист1!BI31/1000","v":0},{"$f":"Лист1!BH31","v":0},{"$f":"IF(#REF!>0,#REF!,0)","v":{"$error":"#REF!"}},{"$error":"#REF!"},{"$f":"IF(#REF!>0,#REF!,0)","v":{"$error":"#REF!"}},0]
["ГРС.г.Вельск",{"$f":"Лист1!B32","v":"Вельск, (ул.Дзержинского-201, а/л №45 + ул.Кирова-6а)"},{"$f":"Лист1!A32","v":"АО             \"ГТ Энерго\" "},{"$f":"Лист1!C32","v":5},{"$f":"Лист1!BI32/1000","v":0.1313},{"$f":"Лист1!BH32","v":7.3937000000000003E-2},{"$f":"IF(#REF!>0,#REF!,0)","v":{"$error":"#REF!"}},{"$f":"IF(G35>0,1,0)","v":{"$error":"#REF!"}},{"$f":"IF(#REF!>0,#REF!,0)","v":{"$error":"#REF!"}},5.7362999999999997E-2]
["ГРС.г.Вельск",{"$f":"Лист1!B33","v":""},{"$f":"Лист1!A33","v":""},{"$f":"Лист1!C33","v":5},{"$f":"Лист1!BI33/1000","v":0},{"$f":"Лист1!BH33","v":0},{"$f":"IF(#REF!>0,#REF!,0)","v":{"$error":"#REF!"}},{"$f":"IF(G36>0,1,0)","v":{"$error":"#REF!"}},{"$f":"IF(#REF!>0,#REF!,0)","v":{"$error":"#REF!"}},0]
["ГРС.г.Вельск",{"$f":"Лист1!B34","v":""},{"$f":"Лист1!A34","v":""},{"$f":"Лист1!C34","v":5},{"$f":"Лист1!BI34/1000","v":0},{"$f":"Лист1!BH34","v":0},{"$f":"IF(#REF!>0,#REF!,0)","v":{"$error":"#REF!"}},{"$error":"#REF!"},{"$f":"IF(#REF!>0,#REF!,0)","v":{"$error":"#REF!"}},0]
["ГРС.г.Вельск",{"$f":"Лист1!B35","v":""},{"$f":"Лист1!A35","v":""},{"$f":"Лист1!C35","v":5},{"$f":"Лист1!BI35/1000","v":0},{"$f":"Лист1!BH35","v":0},{"$f":"IF(#REF!>0,#REF!,0)","v":{"$error":"#REF!"}},{"$error":"#REF!"},{"$f":"IF(#REF!>0,#REF!,0)","v":{"$error":"#REF!"}},0]
["ГРС.г.Вельск",{"$f":"Лист1!B36","v":""},{"$f":"Лист1!A36","v":"ОАО          \"Архангельскоблгаз\""},{"$f":"Лист1!C36","v":7},{"$f":"Лист1!BI36/1000","v":1E-3},{"$f":"Лист1!BH36","v":6.7000000000000002E-4},{"$f":"IF(#REF!>0,#REF!,0)","v":{"$error":"#REF!"}},{"$f":"IF(G39>0,1,0)","v":{"$error":"#REF!"}},{"$f":"IF(#REF!>0,#REF!,0)","v":{"$error":"#REF!"}},3.3E-4]
["ГРС.г.Вельск",{"$f":"Лист1!B37","v":""},{"$f":"Лист1!A37","v":""},{"$f":"Лист1!C37","v":7},{"$f":"Лист1!BI37/1000","v":0},{"$f":"Лист1!BH37","v":0},{"$f":"IF(#REF!>0,#REF!,0)","v":{"$error":"#REF!"}},{"$f":"IF(G40>0,1,0)","v":{"$error":"#REF!"}},{"$f":"IF(#REF!>0,#REF!,0)","v":{"$error":"#REF!"}},0]
["ГРС.г.Вельск",{"$f":"Лист1!B38","v":""},{"$f":"Лист1!A38","v":""},{"$f":"Лист1!C38","v":7},{"$f":"Лист1!BI38/1000","v":0},{"$f":"Лист1!BH38","v":0},{"$f":"IF(#REF!>0,#REF!,0)","v":{"$error":"#REF!"}},{"$error":"#REF!"},{"$f":"IF(#REF!>0,#REF!,0)","v":{"$error":"#REF!"}},0]
["ГРС.г.Вельск",{"$f":"Лист1!B39","v":""},{"$f":"Лист1!A39","v":""},{"$f":"Лист1!C39","v":7},{"$f":"Лист1!BI39/1000","v":0},{"$f":"Лист1!BH39","v":0},{"$f":"IF(#REF!>0,#REF!,0)","v":{"$error":"#REF!"}},{"$error":"#REF!"},{"$f":"IF(#REF!>0,#REF!,0)","v":{"$error":"#REF!"}},0]
["ГРС.г.Вельск",{"$f":"Лист1!B40","v":""},{"$f":"Лист1!A40","v":"ГКУЗ АО АМЦМР   \"Резерв\""},{"$f":"Лист1!C40","v":6},{"$f":"Лист1!BI40/1000","v":3.5000000000000001E-3},{"$f":"Лист1!BH40","v":2.5079999999999998E-3},{"$f":"IF(#REF!>0,#REF!,0)","v":{"$error":"#REF!"}},{"$f":"IF(G43>0,1,0)","v":{"$error":"#REF!"}},{"$f":"IF(#REF!>0,#REF!,0)","v":{"$error":"#REF!"}},9.9200000000000026E-4]
["ГРС.г.Вельск",{"$f":"Лист1!B41","v":""},{"$f":"Лист1!A41","v":""},{"$f":"Лист1!C41","v":6},{"$f":"Лист1!BI41/1000","v":0},{"$f":"Лист1!BH41","v":0},{"$f":"IF(#REF!>0,#REF!,0)","v":{"$error":"#REF!"}},{"$f":"IF(G44>0,1,0)","v":{"$error":"#REF!"}},{"$f":"IF(#REF!>0,#REF!,0)","v":{"$error":"#REF!"}},0]
["ГРС.г.Вельск",{"$f":"Лист1!B42","v":""},{"$f":"Лист1!A42","v":""},{"$f":"Лист1!C42","v":6},{"$f":"Лист1!BI42/1000","v":0},{"$f":"Лист1!BH42","v":0},{"$f":"IF(#REF!>0,#REF!,0)","v":{"$error":"#REF!"}},{"$f":"IF(G45>0,1,0)","v":{"$error":"#REF!"}},{"$f":"IF(#REF!>0,#REF!,0)","v":{"$error":"#REF!"}},0]
["ГРС.г.Вельск",{"$f":"Лист1!B43","v":""},{"$f":"Лист1!A43","v":""},{"$f":"Лист1!C43","v":6},{"$f":"Лист1!BI43/1000","v":0},{"$f":"Лист1!BH43","v":0},{"$f":"IF(#REF!>0,#REF!,0)","v":{"$error":"#REF!"}},{"$f":"IF(G46>0,1,0)","v":{"$error":"#REF!"}},{"$f":"IF(#REF!>0,#REF!,0)","v":{"$error":"#REF!"}},0]
["ГРС.г.Вельск",{"$f":"Лист1!B44","v":""},{"$f":"Лист1!A44","v":"ООО          \"КМТС\"             "},{"$f":"Лист1!C44","v":6},{"$f":"Лист1!BI44/1000","v":2.5000000000000001E-3},{"$f":"Лист1!BH44","v":1.4190000000000001E-3},{"$f":"IF(#REF!>0,#REF!,0)","v":{"$error":"#REF!"}},{"$error":"#REF!"},{"$f":"IF(#REF!>0,#REF!,0)","v":{"$error":"#REF!"}},1.0809999999999999E-3]
["ГРС.г.Вельск",{"$f":"Лист1!B45","v":""},{"$f":"Лист1!A45","v":""},{"$f":"Лист1!C45","v":6},{"$f":"Лист1!BI45/1000","v":0},{"$f":"Лист1!BH45","v":0},{"$f":"IF(#REF!>0,#REF!,0)","v":{"$error":"#REF!"}},{"$error":"#REF!"},{"$f":"IF(#REF!>0,#REF!,0)","v":{"$error":"#REF!"}},0]
["ГРС.г.Вельск",{"$f":"Лист1!B46","v":""},{"$f":"Лист1!A46","v":""},{"$f":"Лист1!C46","v":6},{"$f":"Лист1!BI46/1000","v":0},{"$f":"Лист1!BH46","v":0},{"$f":"IF(#REF!>0,#REF!,0)","v":{"$error":"#REF!"}},{"$f":"IF(G49>0,1,0)","v":{"$error":"#REF!"}},{"$f":"IF(#REF!>0,#REF!,0)","v":{"$error":"#REF!"}},0]
["ГРС.г.Вельск",{"$f":"Лист1!B47","v":""},{"$f":"Лист1!A47","v":""},{"$f":"Лист1!C47","v":6},{"$f":"Лист1!BI47/1000","v":0},{"$f":"Лист1!BH47","v":0},{"$f":"IF(#REF!>0,#REF!,0)","v":{"$error":"#REF!"}},{"$f":"IF(G50>0,1,0)","v":{"$error":"#REF!"}},{"$f":"IF(#REF!>0,#REF!,0)","v":{"$error":"#REF!"}},0]
["ГРС.г.Вельск",{"$f":"Лист1!B48","v":"Вельск, ул.50 лет Октября-48"},{"$f":"Лист1!A48","v":"ООО          \"Диал - Север\""},{"$f":"Лист1!C48","v":5},{"$f":"Лист1!BI48/1000","v":0.01},{"$f":"Лист1!BH48","v":1.0999999999999999E-2},{"$f":"IF(#REF!>0,#REF!,0)","v":{"$error":"#REF!"}},{"$error":"#REF!"},{"$f":"IF(#REF!>0,#REF!,0)","v":{"$error":"#REF!"}},-9.9999999999999915E-4]
["ГРС.г.Вельск",{"$f":"Лист1!B49","v":""},{"$f":"Лист1!A49","v":""},{"$f":"Лист1!C49","v":5},{"$f":"Лист1!BI49/1000","v":0},{"$f":"Лист1!BH49","v":0},{"$f":"IF(#REF!>0,#REF!,0)","v":{"$error":"#REF!"}},{"$error":"#REF!"},{"$f":"IF(#REF!>0,#REF!,0)","v":{"$error":"#REF!"}},0]
["ГРС.г.Вельск",{"$f":"Лист1!B50","v":""},{"$f":"Лист1!A50","v":""},{"$f":"Лист1!C50","v":5},{"$f":"Лист1!BI50/1000","v":0},{"$f":"Лист1!BH50","v":0},{"$f":"IF(#REF!>0,#REF!,0)","v":{"$error":"#REF!"}},{"$f":"IF(G53>0,1,0)","v":{"$error":"#REF!"}},{"$f":"IF(#REF!>0,#REF!,0)","v":{"$error":"#REF!"}},0]
["ГРС.г.Вельск",{"$f":"Лист1!B51","v":""},{"$f":"Лист1!A51","v":""},{"$f":"Лист1!C51","v":5},{"$f":"Лист1!BI51/1000","v":0},{"$f":"Лист1!BH51","v":0},{"$f":"IF(#REF!>0,#REF!,0)","v":{"$error":"#REF!"}},{"$f":"IF(G54>0,1,0)","v":{"$error":"#REF!"}},{"$f":"IF(#REF!>0,#REF!,0)","v":{"$error":"#REF!"}},0]
["ГРС.г.Вельск",{"$f":"Лист1!B52","v":"Вельск, ул.50 лет Октября-48"},{"$f":"Лист1!A52","v":"ООО          \"Диал - Север\""},{"$f":"Лист1!C52","v":5},{"$f":"Лист1!BI52/1000","v":3.7000000000000005E-2},{"$f":"Лист1!BH52","v":1.5842000000000002E-2},{"$f":"IF(#REF!>0,#REF!,0)","v":{"$error":"#REF!"}},{"$error":"#REF!"},{"$f":"IF(#REF!>0,#REF!,0)","v":{"$error":"#REF!"}},2.1158000000000003E-2]
["ГРС.г.Вельск",{"$f":"Лист1!B53","v":""},{"$f":"Лист1!A53","v":""},{"$f":"Лист1!C53","v":5},{"$f":"Лист1!BI53/1000","v":0},{"$f":"Лист1!BH53","v":0},{"$f":"IF(#REF!>0,#REF!,0)","v":{"$error":"#REF!"}},{"$error":"#REF!"},{"$f":"IF(#REF!>0,#REF!,0)","v":{"$error":"#REF!"}},0]
["ГРС.г.Вельск",{"$f":"Лист1!B54","v":""},{"$f":"Лист1!A54","v":""},{"$f":"Лист1!C54","v":5},{"$f":"Лист1!BI54/1000","v":0},{"$f":"Лист1!BH54","v":0},{"$f":"IF(#REF!>0,#REF!,0)","v":{"$error":"#REF!"}},{"$f":"IF(G57>0,1,0)","v":{"$error":"#REF!"}},{"$f":"IF(#REF!>0,#REF!,0)","v":{"$error":"#REF!"}},0]
["ГРС.г.Вельск",{"$f":"Лист1!B55","v":""},{"$f":"Лист1!A55","v":""},{"$f":"Лист1!C55","v":5},{"$f":"Лист1!BI55/1000","v":0},{"$f":"Лист1!BH55","v":0},{"$f":"IF(#REF!>0,#REF!,0)","v":{"$error":"#REF!"}},{"$f":"IF(G58>0,1,0)","v":{"$error":"#REF!"}},{"$f":"IF(#REF!>0,#REF!,0)","v":{"$error":"#REF!"}},0]
["ГРС.г.Вельск",{"$f":"Лист1!B56","v":"д.Вороновская-38"},{"$f":"Лист1!A56","v":"ООО          \"Диал - Север\""},{"$f":"Лист1!C56","v":6},{"$f":"Лист1!BI56/1000","v":8.5000000000000006E-3},{"$f":"Лист1!BH56","v":3.8070000000000001E-3},{"$f":"IF(#REF!>0,#REF!,0)","v":{"$error":"#REF!"}},{"$error":"#REF!"},{"$f":"IF(#REF!>0,#REF!,0)","v":{"$error":"#REF!"}},4.693000000000001E-3]
["ГРС.г.Вельск",{"$f":"Лист1!B57","v":""},{"$f":"Лист1!A57","v":""},{"$f":"Лист1!C57","v":6},{"$f":"Лист1!BI57/1000","v":0},{"$f":"Лист1!BH57","v":0},{"$f":"IF(#REF!>0,#REF!,0)","v":{"$error":"#REF!"}},{"$error":"#REF!"},{"$f":"IF(#REF!>0,#REF!,0)","v":{"$error":"#REF!"}},0]
["ГРС.г.Вельск",{"$f":"Лист1!B58","v":""},{"$f":"Лист1!A58","v":""},{"$f":"Лист1!C58","v":6},{"$f":"Лист1!BI58/1000","v":0},{"$f":"Лист1!BH58","v":0},{"$f":"IF(#REF!>0,#REF!,0)","v":{"$error":"#REF!"}},{"$f":"IF(G61>0,1,0)","v":{"$error":"#REF!"}},{"$f":"IF(#REF!>0,#REF!,0)","v":{"$error":"#REF!"}},0]
["ГРС.г.Вельск",{"$f":"Лист1!B59","v":""},{"$f":"Лист1!A59","v":""},{"$f":"Лист1!C59","v":6},{"$f":"Лист1!BI59/1000","v":0},{"$f":"Лист1!BH59","v":0},{"$f":"IF(#REF!>0,#REF!,0)","v":{"$error":"#REF!"}},{"$f":"IF(G62>0,1,0)","v":{"$error":"#REF!"}},{"$f":"IF(#REF!>0,#REF!,0)","v":{"$error":"#REF!"}},0]
["ГРС.г.Вельск",{"$f":"Лист1!B60","v":""},{"$f":"Лист1!A60","v":"ГКУ Архангельской области «ОГПС № 1»"},{"$f":"Лист1!C60","v":6},{"$f":"Лист1!BI60/1000","v":3.8999999999999998E-3},{"$f":"Лист1!BH60","v":2.333E-3},{"$f":"IF(#REF!>0,#REF!,0)","v":{"$error":"#REF!"}},{"$error":"#REF!"},{"$f":"IF(#REF!>0,#REF!,0)","v":{"$error":"#REF!"}},1.5669999999999998E-3]
["ГРС.г.Вельск",{"$f":"Лист1!B61","v":""},{"$f":"Лист1!A61","v":""},{"$f":"Лист1!C61","v":6},{"$f":"Лист1!BI61/1000","v":0},{"$f":"Лист1!BH61","v":0},{"$f":"IF(#REF!>0,#REF!,0)","v":{"$error":"#REF!"}},{"$error":"#REF!"},{"$f":"IF(#REF!>0,#REF!,0)","v":{"$error":"#REF!"}},0]
["ГРС.г.Вельск",{"$f":"Лист1!B62","v":""},{"$f":"Лист1!A62","v":"Гр.             Растегаева      Татьяна Борисовна "},{"$f":"Лист1!C62","v":7},{"$f":"Лист1!BI62/1000","v":5.0000000000000001E-4},{"$f":"Лист1!BH62","v":4.4700000000000002E-4},{"$f":"IF(#REF!>0,#REF!,0)","v":{"$error":"#REF!"}},{"$f":"IF(G65>0,1,0)","v":{"$error":"#REF!"}},{"$f":"IF(#REF!>0,#REF!,0)","v":{"$error":"#REF!"}},5.2999999999999987E-5]
["ГРС.г.Вельск",{"$f":"Лист1!B63","v":""},{"$f":"Лист1!A63","v":""},{"$f":"Лист1!C63","v":7},{"$f":"Лист1!BI63/1000","v":0},{"$f":"Лист1!BH63","v":0},{"$f":"IF(#REF!>0,#REF!,0)","v":{"$error":"#REF!"}},{"$f":"IF(G66>0,1,0)","v":{"$error":"#REF!"}},{"$f":"IF(#REF!>0,#REF!,0)","v":{"$error":"#REF!"}},0]
["ГРС.г.Вельск",{"$f":"Лист1!B64","v":""},{"$f":"Лист1!A64","v":""},{"$f":"Лист1!C64","v":7},{"$f":"Лист1!BI64/1000","v":0},{"$f":"Лист1!BH64","v":0},{"$f":"IF(#REF!>0,#REF!,0)","v":{"$error":"#REF!"}},{"$error":"#REF!"},{"$f":"IF(#REF!>0,#REF!,0)","v":{"$error":"#REF!"}},0]
["ГРС.г.Вельск",{"$f":"Лист1!B65","v":""},{"$f":"Лист1!A65","v":""},{"$f":"Лист1!C65","v":7},{"$f":"Лист1!BI65/1000","v":0},{"$f":"Лист1!BH65","v":0},{"$f":"IF(#REF!>0,#REF!,0)","v":{"$error":"#REF!"}},{"$error":"#REF!"},{"$f":"IF(#REF!>0,#REF!,0)","v":{"$error":"#REF!"}},{"$f":"E68-F68","v":0}]
["ГРС.г.Вельск",{"$f":"Лист1!B66","v":""},{"$f":"Лист1!A66","v":"ИП             Шахова (Гужова) Татьяна   Николаевна"},{"$f":"Лист1!C66","v":6},{"$f":"Лист1!BI66/1000","v":2.1000000000000003E-3},{"$f":"Лист1!BH66","v":1.1619999999999998E-3},{"$f":"IF(#REF!>0,#REF!,0)","v":{"$error":"#REF!"}},{"$f":"IF(G69>0,1,0)","v":{"$error":"#REF!"}},{"$f":"IF(#REF!>0,#REF!,0)","v":{"$error":"#REF!"}},{"$f":"E69-F69","v":9.3800000000000047E-4}]
["ГРС.г.Вельск",{"$f":"Лист1!B67","v":""},{"$f":"Лист1!A67","v":""},{"$f":"Лист1!C67","v":6},{"$f":"Лист1!BI67/1000","v":0},{"$f":"Лист1!BH67","v":0},{"$f":"IF(#REF!>0,#REF!,0)","v":{"$error":"#REF!"}},{"$f":"IF(G70>0,1,0)","v":{"$error":"#REF!"}},{"$f":"IF(#REF!>0,#REF!,0)","v":{"$error":"#REF!"}},0]
["ГРС.г.Вельск",{"$f":"Лист1!B68","v":""},{"$f":"Лист1!A68","v":""},{"$f":"Лист1!C68","v":6},{"$f":"Лист1!BI68/1000","v":0},{"$f":"Лист1!BH68","v":0},{"$f":"IF(#REF!>0,#REF!,0)","v":{"$error":"#REF!"}},{"$error":"#REF!"},{"$f":"IF(#REF!>0,#REF!,0)","v":{"$error":"#REF!"}},0]
["ГРС.г.Вельск",{"$f":"Лист1!B69","v":""},{"$f":"Лист1!A69","v":""},{"$f":"Лист1!C69","v":6},{"$f":"Лист1!BI69/1000","v":0},{"$f":"Лист1!BH69","v":0},{"$f":"IF(#REF!>0,#REF!,0)","v":{"$error":"#REF!"}},{"$error":"#REF!"},{"$f":"IF(#REF!>0,#REF!,0)","v":{"$error":"#REF!"}},0]
["ГРС.г.Вельск",{"$f":"Лист1!B70","v":""},{"$f":"Лист1!A70","v":"Гр.             Щепелин          Илья Николаевич             (до 01.09  -  гр.Дмитриева Н.С.)"},{"$f":"Лист1!C70","v":7},{"$f":"Лист1!BI70/1000","v":1E-3},{"$f":"Лист1!BH70","v":4.5200000000000004E-4},{"$f":"IF(#REF!>0,#REF!,0)","v":{"$error":"#REF!"}},{"$f":"IF(G73>0,1,0)","v":{"$error":"#REF!"}},{"$f":"IF(#REF!>0,#REF!,0)","v":{"$error":"#REF!"}},5.4799999999999998E-4]
["ГРС.г.Вельск",{"$f":"Лист1!B71","v":""},{"$f":"Лист1!A71","v":""},{"$f":"Лист1!C71","v":7},{"$f":"Лист1!BI71/1000","v":0},{"$f":"Лист1!BH71","v":0},{"$f":"IF(#REF!>0,#REF!,0)","v":{"$error":"#REF!"}},{"$f":"IF(G74>0,1,0)","v":{"$error":"#REF!"}},{"$f":"IF(#REF!>0,#REF!,0)","v":{"$error":"#REF!"}},0]
["ГРС.г.Вельск",{"$f":"Лист1!B72","v":""},{"$f":"Лист1!A72","v":""},{"$f":"Лист1!C72","v":7},{"$f":"Лист1!BI72/1000","v":0},{"$f":"Лист1!BH72","v":0},{"$f":"IF(#REF!>0,#REF!,0)","v":{"$error":"#REF!"}},{"$error":"#REF!"},{"$f":"IF(#REF!>0,#REF!,0)","v":{"$error":"#REF!"}},0]
["ГРС.г.Вельск",{"$f":"Лист1!B73","v":""},{"$f":"Лист1!A73","v":""},{"$f":"Лист1!C73","v":7},{"$f":"Лист1!BI73/1000","v":0},{"$f":"Лист1!BH73","v":0},{"$f":"IF(#REF!>0,#REF!,0)","v":{"$error":"#REF!"}},{"$error":"#REF!"},{"$f":"IF(#REF!>0,#REF!,0)","v":{"$error":"#REF!"}},0]
["ГРС.г.Вельск",{"$f":"Лист1!B74","v":"Вельск, ул.Гагарина-5а"},{"$f":"Лист1!A74","v":"ООО          \"Строймаркет\""},{"$f":"Лист1!C74","v":6},{"$f":"Лист1!BI74/1000","v":1.1000000000000001E-3},{"$f":"Лист1!BH74","v":1.2099999999999999E-3},{"$f":"IF(#REF!>0,#REF!,0)","v":{"$error":"#REF!"}},{"$f":"IF(G77>0,1,0)","v":{"$error":"#REF!"}},{"$f":"IF(#REF!>0,#REF!,0)","v":{"$error":"#REF!"}},-1.0999999999999985E-4]
["ГРС.г.Вельск",{"$f":"Лист1!B75","v":""},{"$f":"Лист1!A75","v":""},{"$f":"Лист1!C75","v":6},{"$f":"Лист1!BI75/1000","v":0},{"$f":"Лист1!BH75","v":0},{"$f":"IF(#REF!>0,#REF!,0)","v":{"$error":"#REF!"}},{"$f":"IF(G78>0,1,0)","v":{"$error":"#REF!"}},{"$f":"IF(#REF!>0,#REF!,0)","v":{"$error":"#REF!"}},0]
["ГРС.г.Вельск",{"$f":"Лист1!B76","v":""},{"$f":"Лист1!A76","v":""},{"$f":"Лист1!C76","v":6},{"$f":"Лист1!BI76/1000","v":0},{"$f":"Лист1!BH76","v":0},{"$f":"IF(#REF!>0,#REF!,0)","v":{"$error":"#REF!"}},{"$error":"#REF!"},{"$f":"IF(#REF!>0,#REF!,0)","v":{"$error":"#REF!"}},0]
["ГРС.г.Вельск",{"$f":"Лист1!B77","v":""},{"$f":"Лист1!A77","v":""},{"$f":"Лист1!C77","v":6},{"$f":"Лист1!BI77/1000","v":0},{"$f":"Лист1!BH77","v":0},{"$f":"IF(#REF!>0,#REF!,0)","v":{"$error":"#REF!"}},{"$error":"#REF!"},{"$f":"IF(#REF!>0,#REF!,0)","v":{"$error":"#REF!"}},0]
["ГРС.г.Вельск",{"$f":"Лист1!B78","v":"Вельск, ул.Гагарина-5а"},{"$f":"Лист1!A78","v":"ООО          \"Строймаркет\""},{"$f":"Лист1!C78","v":6},{"$f":"Лист1!BI78/1000","v":2.5000000000000001E-3},{"$f":"Лист1!BH78","v":3.28E-4},{"$f":"IF(#REF!>0,#REF!,0)","v":{"$error":"#REF!"}},{"$f":"IF(G81>0,1,0)","v":{"$error":"#REF!"}},{"$f":"IF(#REF!>0,#REF!,0)","v":{"$error":"#REF!"}},2.1719999999999999E-3]
["ГРС.г.Вельск",{"$f":"Лист1!B79","v":""},{"$f":"Лист1!A79","v":""},{"$f":"Лист1!C79","v":6},{"$f":"Лист1!BI79/1000","v":0},{"$f":"Лист1!BH79","v":0},{"$f":"IF(#REF!>0,#REF!,0)","v":{"$error":"#REF!"}},{"$f":"IF(G82>0,1,0)","v":{"$error":"#REF!"}},{"$f":"IF(#REF!>0,#REF!,0)","v":{"$error":"#REF!"}},0]
["ГРС.г.Вельск",{"$f":"Лист1!B80","v":""},{"$f":"Лист1!A80","v":""},{"$f":"Лист1!C80","v":6},{"$f":"Лист1!BI80/1000","v":0},{"$f":"Лист1!BH80","v":0},{"$f":"IF(#REF!>0,#REF!,0)","v":{"$error":"#REF!"}},{"$error":"#REF!"},{"$f":"IF(#REF!>0,#REF!,0)","v":{"$error":"#REF!"}},{"$f":"E83-F83","v":0}]
["ГРС.г.Вельск",{"$f":"Лист1!B81","v":""},{"$f":"Лист1!A81","v":""},{"$f":"Лист1!C81","v":6},{"$f":"Лист1!BI81/1000","v":0},{"$f":"Лист1!BH81","v":0},{"$f":"IF(#REF!>0,#REF!,0)","v":{"$error":"#REF!"}},{"$error":"#REF!"},{"$f":"IF(#REF!>0,#REF!,0)","v":{"$error":"#REF!"}},0]
["ГРС.г.Вельск",{"$f":"Лист1!B82","v":"Вельск, ул.Комсомольская-11"},{"$f":"Лист1!A82","v":"ООО          \"Сервис\" "},{"$f":"Лист1!C82","v":6},{"$f":"Лист1!BI82/1000","v":3.4099999999999998E-3},{"$f":"Лист1!BH82","v":1.0689999999999999E-3},{"$f":"IF(#REF!>0,#REF!,0)","v":{"$error":"#REF!"}},{"$f":"IF(G85>0,1,0)","v":{"$error":"#REF!"}},{"$f":"IF(#REF!>0,#REF!,0)","v":{"$error":"#REF!"}},2.3410000000000002E-3]
["ГРС.г.Вельск",{"$f":"Лист1!B83","v":""},{"$f":"Лист1!A83","v":""},{"$f":"Лист1!C83","v":6},{"$f":"Лист1!BI83/1000","v":0},{"$f":"Лист1!BH83","v":0},{"$f":"IF(#REF!>0,#REF!,0)","v":{"$error":"#REF!"}},{"$f":"IF(G86>0,1,0)","v":{"$error":"#REF!"}},{"$f":"IF(#REF!>0,#REF!,0)","v":{"$error":"#REF!"}},0]
["ГРС.г.Вельск",{"$f":"Лист1!B84","v":""},{"$f":"Лист1!A84","v":""},{"$f":"Лист1!C84","v":6},{"$f":"Лист1!BI84/1000","v":0},{"$f":"Лист1!BH84","v":0},{"$f":"IF(#REF!>0,#REF!,0)","v":{"$error":"#REF!"}},{"$error":"#REF!"},{"$f":"IF(#REF!>0,#REF!,0)","v":{"$error":"#REF!"}},0]
["ГРС.г.Вельск",{"$f":"Лист1!B85","v":""},{"$f":"Лист1!A85","v":""},{"$f":"Лист1!C85","v":6},{"$f":"Лист1!BI85/1000","v":0},{"$f":"Лист1!BH85","v":0},{"$f":"IF(#REF!>0,#REF!,0)","v":{"$error":"#REF!"}},{"$error":"#REF!"},{"$f":"IF(#REF!>0,#REF!,0)","v":{"$error":"#REF!"}},0]
["ГРС.г.Вельск",{"$f":"Лист1!B86","v":"Вельск, ул.Дзержинского-50"},{"$f":"Лист1!A86","v":"ООО          \"Сервис\" "},{"$f":"Лист1!C86","v":7},{"$f":"Лист1!BI86/1000","v":4.0000000000000002E-4},{"$f":"Лист1!BH86","v":2.4399999999999999E-4},{"$f":"IF(#REF!>0,#REF!,0)","v":{"$error":"#REF!"}},{"$f":"IF(G89>0,1,0)","v":{"$error":"#REF!"}},{"$f":"IF(#REF!>0,#REF!,0)","v":{"$error":"#REF!"}},1.5600000000000002E-4]
["ГРС.г.Вельск",{"$f":"Лист1!B87","v":""},{"$f":"Лист1!A87","v":""},{"$f":"Лист1!C87","v":7},{"$f":"Лист1!BI87/1000","v":0},{"$f":"Лист1!BH87","v":0},{"$f":"IF(#REF!>0,#REF!,0)","v":{"$error":"#REF!"}},{"$f":"IF(G90>0,1,0)","v":{"$error":"#REF!"}},{"$f":"IF(#REF!>0,#REF!,0)","v":{"$error":"#REF!"}},0]
["ГРС.г.Вельск",{"$f":"Лист1!B88","v":""},{"$f":"Лист1!A88","v":""},{"$f":"Лист1!C88","v":7},{"$f":"Лист1!BI88/1000","v":0},{"$f":"Лист1!BH88","v":0},{"$f":"IF(#REF!>0,#REF!,0)","v":{"$error":"#REF!"}},{"$error":"#REF!"},{"$f":"IF(#REF!>0,#REF!,0)","v":{"$error":"#REF!"}},0]
["ГРС.г.Вельск",{"$f":"Лист1!B89","v":""},{"$f":"Лист1!A89","v":""},{"$f":"Лист1!C89","v":7},{"$f":"Лист1!BI89/1000","v":0},{"$f":"Лист1!BH89","v":0},{"$f":"IF(#REF!>0,#REF!,0)","v":{"$error":"#REF!"}},{"$error":"#REF!"},{"$f":"IF(#REF!>0,#REF!,0)","v":{"$error":"#REF!"}},0]
["ГРС.г.Вельск",{"$f":"Лист1!B90","v":"Вельск, ул.1 мая-63"},{"$f":"Лист1!A90","v":"ООО          \"Сервис\" "},{"$f":"Лист1!C90","v":7},{"$f":"Лист1!BI90/1000","v":5.0000000000000001E-4},{"$f":"Лист1!BH90","v":2.7900000000000001E-4},{"$f":"IF(#REF!>0,#REF!,0)","v":{"$error":"#REF!"}},{"$f":"IF(G93>0,1,0)","v":{"$error":"#REF!"}},{"$f":"IF(#REF!>0,#REF!,0)","v":{"$error":"#REF!"}},2.2100000000000001E-4]
["ГРС.г.Вельск",{"$f":"Лист1!B91","v":""},{"$f":"Лист1!A91","v":""},{"$f":"Лист1!C91","v":7},{"$f":"Лист1!BI91/1000","v":0},{"$f":"Лист1!BH91","v":0},{"$f":"IF(#REF!>0,#REF!,0)","v":{"$error":"#REF!"}},{"$f":"IF(G94>0,1,0)","v":{"$error":"#REF!"}},{"$f":"IF(#REF!>0,#REF!,0)","v":{"$error":"#REF!"}},0]
["ГРС.г.Вельск",{"$f":"Лист1!B92","v":""},{"$f":"Лист1!A92","v":""},{"$f":"Лист1!C92","v":7},{"$f":"Лист1!BI92/1000","v":0},{"$f":"Лист1!BH92","v":0},{"$f":"IF(#REF!>0,#REF!,0)","v":{"$error":"#REF!"}},{"$error":"#REF!"},{"$f":"IF(#REF!>0,#REF!,0)","v":{"$error":"#REF!"}},0]
["ГРС.г.Вельск",{"$f":"Лист1!B93","v":""},{"$f":"Лист1!A93","v":""},{"$f":"Лист1!C93","v":7},{"$f":"Лист1!BI93/1000","v":0},{"$f":"Лист1!BH93","v":0},{"$f":"IF(#REF!>0,#REF!,0)","v":{"$error":"#REF!"}},{"$error":"#REF!"},{"$f":"IF(#REF!>0,#REF!,0)","v":{"$error":"#REF!"}},0]
["ГРС.г.Вельск",{"$f":"Лист1!B94","v":"Вельск, ул.Гагарина-42, 44"},{"$f":"Лист1!A94","v":"ООО          \"Сервис\" "},{"$f":"Лист1!C94","v":6},{"$f":"Лист1!BI94/1000","v":3.5999999999999999E-3},{"$f":"Лист1!BH94","v":1.49E-3},{"$f":"IF(#REF!>0,#REF!,0)","v":{"$error":"#REF!"}},{"$f":"IF(G97>0,1,0)","v":{"$error":"#REF!"}},{"$f":"IF(#REF!>0,#REF!,0)","v":{"$error":"#REF!"}},2.1099999999999999E-3]
["ГРС.г.Вельск",{"$f":"Лист1!B95","v":""},{"$f":"Лист1!A95","v":""},{"$f":"Лист1!C95","v":6},{"$f":"Лист1!BI95/1000","v":0},{"$f":"Лист1!BH95","v":0},{"$f":"IF(#REF!>0,#REF!,0)","v":{"$error":"#REF!"}},{"$f":"IF(G98>0,1,0)","v":{"$error":"#REF!"}},{"$f":"IF(#REF!>0,#REF!,0)","v":{"$error":"#REF!"}},0]
["ГРС.г.Вельск",{"$f":"Лист1!B96","v":""},{"$f":"Лист1!A96","v":""},{"$f":"Лист1!C96","v":6},{"$f":"Лист1!BI96/1000","v":0},{"$f":"Лист1!BH96","v":0},{"$f":"IF(#REF!>0,#REF!,0)","v":{"$error":"#REF!"}},{"$error":"#REF!"},{"$f":"IF(#REF!>0,#REF!,0)","v":{"$error":"#REF!"}},0]
["ГРС.г.Вельск",{"$f":"Лист1!B97","v":""},{"$f":"Лист1!A97","v":""},{"$f":"Лист1!C97","v":6},{"$f":"Лист1!BI97/1000","v":0},{"$f":"Лист1!BH97","v":0},{"$f":"IF(#REF!>0,#REF!,0)","v":{"$error":"#REF!"}},{"$error":"#REF!"},{"$f":"IF(#REF!>0,#REF!,0)","v":{"$error":"#REF!"}},0]
["ГРС.г.Вельск",{"$f":"Лист1!B98","v":"Вельск, ул.Набережная-58"},{"$f":"Лист1!A98","v":"ИП            Тюкин              Николай  Федорович  "},{"$f":"Лист1!C98","v":6},{"$f":"Лист1!BI98/1000","v":1.1999999999999999E-3},{"$f":"Лист1!BH98","v":1.1999999999999999E-3},{"$f":"IF(#REF!>0,#REF!,0)","v":{"$error":"#REF!"}},{"$f":"IF(G101>0,1,0)","v":{"$error":"#REF!"}},{"$f":"IF(#REF!>0,#REF!,0)","v":{"$error":"#REF!"}},0]
["ГРС.г.Вельск",{"$f":"Лист1!B99","v":""},{"$f":"Лист1!A99","v":""},{"$f":"Лист1!C99","v":6},{"$f":"Лист1!BI99/1000","v":0},{"$f":"Лист1!BH99","v":0},{"$f":"IF(#REF!>0,#REF!,0)","v":{"$error":"#REF!"}},{"$f":"IF(G102>0,1,0)","v":{"$error":"#REF!"}},{"$f":"IF(#REF!>0,#REF!,0)","v":{"$error":"#REF!"}},0]
["ГРС.г.Вельск",{"$f":"Лист1!B100","v":""},{"$f":"Лист1!A100","v":""},{"$f":"Лист1!C100","v":6},{"$f":"Лист1!BI100/1000","v":0},{"$f":"Лист1!BH100","v":0},{"$f":"IF(#REF!>0,#REF!,0)","v":{"$error":"#REF!"}},{"$error":"#REF!"},{"$f":"IF(#REF!>0,#REF!,0)","v":{"$error":"#REF!"}},0]
["ГРС.г.Вельск",{"$f":"Лист1!B101","v":""},{"$f":"Лист1!A101","v":""},{"$f":"Лист1!C101","v":6},{"$f":"Лист1!BI101/1000","v":0},{"$f":"Лист1!BH101","v":0},{"$f":"IF(#REF!>0,#REF!,0)","v":{"$error":"#REF!"}},{"$error":"#REF!"},{"$f":"IF(#REF!>0,#REF!,0)","v":{"$error":"#REF!"}},0]
["ГРС.г.Вельск",{"$f":"Лист1!B102","v":"Вельск, ул.Революционная-3в"},{"$f":"Лист1!A102","v":"ИП            Тюкин              Николай  Федорович  "},{"$f":"Лист1!C102","v":6},{"$f":"Лист1!BI102/1000","v":1.1999999999999999E-3},{"$f":"Лист1!BH102","v":1.1999999999999999E-3},{"$f":"IF(#REF!>0,#REF!,0)","v":{"$error":"#REF!"}},{"$f":"IF(G105>0,1,0)","v":{"$error":"#REF!"}},{"$f":"IF(#REF!>0,#REF!,0)","v":{"$error":"#REF!"}},0]
["ГРС.г.Вельск",{"$f":"Лист1!B103","v":""},{"$f":"Лист1!A103","v":""},{"$f":"Лист1!C103","v":6},{"$f":"Лист1!BI103/1000","v":0},{"$f":"Лист1!BH103","v":0},{"$f":"IF(#REF!>0,#REF!,0)","v":{"$error":"#REF!"}},{"$f":"IF(G106>0,1,0)","v":{"$error":"#REF!"}},{"$f":"IF(#REF!>0,#REF!,0)","v":{"$error":"#REF!"}},0]
["ГРС.г.Вельск",{"$f":"Лист1!B104","v":""},{"$f":"Лист1!A104","v":""},{"$f":"Лист1!C104","v":6},{"$f":"Лист1!BI104/1000","v":0},{"$f":"Лист1!BH104","v":0},{"$f":"IF(#REF!>0,#REF!,0)","v":{"$error":"#REF!"}},{"$error":"#REF!"},{"$f":"IF(#REF!>0,#REF!,0)","v":{"$error":"#REF!"}},0]
["ГРС.г.Вельск",{"$f":"Лист1!B105","v":""},{"$f":"Лист1!A105","v":""},{"$f":"Лист1!C105","v":6},{"$f":"Лист1!BI105/1000","v":0},{"$f":"Лист1!BH105","v":0},{"$f":"IF(#REF!>0,#REF!,0)","v":{"$error":"#REF!"}},{"$error":"#REF!"},{"$f":"IF(#REF!>0,#REF!,0)","v":{"$error":"#REF!"}},0]
["ГРС.г.Вельск",{"$f":"Лист1!B106","v":"д.Горка Муравьевская, ул.Школьная-4"},{"$f":"Лист1!A106","v":"ИП            Тюкин              Николай  Федорович  "},{"$f":"Лист1!C106","v":7},{"$f":"Лист1!BI106/1000","v":8.0000000000000004E-4},{"$f":"Лист1!BH106","v":8.1000000000000006E-4},{"$f":"IF(#REF!>0,#REF!,0)","v":{"$error":"#REF!"}},{"$f":"IF(G109>0,1,0)","v":{"$error":"#REF!"}},{"$f":"IF(#REF!>0,#REF!,0)","v":{"$error":"#REF!"}},-1.0000000000000026E-5]
["ГРС.г.Вельск",{"$f":"Лист1!B107","v":""},{"$f":"Лист1!A107","v":""},{"$f":"Лист1!C107","v":7},{"$f":"Лист1!BI107/1000","v":0},{"$f":"Лист1!BH107","v":0},{"$f":"IF(#REF!>0,#REF!,0)","v":{"$error":"#REF!"}},{"$f":"IF(G110>0,1,0)","v":{"$error":"#REF!"}},{"$f":"IF(#REF!>0,#REF!,0)","v":{"$error":"#REF!"}},0]
["ГРС.г.Вельск",{"$f":"Лист1!B108","v":""},{"$f":"Лист1!A108","v":""},{"$f":"Лист1!C108","v":7},{"$f":"Лист1!BI108/1000","v":0},{"$f":"Лист1!BH108","v":0},{"$f":"IF(#REF!>0,#REF!,0)","v":{"$error":"#REF!"}},{"$error":"#REF!"},{"$f":"IF(#REF!>0,#REF!,0)","v":{"$error":"#REF!"}},0]
["ГРС.г.Вельск",{"$f":"Лист1!B109","v":""},{"$f":"Лист1!A109","v":""},{"$f":"Лист1!C109","v":7},{"$f":"Лист1!BI109/1000","v":0},{"$f":"Лист1!BH109","v":0},{"$f":"IF(#REF!>0,#REF!,0)","v":{"$error":"#REF!"}},{"$error":"#REF!"},{"$f":"IF(#REF!>0,#REF!,0)","v":{"$error":"#REF!"}},0]
["ГРС.г.Вельск",{"$f":"Лист1!B110","v":""},{"$f":"Лист1!A110","v":"Гр.             Козлов             Олег   Станиславович"},{"$f":"Лист1!C110","v":7},{"$f":"Лист1!BI110/1000","v":1E-3},{"$f":"Лист1!BH110","v":2.0599999999999999E-4},{"$f":"IF(#REF!>0,#REF!,0)","v":{"$error":"#REF!"}},{"$f":"IF(G113>0,1,0)","v":{"$error":"#REF!"}},{"$f":"IF(#REF!>0,#REF!,0)","v":{"$error":"#REF!"}},7.94E-4]
["ГРС.г.Вельск",{"$f":"Лист1!B111","v":""},{"$f":"Лист1!A111","v":""},{"$f":"Лист1!C111","v":7},{"$f":"Лист1!BI111/1000","v":0},{"$f":"Лист1!BH111","v":0},{"$f":"IF(#REF!>0,#REF!,0)","v":{"$error":"#REF!"}},{"$f":"IF(G114>0,1,0)","v":{"$error":"#REF!"}},{"$f":"IF(#REF!>0,#REF!,0)","v":{"$error":"#REF!"}},0]
["ГРС.г.Вельск",{"$f":"Лист1!B112","v":""},{"$f":"Лист1!A112","v":""},{"$f":"Лист1!C112","v":7},{"$f":"Лист1!BI112/1000","v":0},{"$f":"Лист1!BH112","v":0},{"$f":"IF(#REF!>0,#REF!,0)","v":{"$error":"#REF!"}},{"$error":"#REF!"},{"$f":"IF(#REF!>0,#REF!,0)","v":{"$error":"#REF!"}},0]
["ГРС.г.Вельск",{"$f":"Лист1!B113","v":""},{"$f":"Лист1!A113","v":""},{"$f":"Лист1!C113","v":7},{"$f":"Лист1!BI113/1000","v":0},{"$f":"Лист1!BH113","v":0},{"$f":"IF(#REF!>0,#REF!,0)","v":{"$error":"#REF!"}},{"$error":"#REF!"},{"$f":"IF(#REF!>0,#REF!,0)","v":{"$error":"#REF!"}},0]
["ГРС.г.Вельск",{"$f":"Лист1!B114","v":""},{"$f":"Лист1!A114","v":"Гр.              Вострецов      Олег  Анатольевич"},{"$f":"Лист1!C114","v":6},{"$f":"Лист1!BI114/1000","v":2.5999999999999999E-3},{"$f":"Лист1!BH114","v":4.8200000000000001E-4},{"$f":"IF(#REF!>0,#REF!,0)","v":{"$error":"#REF!"}},{"$f":"IF(G117>0,1,0)","v":{"$error":"#REF!"}},{"$f":"IF(#REF!>0,#REF!,0)","v":{"$error":"#REF!"}},2.1180000000000001E-3]
["ГРС.г.Вельск",{"$f":"Лист1!B115","v":""},{"$f":"Лист1!A115","v":""},{"$f":"Лист1!C115","v":6},{"$f":"Лист1!BI115/1000","v":0},{"$f":"Лист1!BH115","v":0},{"$f":"IF(#REF!>0,#REF!,0)","v":{"$error":"#REF!"}},{"$f":"IF(G118>0,1,0)","v":{"$error":"#REF!"}},{"$f":"IF(#REF!>0,#REF!,0)","v":{"$error":"#REF!"}},0]
["ГРС.г.Вельск",{"$f":"Лист1!B116","v":""},{"$f":"Лист1!A116","v":""},{"$f":"Лист1!C116","v":6},{"$f":"Лист1!BI116/1000","v":0},{"$f":"Лист1!BH116","v":0},{"$f":"IF(#REF!>0,#REF!,0)","v":{"$error":"#REF!"}},{"$error":"#REF!"},{"$f":"IF(#REF!>0,#REF!,0)","v":{"$error":"#REF!"}},0]
["ГРС.г.Вельск",{"$f":"Лист1!B117","v":""},{"$f":"Лист1!A117","v":""},{"$f":"Лист1!C117","v":6},{"$f":"Лист1!BI117/1000","v":0},{"$f":"Лист1!BH117","v":0},{"$f":"IF(#REF!>0,#REF!,0)","v":{"$error":"#REF!"}},{"$error":"#REF!"},{"$f":"IF(#REF!>0,#REF!,0)","v":{"$error":"#REF!"}},0]
["ГРС.г.Вельск",{"$f":"Лист1!B118","v":"Вельск, ул.Горького-1"},{"$f":"Лист1!A118","v":"ООО          \"Вельская  энергетическая  компания\""},{"$f":"Лист1!C118","v":4},{"$f":"Лист1!BI118/1000","v":0},{"$f":"Лист1!BH118","v":0},{"$f":"IF(#REF!>0,#REF!,0)","v":{"$error":"#REF!"}},{"$f":"IF(G121>0,1,0)","v":{"$error":"#REF!"}},{"$f":"IF(#REF!>0,#REF!,0)","v":{"$error":"#REF!"}},0]
["ГРС.г.Вельск",{"$f":"Лист1!B119","v":""},{"$f":"Лист1!A119","v":""},{"$f":"Лист1!C119","v":4},{"$f":"Лист1!BI119/1000","v":0},{"$f":"Лист1!BH119","v":0},{"$f":"IF(#REF!>0,#REF!,0)","v":{"$error":"#REF!"}},{"$f":"IF(G122>0,1,0)","v":{"$error":"#REF!"}},{"$f":"IF(#REF!>0,#REF!,0)","v":{"$error":"#REF!"}},0]
["ГРС.г.Вельск",{"$f":"Лист1!B120","v":""},{"$f":"Лист1!A120","v":""},{"$f":"Лист1!C120","v":4},{"$f":"Лист1!BI120/1000","v":0},{"$f":"Лист1!BH120","v":0},{"$f":"IF(#REF!>0,#REF!,0)","v":{"$error":"#REF!"}},{"$error":"#REF!"},{"$f":"IF(#REF!>0,#REF!,0)","v":{"$error":"#REF!"}},0]
["ГРС.г.Вельск",{"$f":"Лист1!B121","v":""},{"$f":"Лист1!A121","v":""},{"$f":"Лист1!C121","v":4},{"$f":"Лист1!BI121/1000","v":0},{"$f":"Лист1!BH121","v":0},{"$f":"IF(#REF!>0,#REF!,0)","v":{"$error":"#REF!"}},{"$error":"#REF!"},{"$f":"IF(#REF!>0,#REF!,0)","v":{"$error":"#REF!"}},0]
["ГРС.г.Вельск",{"$f":"Лист1!B122","v":"Вельск, ул.Горького-1"},{"$f":"Лист1!A122","v":"ООО          \"Вельская  энергетическая  компания\""},{"$f":"Лист1!C122","v":4},{"$f":"Лист1!BI122/1000","v":0},{"$f":"Лист1!BH122","v":0},{"$f":"IF(#REF!>0,#REF!,0)","v":{"$error":"#REF!"}},{"$f":"IF(G125>0,1,0)","v":{"$error":"#REF!"}},{"$f":"IF(#REF!>0,#REF!,0)","v":{"$error":"#REF!"}},0]
["ГРС.г.Вельск",{"$f":"Лист1!B123","v":""},{"$f":"Лист1!A123","v":""},{"$f":"Лист1!C123","v":4},{"$f":"Лист1!BI123/1000","v":0},{"$f":"Лист1!BH123","v":0},{"$f":"IF(#REF!>0,#REF!,0)","v":{"$error":"#REF!"}},{"$f":"IF(G126>0,1,0)","v":{"$error":"#REF!"}},{"$f":"IF(#REF!>0,#REF!,0)","v":{"$error":"#REF!"}},0]
["ГРС.г.Вельск",{"$f":"Лист1!B124","v":""},{"$f":"Лист1!A124","v":""},{"$f":"Лист1!C124","v":4},{"$f":"Лист1!BI124/1000","v":0},{"$f":"Лист1!BH124","v":0},{"$f":"IF(#REF!>0,#REF!,0)","v":{"$error":"#REF!"}},{"$error":"#REF!"},{"$f":"IF(#REF!>0,#REF!,0)","v":{"$error":"#REF!"}},0]
["ГРС.г.Вельск",{"$f":"Лист1!B125","v":""},{"$f":"Лист1!A125","v":""},{"$f":"Лист1!C125","v":4},{"$f":"Лист1!BI125/1000","v":0},{"$f":"Лист1!BH125","v":0},{"$f":"IF(#REF!>0,#REF!,0)","v":{"$error":"#REF!"}},{"$error":"#REF!"},{"$f":"IF(#REF!>0,#REF!,0)","v":{"$error":"#REF!"}},0]
["ГРС.г.Вельск",{"$f":"Лист1!B126","v":"Вельск, ул.Набережная, кот.\"Терапия\""},{"$f":"Лист1!A126","v":"ООО          \"Вельская  энергетическая  компания\""},{"$f":"Лист1!C126","v":5},{"$f":"Лист1!BI126/1000","v":0},{"$f":"Лист1!BH126","v":0},{"$f":"IF(#REF!>0,#REF!,0)","v":{"$error":"#REF!"}},{"$f":"IF(G129>0,1,0)","v":{"$error":"#REF!"}},{"$f":"IF(#REF!>0,#REF!,0)","v":{"$error":"#REF!"}},0]
["ГРС.г.Вельск",{"$f":"Лист1!B127","v":""},{"$f":"Лист1!A127","v":""},{"$f":"Лист1!C127","v":5},{"$f":"Лист1!BI127/1000","v":0},{"$f":"Лист1!BH127","v":0},{"$f":"IF(#REF!>0,#REF!,0)","v":{"$error":"#REF!"}},{"$f":"IF(G130>0,1,0)","v":{"$error":"#REF!"}},{"$f":"IF(#REF!>0,#REF!,0)","v":{"$error":"#REF!"}},0]
["ГРС.г.Вельск",{"$f":"Лист1!B128","v":""},{"$f":"Лист1!A128","v":""},{"$f":"Лист1!C128","v":5},{"$f":"Лист1!BI128/1000","v":0},{"$f":"Лист1!BH128","v":0},{"$f":"IF(#REF!>0,#REF!,0)","v":{"$error":"#REF!"}},{"$error":"#REF!"},{"$f":"IF(#REF!>0,#REF!,0)","v":{"$error":"#REF!"}},0]
["ГРС.г.Вельск",{"$f":"Лист1!B129","v":""},{"$f":"Лист1!A129","v":""},{"$f":"Лист1!C129","v":5},{"$f":"Лист1!BI129/1000","v":0},{"$f":"Лист1!BH129","v":0},{"$f":"IF(#REF!>0,#REF!,0)","v":{"$error":"#REF!"}},{"$error":"#REF!"},{"$f":"IF(#REF!>0,#REF!,0)","v":{"$error":"#REF!"}},0]
["ГРС.г.Вельск",{"$f":"Лист1!B130","v":""},{"$f":"Лист1!A130","v":"ООО          \"Вельская торговая компания\""},{"$f":"Лист1!C130","v":6},{"$f":"Лист1!BI130/1000","v":0.01},{"$f":"Лист1!BH130","v":5.156E-3},{"$f":"IF(#REF!>0,#REF!,0)","v":{"$error":"#REF!"}},{"$f":"IF(G133>0,1,0)","v":{"$error":"#REF!"}},{"$f":"IF(#REF!>0,#REF!,0)","v":{"$error":"#REF!"}},4.8440000000000002E-3]
["ГРС.г.Вельск",{"$f":"Лист1!B131","v":""},{"$f":"Лист1!A131","v":""},{"$f":"Лист1!C131","v":6},{"$f":"Лист1!BI131/1000","v":0},{"$f":"Лист1!BH131","v":0},{"$f":"IF(#REF!>0,#REF!,0)","v":{"$error":"#REF!"}},{"$f":"IF(G134>0,1,0)","v":{"$error":"#REF!"}},{"$f":"IF(#REF!>0,#REF!,0)","v":{"$error":"#REF!"}},0]
["ГРС.г.Вельск",{"$f":"Лист1!B132","v":""},{"$f":"Лист1!A132","v":""},{"$f":"Лист1!C132","v":6},{"$f":"Лист1!BI132/1000","v":0},{"$f":"Лист1!BH132","v":0},{"$f":"IF(#REF!>0,#REF!,0)","v":{"$error":"#REF!"}},{"$error":"#REF!"},{"$f":"IF(#REF!>0,#REF!,0)","v":{"$error":"#REF!"}},0]
["ГРС.г.Вельск",{"$f":"Лист1!B133","v":""},{"$f":"Лист1!A133","v":""},{"$f":"Лист1!C133","v":6},{"$f":"Лист1!BI133/1000","v":0},{"$f":"Лист1!BH133","v":0},{"$f":"IF(#REF!>0,#REF!,0)","v":{"$error":"#REF!"}},{"$error":"#REF!"},{"$f":"IF(#REF!>0,#REF!,0)","v":{"$error":"#REF!"}},0]
["ГРС.г.Вельск",{"$f":"Лист1!B134","v":""},{"$f":"Лист1!A134","v":"Гр.              Хобатенков      Виктор  Николаевич      "},{"$f":"Лист1!C134","v":6},{"$f":"Лист1!BI134/1000","v":1.6999999999999999E-3},{"$f":"Лист1!BH134","v":7.4200000000000004E-4},{"$f":"IF(#REF!>0,#REF!,0)","v":{"$error":"#REF!"}},{"$f":"IF(G137>0,1,0)","v":{"$error":"#REF!"}},{"$f":"IF(#REF!>0,#REF!,0)","v":{"$error":"#REF!"}},9.5799999999999987E-4]
["ГРС.г.Вельск",{"$f":"Лист1!B135","v":""},{"$f":"Лист1!A135","v":""},{"$f":"Лист1!C135","v":6},{"$f":"Лист1!BI135/1000","v":0},{"$f":"Лист1!BH135","v":0},{"$f":"IF(#REF!>0,#REF!,0)","v":{"$error":"#REF!"}},{"$f":"IF(G138>0,1,0)","v":{"$error":"#REF!"}},{"$f":"IF(#REF!>0,#REF!,0)","v":{"$error":"#REF!"}},0]
["ГРС.г.Вельск",{"$f":"Лист1!B136","v":""},{"$f":"Лист1!A136","v":""},{"$f":"Лист1!C136","v":6},{"$f":"Лист1!BI136/1000","v":0},{"$f":"Лист1!BH136","v":0},{"$f":"IF(#REF!>0,#REF!,0)","v":{"$error":"#REF!"}},{"$error":"#REF!"},{"$f":"IF(#REF!>0,#REF!,0)","v":{"$error":"#REF!"}},0]
["ГРС.г.Вельск",{"$f":"Лист1!B137","v":""},{"$f":"Лист1!A137","v":""},{"$f":"Лист1!C137","v":6},{"$f":"Лист1!BI137/1000","v":0},{"$f":"Лист1!BH137","v":0},{"$f":"IF(#REF!>0,#REF!,0)","v":{"$error":"#REF!"}},{"$error":"#REF!"},{"$f":"IF(#REF!>0,#REF!,0)","v":{"$error":"#REF!"}},0]
["ГРС.г.Вельск",{"$f":"Лист1!B138","v":"Вельск, ул.1 мая-4"},{"$f":"Лист1!A138","v":"Вельское  ГОРПО"},{"$f":"Лист1!C138","v":6},{"$f":"Лист1!BI138/1000","v":3.2000000000000002E-3},{"$f":"Лист1!BH138","v":2.921E-3},{"$f":"IF(#REF!>0,#REF!,0)","v":{"$error":"#REF!"}},{"$f":"IF(G141>0,1,0)","v":{"$error":"#REF!"}},{"$f":"IF(#REF!>0,#REF!,0)","v":{"$error":"#REF!"}},2.7900000000000017E-4]
["ГРС.г.Вельск",{"$f":"Лист1!B139","v":""},{"$f":"Лист1!A139","v":""},{"$f":"Лист1!C139","v":6},{"$f":"Лист1!BI139/1000","v":0},{"$f":"Лист1!BH139","v":0},{"$f":"IF(#REF!>0,#REF!,0)","v":{"$error":"#REF!"}},{"$f":"IF(G142>0,1,0)","v":{"$error":"#REF!"}},{"$f":"IF(#REF!>0,#REF!,0)","v":{"$error":"#REF!"}},0]
["ГРС.г.Вельск",{"$f":"Лист1!B140","v":""},{"$f":"Лист1!A140","v":""},{"$f":"Лист1!C140","v":6},{"$f":"Лист1!BI140/1000","v":0},{"$f":"Лист1!BH140","v":0},{"$f":"IF(#REF!>0,#REF!,0)","v":{"$error":"#REF!"}},{"$error":"#REF!"},{"$f":"IF(#REF!>0,#REF!,0)","v":{"$error":"#REF!"}},0]
["ГРС.г.Вельск",{"$f":"Лист1!B141","v":""},{"$f":"Лист1!A141","v":""},{"$f":"Лист1!C141","v":6},{"$f":"Лист1!BI141/1000","v":0},{"$f":"Лист1!BH141","v":0},{"$f":"IF(#REF!>0,#REF!,0)","v":{"$error":"#REF!"}},{"$error":"#REF!"},{"$f":"IF(#REF!>0,#REF!,0)","v":{"$error":"#REF!"}},0]
["ГРС.г.Вельск",{"$f":"Лист1!B142","v":"Вельск, ул.Фефилова-66"},{"$f":"Лист1!A142","v":"Вельское  ГОРПО"},{"$f":"Лист1!C142","v":7},{"$f":"Лист1!BI142/1000","v":8.0000000000000004E-4},{"$f":"Лист1!BH142","v":9.800000000000001E-5},{"$f":"IF(#REF!>0,#REF!,0)","v":{"$error":"#REF!"}},{"$f":"IF(G145>0,1,0)","v":{"$error":"#REF!"}},{"$f":"IF(#REF!>0,#REF!,0)","v":{"$error":"#REF!"}},7.0200000000000004E-4]
["ГРС.г.Вельск",{"$f":"Лист1!B143","v":""},{"$f":"Лист1!A143","v":""},{"$f":"Лист1!C143","v":7},{"$f":"Лист1!BI143/1000","v":0},{"$f":"Лист1!BH143","v":0},{"$f":"IF(#REF!>0,#REF!,0)","v":{"$error":"#REF!"}},{"$f":"IF(G146>0,1,0)","v":{"$error":"#REF!"}},{"$f":"IF(#REF!>0,#REF!,0)","v":{"$error":"#REF!"}},0]
["ГРС.г.Вельск",{"$f":"Лист1!B144","v":""},{"$f":"Лист1!A144","v":""},{"$f":"Лист1!C144","v":7},{"$f":"Лист1!BI144/1000","v":0},{"$f":"Лист1!BH144","v":0},{"$f":"IF(#REF!>0,#REF!,0)","v":{"$error":"#REF!"}},{"$error":"#REF!"},{"$f":"IF(#REF!>0,#REF!,0)","v":{"$error":"#REF!"}},{"$f":"E147-F147","v":0}]
["ГРС.г.Вельск",{"$f":"Лист1!B145","v":""},{"$f":"Лист1!A145","v":""},{"$f":"Лист1!C145","v":7},{"$f":"Лист1!BI145/1000","v":0},{"$f":"Лист1!BH145","v":0},{"$f":"IF(#REF!>0,#REF!,0)","v":{"$error":"#REF!"}},{"$error":"#REF!"},{"$f":"IF(#REF!>0,#REF!,0)","v":{"$error":"#REF!"}},0]
["ГРС.г.Вельск",{"$f":"Лист1!B146","v":"Вельск, ул.Ленина-42"},{"$f":"Лист1!A146","v":"Вельское  ГОРПО"},{"$f":"Лист1!C146","v":6},{"$f":"Лист1!BI146/1000","v":4.0000000000000001E-3},{"$f":"Лист1!BH146","v":1.6140000000000002E-3},{"$f":"IF(#REF!>0,#REF!,0)","v":{"$error":"#REF!"}},{"$f":"IF(G149>0,1,0)","v":{"$error":"#REF!"}},{"$f":"IF(#REF!>0,#REF!,0)","v":{"$error":"#REF!"}},2.3860000000000001E-3]
["ГРС.г.Вельск",{"$f":"Лист1!B147","v":""},{"$f":"Лист1!A147","v":""},{"$f":"Лист1!C147","v":6},{"$f":"Лист1!BI147/1000","v":0},{"$f":"Лист1!BH147","v":0},{"$f":"IF(#REF!>0,#REF!,0)","v":{"$error":"#REF!"}},{"$f":"IF(G150>0,1,0)","v":{"$error":"#REF!"}},{"$f":"IF(#REF!>0,#REF!,0)","v":{"$error":"#REF!"}},0]
["ГРС.г.Вельск",{"$f":"Лист1!B148","v":""},{"$f":"Лист1!A148","v":""},{"$f":"Лист1!C148","v":6},{"$f":"Лист1!BI148/1000","v":0},{"$f":"Лист1!BH148","v":0},{"$f":"IF(#REF!>0,#REF!,0)","v":{"$error":"#REF!"}},{"$error":"#REF!"},{"$f":"IF(#REF!>0,#REF!,0)","v":{"$error":"#REF!"}},0]
["ГРС.г.Вельск",{"$f":"Лист1!B149","v":""},{"$f":"Лист1!A149","v":""},{"$f":"Лист1!C149","v":6},{"$f":"Лист1!BI149/1000","v":0},{"$f":"Лист1!BH149","v":0},{"$f":"IF(#REF!>0,#REF!,0)","v":{"$error":"#REF!"}},{"$error":"#REF!"},{"$f":"IF(#REF!>0,#REF!,0)","v":{"$error":"#REF!"}},0]
["ГРС.г.Вельск",{"$f":"Лист1!B150","v":"Вельск, ул.Горького-20"},{"$f":"Лист1!A150","v":"ООО         \"КМТС плюс\" "},{"$f":"Лист1!C150","v":6},{"$f":"Лист1!BI150/1000","v":1.1999999999999999E-3},{"$f":"Лист1!BH150","v":1.32E-3},{"$f":"IF(#REF!>0,#REF!,0)","v":{"$error":"#REF!"}},{"$f":"IF(G153>0,1,0)","v":{"$error":"#REF!"}},{"$f":"IF(#REF!>0,#REF!,0)","v":{"$error":"#REF!"}},-1.200000000000001E-4]
["ГРС.г.Вельск",{"$f":"Лист1!B151","v":""},{"$f":"Лист1!A151","v":""},{"$f":"Лист1!C151","v":6},{"$f":"Лист1!BI151/1000","v":0},{"$f":"Лист1!BH151","v":0},{"$f":"IF(#REF!>0,#REF!,0)","v":{"$error":"#REF!"}},{"$f":"IF(G154>0,1,0)","v":{"$error":"#REF!"}},{"$f":"IF(#REF!>0,#REF!,0)","v":{"$error":"#REF!"}},0]
["ГРС.г.Вельск",{"$f":"Лист1!B152","v":""},{"$f":"Лист1!A152","v":""},{"$f":"Лист1!C152","v":6},{"$f":"Лист1!BI152/1000","v":0},{"$f":"Лист1!BH152","v":0},{"$f":"IF(#REF!>0,#REF!,0)","v":{"$error":"#REF!"}},{"$error":"#REF!"},{"$f":"IF(#REF!>0,#REF!,0)","v":{"$error":"#REF!"}},0]
["ГРС.г.Вельск",{"$f":"Лист1!B153","v":""},{"$f":"Лист1!A153","v":""},{"$f":"Лист1!C153","v":6},{"$f":"Лист1!BI153/1000","v":0},{"$f":"Лист1!BH153","v":0},{"$f":"IF(#REF!>0,#REF!,0)","v":{"$error":"#REF!"}},{"$error":"#REF!"},{"$f":"IF(#REF!>0,#REF!,0)","v":{"$error":"#REF!"}},0]
["ГРС.г.Вельск",{"$f":"Лист1!B154","v":"Вельск, ул.Горького-20"},{"$f":"Лист1!A154","v":"ООО         \"КМТС плюс\" "},{"$f":"Лист1!C154","v":6},{"$f":"Лист1!BI154/1000","v":4.0000000000000002E-4},{"$f":"Лист1!BH154","v":1.4899999999999999E-4},{"$f":"IF(#REF!>0,#REF!,0)","v":{"$error":"#REF!"}},{"$f":"IF(G157>0,1,0)","v":{"$error":"#REF!"}},{"$f":"IF(#REF!>0,#REF!,0)","v":{"$error":"#REF!"}},2.5100000000000003E-4]
["ГРС.г.Вельск",{"$f":"Лист1!B155","v":""},{"$f":"Лист1!A155","v":""},{"$f":"Лист1!C155","v":6},{"$f":"Лист1!BI155/1000","v":0},{"$f":"Лист1!BH155","v":0},{"$f":"IF(#REF!>0,#REF!,0)","v":{"$error":"#REF!"}},{"$f":"IF(G158>0,1,0)","v":{"$error":"#REF!"}},{"$f":"IF(#REF!>0,#REF!,0)","v":{"$error":"#REF!"}},0]
["ГРС.г.Вельск",{"$f":"Лист1!B156","v":""},{"$f":"Лист1!A156","v":""},{"$f":"Лист1!C156","v":6},{"$f":"Лист1!BI156/1000","v":0},{"$f":"Лист1!BH156","v":0},{"$f":"IF(#REF!>0,#REF!,0)","v":{"$error":"#REF!"}},{"$error":"#REF!"},{"$f":"IF(#REF!>0,#REF!,0)","v":{"$error":"#REF!"}},0]
["ГРС.г.Вельск",{"$f":"Лист1!B157","v":""},{"$f":"Лист1!A157","v":""},{"$f":"Лист1!C157","v":6},{"$f":"Лист1!BI157/1000","v":0},{"$f":"Лист1!BH157","v":0},{"$f":"IF(#REF!>0,#REF!,0)","v":{"$error":"#REF!"}},{"$error":"#REF!"},{"$f":"IF(#REF!>0,#REF!,0)","v":{"$error":"#REF!"}},0]
["ГРС.г.Вельск",{"$f":"Лист1!B158","v":""},{"$f":"Лист1!A158","v":"ИП              Сащенко           Олег Леонидович         (до 01.07  -  ООО \"Вагаинвест\")"},{"$f":"Лист1!C158","v":7},{"$f":"Лист1!BI158/1000","v":8.0000000000000004E-4},{"$f":"Лист1!BH158","v":1.3830000000000001E-3},{"$f":"IF(#REF!>0,#REF!,0)","v":{"$error":"#REF!"}},{"$f":"IF(G161>0,1,0)","v":{"$error":"#REF!"}},{"$f":"IF(#REF!>0,#REF!,0)","v":{"$error":"#REF!"}},-5.8300000000000008E-4]
["ГРС.г.Вельск",{"$f":"Лист1!B159","v":""},{"$f":"Лист1!A159","v":""},{"$f":"Лист1!C159","v":7},{"$f":"Лист1!BI159/1000","v":0},{"$f":"Лист1!BH159","v":0},{"$f":"IF(#REF!>0,#REF!,0)","v":{"$error":"#REF!"}},{"$f":"IF(G162>0,1,0)","v":{"$error":"#REF!"}},{"$f":"IF(#REF!>0,#REF!,0)","v":{"$error":"#REF!"}},0]
["ГРС.г.Вельск",{"$f":"Лист1!B160","v":""},{"$f":"Лист1!A160","v":""},{"$f":"Лист1!C160","v":7},{"$f":"Лист1!BI160/1000","v":0},{"$f":"Лист1!BH160","v":0},{"$f":"IF(#REF!>0,#REF!,0)","v":{"$error":"#REF!"}},{"$error":"#REF!"},{"$f":"IF(#REF!>0,#REF!,0)","v":{"$error":"#REF!"}},0]
["ГРС.г.Вельск",{"$f":"Лист1!B161","v":""},{"$f":"Лист1!A161","v":""},{"$f":"Лист1!C161","v":7},{"$f":"Лист1!BI161/1000","v":0},{"$f":"Лист1!BH161","v":0},{"$f":"IF(#REF!>0,#REF!,0)","v":{"$error":"#REF!"}},{"$error":"#REF!"},{"$f":"IF(#REF!>0,#REF!,0)","v":{"$error":"#REF!"}},0]
["ГРС.г.Вельск",{"$f":"Лист1!B162","v":""},{"$f":"Лист1!A162","v":"ГАУ АО ИД \"Вельские вести\""},{"$f":"Лист1!C162","v":7},{"$f":"Лист1!BI162/1000","v":4.6999999999999999E-4},{"$f":"Лист1!BH162","v":5.7999999999999989E-4},{"$f":"IF(#REF!>0,#REF!,0)","v":{"$error":"#REF!"}},{"$f":"IF(G165>0,1,0)","v":{"$error":"#REF!"}},{"$f":"IF(#REF!>0,#REF!,0)","v":{"$error":"#REF!"}},-1.0999999999999991E-4]
["ГРС.г.Вельск",{"$f":"Лист1!B163","v":""},{"$f":"Лист1!A163","v":""},{"$f":"Лист1!C163","v":7},{"$f":"Лист1!BI163/1000","v":0},{"$f":"Лист1!BH163","v":0},{"$f":"IF(#REF!>0,#REF!,0)","v":{"$error":"#REF!"}},{"$f":"IF(G166>0,1,0)","v":{"$error":"#REF!"}},{"$f":"IF(#REF!>0,#REF!,0)","v":{"$error":"#REF!"}},0]
["ГРС.г.Вельск",{"$f":"Лист1!B164","v":""},{"$f":"Лист1!A164","v":""},{"$f":"Лист1!C164","v":7},{"$f":"Лист1!BI164/1000","v":0},{"$f":"Лист1!BH164","v":0},{"$f":"IF(#REF!>0,#REF!,0)","v":{"$error":"#REF!"}},{"$error":"#REF!"},{"$f":"IF(#REF!>0,#REF!,0)","v":{"$error":"#REF!"}},0]
["ГРС.г.Вельск",{"$f":"Лист1!B165","v":""},{"$f":"Лист1!A165","v":""},{"$f":"Лист1!C165","v":7},{"$f":"Лист1!BI165/1000","v":0},{"$f":"Лист1!BH165","v":0},{"$f":"IF(#REF!>0,#REF!,0)","v":{"$error":"#REF!"}},{"$error":"#REF!"},{"$f":"IF(#REF!>0,#REF!,0)","v":{"$error":"#REF!"}},0]
["ГРС.г.Вельск",{"$f":"Лист1!B166","v":""},{"$f":"Лист1!A166","v":"МБУ           \"Эксплуатационно-техническое предприятие\""},{"$f":"Лист1!C166","v":6},{"$f":"Лист1!BI166/1000","v":0},{"$f":"Лист1!BH166","v":0},{"$f":"IF(#REF!>0,#REF!,0)","v":{"$error":"#REF!"}},{"$f":"IF(G169>0,1,0)","v":{"$error":"#REF!"}},{"$f":"IF(#REF!>0,#REF!,0)","v":{"$error":"#REF!"}},0]
["ГРС.г.Вельск",{"$f":"Лист1!B167","v":""},{"$f":"Лист1!A167","v":""},{"$f":"Лист1!C167","v":6},{"$f":"Лист1!BI167/1000","v":0},{"$f":"Лист1!BH167","v":0},{"$f":"IF(#REF!>0,#REF!,0)","v":{"$error":"#REF!"}},{"$f":"IF(G170>0,1,0)","v":{"$error":"#REF!"}},{"$f":"IF(#REF!>0,#REF!,0)","v":{"$error":"#REF!"}},0]
["ГРС.г.Вельск",{"$f":"Лист1!B168","v":""},{"$f":"Лист1!A168","v":""},{"$f":"Лист1!C168","v":6},{"$f":"Лист1!BI168/1000","v":0},{"$f":"Лист1!BH168","v":0},{"$f":"IF(#REF!>0,#REF!,0)","v":{"$error":"#REF!"}},{"$error":"#REF!"},{"$f":"IF(#REF!>0,#REF!,0)","v":{"$error":"#REF!"}},0]
["ГРС.г.Вельск",{"$f":"Лист1!B169","v":""},{"$f":"Лист1!A169","v":""},{"$f":"Лист1!C169","v":6},{"$f":"Лист1!BI169/1000","v":0},{"$f":"Лист1!BH169","v":0},{"$f":"IF(#REF!>0,#REF!,0)","v":{"$error":"#REF!"}},{"$error":"#REF!"},{"$f":"IF(#REF!>0,#REF!,0)","v":{"$error":"#REF!"}},0]
["ГРС.г.Вельск",{"$f":"Лист1!B170","v":"Вельск, ул.Советская-70"},{"$f":"Лист1!A170","v":"ООО          \"Торговый дом \"Устьялес\""},{"$f":"Лист1!C170","v":6},{"$f":"Лист1!BI170/1000","v":3.0000000000000001E-3},{"$f":"Лист1!BH170","v":1.5009999999999999E-3},{"$f":"IF(#REF!>0,#REF!,0)","v":{"$error":"#REF!"}},{"$f":"IF(G173>0,1,0)","v":{"$error":"#REF!"}},{"$f":"IF(#REF!>0,#REF!,0)","v":{"$error":"#REF!"}},1.4990000000000001E-3]
["ГРС.г.Вельск",{"$f":"Лист1!B171","v":""},{"$f":"Лист1!A171","v":""},{"$f":"Лист1!C171","v":6},{"$f":"Лист1!BI171/1000","v":0},{"$f":"Лист1!BH171","v":0},{"$f":"IF(#REF!>0,#REF!,0)","v":{"$error":"#REF!"}},{"$f":"IF(G174>0,1,0)","v":{"$error":"#REF!"}},{"$f":"IF(#REF!>0,#REF!,0)","v":{"$error":"#REF!"}},0]
["ГРС.г.Вельск",{"$f":"Лист1!B172","v":""},{"$f":"Лист1!A172","v":""},{"$f":"Лист1!C172","v":6},{"$f":"Лист1!BI172/1000","v":0},{"$f":"Лист1!BH172","v":0},{"$f":"IF(#REF!>0,#REF!,0)","v":{"$error":"#REF!"}},{"$error":"#REF!"},{"$f":"IF(#REF!>0,#REF!,0)","v":{"$error":"#REF!"}},0]
["ГРС.г.Вельск",{"$f":"Лист1!B173","v":""},{"$f":"Лист1!A173","v":""},{"$f":"Лист1!C173","v":6},{"$f":"Лист1!BI173/1000","v":0},{"$f":"Лист1!BH173","v":0},{"$f":"IF(#REF!>0,#REF!,0)","v":{"$error":"#REF!"}},{"$error":"#REF!"},{"$f":"IF(#REF!>0,#REF!,0)","v":{"$error":"#REF!"}},0]
["ГРС.г.Вельск",{"$f":"Лист1!B174","v":"Вельск"},{"$f":"Лист1!A174","v":"АО             \"Тандер\" "},{"$f":"Лист1!C174","v":6},{"$f":"Лист1!BI174/1000","v":1.2999999999999999E-3},{"$f":"Лист1!BH174","v":3.8200000000000002E-4},{"$f":"IF(#REF!>0,#REF!,0)","v":{"$error":"#REF!"}},{"$f":"IF(G177>0,1,0)","v":{"$error":"#REF!"}},{"$f":"IF(#REF!>0,#REF!,0)","v":{"$error":"#REF!"}},9.1799999999999998E-4]
["ГРС.г.Вельск",{"$f":"Лист1!B175","v":""},{"$f":"Лист1!A175","v":""},{"$f":"Лист1!C175","v":6},{"$f":"Лист1!BI175/1000","v":0},{"$f":"Лист1!BH175","v":0},{"$f":"IF(#REF!>0,#REF!,0)","v":{"$error":"#REF!"}},{"$f":"IF(G178>0,1,0)","v":{"$error":"#REF!"}},{"$f":"IF(#REF!>0,#REF!,0)","v":{"$error":"#REF!"}},0]
["ГРС.г.Вельск",{"$f":"Лист1!B176","v":""},{"$f":"Лист1!A176","v":""},{"$f":"Лист1!C176","v":6},{"$f":"Лист1!BI176/1000","v":0},{"$f":"Лист1!BH176","v":0},{"$f":"IF(#REF!>0,#REF!,0)","v":{"$error":"#REF!"}},{"$error":"#REF!"},{"$f":"IF(#REF!>0,#REF!,0)","v":{"$error":"#REF!"}},0]
["ГРС.г.Вельск",{"$f":"Лист1!B177","v":""},{"$f":"Лист1!A177","v":""},{"$f":"Лист1!C177","v":6},{"$f":"Лист1!BI177/1000","v":0},{"$f":"Лист1!BH177","v":0},{"$f":"IF(#REF!>0,#REF!,0)","v":{"$error":"#REF!"}},{"$error":"#REF!"},{"$f":"IF(#REF!>0,#REF!,0)","v":{"$error":"#REF!"}},0]
["ГРС.г.Вельск",{"$f":"Лист1!B178","v":"Вельск, ул.Дзержинского-59"},{"$f":"Лист1!A178","v":"ИП               Евдокимова     Анастасия Алексеевна"},{"$f":"Лист1!C178","v":6},{"$f":"Лист1!BI178/1000","v":2.3E-3},{"$f":"Лист1!BH178","v":2.0990000000000002E-3},{"$f":"IF(#REF!>0,#REF!,0)","v":{"$error":"#REF!"}},{"$f":"IF(G181>0,1,0)","v":{"$error":"#REF!"}},{"$f":"IF(#REF!>0,#REF!,0)","v":{"$error":"#REF!"}},2.0099999999999979E-4]
["ГРС.г.Вельск",{"$f":"Лист1!B179","v":""},{"$f":"Лист1!A179","v":""},{"$f":"Лист1!C179","v":6},{"$f":"Лист1!BI179/1000","v":0},{"$f":"Лист1!BH179","v":0},{"$f":"IF(#REF!>0,#REF!,0)","v":{"$error":"#REF!"}},{"$f":"IF(G182>0,1,0)","v":{"$error":"#REF!"}},{"$f":"IF(#REF!>0,#REF!,0)","v":{"$error":"#REF!"}},0]
["ГРС.г.Вельск",{"$f":"Лист1!B180","v":""},{"$f":"Лист1!A180","v":""},{"$f":"Лист1!C180","v":6},{"$f":"Лист1!BI180/1000","v":0},{"$f":"Лист1!BH180","v":0},{"$f":"IF(#REF!>0,#REF!,0)","v":{"$error":"#REF!"}},{"$error":"#REF!"},{"$f":"IF(#REF!>0,#REF!,0)","v":{"$error":"#REF!"}},0]
["ГРС.г.Вельск",{"$f":"Лист1!B181","v":""},{"$f":"Лист1!A181","v":""},{"$f":"Лист1!C181","v":6},{"$f":"Лист1!BI181/1000","v":0},{"$f":"Лист1!BH181","v":0},{"$f":"IF(#REF!>0,#REF!,0)","v":{"$error":"#REF!"}},{"$error":"#REF!"},{"$f":"IF(#REF!>0,#REF!,0)","v":{"$error":"#REF!"}},0]
["ГРС.г.Вельск",{"$f":"Лист1!B182","v":"Вельск, ул.Революционная-105"},{"$f":"Лист1!A182","v":"ИП               Евдокимова     Анастасия Алексеевна"},{"$f":"Лист1!C182","v":7},{"$f":"Лист1!BI182/1000","v":1E-3},{"$f":"Лист1!BH182","v":3.4200000000000002E-4},{"$f":"IF(#REF!>0,#REF!,0)","v":{"$error":"#REF!"}},{"$f":"IF(G185>0,1,0)","v":{"$error":"#REF!"}},{"$f":"IF(#REF!>0,#REF!,0)","v":{"$error":"#REF!"}},6.5799999999999995E-4]
["ГРС.г.Вельск",{"$f":"Лист1!B183","v":""},{"$f":"Лист1!A183","v":""},{"$f":"Лист1!C183","v":7},{"$f":"Лист1!BI183/1000","v":0},{"$f":"Лист1!BH183","v":0},{"$f":"IF(#REF!>0,#REF!,0)","v":{"$error":"#REF!"}},{"$f":"IF(G186>0,1,0)","v":{"$error":"#REF!"}},{"$f":"IF(#REF!>0,#REF!,0)","v":{"$error":"#REF!"}},0]
["ГРС.г.Вельск",{"$f":"Лист1!B184","v":""},{"$f":"Лист1!A184","v":""},{"$f":"Лист1!C184","v":7},{"$f":"Лист1!BI184/1000","v":0},{"$f":"Лист1!BH184","v":0},{"$f":"IF(#REF!>0,#REF!,0)","v":{"$error":"#REF!"}},{"$error":"#REF!"},{"$f":"IF(#REF!>0,#REF!,0)","v":{"$error":"#REF!"}},0]
["ГРС.г.Вельск",{"$f":"Лист1!B185","v":""},{"$f":"Лист1!A185","v":""},{"$f":"Лист1!C185","v":7},{"$f":"Лист1!BI185/1000","v":0},{"$f":"Лист1!BH185","v":0},{"$f":"IF(#REF!>0,#REF!,0)","v":{"$error":"#REF!"}},{"$error":"#REF!"},{"$f":"IF(#REF!>0,#REF!,0)","v":{"$error":"#REF!"}},0]
["ГРС.г.Вельск",{"$f":"Лист1!B186","v":""},{"$f":"Лист1!A186","v":"ИП               Любарский      Юрий  Алексеевич"},{"$f":"Лист1!C186","v":6},{"$f":"Лист1!BI186/1000","v":3.5000000000000001E-3},{"$f":"Лист1!BH186","v":2.4300000000000003E-3},{"$f":"IF(#REF!>0,#REF!,0)","v":{"$error":"#REF!"}},{"$f":"IF(G189>0,1,0)","v":{"$error":"#REF!"}},{"$f":"IF(#REF!>0,#REF!,0)","v":{"$error":"#REF!"}},1.0699999999999998E-3]
["ГРС.г.Вельск",{"$f":"Лист1!B187","v":""},{"$f":"Лист1!A187","v":""},{"$f":"Лист1!C187","v":6},{"$f":"Лист1!BI187/1000","v":0},{"$f":"Лист1!BH187","v":0},{"$f":"IF(#REF!>0,#REF!,0)","v":{"$error":"#REF!"}},{"$f":"IF(G190>0,1,0)","v":{"$error":"#REF!"}},{"$f":"IF(#REF!>0,#REF!,0)","v":{"$error":"#REF!"}},0]
["ГРС.г.Вельск",{"$f":"Лист1!B188","v":""},{"$f":"Лист1!A188","v":""},{"$f":"Лист1!C188","v":6},{"$f":"Лист1!BI188/1000","v":0},{"$f":"Лист1!BH188","v":0},{"$f":"IF(#REF!>0,#REF!,0)","v":{"$error":"#REF!"}},{"$error":"#REF!"},{"$f":"IF(#REF!>0,#REF!,0)","v":{"$error":"#REF!"}},0]
["ГРС.г.Вельск",{"$f":"Лист1!B189","v":""},{"$f":"Лист1!A189","v":""},{"$f":"Лист1!C189","v":6},{"$f":"Лист1!BI189/1000","v":0},{"$f":"Лист1!BH189","v":0},{"$f":"IF(#REF!>0,#REF!,0)","v":{"$error":"#REF!"}},{"$error":"#REF!"},{"$f":"IF(#REF!>0,#REF!,0)","v":{"$error":"#REF!"}},0]
["ГРС.г.Вельск",{"$f":"Лист1!B190","v":"Вельск"},{"$f":"Лист1!A190","v":"ООО          \"Наше Пиво\""},{"$f":"Лист1!C190","v":6},{"$f":"Лист1!BI190/1000","v":5.1999999999999998E-3},{"$f":"Лист1!BH190","v":3.6909999999999998E-3},{"$f":"IF(#REF!>0,#REF!,0)","v":{"$error":"#REF!"}},{"$f":"IF(G193>0,1,0)","v":{"$error":"#REF!"}},{"$f":"IF(#REF!>0,#REF!,0)","v":{"$error":"#REF!"}},1.5089999999999999E-3]
["ГРС.г.Вельск",{"$f":"Лист1!B191","v":""},{"$f":"Лист1!A191","v":""},{"$f":"Лист1!C191","v":6},{"$f":"Лист1!BI191/1000","v":0},{"$f":"Лист1!BH191","v":0},{"$f":"IF(#REF!>0,#REF!,0)","v":{"$error":"#REF!"}},{"$f":"IF(G194>0,1,0)","v":{"$error":"#REF!"}},{"$f":"IF(#REF!>0,#REF!,0)","v":{"$error":"#REF!"}},0]
["ГРС.г.Вельск",{"$f":"Лист1!B192","v":""},{"$f":"Лист1!A192","v":""},{"$f":"Лист1!C192","v":6},{"$f":"Лист1!BI192/1000","v":0},{"$f":"Лист1!BH192","v":0},{"$f":"IF(#REF!>0,#REF!,0)","v":{"$error":"#REF!"}},{"$error":"#REF!"},{"$f":"IF(#REF!>0,#REF!,0)","v":{"$error":"#REF!"}},0]
["ГРС.г.Вельск",{"$f":"Лист1!B193","v":""},{"$f":"Лист1!A193","v":""},{"$f":"Лист1!C193","v":6},{"$f":"Лист1!BI193/1000","v":0},{"$f":"Лист1!BH193","v":0},{"$f":"IF(#REF!>0,#REF!,0)","v":{"$error":"#REF!"}},{"$error":"#REF!"},{"$f":"IF(#REF!>0,#REF!,0)","v":{"$error":"#REF!"}},0]
["ГРС.г.Вельск",{"$f":"Лист1!B194","v":""},{"$f":"Лист1!A194","v":"ООО          \"Фрегат\"  "},{"$f":"Лист1!C194","v":6},{"$f":"Лист1!BI194/1000","v":5.4999999999999997E-3},{"$f":"Лист1!BH194","v":3.0139999999999998E-3},{"$f":"IF(#REF!>0,#REF!,0)","v":{"$error":"#REF!"}},{"$f":"IF(G197>0,1,0)","v":{"$error":"#REF!"}},{"$f":"IF(#REF!>0,#REF!,0)","v":{"$error":"#REF!"}},2.4859999999999999E-3]
["ГРС.г.Вельск",{"$f":"Лист1!B195","v":""},{"$f":"Лист1!A195","v":""},{"$f":"Лист1!C195","v":6},{"$f":"Лист1!BI195/1000","v":0},{"$f":"Лист1!BH195","v":0},{"$f":"IF(#REF!>0,#REF!,0)","v":{"$error":"#REF!"}},{"$f":"IF(G198>0,1,0)","v":{"$error":"#REF!"}},{"$f":"IF(#REF!>0,#REF!,0)","v":{"$error":"#REF!"}},0]
["ГРС.г.Вельск",{"$f":"Лист1!B196","v":""},{"$f":"Лист1!A196","v":""},{"$f":"Лист1!C196","v":6},{"$f":"Лист1!BI196/1000","v":0},{"$f":"Лист1!BH196","v":0},{"$f":"IF(#REF!>0,#REF!,0)","v":{"$error":"#REF!"}},{"$error":"#REF!"},{"$f":"IF(#REF!>0,#REF!,0)","v":{"$error":"#REF!"}},0]
["ГРС.г.Вельск",{"$f":"Лист1!B197","v":""},{"$f":"Лист1!A197","v":""},{"$f":"Лист1!C197","v":6},{"$f":"Лист1!BI197/1000","v":0},{"$f":"Лист1!BH197","v":0},{"$f":"IF(#REF!>0,#REF!,0)","v":{"$error":"#REF!"}},{"$error":"#REF!"},{"$f":"IF(#REF!>0,#REF!,0)","v":{"$error":"#REF!"}},0]
["ГРС.г.Вельск",{"$f":"Лист1!B198","v":""},{"$f":"Лист1!A198","v":"ИП               Онучин              Евгений   Борисович"},{"$f":"Лист1!C198","v":6},{"$f":"Лист1!BI198/1000","v":2.5000000000000001E-3},{"$f":"Лист1!BH198","v":1.603E-3},{"$f":"IF(#REF!>0,#REF!,0)","v":{"$error":"#REF!"}},{"$f":"IF(G201>0,1,0)","v":{"$error":"#REF!"}},{"$f":"IF(#REF!>0,#REF!,0)","v":{"$error":"#REF!"}},8.9700000000000001E-4]
["ГРС.г.Вельск",{"$f":"Лист1!B199","v":""},{"$f":"Лист1!A199","v":""},{"$f":"Лист1!C199","v":6},{"$f":"Лист1!BI199/1000","v":0},{"$f":"Лист1!BH199","v":0},{"$f":"IF(#REF!>0,#REF!,0)","v":{"$error":"#REF!"}},{"$f":"IF(G202>0,1,0)","v":{"$error":"#REF!"}},{"$f":"IF(#REF!>0,#REF!,0)","v":{"$error":"#REF!"}},0]
["ГРС.г.Вельск",{"$f":"Лист1!B200","v":""},{"$f":"Лист1!A200","v":""},{"$f":"Лист1!C200","v":6},{"$f":"Лист1!BI200/1000","v":0},{"$f":"Лист1!BH200","v":0},{"$f":"IF(#REF!>0,#REF!,0)","v":{"$error":"#REF!"}},{"$error":"#REF!"},{"$f":"IF(#REF!>0,#REF!,0)","v":{"$error":"#REF!"}},0]
["ГРС.г.Вельск",{"$f":"Лист1!B201","v":""},{"$f":"Лист1!A201","v":""},{"$f":"Лист1!C201","v":6},{"$f":"Лист1!BI201/1000","v":0},{"$f":"Лист1!BH201","v":0},{"$f":"IF(#REF!>0,#REF!,0)","v":{"$error":"#REF!"}},{"$error":"#REF!"},{"$f":"IF(#REF!>0,#REF!,0)","v":{"$error":"#REF!"}},0]
["ГРС.г.Вельск",{"$f":"Лист1!B202","v":""},{"$f":"Лист1!A202","v":"КУМИ Вельского муниципального района АО"},{"$f":"Лист1!C202","v":7},{"$f":"Лист1!BI202/1000","v":0},{"$f":"Лист1!BH202","v":0},{"$f":"IF(#REF!>0,#REF!,0)","v":{"$error":"#REF!"}},{"$f":"IF(G205>0,1,0)","v":{"$error":"#REF!"}},{"$f":"IF(#REF!>0,#REF!,0)","v":{"$error":"#REF!"}},0]
["ГРС.г.Вельск",{"$f":"Лист1!B203","v":""},{"$f":"Лист1!A203","v":""},{"$f":"Лист1!C203","v":7},{"$f":"Лист1!BI203/1000","v":0},{"$f":"Лист1!BH203","v":0},{"$f":"IF(#REF!>0,#REF!,0)","v":{"$error":"#REF!"}},{"$f":"IF(G206>0,1,0)","v":{"$error":"#REF!"}},{"$f":"IF(#REF!>0,#REF!,0)","v":{"$error":"#REF!"}},0]
["ГРС.г.Вельск",{"$f":"Лист1!B204","v":""},{"$f":"Лист1!A204","v":""},{"$f":"Лист1!C204","v":7},{"$f":"Лист1!BI204/1000","v":0},{"$f":"Лист1!BH204","v":0},{"$f":"IF(#REF!>0,#REF!,0)","v":{"$error":"#REF!"}},{"$error":"#REF!"},{"$f":"IF(#REF!>0,#REF!,0)","v":{"$error":"#REF!"}},0]
["ГРС.г.Вельск",{"$f":"Лист1!B205","v":""},{"$f":"Лист1!A205","v":""},{"$f":"Лист1!C205","v":7},{"$f":"Лист1!BI205/1000","v":0},{"$f":"Лист1!BH205","v":0},{"$f":"IF(#REF!>0,#REF!,0)","v":{"$error":"#REF!"}},{"$error":"#REF!"},{"$f":"IF(#REF!>0,#REF!,0)","v":{"$error":"#REF!"}},0]
["ГРС.г.Вельск",{"$f":"Лист1!B206","v":""},{"$f":"Лист1!A206","v":"Гр.               Онучина           Людмила  Владимировна"},{"$f":"Лист1!C206","v":6},{"$f":"Лист1!BI206/1000","v":1E-3},{"$f":"Лист1!BH206","v":7.1900000000000002E-4},{"$f":"IF(#REF!>0,#REF!,0)","v":{"$error":"#REF!"}},{"$f":"IF(G209>0,1,0)","v":{"$error":"#REF!"}},{"$f":"IF(#REF!>0,#REF!,0)","v":{"$error":"#REF!"}},2.81E-4]
["ГРС.г.Вельск",{"$f":"Лист1!B207","v":""},{"$f":"Лист1!A207","v":""},{"$f":"Лист1!C207","v":6},{"$f":"Лист1!BI207/1000","v":0},{"$f":"Лист1!BH207","v":0},{"$f":"IF(#REF!>0,#REF!,0)","v":{"$error":"#REF!"}},{"$f":"IF(G210>0,1,0)","v":{"$error":"#REF!"}},{"$f":"IF(#REF!>0,#REF!,0)","v":{"$error":"#REF!"}},0]
["ГРС.г.Вельск",{"$f":"Лист1!B208","v":""},{"$f":"Лист1!A208","v":""},{"$f":"Лист1!C208","v":6},{"$f":"Лист1!BI208/1000","v":0},{"$f":"Лист1!BH208","v":0},{"$f":"IF(#REF!>0,#REF!,0)","v":{"$error":"#REF!"}},{"$error":"#REF!"},{"$f":"IF(#REF!>0,#REF!,0)","v":{"$error":"#REF!"}},{"$f":"E211-F211","v":0}]
["ГРС.г.Вельск",{"$f":"Лист1!B209","v":""},{"$f":"Лист1!A209","v":""},{"$f":"Лист1!C209","v":6},{"$f":"Лист1!BI209/1000","v":0},{"$f":"Лист1!BH209","v":0},{"$f":"IF(#REF!>0,#REF!,0)","v":{"$error":"#REF!"}},{"$error":"#REF!"},{"$f":"IF(#REF!>0,#REF!,0)","v":{"$error":"#REF!"}},0]
["ГРС.г.Вельск",{"$f":"Лист1!B210","v":""},{"$f":"Лист1!A210","v":"Гр.               Блинова           Елена  Витальевна"},{"$f":"Лист1!C210","v":6},{"$f":"Лист1!BI210/1000","v":1.5E-3},{"$f":"Лист1!BH210","v":8.5599999999999999E-4},{"$f":"IF(#REF!>0,#REF!,0)","v":{"$error":"#REF!"}},{"$f":"IF(G213>0,1,0)","v":{"$error":"#REF!"}},{"$f":"IF(#REF!>0,#REF!,0)","v":{"$error":"#REF!"}},6.4400000000000004E-4]
["ГРС.г.Вельск",{"$f":"Лист1!B211","v":""},{"$f":"Лист1!A211","v":""},{"$f":"Лист1!C211","v":6},{"$f":"Лист1!BI211/1000","v":0},{"$f":"Лист1!BH211","v":0},{"$f":"IF(#REF!>0,#REF!,0)","v":{"$error":"#REF!"}},{"$f":"IF(G214>0,1,0)","v":{"$error":"#REF!"}},{"$f":"IF(#REF!>0,#REF!,0)","v":{"$error":"#REF!"}},0]
["ГРС.г.Вельск",{"$f":"Лист1!B212","v":""},{"$f":"Лист1!A212","v":""},{"$f":"Лист1!C212","v":6},{"$f":"Лист1!BI212/1000","v":0},{"$f":"Лист1!BH212","v":0},{"$f":"IF(#REF!>0,#REF!,0)","v":{"$error":"#REF!"}},{"$error":"#REF!"},{"$f":"IF(#REF!>0,#REF!,0)","v":{"$error":"#REF!"}},0]
["ГРС.г.Вельск",{"$f":"Лист1!B213","v":""},{"$f":"Лист1!A213","v":""},{"$f":"Лист1!C213","v":6},{"$f":"Лист1!BI213/1000","v":0},{"$f":"Лист1!BH213","v":0},{"$f":"IF(#REF!>0,#REF!,0)","v":{"$error":"#REF!"}},{"$error":"#REF!"},{"$f":"IF(#REF!>0,#REF!,0)","v":{"$error":"#REF!"}},0]
["ГРС.г.Вельск",{"$f":"Лист1!B214","v":""},{"$f":"Лист1!A214","v":"ИП               Нивин               Сергей    Игоревич"},{"$f":"Лист1!C214","v":6},{"$f":"Лист1!BI214/1000","v":2.5999999999999999E-3},{"$f":"Лист1!BH214","v":1.3799999999999999E-3},{"$f":"IF(#REF!>0,#REF!,0)","v":{"$error":"#REF!"}},{"$f":"IF(G217>0,1,0)","v":{"$error":"#REF!"}},{"$f":"IF(#REF!>0,#REF!,0)","v":{"$error":"#REF!"}},1.2199999999999999E-3]
["ГРС.г.Вельск",{"$f":"Лист1!B215","v":""},{"$f":"Лист1!A215","v":""},{"$f":"Лист1!C215","v":6},{"$f":"Лист1!BI215/1000","v":0},{"$f":"Лист1!BH215","v":0},{"$f":"IF(#REF!>0,#REF!,0)","v":{"$error":"#REF!"}},{"$f":"IF(G218>0,1,0)","v":{"$error":"#REF!"}},{"$f":"IF(#REF!>0,#REF!,0)","v":{"$error":"#REF!"}},0]
["ГРС.г.Вельск",{"$f":"Лист1!B216","v":""},{"$f":"Лист1!A216","v":""},{"$f":"Лист1!C216","v":6},{"$f":"Лист1!BI216/1000","v":0},{"$f":"Лист1!BH216","v":0},{"$f":"IF(#REF!>0,#REF!,0)","v":{"$error":"#REF!"}},{"$error":"#REF!"},{"$f":"IF(#REF!>0,#REF!,0)","v":{"$error":"#REF!"}},0]
["ГРС.г.Вельск",{"$f":"Лист1!B217","v":""},{"$f":"Лист1!A217","v":""},{"$f":"Лист1!C217","v":6},{"$f":"Лист1!BI217/1000","v":0},{"$f":"Лист1!BH217","v":0},{"$f":"IF(#REF!>0,#REF!,0)","v":{"$error":"#REF!"}},{"$error":"#REF!"},{"$f":"IF(#REF!>0,#REF!,0)","v":{"$error":"#REF!"}},0]
["ГРС.г.Вельск",{"$f":"Лист1!B218","v":""},{"$f":"Лист1!A218","v":"ИП               Антоновская    Мария Александровна   (до 01.03  -  ИП Стоянович В.П.)"},{"$f":"Лист1!C218","v":7},{"$f":"Лист1!BI218/1000","v":8.0000000000000004E-4},{"$f":"Лист1!BH218","v":5.6000000000000006E-4},{"$f":"IF(#REF!>0,#REF!,0)","v":{"$error":"#REF!"}},{"$f":"IF(G221>0,1,0)","v":{"$error":"#REF!"}},{"$f":"IF(#REF!>0,#REF!,0)","v":{"$error":"#REF!"}},2.3999999999999998E-4]
["ГРС.г.Вельск",{"$f":"Лист1!B219","v":""},{"$f":"Лист1!A219","v":""},{"$f":"Лист1!C219","v":7},{"$f":"Лист1!BI219/1000","v":0},{"$f":"Лист1!BH219","v":0},{"$f":"IF(#REF!>0,#REF!,0)","v":{"$error":"#REF!"}},{"$f":"IF(G222>0,1,0)","v":{"$error":"#REF!"}},{"$f":"IF(#REF!>0,#REF!,0)","v":{"$error":"#REF!"}},0]
["ГРС.г.Вельск",{"$f":"Лист1!B220","v":""},{"$f":"Лист1!A220","v":""},{"$f":"Лист1!C220","v":7},{"$f":"Лист1!BI220/1000","v":0},{"$f":"Лист1!BH220","v":0},{"$f":"IF(#REF!>0,#REF!,0)","v":{"$error":"#REF!"}},{"$error":"#REF!"},{"$f":"IF(#REF!>0,#REF!,0)","v":{"$error":"#REF!"}},0]
["ГРС.г.Вельск",{"$f":"Лист1!B221","v":""},{"$f":"Лист1!A221","v":""},{"$f":"Лист1!C221","v":7},{"$f":"Лист1!BI221/1000","v":0},{"$f":"Лист1!BH221","v":0},{"$f":"IF(#REF!>0,#REF!,0)","v":{"$error":"#REF!"}},{"$error":"#REF!"},{"$f":"IF(#REF!>0,#REF!,0)","v":{"$error":"#REF!"}},0]
["ГРС.г.Вельск",{"$f":"Лист1!B222","v":""},{"$f":"Лист1!A222","v":"ИП               Колданов         Вячеслав Савватиевич"},{"$f":"Лист1!C222","v":7},{"$f":"Лист1!BI222/1000","v":1E-3},{"$f":"Лист1!BH222","v":6.6600000000000003E-4},{"$f":"IF(#REF!>0,#REF!,0)","v":{"$error":"#REF!"}},{"$f":"IF(G225>0,1,0)","v":{"$error":"#REF!"}},{"$f":"IF(#REF!>0,#REF!,0)","v":{"$error":"#REF!"}},3.3399999999999999E-4]
["ГРС.г.Вельск",{"$f":"Лист1!B223","v":""},{"$f":"Лист1!A223","v":""},{"$f":"Лист1!C223","v":7},{"$f":"Лист1!BI223/1000","v":0},{"$f":"Лист1!BH223","v":0},{"$f":"IF(#REF!>0,#REF!,0)","v":{"$error":"#REF!"}},{"$f":"IF(G226>0,1,0)","v":{"$error":"#REF!"}},{"$f":"IF(#REF!>0,#REF!,0)","v":{"$error":"#REF!"}},0]
["ГРС.г.Вельск",{"$f":"Лист1!B224","v":""},{"$f":"Лист1!A224","v":""},{"$f":"Лист1!C224","v":7},{"$f":"Лист1!BI224/1000","v":0},{"$f":"Лист1!BH224","v":0},{"$f":"IF(#REF!>0,#REF!,0)","v":{"$error":"#REF!"}},{"$error":"#REF!"},{"$f":"IF(#REF!>0,#REF!,0)","v":{"$error":"#REF!"}},0]
["ГРС.г.Вельск",{"$f":"Лист1!B225","v":""},{"$f":"Лист1!A225","v":""},{"$f":"Лист1!C225","v":7},{"$f":"Лист1!BI225/1000","v":0},{"$f":"Лист1!BH225","v":0},{"$f":"IF(#REF!>0,#REF!,0)","v":{"$error":"#REF!"}},{"$error":"#REF!"},{"$f":"IF(#REF!>0,#REF!,0)","v":{"$error":"#REF!"}},0]
["ГРС.г.Вельск",{"$f":"Лист1!B226","v":""},{"$f":"Лист1!A226","v":"Гр.               Гневашева       Оксана Владимировна"},{"$f":"Лист1!C226","v":7},{"$f":"Лист1!BI226/1000","v":1E-4},{"$f":"Лист1!BH226","v":1E-4},{"$f":"IF(#REF!>0,#REF!,0)","v":{"$error":"#REF!"}},{"$f":"IF(G229>0,1,0)","v":{"$error":"#REF!"}},{"$f":"IF(#REF!>0,#REF!,0)","v":{"$error":"#REF!"}},0]
["ГРС.г.Вельск",{"$f":"Лист1!B227","v":""},{"$f":"Лист1!A227","v":""},{"$f":"Лист1!C227","v":7},{"$f":"Лист1!BI227/1000","v":0},{"$f":"Лист1!BH227","v":0},{"$f":"IF(#REF!>0,#REF!,0)","v":{"$error":"#REF!"}},{"$f":"IF(G230>0,1,0)","v":{"$error":"#REF!"}},{"$f":"IF(#REF!>0,#REF!,0)","v":{"$error":"#REF!"}},0]
["ГРС.г.Вельск",{"$f":"Лист1!B228","v":""},{"$f":"Лист1!A228","v":""},{"$f":"Лист1!C228","v":7},{"$f":"Лист1!BI228/1000","v":0},{"$f":"Лист1!BH228","v":0},{"$f":"IF(#REF!>0,#REF!,0)","v":{"$error":"#REF!"}},{"$error":"#REF!"},{"$f":"IF(#REF!>0,#REF!,0)","v":{"$error":"#REF!"}},0]
["ГРС.г.Вельск",{"$f":"Лист1!B229","v":""},{"$f":"Лист1!A229","v":""},{"$f":"Лист1!C229","v":7},{"$f":"Лист1!BI229/1000","v":0},{"$f":"Лист1!BH229","v":0},{"$f":"IF(#REF!>0,#REF!,0)","v":{"$error":"#REF!"}},{"$error":"#REF!"},{"$f":"IF(#REF!>0,#REF!,0)","v":{"$error":"#REF!"}},0]
["ГРС.г.Вельск",{"$f":"Лист1!B230","v":""},{"$f":"Лист1!A230","v":"ИП               Бегунов            Андрей Владимирович"},{"$f":"Лист1!C230","v":6},{"$f":"Лист1!BI230/1000","v":6.9000000000000008E-3},{"$f":"Лист1!BH230","v":3.3340000000000002E-3},{"$f":"IF(#REF!>0,#REF!,0)","v":{"$error":"#REF!"}},{"$f":"IF(G233>0,1,0)","v":{"$error":"#REF!"}},{"$f":"IF(#REF!>0,#REF!,0)","v":{"$error":"#REF!"}},3.5660000000000006E-3]
["ГРС.г.Вельск",{"$f":"Лист1!B231","v":""},{"$f":"Лист1!A231","v":""},{"$f":"Лист1!C231","v":6},{"$f":"Лист1!BI231/1000","v":0},{"$f":"Лист1!BH231","v":0},{"$f":"IF(#REF!>0,#REF!,0)","v":{"$error":"#REF!"}},{"$f":"IF(G234>0,1,0)","v":{"$error":"#REF!"}},{"$f":"IF(#REF!>0,#REF!,0)","v":{"$error":"#REF!"}},0]
["ГРС.г.Вельск",{"$f":"Лист1!B232","v":""},{"$f":"Лист1!A232","v":""},{"$f":"Лист1!C232","v":6},{"$f":"Лист1!BI232/1000","v":0},{"$f":"Лист1!BH232","v":0},{"$f":"IF(#REF!>0,#REF!,0)","v":{"$error":"#REF!"}},{"$error":"#REF!"},{"$f":"IF(#REF!>0,#REF!,0)","v":{"$error":"#REF!"}},0]
["ГРС.г.Вельск",{"$f":"Лист1!B233","v":""},{"$f":"Лист1!A233","v":""},{"$f":"Лист1!C233","v":6},{"$f":"Лист1!BI233/1000","v":0},{"$f":"Лист1!BH233","v":0},{"$f":"IF(#REF!>0,#REF!,0)","v":{"$error":"#REF!"}},{"$error":"#REF!"},{"$f":"IF(#REF!>0,#REF!,0)","v":{"$error":"#REF!"}},0]
["ГРС.г.Вельск",{"$f":"Лист1!B234","v":""},{"$f":"Лист1!A234","v":"ИП               Шестаков          Михаил   Михайлович"},{"$f":"Лист1!C234","v":6},{"$f":"Лист1!BI234/1000","v":2.3E-3},{"$f":"Лист1!BH234","v":9.3300000000000002E-4},{"$f":"IF(#REF!>0,#REF!,0)","v":{"$error":"#REF!"}},{"$f":"IF(G237>0,1,0)","v":{"$error":"#REF!"}},{"$f":"IF(#REF!>0,#REF!,0)","v":{"$error":"#REF!"}},1.3669999999999999E-3]
["ГРС.г.Вельск",{"$f":"Лист1!B235","v":""},{"$f":"Лист1!A235","v":""},{"$f":"Лист1!C235","v":6},{"$f":"Лист1!BI235/1000","v":0},{"$f":"Лист1!BH235","v":0},{"$f":"IF(#REF!>0,#REF!,0)","v":{"$error":"#REF!"}},{"$f":"IF(G238>0,1,0)","v":{"$error":"#REF!"}},{"$f":"IF(#REF!>0,#REF!,0)","v":{"$error":"#REF!"}},0]
["ГРС.г.Вельск",{"$f":"Лист1!B236","v":""},{"$f":"Лист1!A236","v":""},{"$f":"Лист1!C236","v":6},{"$f":"Лист1!BI236/1000","v":0},{"$f":"Лист1!BH236","v":0},{"$f":"IF(#REF!>0,#REF!,0)","v":{"$error":"#REF!"}},{"$error":"#REF!"},{"$f":"IF(#REF!>0,#REF!,0)","v":{"$error":"#REF!"}},0]
["ГРС.г.Вельск",{"$f":"Лист1!B237","v":""},{"$f":"Лист1!A237","v":""},{"$f":"Лист1!C237","v":6},{"$f":"Лист1!BI237/1000","v":0},{"$f":"Лист1!BH237","v":0},{"$f":"IF(#REF!>0,#REF!,0)","v":{"$error":"#REF!"}},{"$error":"#REF!"},{"$f":"IF(#REF!>0,#REF!,0)","v":{"$error":"#REF!"}},0]
["ГРС.г.Вельск",{"$f":"Лист1!B238","v":""},{"$f":"Лист1!A238","v":"ООО          \"Вельская  типография\""},{"$f":"Лист1!C238","v":6},{"$f":"Лист1!BI238/1000","v":2.5999999999999999E-3},{"$f":"Лист1!BH238","v":1.8160000000000001E-3},{"$f":"IF(#REF!>0,#REF!,0)","v":{"$error":"#REF!"}},{"$f":"IF(G241>0,1,0)","v":{"$error":"#REF!"}},{"$f":"IF(#REF!>0,#REF!,0)","v":{"$error":"#REF!"}},7.8399999999999976E-4]
["ГРС.г.Вельск",{"$f":"Лист1!B239","v":""},{"$f":"Лист1!A239","v":""},{"$f":"Лист1!C239","v":6},{"$f":"Лист1!BI239/1000","v":0},{"$f":"Лист1!BH239","v":0},{"$f":"IF(#REF!>0,#REF!,0)","v":{"$error":"#REF!"}},{"$f":"IF(G242>0,1,0)","v":{"$error":"#REF!"}},{"$f":"IF(#REF!>0,#REF!,0)","v":{"$error":"#REF!"}},0]
["ГРС.г.Вельск",{"$f":"Лист1!B240","v":""},{"$f":"Лист1!A240","v":""},{"$f":"Лист1!C240","v":6},{"$f":"Лист1!BI240/1000","v":0},{"$f":"Лист1!BH240","v":0},{"$f":"IF(#REF!>0,#REF!,0)","v":{"$error":"#REF!"}},{"$error":"#REF!"},{"$f":"IF(#REF!>0,#REF!,0)","v":{"$error":"#REF!"}},0]
["ГРС.г.Вельск",{"$f":"Лист1!B241","v":""},{"$f":"Лист1!A241","v":""},{"$f":"Лист1!C241","v":6},{"$f":"Лист1!BI241/1000","v":0},{"$f":"Лист1!BH241","v":0},{"$f":"IF(#REF!>0,#REF!,0)","v":{"$error":"#REF!"}},{"$error":"#REF!"},{"$f":"IF(#REF!>0,#REF!,0)","v":{"$error":"#REF!"}},0]
["ГРС.г.Вельск",{"$f":"Лист1!B242","v":""},{"$f":"Лист1!A242","v":"ИП               Семенов           Павел  Васильевич"},{"$f":"Лист1!C242","v":7},{"$f":"Лист1!BI242/1000","v":2.9999999999999997E-4},{"$f":"Лист1!BH242","v":1.3200000000000001E-4},{"$f":"IF(#REF!>0,#REF!,0)","v":{"$error":"#REF!"}},{"$f":"IF(G245>0,1,0)","v":{"$error":"#REF!"}},{"$f":"IF(#REF!>0,#REF!,0)","v":{"$error":"#REF!"}},1.6799999999999996E-4]
["ГРС.г.Вельск",{"$f":"Лист1!B243","v":""},{"$f":"Лист1!A243","v":""},{"$f":"Лист1!C243","v":7},{"$f":"Лист1!BI243/1000","v":0},{"$f":"Лист1!BH243","v":0},{"$f":"IF(#REF!>0,#REF!,0)","v":{"$error":"#REF!"}},{"$f":"IF(G246>0,1,0)","v":{"$error":"#REF!"}},{"$f":"IF(#REF!>0,#REF!,0)","v":{"$error":"#REF!"}},0]
["ГРС.г.Вельск",{"$f":"Лист1!B244","v":""},{"$f":"Лист1!A244","v":""},{"$f":"Лист1!C244","v":7},{"$f":"Лист1!BI244/1000","v":0},{"$f":"Лист1!BH244","v":0},{"$f":"IF(#REF!>0,#REF!,0)","v":{"$error":"#REF!"}},{"$error":"#REF!"},{"$f":"IF(#REF!>0,#REF!,0)","v":{"$error":"#REF!"}},0]
["ГРС.г.Вельск",{"$f":"Лист1!B245","v":""},{"$f":"Лист1!A245","v":""},{"$f":"Лист1!C245","v":7},{"$f":"Лист1!BI245/1000","v":0},{"$f":"Лист1!BH245","v":0},{"$f":"IF(#REF!>0,#REF!,0)","v":{"$error":"#REF!"}},{"$error":"#REF!"},{"$f":"IF(#REF!>0,#REF!,0)","v":{"$error":"#REF!"}},0]
["ГРС.г.Вельск",{"$f":"Лист1!B246","v":""},{"$f":"Лист1!A246","v":"ИП               Шишов               Виктор   Викторович"},{"$f":"Лист1!C246","v":6},{"$f":"Лист1!BI246/1000","v":1.5E-3},{"$f":"Лист1!BH246","v":1.0950000000000001E-3},{"$f":"IF(#REF!>0,#REF!,0)","v":{"$error":"#REF!"}},{"$f":"IF(G249>0,1,0)","v":{"$error":"#REF!"}},{"$f":"IF(#REF!>0,#REF!,0)","v":{"$error":"#REF!"}},4.0499999999999998E-4]
["ГРС.г.Вельск",{"$f":"Лист1!B247","v":""},{"$f":"Лист1!A247","v":""},{"$f":"Лист1!C247","v":6},{"$f":"Лист1!BI247/1000","v":0},{"$f":"Лист1!BH247","v":0},{"$f":"IF(#REF!>0,#REF!,0)","v":{"$error":"#REF!"}},{"$f":"IF(G250>0,1,0)","v":{"$error":"#REF!"}},{"$f":"IF(#REF!>0,#REF!,0)","v":{"$error":"#REF!"}},0]
["ГРС.г.Вельск",{"$f":"Лист1!B248","v":""},{"$f":"Лист1!A248","v":""},{"$f":"Лист1!C248","v":6},{"$f":"Лист1!BI248/1000","v":0},{"$f":"Лист1!BH248","v":0},{"$f":"IF(#REF!>0,#REF!,0)","v":{"$error":"#REF!"}},{"$error":"#REF!"},{"$f":"IF(#REF!>0,#REF!,0)","v":{"$error":"#REF!"}},0]
["ГРС.г.Вельск",{"$f":"Лист1!B249","v":""},{"$f":"Лист1!A249","v":""},{"$f":"Лист1!C249","v":6},{"$f":"Лист1!BI249/1000","v":0},{"$f":"Лист1!BH249","v":0},{"$f":"IF(#REF!>0,#REF!,0)","v":{"$error":"#REF!"}},{"$error":"#REF!"},{"$f":"IF(#REF!>0,#REF!,0)","v":{"$error":"#REF!"}},0]
["ГРС.г.Вельск",{"$f":"Лист1!B250","v":"Вельск, ул.Комсомольская-4а"},{"$f":"Лист1!A250","v":"ИП               Угрюмов            Николай  Сергеевич"},{"$f":"Лист1!C250","v":7},{"$f":"Лист1!BI250/1000","v":5.9999999999999995E-4},{"$f":"Лист1!BH250","v":8.0000000000000007E-5},{"$f":"IF(#REF!>0,#REF!,0)","v":{"$error":"#REF!"}},{"$f":"IF(G253>0,1,0)","v":{"$error":"#REF!"}},{"$f":"IF(#REF!>0,#REF!,0)","v":{"$error":"#REF!"}},5.1999999999999995E-4]
["ГРС.г.Вельск",{"$f":"Лист1!B251","v":""},{"$f":"Лист1!A251","v":""},{"$f":"Лист1!C251","v":7},{"$f":"Лист1!BI251/1000","v":0},{"$f":"Лист1!BH251","v":0},{"$f":"IF(#REF!>0,#REF!,0)","v":{"$error":"#REF!"}},{"$f":"IF(G254>0,1,0)","v":{"$error":"#REF!"}},{"$f":"IF(#REF!>0,#REF!,0)","v":{"$error":"#REF!"}},0]
["ГРС.г.Вельск",{"$f":"Лист1!B252","v":""},{"$f":"Лист1!A252","v":""},{"$f":"Лист1!C252","v":7},{"$f":"Лист1!BI252/1000","v":0},{"$f":"Лист1!BH252","v":0},{"$f":"IF(#REF!>0,#REF!,0)","v":{"$error":"#REF!"}},{"$error":"#REF!"},{"$f":"IF(#REF!>0,#REF!,0)","v":{"$error":"#REF!"}},0]
["ГРС.г.Вельск",{"$f":"Лист1!B253","v":""},{"$f":"Лист1!A253","v":""},{"$f":"Лист1!C253","v":7},{"$f":"Лист1!BI253/1000","v":0},{"$f":"Лист1!BH253","v":0},{"$f":"IF(#REF!>0,#REF!,0)","v":{"$error":"#REF!"}},{"$error":"#REF!"},{"$f":"IF(#REF!>0,#REF!,0)","v":{"$error":"#REF!"}},0]
["ГРС.г.Вельск",{"$f":"Лист1!B254","v":"Вельск, ул.Дзержинского-98в"},{"$f":"Лист1!A254","v":"ИП               Угрюмов            Николай  Сергеевич"},{"$f":"Лист1!C254","v":6},{"$f":"Лист1!BI254/1000","v":2.5000000000000001E-3},{"$f":"Лист1!BH254","v":2.1000000000000003E-3},{"$f":"IF(#REF!>0,#REF!,0)","v":{"$error":"#REF!"}},{"$f":"IF(G257>0,1,0)","v":{"$error":"#REF!"}},{"$f":"IF(#REF!>0,#REF!,0)","v":{"$error":"#REF!"}},3.9999999999999975E-4]
["ГРС.г.Вельск",{"$f":"Лист1!B255","v":""},{"$f":"Лист1!A255","v":""},{"$f":"Лист1!C255","v":6},{"$f":"Лист1!BI255/1000","v":0},{"$f":"Лист1!BH255","v":0},{"$f":"IF(#REF!>0,#REF!,0)","v":{"$error":"#REF!"}},{"$f":"IF(G258>0,1,0)","v":{"$error":"#REF!"}},{"$f":"IF(#REF!>0,#REF!,0)","v":{"$error":"#REF!"}},0]
["ГРС.г.Вельск",{"$f":"Лист1!B256","v":""},{"$f":"Лист1!A256","v":""},{"$f":"Лист1!C256","v":6},{"$f":"Лист1!BI256/1000","v":0},{"$f":"Лист1!BH256","v":0},{"$f":"IF(#REF!>0,#REF!,0)","v":{"$error":"#REF!"}},{"$error":"#REF!"},{"$f":"IF(#REF!>0,#REF!,0)","v":{"$error":"#REF!"}},0]
["ГРС.г.Вельск",{"$f":"Лист1!B257","v":""},{"$f":"Лист1!A257","v":""},{"$f":"Лист1!C257","v":6},{"$f":"Лист1!BI257/1000","v":0},{"$f":"Лист1!BH257","v":0},{"$f":"IF(#REF!>0,#REF!,0)","v":{"$error":"#REF!"}},{"$error":"#REF!"},{"$f":"IF(#REF!>0,#REF!,0)","v":{"$error":"#REF!"}},0]
["ГРС.г.Вельск",{"$f":"Лист1!B258","v":"Вельск, ул.Красная-42а"},{"$f":"Лист1!A258","v":"ИП               Угрюмов            Николай  Сергеевич"},{"$f":"Лист1!C258","v":7},{"$f":"Лист1!BI258/1000","v":6.9999999999999999E-4},{"$f":"Лист1!BH258","v":1E-4},{"$f":"IF(#REF!>0,#REF!,0)","v":{"$error":"#REF!"}},{"$f":"IF(G261>0,1,0)","v":{"$error":"#REF!"}},{"$f":"IF(#REF!>0,#REF!,0)","v":{"$error":"#REF!"}},5.9999999999999995E-4]
["ГРС.г.Вельск",{"$f":"Лист1!B259","v":""},{"$f":"Лист1!A259","v":""},{"$f":"Лист1!C259","v":7},{"$f":"Лист1!BI259/1000","v":0},{"$f":"Лист1!BH259","v":0},{"$f":"IF(#REF!>0,#REF!,0)","v":{"$error":"#REF!"}},{"$f":"IF(G262>0,1,0)","v":{"$error":"#REF!"}},{"$f":"IF(#REF!>0,#REF!,0)","v":{"$error":"#REF!"}},0]
["ГРС.г.Вельск",{"$f":"Лист1!B260","v":""},{"$f":"Лист1!A260","v":""},{"$f":"Лист1!C260","v":7},{"$f":"Лист1!BI260/1000","v":0},{"$f":"Лист1!BH260","v":0},{"$f":"IF(#REF!>0,#REF!,0)","v":{"$error":"#REF!"}},{"$error":"#REF!"},{"$f":"IF(#REF!>0,#REF!,0)","v":{"$error":"#REF!"}},0]
["ГРС.г.Вельск",{"$f":"Лист1!B261","v":""},{"$f":"Лист1!A261","v":""},{"$f":"Лист1!C261","v":7},{"$f":"Лист1!BI261/1000","v":0},{"$f":"Лист1!BH261","v":0},{"$f":"IF(#REF!>0,#REF!,0)","v":{"$error":"#REF!"}},{"$error":"#REF!"},{"$f":"IF(#REF!>0,#REF!,0)","v":{"$error":"#REF!"}},0]
["ГРС.г.Вельск",{"$f":"Лист1!B262","v":"Вельск, ул.Ломоносова-5"},{"$f":"Лист1!A262","v":"ИП               Фомин               Сергей   Сергеевич "},{"$f":"Лист1!C262","v":7},{"$f":"Лист1!BI262/1000","v":2E-3},{"$f":"Лист1!BH262","v":5.0000000000000001E-4},{"$f":"IF(#REF!>0,#REF!,0)","v":{"$error":"#REF!"}},{"$f":"IF(G265>0,1,0)","v":{"$error":"#REF!"}},{"$f":"IF(#REF!>0,#REF!,0)","v":{"$error":"#REF!"}},1.5E-3]
["ГРС.г.Вельск",{"$f":"Лист1!B263","v":""},{"$f":"Лист1!A263","v":""},{"$f":"Лист1!C263","v":7},{"$f":"Лист1!BI263/1000","v":0},{"$f":"Лист1!BH263","v":0},{"$f":"IF(#REF!>0,#REF!,0)","v":{"$error":"#REF!"}},{"$f":"IF(G266>0,1,0)","v":{"$error":"#REF!"}},{"$f":"IF(#REF!>0,#REF!,0)","v":{"$error":"#REF!"}},0]
["ГРС.г.Вельск",{"$f":"Лист1!B264","v":""},{"$f":"Лист1!A264","v":""},{"$f":"Лист1!C264","v":7},{"$f":"Лист1!BI264/1000","v":0},{"$f":"Лист1!BH264","v":0},{"$f":"IF(#REF!>0,#REF!,0)","v":{"$error":"#REF!"}},{"$error":"#REF!"},{"$f":"IF(#REF!>0,#REF!,0)","v":{"$error":"#REF!"}},0]
["ГРС.г.Вельск",{"$f":"Лист1!B265","v":""},{"$f":"Лист1!A265","v":""},{"$f":"Лист1!C265","v":7},{"$f":"Лист1!BI265/1000","v":0},{"$f":"Лист1!BH265","v":0},{"$f":"IF(#REF!>0,#REF!,0)","v":{"$error":"#REF!"}},{"$error":"#REF!"},{"$f":"IF(#REF!>0,#REF!,0)","v":{"$error":"#REF!"}},0]
["ГРС.г.Вельск",{"$f":"Лист1!B266","v":"Вельск, ул.Пушкина-100"},{"$f":"Лист1!A266","v":"ИП               Фомин               Сергей   Сергеевич "},{"$f":"Лист1!C266","v":7},{"$f":"Лист1!BI266/1000","v":2E-3},{"$f":"Лист1!BH266","v":5.9999999999999995E-4},{"$f":"IF(#REF!>0,#REF!,0)","v":{"$error":"#REF!"}},{"$f":"IF(G269>0,1,0)","v":{"$error":"#REF!"}},{"$f":"IF(#REF!>0,#REF!,0)","v":{"$error":"#REF!"}},1.4000000000000002E-3]
["ГРС.г.Вельск",{"$f":"Лист1!B267","v":""},{"$f":"Лист1!A267","v":""},{"$f":"Лист1!C267","v":7},{"$f":"Лист1!BI267/1000","v":0},{"$f":"Лист1!BH267","v":0},{"$f":"IF(#REF!>0,#REF!,0)","v":{"$error":"#REF!"}},{"$f":"IF(G270>0,1,0)","v":{"$error":"#REF!"}},{"$f":"IF(#REF!>0,#REF!,0)","v":{"$error":"#REF!"}},0]
["ГРС.г.Вельск",{"$f":"Лист1!B268","v":""},{"$f":"Лист1!A268","v":""},{"$f":"Лист1!C268","v":7},{"$f":"Лист1!BI268/1000","v":0},{"$f":"Лист1!BH268","v":0},{"$f":"IF(#REF!>0,#REF!,0)","v":{"$error":"#REF!"}},{"$error":"#REF!"},{"$f":"IF(#REF!>0,#REF!,0)","v":{"$error":"#REF!"}},0]
["ГРС.г.Вельск",{"$f":"Лист1!B269","v":""},{"$f":"Лист1!A269","v":""},{"$f":"Лист1!C269","v":7},{"$f":"Лист1!BI269/1000","v":0},{"$f":"Лист1!BH269","v":0},{"$f":"IF(#REF!>0,#REF!,0)","v":{"$error":"#REF!"}},{"$error":"#REF!"},{"$f":"IF(#REF!>0,#REF!,0)","v":{"$error":"#REF!"}},0]
["ГРС.г.Вельск",{"$f":"Лист1!B270","v":""},{"$f":"Лист1!A270","v":"ИП               Лопаткин         Николай  Витальевич"},{"$f":"Лист1!C270","v":7},{"$f":"Лист1!BI270/1000","v":5.0000000000000001E-4},{"$f":"Лист1!BH270","v":7.5199999999999996E-4},{"$f":"IF(#REF!>0,#REF!,0)","v":{"$error":"#REF!"}},{"$f":"IF(G273>0,1,0)","v":{"$error":"#REF!"}},{"$f":"IF(#REF!>0,#REF!,0)","v":{"$error":"#REF!"}},-2.5199999999999995E-4]
["ГРС.г.Вельск",{"$f":"Лист1!B271","v":""},{"$f":"Лист1!A271","v":""},{"$f":"Лист1!C271","v":7},{"$f":"Лист1!BI271/1000","v":0},{"$f":"Лист1!BH271","v":0},{"$f":"IF(#REF!>0,#REF!,0)","v":{"$error":"#REF!"}},{"$f":"IF(G274>0,1,0)","v":{"$error":"#REF!"}},{"$f":"IF(#REF!>0,#REF!,0)","v":{"$error":"#REF!"}},0]
["ГРС.г.Вельск",{"$f":"Лист1!B272","v":""},{"$f":"Лист1!A272","v":""},{"$f":"Лист1!C272","v":7},{"$f":"Лист1!BI272/1000","v":0},{"$f":"Лист1!BH272","v":0},{"$f":"IF(#REF!>0,#REF!,0)","v":{"$error":"#REF!"}},{"$error":"#REF!"},{"$f":"IF(#REF!>0,#REF!,0)","v":{"$error":"#REF!"}},{"$f":"E275-F275","v":0}]
["ГРС.г.Вельск",{"$f":"Лист1!B273","v":""},{"$f":"Лист1!A273","v":""},{"$f":"Лист1!C273","v":7},{"$f":"Лист1!BI273/1000","v":0},{"$f":"Лист1!BH273","v":0},{"$f":"IF(#REF!>0,#REF!,0)","v":{"$error":"#REF!"}},{"$error":"#REF!"},{"$f":"IF(#REF!>0,#REF!,0)","v":{"$error":"#REF!"}},0]
["ГРС.г.Вельск",{"$f":"Лист1!B274","v":""},{"$f":"Лист1!A274","v":"Гр.              Фоминский        Александр Алексеевич"},{"$f":"Лист1!C274","v":7},{"$f":"Лист1!BI274/1000","v":1.1000000000000001E-3},{"$f":"Лист1!BH274","v":8.9999999999999998E-4},{"$f":"IF(#REF!>0,#REF!,0)","v":{"$error":"#REF!"}},{"$f":"IF(G277>0,1,0)","v":{"$error":"#REF!"}},{"$f":"IF(#REF!>0,#REF!,0)","v":{"$error":"#REF!"}},2.0000000000000009E-4]
["ГРС.г.Вельск",{"$f":"Лист1!B275","v":""},{"$f":"Лист1!A275","v":""},{"$f":"Лист1!C275","v":7},{"$f":"Лист1!BI275/1000","v":0},{"$f":"Лист1!BH275","v":0},{"$f":"IF(#REF!>0,#REF!,0)","v":{"$error":"#REF!"}},{"$f":"IF(G278>0,1,0)","v":{"$error":"#REF!"}},{"$f":"IF(#REF!>0,#REF!,0)","v":{"$error":"#REF!"}},0]
["ГРС.г.Вельск",{"$f":"Лист1!B276","v":""},{"$f":"Лист1!A276","v":""},{"$f":"Лист1!C276","v":7},{"$f":"Лист1!BI276/1000","v":0},{"$f":"Лист1!BH276","v":0},{"$f":"IF(#REF!>0,#REF!,0)","v":{"$error":"#REF!"}},{"$error":"#REF!"},{"$f":"IF(#REF!>0,#REF!,0)","v":{"$error":"#REF!"}},0]
["ГРС.г.Вельск",{"$f":"Лист1!B277","v":""},{"$f":"Лист1!A277","v":""},{"$f":"Лист1!C277","v":7},{"$f":"Лист1!BI277/1000","v":0},{"$f":"Лист1!BH277","v":0},{"$f":"IF(#REF!>0,#REF!,0)","v":{"$error":"#REF!"}},{"$error":"#REF!"},{"$f":"IF(#REF!>0,#REF!,0)","v":{"$error":"#REF!"}},0]
["ГРС.г.Вельск",{"$f":"Лист1!B278","v":""},{"$f":"Лист1!A278","v":"ИП              Соболев            Владимир Иванович"},{"$f":"Лист1!C278","v":7},{"$f":"Лист1!BI278/1000","v":8.4999999999999995E-4},{"$f":"Лист1!BH278","v":4.1299999999999996E-4},{"$f":"IF(#REF!>0,#REF!,0)","v":{"$error":"#REF!"}},{"$f":"IF(G281>0,1,0)","v":{"$error":"#REF!"}},{"$f":"IF(#REF!>0,#REF!,0)","v":{"$error":"#REF!"}},4.37E-4]
["ГРС.г.Вельск",{"$f":"Лист1!B279","v":""},{"$f":"Лист1!A279","v":""},{"$f":"Лист1!C279","v":7},{"$f":"Лист1!BI279/1000","v":0},{"$f":"Лист1!BH279","v":0},{"$f":"IF(#REF!>0,#REF!,0)","v":{"$error":"#REF!"}},{"$f":"IF(G282>0,1,0)","v":{"$error":"#REF!"}},{"$f":"IF(#REF!>0,#REF!,0)","v":{"$error":"#REF!"}},0]
["ГРС.г.Вельск",{"$f":"Лист1!B280","v":""},{"$f":"Лист1!A280","v":""},{"$f":"Лист1!C280","v":7},{"$f":"Лист1!BI280/1000","v":0},{"$f":"Лист1!BH280","v":0},{"$f":"IF(#REF!>0,#REF!,0)","v":{"$error":"#REF!"}},{"$error":"#REF!"},{"$f":"IF(#REF!>0,#REF!,0)","v":{"$error":"#REF!"}},0]
["ГРС.г.Вельск",{"$f":"Лист1!B281","v":""},{"$f":"Лист1!A281","v":""},{"$f":"Лист1!C281","v":7},{"$f":"Лист1!BI281/1000","v":0},{"$f":"Лист1!BH281","v":0},{"$f":"IF(#REF!>0,#REF!,0)","v":{"$error":"#REF!"}},{"$error":"#REF!"},{"$f":"IF(#REF!>0,#REF!,0)","v":{"$error":"#REF!"}},0]
["ГРС.г.Вельск",{"$f":"Лист1!B282","v":"Вельск, ул.К.Маркса-1а, стр.5"},{"$f":"Лист1!A282","v":"ООО          \"ПАРТНЕР\""},{"$f":"Лист1!C282","v":6},{"$f":"Лист1!BI282/1000","v":1.2999999999999999E-3},{"$f":"Лист1!BH282","v":1.1870000000000001E-3},{"$f":"IF(#REF!>0,#REF!,0)","v":{"$error":"#REF!"}},{"$f":"IF(G285>0,1,0)","v":{"$error":"#REF!"}},{"$f":"IF(#REF!>0,#REF!,0)","v":{"$error":"#REF!"}},1.1299999999999982E-4]
["ГРС.г.Вельск",{"$f":"Лист1!B283","v":""},{"$f":"Лист1!A283","v":""},{"$f":"Лист1!C283","v":6},{"$f":"Лист1!BI283/1000","v":0},{"$f":"Лист1!BH283","v":0},{"$f":"IF(#REF!>0,#REF!,0)","v":{"$error":"#REF!"}},{"$f":"IF(G286>0,1,0)","v":{"$error":"#REF!"}},{"$f":"IF(#REF!>0,#REF!,0)","v":{"$error":"#REF!"}},0]
["ГРС.г.Вельск",{"$f":"Лист1!B284","v":""},{"$f":"Лист1!A284","v":""},{"$f":"Лист1!C284","v":6},{"$f":"Лист1!BI284/1000","v":0},{"$f":"Лист1!BH284","v":0},{"$f":"IF(#REF!>0,#REF!,0)","v":{"$error":"#REF!"}},{"$error":"#REF!"},{"$f":"IF(#REF!>0,#REF!,0)","v":{"$error":"#REF!"}},0]
["ГРС.г.Вельск",{"$f":"Лист1!B285","v":""},{"$f":"Лист1!A285","v":""},{"$f":"Лист1!C285","v":6},{"$f":"Лист1!BI285/1000","v":0},{"$f":"Лист1!BH285","v":0},{"$f":"IF(#REF!>0,#REF!,0)","v":{"$error":"#REF!"}},{"$error":"#REF!"},{"$f":"IF(#REF!>0,#REF!,0)","v":{"$error":"#REF!"}},0]
["ГРС.г.Вельск",{"$f":"Лист1!B286","v":"Вельск, ул.К.Маркса-1а, стр.7"},{"$f":"Лист1!A286","v":"ООО          \"ПАРТНЕР\""},{"$f":"Лист1!C286","v":7},{"$f":"Лист1!BI286/1000","v":8.0000000000000004E-4},{"$f":"Лист1!BH286","v":6.4500000000000007E-4},{"$f":"IF(#REF!>0,#REF!,0)","v":{"$error":"#REF!"}},{"$f":"IF(G289>0,1,0)","v":{"$error":"#REF!"}},{"$f":"IF(#REF!>0,#REF!,0)","v":{"$error":"#REF!"}},1.5499999999999997E-4]
["ГРС.г.Вельск",{"$f":"Лист1!B287","v":""},{"$f":"Лист1!A287","v":""},{"$f":"Лист1!C287","v":7},{"$f":"Лист1!BI287/1000","v":0},{"$f":"Лист1!BH287","v":0},{"$f":"IF(#REF!>0,#REF!,0)","v":{"$error":"#REF!"}},{"$f":"IF(G290>0,1,0)","v":{"$error":"#REF!"}},{"$f":"IF(#REF!>0,#REF!,0)","v":{"$error":"#REF!"}},0]
["ГРС.г.Вельск",{"$f":"Лист1!B288","v":""},{"$f":"Лист1!A288","v":""},{"$f":"Лист1!C288","v":7},{"$f":"Лист1!BI288/1000","v":0},{"$f":"Лист1!BH288","v":0},{"$f":"IF(#REF!>0,#REF!,0)","v":{"$error":"#REF!"}},{"$error":"#REF!"},{"$f":"IF(#REF!>0,#REF!,0)","v":{"$error":"#REF!"}},0]
["ГРС.г.Вельск",{"$f":"Лист1!B289","v":""},{"$f":"Лист1!A289","v":""},{"$f":"Лист1!C289","v":7},{"$f":"Лист1!BI289/1000","v":0},{"$f":"Лист1!BH289","v":0},{"$f":"IF(#REF!>0,#REF!,0)","v":{"$error":"#REF!"}},{"$error":"#REF!"},{"$f":"IF(#REF!>0,#REF!,0)","v":{"$error":"#REF!"}},0]
["ГРС.г.Вельск",{"$f":"Лист1!B290","v":"Вельск, ул.1 Мая-9"},{"$f":"Лист1!A290","v":"ООО          \"ПАРТНЕР\""},{"$f":"Лист1!C290","v":6},{"$f":"Лист1!BI290/1000","v":2.3E-3},{"$f":"Лист1!BH290","v":9.6999999999999994E-4},{"$f":"IF(#REF!>0,#REF!,0)","v":{"$error":"#REF!"}},{"$f":"IF(G293>0,1,0)","v":{"$error":"#REF!"}},{"$f":"IF(#REF!>0,#REF!,0)","v":{"$error":"#REF!"}},1.33E-3]
["ГРС.г.Вельск",{"$f":"Лист1!B291","v":""},{"$f":"Лист1!A291","v":""},{"$f":"Лист1!C291","v":6},{"$f":"Лист1!BI291/1000","v":0},{"$f":"Лист1!BH291","v":0},{"$f":"IF(#REF!>0,#REF!,0)","v":{"$error":"#REF!"}},{"$f":"IF(G294>0,1,0)","v":{"$error":"#REF!"}},{"$f":"IF(#REF!>0,#REF!,0)","v":{"$error":"#REF!"}},0]
["ГРС.г.Вельск",{"$f":"Лист1!B292","v":""},{"$f":"Лист1!A292","v":""},{"$f":"Лист1!C292","v":6},{"$f":"Лист1!BI292/1000","v":0},{"$f":"Лист1!BH292","v":0},{"$f":"IF(#REF!>0,#REF!,0)","v":{"$error":"#REF!"}},{"$error":"#REF!"},{"$f":"IF(#REF!>0,#REF!,0)","v":{"$error":"#REF!"}},0]
["ГРС.г.Вельск",{"$f":"Лист1!B293","v":""},{"$f":"Лист1!A293","v":""},{"$f":"Лист1!C293","v":6},{"$f":"Лист1!BI293/1000","v":0},{"$f":"Лист1!BH293","v":0},{"$f":"IF(#REF!>0,#REF!,0)","v":{"$error":"#REF!"}},{"$error":"#REF!"},{"$f":"IF(#REF!>0,#REF!,0)","v":{"$error":"#REF!"}},0]
["ГРС.г.Вельск",{"$f":"Лист1!B294","v":"Вельск, ул.Гагарина-50а"},{"$f":"Лист1!A294","v":"ООО          \"ПАРТНЕР\""},{"$f":"Лист1!C294","v":6},{"$f":"Лист1!BI294/1000","v":5.0000000000000001E-4},{"$f":"Лист1!BH294","v":1.825E-3},{"$f":"IF(#REF!>0,#REF!,0)","v":{"$error":"#REF!"}},{"$f":"IF(G297>0,1,0)","v":{"$error":"#REF!"}},{"$f":"IF(#REF!>0,#REF!,0)","v":{"$error":"#REF!"}},-1.325E-3]
["ГРС.г.Вельск",{"$f":"Лист1!B295","v":""},{"$f":"Лист1!A295","v":""},{"$f":"Лист1!C295","v":6},{"$f":"Лист1!BI295/1000","v":0},{"$f":"Лист1!BH295","v":0},{"$f":"IF(#REF!>0,#REF!,0)","v":{"$error":"#REF!"}},{"$f":"IF(G298>0,1,0)","v":{"$error":"#REF!"}},{"$f":"IF(#REF!>0,#REF!,0)","v":{"$error":"#REF!"}},0]
["ГРС.г.Вельск",{"$f":"Лист1!B296","v":""},{"$f":"Лист1!A296","v":""},{"$f":"Лист1!C296","v":6},{"$f":"Лист1!BI296/1000","v":0},{"$f":"Лист1!BH296","v":0},{"$f":"IF(#REF!>0,#REF!,0)","v":{"$error":"#REF!"}},{"$error":"#REF!"},{"$f":"IF(#REF!>0,#REF!,0)","v":{"$error":"#REF!"}},0]
["ГРС.г.Вельск",{"$f":"Лист1!B297","v":""},{"$f":"Лист1!A297","v":""},{"$f":"Лист1!C297","v":6},{"$f":"Лист1!BI297/1000","v":0},{"$f":"Лист1!BH297","v":0},{"$f":"IF(#REF!>0,#REF!,0)","v":{"$error":"#REF!"}},{"$error":"#REF!"},{"$f":"IF(#REF!>0,#REF!,0)","v":{"$error":"#REF!"}},0]
["ГРС.г.Вельск",{"$f":"Лист1!B298","v":"Вельск, ул.Дзержинского-67"},{"$f":"Лист1!A298","v":"ООО          \"ПАРТНЕР\""},{"$f":"Лист1!C298","v":6},{"$f":"Лист1!BI298/1000","v":6.0000000000000001E-3},{"$f":"Лист1!BH298","v":1.3060000000000001E-3},{"$f":"IF(#REF!>0,#REF!,0)","v":{"$error":"#REF!"}},{"$f":"IF(G301>0,1,0)","v":{"$error":"#REF!"}},{"$f":"IF(#REF!>0,#REF!,0)","v":{"$error":"#REF!"}},4.6940000000000003E-3]
["ГРС.г.Вельск",{"$f":"Лист1!B299","v":""},{"$f":"Лист1!A299","v":""},{"$f":"Лист1!C299","v":6},{"$f":"Лист1!BI299/1000","v":0},{"$f":"Лист1!BH299","v":0},{"$f":"IF(#REF!>0,#REF!,0)","v":{"$error":"#REF!"}},{"$f":"IF(G302>0,1,0)","v":{"$error":"#REF!"}},{"$f":"IF(#REF!>0,#REF!,0)","v":{"$error":"#REF!"}},0]
["ГРС.г.Вельск",{"$f":"Лист1!B300","v":""},{"$f":"Лист1!A300","v":""},{"$f":"Лист1!C300","v":6},{"$f":"Лист1!BI300/1000","v":0},{"$f":"Лист1!BH300","v":0},{"$f":"IF(#REF!>0,#REF!,0)","v":{"$error":"#REF!"}},{"$error":"#REF!"},{"$f":"IF(#REF!>0,#REF!,0)","v":{"$error":"#REF!"}},0]
["ГРС.г.Вельск",{"$f":"Лист1!B301","v":""},{"$f":"Лист1!A301","v":""},{"$f":"Лист1!C301","v":6},{"$f":"Лист1!BI301/1000","v":0},{"$f":"Лист1!BH301","v":0},{"$f":"IF(#REF!>0,#REF!,0)","v":{"$error":"#REF!"}},{"$error":"#REF!"},{"$f":"IF(#REF!>0,#REF!,0)","v":{"$error":"#REF!"}},0]
["ГРС.г.Вельск",{"$f":"Лист1!B302","v":"Вельск, ул.Южная Слободка, стр.2"},{"$f":"Лист1!A302","v":"ГБУ АО      \"Вельская районная СББЖ\""},{"$f":"Лист1!C302","v":7},{"$f":"Лист1!BI302/1000","v":6.9999999999999999E-4},{"$f":"Лист1!BH302","v":7.0599999999999992E-4},{"$f":"IF(#REF!>0,#REF!,0)","v":{"$error":"#REF!"}},{"$f":"IF(G305>0,1,0)","v":{"$error":"#REF!"}},{"$f":"IF(#REF!>0,#REF!,0)","v":{"$error":"#REF!"}},-5.999999999999929E-6]
["ГРС.г.Вельск",{"$f":"Лист1!B303","v":""},{"$f":"Лист1!A303","v":""},{"$f":"Лист1!C303","v":7},{"$f":"Лист1!BI303/1000","v":0},{"$f":"Лист1!BH303","v":0},{"$f":"IF(#REF!>0,#REF!,0)","v":{"$error":"#REF!"}},{"$f":"IF(G306>0,1,0)","v":{"$error":"#REF!"}},{"$f":"IF(#REF!>0,#REF!,0)","v":{"$error":"#REF!"}},0]
["ГРС.г.Вельск",{"$f":"Лист1!B304","v":""},{"$f":"Лист1!A304","v":""},{"$f":"Лист1!C304","v":7},{"$f":"Лист1!BI304/1000","v":0},{"$f":"Лист1!BH304","v":0},{"$f":"IF(#REF!>0,#REF!,0)","v":{"$error":"#REF!"}},{"$error":"#REF!"},{"$f":"IF(#REF!>0,#REF!,0)","v":{"$error":"#REF!"}},0]
["ГРС.г.Вельск",{"$f":"Лист1!B305","v":""},{"$f":"Лист1!A305","v":""},{"$f":"Лист1!C305","v":7},{"$f":"Лист1!BI305/1000","v":0},{"$f":"Лист1!BH305","v":0},{"$f":"IF(#REF!>0,#REF!,0)","v":{"$error":"#REF!"}},{"$error":"#REF!"},{"$f":"IF(#REF!>0,#REF!,0)","v":{"$error":"#REF!"}},0]
["ГРС.г.Вельск",{"$f":"Лист1!B306","v":"Вельск, ул.Некрасова-12А, стр.2"},{"$f":"Лист1!A306","v":"ГБУ АО      \"Вельская районная СББЖ\""},{"$f":"Лист1!C306","v":6},{"$f":"Лист1!BI306/1000","v":3.5000000000000001E-3},{"$f":"Лист1!BH306","v":3.4420000000000002E-3},{"$f":"IF(#REF!>0,#REF!,0)","v":{"$error":"#REF!"}},{"$f":"IF(G309>0,1,0)","v":{"$error":"#REF!"}},{"$f":"IF(#REF!>0,#REF!,0)","v":{"$error":"#REF!"}},5.7999999999999892E-5]
["ГРС.г.Вельск",{"$f":"Лист1!B307","v":""},{"$f":"Лист1!A307","v":""},{"$f":"Лист1!C307","v":6},{"$f":"Лист1!BI307/1000","v":0},{"$f":"Лист1!BH307","v":0},{"$f":"IF(#REF!>0,#REF!,0)","v":{"$error":"#REF!"}},{"$f":"IF(G310>0,1,0)","v":{"$error":"#REF!"}},{"$f":"IF(#REF!>0,#REF!,0)","v":{"$error":"#REF!"}},0]
["ГРС.г.Вельск",{"$f":"Лист1!B308","v":""},{"$f":"Лист1!A308","v":""},{"$f":"Лист1!C308","v":6},{"$f":"Лист1!BI308/1000","v":0},{"$f":"Лист1!BH308","v":0},{"$f":"IF(#REF!>0,#REF!,0)","v":{"$error":"#REF!"}},{"$error":"#REF!"},{"$f":"IF(#REF!>0,#REF!,0)","v":{"$error":"#REF!"}},0]
["ГРС.г.Вельск",{"$f":"Лист1!B309","v":""},{"$f":"Лист1!A309","v":""},{"$f":"Лист1!C309","v":6},{"$f":"Лист1!BI309/1000","v":0},{"$f":"Лист1!BH309","v":0},{"$f":"IF(#REF!>0,#REF!,0)","v":{"$error":"#REF!"}},{"$error":"#REF!"},{"$f":"IF(#REF!>0,#REF!,0)","v":{"$error":"#REF!"}},0]
["ГРС.г.Вельск",{"$f":"Лист1!B310","v":""},{"$f":"Лист1!A310","v":"ООО ЧОО  \"Аргусъ\""},{"$f":"Лист1!C310","v":7},{"$f":"Лист1!BI310/1000","v":5.0000000000000001E-4},{"$f":"Лист1!BH310","v":3.3600000000000004E-4},{"$f":"IF(#REF!>0,#REF!,0)","v":{"$error":"#REF!"}},{"$f":"IF(G313>0,1,0)","v":{"$error":"#REF!"}},{"$f":"IF(#REF!>0,#REF!,0)","v":{"$error":"#REF!"}},1.6399999999999997E-4]
["ГРС.г.Вельск",{"$f":"Лист1!B311","v":""},{"$f":"Лист1!A311","v":""},{"$f":"Лист1!C311","v":7},{"$f":"Лист1!BI311/1000","v":0},{"$f":"Лист1!BH311","v":0},{"$f":"IF(#REF!>0,#REF!,0)","v":{"$error":"#REF!"}},{"$f":"IF(G314>0,1,0)","v":{"$error":"#REF!"}},{"$f":"IF(#REF!>0,#REF!,0)","v":{"$error":"#REF!"}},0]
["ГРС.г.Вельск",{"$f":"Лист1!B312","v":""},{"$f":"Лист1!A312","v":""},{"$f":"Лист1!C312","v":7},{"$f":"Лист1!BI312/1000","v":0},{"$f":"Лист1!BH312","v":0},{"$f":"IF(#REF!>0,#REF!,0)","v":{"$error":"#REF!"}},{"$error":"#REF!"},{"$f":"IF(#REF!>0,#REF!,0)","v":{"$error":"#REF!"}},0]
["ГРС.г.Вельск",{"$f":"Лист1!B313","v":""},{"$f":"Лист1!A313","v":""},{"$f":"Лист1!C313","v":7},{"$f":"Лист1!BI313/1000","v":0},{"$f":"Лист1!BH313","v":0},{"$f":"IF(#REF!>0,#REF!,0)","v":{"$error":"#REF!"}},{"$error":"#REF!"},{"$f":"IF(#REF!>0,#REF!,0)","v":{"$error":"#REF!"}},0]
["ГРС.г.Вельск",{"$f":"Лист1!B314","v":"д.Горка Муравьевская, ул.70 лет Октября-12а"},{"$f":"Лист1!A314","v":"ИП                Завьялов           Евгений Александрович"},{"$f":"Лист1!C314","v":7},{"$f":"Лист1!BI314/1000","v":1E-3},{"$f":"Лист1!BH314","v":6.5000000000000008E-5},{"$f":"IF(#REF!>0,#REF!,0)","v":{"$error":"#REF!"}},{"$f":"IF(G317>0,1,0)","v":{"$error":"#REF!"}},{"$f":"IF(#REF!>0,#REF!,0)","v":{"$error":"#REF!"}},9.3500000000000007E-4]
["ГРС.г.Вельск",{"$f":"Лист1!B315","v":""},{"$f":"Лист1!A315","v":""},{"$f":"Лист1!C315","v":7},{"$f":"Лист1!BI315/1000","v":0},{"$f":"Лист1!BH315","v":0},{"$f":"IF(#REF!>0,#REF!,0)","v":{"$error":"#REF!"}},{"$f":"IF(G318>0,1,0)","v":{"$error":"#REF!"}},{"$f":"IF(#REF!>0,#REF!,0)","v":{"$error":"#REF!"}},0]
["ГРС.г.Вельск",{"$f":"Лист1!B316","v":""},{"$f":"Лист1!A316","v":""},{"$f":"Лист1!C316","v":7},{"$f":"Лист1!BI316/1000","v":0},{"$f":"Лист1!BH316","v":0},{"$f":"IF(#REF!>0,#REF!,0)","v":{"$error":"#REF!"}},{"$error":"#REF!"},{"$f":"IF(#REF!>0,#REF!,0)","v":{"$error":"#REF!"}},0]
["ГРС.г.Вельск",{"$f":"Лист1!B317","v":""},{"$f":"Лист1!A317","v":""},{"$f":"Лист1!C317","v":7},{"$f":"Лист1!BI317/1000","v":0},{"$f":"Лист1!BH317","v":0},{"$f":"IF(#REF!>0,#REF!,0)","v":{"$error":"#REF!"}},{"$error":"#REF!"},{"$f":"IF(#REF!>0,#REF!,0)","v":{"$error":"#REF!"}},0]
["ГРС.г.Вельск",{"$f":"Лист1!B318","v":"Вельск, ул.Горького-20, стр.3"},{"$f":"Лист1!A318","v":"ИП                Завьялов           Евгений Александрович"},{"$f":"Лист1!C318","v":7},{"$f":"Лист1!BI318/1000","v":5.9999999999999995E-4},{"$f":"Лист1!BH318","v":0},{"$f":"IF(#REF!>0,#REF!,0)","v":{"$error":"#REF!"}},{"$f":"IF(G321>0,1,0)","v":{"$error":"#REF!"}},{"$f":"IF(#REF!>0,#REF!,0)","v":{"$error":"#REF!"}},5.9999999999999995E-4]
["ГРС.г.Вельск",{"$f":"Лист1!B319","v":""},{"$f":"Лист1!A319","v":""},{"$f":"Лист1!C319","v":7},{"$f":"Лист1!BI319/1000","v":0},{"$f":"Лист1!BH319","v":0},{"$f":"IF(#REF!>0,#REF!,0)","v":{"$error":"#REF!"}},{"$f":"IF(G322>0,1,0)","v":{"$error":"#REF!"}},{"$f":"IF(#REF!>0,#REF!,0)","v":{"$error":"#REF!"}},0]
["ГРС.г.Вельск",{"$f":"Лист1!B320","v":""},{"$f":"Лист1!A320","v":""},{"$f":"Лист1!C320","v":7},{"$f":"Лист1!BI320/1000","v":0},{"$f":"Лист1!BH320","v":0},{"$f":"IF(#REF!>0,#REF!,0)","v":{"$error":"#REF!"}},{"$error":"#REF!"},{"$f":"IF(#REF!>0,#REF!,0)","v":{"$error":"#REF!"}},0]
["ГРС.г.Вельск",{"$f":"Лист1!B321","v":""},{"$f":"Лист1!A321","v":""},{"$f":"Лист1!C321","v":7},{"$f":"Лист1!BI321/1000","v":0},{"$f":"Лист1!BH321","v":0},{"$f":"IF(#REF!>0,#REF!,0)","v":{"$error":"#REF!"}},{"$error":"#REF!"},{"$f":"IF(#REF!>0,#REF!,0)","v":{"$error":"#REF!"}},0]
["ГРС.г.Вельск",{"$f":"Лист1!B322","v":"Вельск, ул.Революционная-3, стр.1"},{"$f":"Лист1!A322","v":"МКУ           \"Вельск-Авто\" "},{"$f":"Лист1!C322","v":7},{"$f":"Лист1!BI322/1000","v":9.6699999999999998E-4},{"$f":"Лист1!BH322","v":9.6699999999999998E-4},{"$f":"IF(#REF!>0,#REF!,0)","v":{"$error":"#REF!"}},{"$f":"IF(G325>0,1,0)","v":{"$error":"#REF!"}},{"$f":"IF(#REF!>0,#REF!,0)","v":{"$error":"#REF!"}},0]
["ГРС.г.Вельск",{"$f":"Лист1!B323","v":""},{"$f":"Лист1!A323","v":""},{"$f":"Лист1!C323","v":7},{"$f":"Лист1!BI323/1000","v":0},{"$f":"Лист1!BH323","v":0},{"$f":"IF(#REF!>0,#REF!,0)","v":{"$error":"#REF!"}},{"$f":"IF(G326>0,1,0)","v":{"$error":"#REF!"}},{"$f":"IF(#REF!>0,#REF!,0)","v":{"$error":"#REF!"}},0]
["ГРС.г.Вельск",{"$f":"Лист1!B324","v":""},{"$f":"Лист1!A324","v":""},{"$f":"Лист1!C324","v":7},{"$f":"Лист1!BI324/1000","v":0},{"$f":"Лист1!BH324","v":0},{"$f":"IF(#REF!>0,#REF!,0)","v":{"$error":"#REF!"}},{"$error":"#REF!"},{"$f":"IF(#REF!>0,#REF!,0)","v":{"$error":"#REF!"}},0]
["ГРС.г.Вельск",{"$f":"Лист1!B325","v":""},{"$f":"Лист1!A325","v":""},{"$f":"Лист1!C325","v":7},{"$f":"Лист1!BI325/1000","v":0},{"$f":"Лист1!BH325","v":0},{"$f":"IF(#REF!>0,#REF!,0)","v":{"$error":"#REF!"}},{"$error":"#REF!"},{"$f":"IF(#REF!>0,#REF!,0)","v":{"$error":"#REF!"}},0]
["ГРС.г.Вельск",{"$f":"Лист1!B326","v":"Вельск, ул.Революционная-3, стр.2"},{"$f":"Лист1!A326","v":"МКУ           \"Вельск-Авто\" "},{"$f":"Лист1!C326","v":7},{"$f":"Лист1!BI326/1000","v":9.6699999999999998E-4},{"$f":"Лист1!BH326","v":6.4900000000000005E-4},{"$f":"IF(#REF!>0,#REF!,0)","v":{"$error":"#REF!"}},{"$f":"IF(G329>0,1,0)","v":{"$error":"#REF!"}},{"$f":"IF(#REF!>0,#REF!,0)","v":{"$error":"#REF!"}},3.1799999999999992E-4]
["ГРС.г.Вельск",{"$f":"Лист1!B327","v":""},{"$f":"Лист1!A327","v":""},{"$f":"Лист1!C327","v":7},{"$f":"Лист1!BI327/1000","v":0},{"$f":"Лист1!BH327","v":0},{"$f":"IF(#REF!>0,#REF!,0)","v":{"$error":"#REF!"}},{"$f":"IF(G330>0,1,0)","v":{"$error":"#REF!"}},{"$f":"IF(#REF!>0,#REF!,0)","v":{"$error":"#REF!"}},0]
["ГРС.г.Вельск",{"$f":"Лист1!B328","v":""},{"$f":"Лист1!A328","v":""},{"$f":"Лист1!C328","v":7},{"$f":"Лист1!BI328/1000","v":0},{"$f":"Лист1!BH328","v":0},{"$f":"IF(#REF!>0,#REF!,0)","v":{"$error":"#REF!"}},{"$error":"#REF!"},{"$f":"IF(#REF!>0,#REF!,0)","v":{"$error":"#REF!"}},0]
["ГРС.г.Вельск",{"$f":"Лист1!B329","v":""},{"$f":"Лист1!A329","v":""},{"$f":"Лист1!C329","v":7},{"$f":"Лист1!BI329/1000","v":0},{"$f":"Лист1!BH329","v":0},{"$f":"IF(#REF!>0,#REF!,0)","v":{"$error":"#REF!"}},{"$error":"#REF!"},{"$f":"IF(#REF!>0,#REF!,0)","v":{"$error":"#REF!"}},0]
["ГРС.г.Вельск",{"$f":"Лист1!B330","v":"Вельск, ул.Революционная-3, стр.3"},{"$f":"Лист1!A330","v":"МКУ           \"Вельск-Авто\" "},{"$f":"Лист1!C330","v":7},{"$f":"Лист1!BI330/1000","v":9.6699999999999998E-4},{"$f":"Лист1!BH330","v":9.19E-4},{"$f":"IF(#REF!>0,#REF!,0)","v":{"$error":"#REF!"}},{"$f":"IF(G333>0,1,0)","v":{"$error":"#REF!"}},{"$f":"IF(#REF!>0,#REF!,0)","v":{"$error":"#REF!"}},4.7999999999999974E-5]
["ГРС.г.Вельск",{"$f":"Лист1!B331","v":""},{"$f":"Лист1!A331","v":""},{"$f":"Лист1!C331","v":7},{"$f":"Лист1!BI331/1000","v":0},{"$f":"Лист1!BH331","v":0},{"$f":"IF(#REF!>0,#REF!,0)","v":{"$error":"#REF!"}},{"$f":"IF(G334>0,1,0)","v":{"$error":"#REF!"}},{"$f":"IF(#REF!>0,#REF!,0)","v":{"$error":"#REF!"}},0]
["ГРС.г.Вельск",{"$f":"Лист1!B332","v":""},{"$f":"Лист1!A332","v":""},{"$f":"Лист1!C332","v":7},{"$f":"Лист1!BI332/1000","v":0},{"$f":"Лист1!BH332","v":0},{"$f":"IF(#REF!>0,#REF!,0)","v":{"$error":"#REF!"}},{"$error":"#REF!"},{"$f":"IF(#REF!>0,#REF!,0)","v":{"$error":"#REF!"}},0]
["ГРС.г.Вельск",{"$f":"Лист1!B333","v":""},{"$f":"Лист1!A333","v":""},{"$f":"Лист1!C333","v":7},{"$f":"Лист1!BI333/1000","v":0},{"$f":"Лист1!BH333","v":0},{"$f":"IF(#REF!>0,#REF!,0)","v":{"$error":"#REF!"}},{"$error":"#REF!"},{"$f":"IF(#REF!>0,#REF!,0)","v":{"$error":"#REF!"}},0]
["ГРС.г.Вельск",{"$f":"Лист1!B334","v":"Вельск, ул.Революционная-3Б, стр.4"},{"$f":"Лист1!A334","v":"МКУ           \"Вельск-Авто\" "},{"$f":"Лист1!C334","v":7},{"$f":"Лист1!BI334/1000","v":5.9999999999999995E-4},{"$f":"Лист1!BH334","v":2.6499999999999999E-4},{"$f":"IF(#REF!>0,#REF!,0)","v":{"$error":"#REF!"}},{"$f":"IF(G337>0,1,0)","v":{"$error":"#REF!"}},{"$f":"IF(#REF!>0,#REF!,0)","v":{"$error":"#REF!"}},3.3499999999999996E-4]
["ГРС.г.Вельск",{"$f":"Лист1!B335","v":""},{"$f":"Лист1!A335","v":""},{"$f":"Лист1!C335","v":7},{"$f":"Лист1!BI335/1000","v":0},{"$f":"Лист1!BH335","v":0},{"$f":"IF(#REF!>0,#REF!,0)","v":{"$error":"#REF!"}},{"$f":"IF(G338>0,1,0)","v":{"$error":"#REF!"}},{"$f":"IF(#REF!>0,#REF!,0)","v":{"$error":"#REF!"}},0]
["ГРС.г.Вельск",{"$f":"Лист1!B336","v":""},{"$f":"Лист1!A336","v":""},{"$f":"Лист1!C336","v":7},{"$f":"Лист1!BI336/1000","v":0},{"$f":"Лист1!BH336","v":0},{"$f":"IF(#REF!>0,#REF!,0)","v":{"$error":"#REF!"}},{"$error":"#REF!"},{"$f":"IF(#REF!>0,#REF!,0)","v":{"$error":"#REF!"}},{"$f":"E339-F339","v":0}]
["ГРС.г.Вельск",{"$f":"Лист1!B337","v":""},{"$f":"Лист1!A337","v":""},{"$f":"Лист1!C337","v":7},{"$f":"Лист1!BI337/1000","v":0},{"$f":"Лист1!BH337","v":0},{"$f":"IF(#REF!>0,#REF!,0)","v":{"$error":"#REF!"}},{"$error":"#REF!"},{"$f":"IF(#REF!>0,#REF!,0)","v":{"$error":"#REF!"}},0]
["ГРС.г.Вельск",{"$f":"Лист1!B338","v":""},{"$f":"Лист1!A338","v":"Верхне-Устькулойское СПО"},{"$f":"Лист1!C338","v":7},{"$f":"Лист1!BI338/1000","v":5.0000000000000001E-4},{"$f":"Лист1!BH338","v":7.7499999999999997E-4},{"$f":"IF(#REF!>0,#REF!,0)","v":{"$error":"#REF!"}},{"$f":"IF(G341>0,1,0)","v":{"$error":"#REF!"}},{"$f":"IF(#REF!>0,#REF!,0)","v":{"$error":"#REF!"}},-2.7499999999999996E-4]
["ГРС.г.Вельск",{"$f":"Лист1!B339","v":""},{"$f":"Лист1!A339","v":""},{"$f":"Лист1!C339","v":7},{"$f":"Лист1!BI339/1000","v":0},{"$f":"Лист1!BH339","v":0},{"$f":"IF(#REF!>0,#REF!,0)","v":{"$error":"#REF!"}},{"$f":"IF(G342>0,1,0)","v":{"$error":"#REF!"}},{"$f":"IF(#REF!>0,#REF!,0)","v":{"$error":"#REF!"}},0]
["ГРС.г.Вельск",{"$f":"Лист1!B340","v":""},{"$f":"Лист1!A340","v":""},{"$f":"Лист1!C340","v":7},{"$f":"Лист1!BI340/1000","v":0},{"$f":"Лист1!BH340","v":0},{"$f":"IF(#REF!>0,#REF!,0)","v":{"$error":"#REF!"}},{"$error":"#REF!"},{"$f":"IF(#REF!>0,#REF!,0)","v":{"$error":"#REF!"}},0]
["ГРС.г.Вельск",{"$f":"Лист1!B341","v":""},{"$f":"Лист1!A341","v":""},{"$f":"Лист1!C341","v":7},{"$f":"Лист1!BI341/1000","v":0},{"$f":"Лист1!BH341","v":0},{"$f":"IF(#REF!>0,#REF!,0)","v":{"$error":"#REF!"}},{"$error":"#REF!"},{"$f":"IF(#REF!>0,#REF!,0)","v":{"$error":"#REF!"}},0]
["ГРС.г.Вельск",{"$f":"Лист1!B342","v":"пст.Аргуновский, ул.60 лет Октября-6"},{"$f":"Лист1!A342","v":"Гр.               Шипицын           Илья Николаевич"},{"$f":"Лист1!C342","v":7},{"$f":"Лист1!BI342/1000","v":5.0000000000000001E-4},{"$f":"Лист1!BH342","v":2.43E-4},{"$f":"IF(#REF!>0,#REF!,0)","v":{"$error":"#REF!"}},{"$f":"IF(G345>0,1,0)","v":{"$error":"#REF!"}},{"$f":"IF(#REF!>0,#REF!,0)","v":{"$error":"#REF!"}},2.5700000000000001E-4]
["ГРС.г.Вельск",{"$f":"Лист1!B343","v":""},{"$f":"Лист1!A343","v":""},{"$f":"Лист1!C343","v":7},{"$f":"Лист1!BI343/1000","v":0},{"$f":"Лист1!BH343","v":0},{"$f":"IF(#REF!>0,#REF!,0)","v":{"$error":"#REF!"}},{"$f":"IF(G346>0,1,0)","v":{"$error":"#REF!"}},{"$f":"IF(#REF!>0,#REF!,0)","v":{"$error":"#REF!"}},0]
["ГРС.г.Вельск",{"$f":"Лист1!B344","v":""},{"$f":"Лист1!A344","v":""},{"$f":"Лист1!C344","v":7},{"$f":"Лист1!BI344/1000","v":0},{"$f":"Лист1!BH344","v":0},{"$f":"IF(#REF!>0,#REF!,0)","v":{"$error":"#REF!"}},{"$error":"#REF!"},{"$f":"IF(#REF!>0,#REF!,0)","v":{"$error":"#REF!"}},0]
["ГРС.г.Вельск",{"$f":"Лист1!B345","v":""},{"$f":"Лист1!A345","v":""},{"$f":"Лист1!C345","v":7},{"$f":"Лист1!BI345/1000","v":0},{"$f":"Лист1!BH345","v":0},{"$f":"IF(#REF!>0,#REF!,0)","v":{"$error":"#REF!"}},{"$error":"#REF!"},{"$f":"IF(#REF!>0,#REF!,0)","v":{"$error":"#REF!"}},0]
["ГРС.г.Вельск",{"$f":"Лист1!B346","v":"Вельск, ул.50 лет Октября-41"},{"$f":"Лист1!A346","v":"Гр.               Шипицын           Илья Николаевич"},{"$f":"Лист1!C346","v":7},{"$f":"Лист1!BI346/1000","v":4.0000000000000002E-4},{"$f":"Лист1!BH346","v":8.0000000000000007E-5},{"$f":"IF(#REF!>0,#REF!,0)","v":{"$error":"#REF!"}},{"$f":"IF(G349>0,1,0)","v":{"$error":"#REF!"}},{"$f":"IF(#REF!>0,#REF!,0)","v":{"$error":"#REF!"}},3.2000000000000003E-4]
["ГРС.г.Вельск",{"$f":"Лист1!B347","v":""},{"$f":"Лист1!A347","v":""},{"$f":"Лист1!C347","v":7},{"$f":"Лист1!BI347/1000","v":0},{"$f":"Лист1!BH347","v":0},{"$f":"IF(#REF!>0,#REF!,0)","v":{"$error":"#REF!"}},{"$f":"IF(G350>0,1,0)","v":{"$error":"#REF!"}},{"$f":"IF(#REF!>0,#REF!,0)","v":{"$error":"#REF!"}},0]
["ГРС.г.Вельск",{"$f":"Лист1!B348","v":""},{"$f":"Лист1!A348","v":""},{"$f":"Лист1!C348","v":7},{"$f":"Лист1!BI348/1000","v":0},{"$f":"Лист1!BH348","v":0},{"$f":"IF(#REF!>0,#REF!,0)","v":{"$error":"#REF!"}},{"$error":"#REF!"},{"$f":"IF(#REF!>0,#REF!,0)","v":{"$error":"#REF!"}},0]
["ГРС.г.Вельск",{"$f":"Лист1!B349","v":""},{"$f":"Лист1!A349","v":""},{"$f":"Лист1!C349","v":7},{"$f":"Лист1!BI349/1000","v":0},{"$f":"Лист1!BH349","v":0},{"$f":"IF(#REF!>0,#REF!,0)","v":{"$error":"#REF!"}},{"$error":"#REF!"},{"$f":"IF(#REF!>0,#REF!,0)","v":{"$error":"#REF!"}},0]
["ГРС.г.Вельск",{"$f":"Лист1!B350","v":"Вельск, (ул.Чехова-3а + ул.Тракторная-39Г)"},{"$f":"Лист1!A350","v":"Гр.               Шипицын           Илья Николаевич"},{"$f":"Лист1!C350","v":7},{"$f":"Лист1!BI350/1000","v":8.0000000000000004E-4},{"$f":"Лист1!BH350","v":1.7000000000000001E-4},{"$f":"IF(#REF!>0,#REF!,0)","v":{"$error":"#REF!"}},{"$f":"IF(G353>0,1,0)","v":{"$error":"#REF!"}},{"$f":"IF(#REF!>0,#REF!,0)","v":{"$error":"#REF!"}},6.3000000000000003E-4]
["ГРС.г.Вельск",{"$f":"Лист1!B351","v":""},{"$f":"Лист1!A351","v":""},{"$f":"Лист1!C351","v":7},{"$f":"Лист1!BI351/1000","v":0},{"$f":"Лист1!BH351","v":0},{"$f":"IF(#REF!>0,#REF!,0)","v":{"$error":"#REF!"}},{"$f":"IF(G354>0,1,0)","v":{"$error":"#REF!"}},{"$f":"IF(#REF!>0,#REF!,0)","v":{"$error":"#REF!"}},0]
["ГРС.г.Вельск",{"$f":"Лист1!B352","v":""},{"$f":"Лист1!A352","v":""},{"$f":"Лист1!C352","v":7},{"$f":"Лист1!BI352/1000","v":0},{"$f":"Лист1!BH352","v":0},{"$f":"IF(#REF!>0,#REF!,0)","v":{"$error":"#REF!"}},{"$error":"#REF!"},{"$f":"IF(#REF!>0,#REF!,0)","v":{"$error":"#REF!"}},0]
["ГРС.г.Вельск",{"$f":"Лист1!B353","v":""},{"$f":"Лист1!A353","v":""},{"$f":"Лист1!C353","v":7},{"$f":"Лист1!BI353/1000","v":0},{"$f":"Лист1!BH353","v":0},{"$f":"IF(#REF!>0,#REF!,0)","v":{"$error":"#REF!"}},{"$error":"#REF!"},{"$f":"IF(#REF!>0,#REF!,0)","v":{"$error":"#REF!"}},0]
["ГРС.г.Вельск",{"$f":"Лист1!B354","v":""},{"$f":"Лист1!A354","v":"ИП               Меньшиков       Юрий  Николаевич"},{"$f":"Лист1!C354","v":7},{"$f":"Лист1!BI354/1000","v":8.9999999999999998E-4},{"$f":"Лист1!BH354","v":6.4800000000000003E-4},{"$f":"IF(#REF!>0,#REF!,0)","v":{"$error":"#REF!"}},{"$f":"IF(G357>0,1,0)","v":{"$error":"#REF!"}},{"$f":"IF(#REF!>0,#REF!,0)","v":{"$error":"#REF!"}},2.5199999999999995E-4]
["ГРС.г.Вельск",{"$f":"Лист1!B355","v":""},{"$f":"Лист1!A355","v":""},{"$f":"Лист1!C355","v":7},{"$f":"Лист1!BI355/1000","v":0},{"$f":"Лист1!BH355","v":0},{"$f":"IF(#REF!>0,#REF!,0)","v":{"$error":"#REF!"}},{"$f":"IF(G358>0,1,0)","v":{"$error":"#REF!"}},{"$f":"IF(#REF!>0,#REF!,0)","v":{"$error":"#REF!"}},0]
["ГРС.г.Вельск",{"$f":"Лист1!B356","v":""},{"$f":"Лист1!A356","v":""},{"$f":"Лист1!C356","v":7},{"$f":"Лист1!BI356/1000","v":0},{"$f":"Лист1!BH356","v":0},{"$f":"IF(#REF!>0,#REF!,0)","v":{"$error":"#REF!"}},{"$error":"#REF!"},{"$f":"IF(#REF!>0,#REF!,0)","v":{"$error":"#REF!"}},0]
["ГРС.г.Вельск",{"$f":"Лист1!B357","v":""},{"$f":"Лист1!A357","v":""},{"$f":"Лист1!C357","v":7},{"$f":"Лист1!BI357/1000","v":0},{"$f":"Лист1!BH357","v":0},{"$f":"IF(#REF!>0,#REF!,0)","v":{"$error":"#REF!"}},{"$error":"#REF!"},{"$f":"IF(#REF!>0,#REF!,0)","v":{"$error":"#REF!"}},0]
["ГРС.г.Вельск",{"$f":"Лист1!B358","v":"Вельск, ул.Горького-1, стр.7"},{"$f":"Лист1!A358","v":"ООО СПК  \"Регион\""},{"$f":"Лист1!C358","v":7},{"$f":"Лист1!BI358/1000","v":5.9999999999999995E-4},{"$f":"Лист1!BH358","v":5.1000000000000004E-4},{"$f":"IF(#REF!>0,#REF!,0)","v":{"$error":"#REF!"}},{"$f":"IF(G361>0,1,0)","v":{"$error":"#REF!"}},{"$f":"IF(#REF!>0,#REF!,0)","v":{"$error":"#REF!"}},8.9999999999999911E-5]
["ГРС.г.Вельск",{"$f":"Лист1!B359","v":""},{"$f":"Лист1!A359","v":""},{"$f":"Лист1!C359","v":7},{"$f":"Лист1!BI359/1000","v":0},{"$f":"Лист1!BH359","v":0},{"$f":"IF(#REF!>0,#REF!,0)","v":{"$error":"#REF!"}},{"$f":"IF(G362>0,1,0)","v":{"$error":"#REF!"}},{"$f":"IF(#REF!>0,#REF!,0)","v":{"$error":"#REF!"}},0]
["ГРС.г.Вельск",{"$f":"Лист1!B360","v":""},{"$f":"Лист1!A360","v":""},{"$f":"Лист1!C360","v":7},{"$f":"Лист1!BI360/1000","v":0},{"$f":"Лист1!BH360","v":0},{"$f":"IF(#REF!>0,#REF!,0)","v":{"$error":"#REF!"}},{"$error":"#REF!"},{"$f":"IF(#REF!>0,#REF!,0)","v":{"$error":"#REF!"}},0]
["ГРС.г.Вельск",{"$f":"Лист1!B361","v":""},{"$f":"Лист1!A361","v":""},{"$f":"Лист1!C361","v":7},{"$f":"Лист1!BI361/1000","v":0},{"$f":"Лист1!BH361","v":0},{"$f":"IF(#REF!>0,#REF!,0)","v":{"$error":"#REF!"}},{"$error":"#REF!"},{"$f":"IF(#REF!>0,#REF!,0)","v":{"$error":"#REF!"}},0]
["ГРС.г.Вельск",{"$f":"Лист1!B362","v":"Вельск, ул.Горького-1, стр.19"},{"$f":"Лист1!A362","v":"ООО СПК  \"Регион\""},{"$f":"Лист1!C362","v":6},{"$f":"Лист1!BI362/1000","v":2.1000000000000003E-3},{"$f":"Лист1!BH362","v":4.6849999999999999E-3},{"$f":"IF(#REF!>0,#REF!,0)","v":{"$error":"#REF!"}},{"$f":"IF(G365>0,1,0)","v":{"$error":"#REF!"}},{"$f":"IF(#REF!>0,#REF!,0)","v":{"$error":"#REF!"}},-2.5849999999999996E-3]
["ГРС.г.Вельск",{"$f":"Лист1!B363","v":""},{"$f":"Лист1!A363","v":""},{"$f":"Лист1!C363","v":6},{"$f":"Лист1!BI363/1000","v":0},{"$f":"Лист1!BH363","v":0},{"$f":"IF(#REF!>0,#REF!,0)","v":{"$error":"#REF!"}},{"$f":"IF(G366>0,1,0)","v":{"$error":"#REF!"}},{"$f":"IF(#REF!>0,#REF!,0)","v":{"$error":"#REF!"}},0]
["ГРС.г.Вельск",{"$f":"Лист1!B364","v":""},{"$f":"Лист1!A364","v":""},{"$f":"Лист1!C364","v":6},{"$f":"Лист1!BI364/1000","v":0},{"$f":"Лист1!BH364","v":0},{"$f":"IF(#REF!>0,#REF!,0)","v":{"$error":"#REF!"}},{"$error":"#REF!"},{"$f":"IF(#REF!>0,#REF!,0)","v":{"$error":"#REF!"}},0]
["ГРС.г.Вельск",{"$f":"Лист1!B365","v":""},{"$f":"Лист1!A365","v":""},{"$f":"Лист1!C365","v":6},{"$f":"Лист1!BI365/1000","v":0},{"$f":"Лист1!BH365","v":0},{"$f":"IF(#REF!>0,#REF!,0)","v":{"$error":"#REF!"}},{"$error":"#REF!"},{"$f":"IF(#REF!>0,#REF!,0)","v":{"$error":"#REF!"}},0]
["ГРС.г.Вельск",{"$f":"Лист1!B366","v":"Вельск, ул.Кирова-46"},{"$f":"Лист1!A366","v":"ИП                Колданов          Евгений  Савватиевич"},{"$f":"Лист1!C366","v":6},{"$f":"Лист1!BI366/1000","v":3.8999999999999998E-3},{"$f":"Лист1!BH366","v":1.4450000000000001E-3},{"$f":"IF(#REF!>0,#REF!,0)","v":{"$error":"#REF!"}},{"$f":"IF(G369>0,1,0)","v":{"$error":"#REF!"}},{"$f":"IF(#REF!>0,#REF!,0)","v":{"$error":"#REF!"}},2.4549999999999997E-3]
["ГРС.г.Вельск",{"$f":"Лист1!B367","v":""},{"$f":"Лист1!A367","v":""},{"$f":"Лист1!C367","v":6},{"$f":"Лист1!BI367/1000","v":0},{"$f":"Лист1!BH367","v":0},{"$f":"IF(#REF!>0,#REF!,0)","v":{"$error":"#REF!"}},{"$f":"IF(G370>0,1,0)","v":{"$error":"#REF!"}},{"$f":"IF(#REF!>0,#REF!,0)","v":{"$error":"#REF!"}},0]
["ГРС.г.Вельск",{"$f":"Лист1!B368","v":""},{"$f":"Лист1!A368","v":""},{"$f":"Лист1!C368","v":6},{"$f":"Лист1!BI368/1000","v":0},{"$f":"Лист1!BH368","v":0},{"$f":"IF(#REF!>0,#REF!,0)","v":{"$error":"#REF!"}},{"$error":"#REF!"},{"$f":"IF(#REF!>0,#REF!,0)","v":{"$error":"#REF!"}},0]
["ГРС.г.Вельск",{"$f":"Лист1!B369","v":""},{"$f":"Лист1!A369","v":""},{"$f":"Лист1!C369","v":6},{"$f":"Лист1!BI369/1000","v":0},{"$f":"Лист1!BH369","v":0},{"$f":"IF(#REF!>0,#REF!,0)","v":{"$error":"#REF!"}},{"$error":"#REF!"},{"$f":"IF(#REF!>0,#REF!,0)","v":{"$error":"#REF!"}},0]
["ГРС.г.Вельск",{"$f":"Лист1!B370","v":"Вельск, ул.Кирова-50"},{"$f":"Лист1!A370","v":"ИП                Колданов        Евгений Савватиевич"},{"$f":"Лист1!C370","v":6},{"$f":"Лист1!BI370/1000","v":2.5999999999999999E-3},{"$f":"Лист1!BH370","v":1.5460000000000001E-3},{"$f":"IF(#REF!>0,#REF!,0)","v":{"$error":"#REF!"}},{"$f":"IF(G373>0,1,0)","v":{"$error":"#REF!"}},{"$f":"IF(#REF!>0,#REF!,0)","v":{"$error":"#REF!"}},1.0539999999999998E-3]
["ГРС.г.Вельск",{"$f":"Лист1!B371","v":""},{"$f":"Лист1!A371","v":""},{"$f":"Лист1!C371","v":6},{"$f":"Лист1!BI371/1000","v":0},{"$f":"Лист1!BH371","v":0},{"$f":"IF(#REF!>0,#REF!,0)","v":{"$error":"#REF!"}},{"$f":"IF(G374>0,1,0)","v":{"$error":"#REF!"}},{"$f":"IF(#REF!>0,#REF!,0)","v":{"$error":"#REF!"}},0]
["ГРС.г.Вельск",{"$f":"Лист1!B372","v":""},{"$f":"Лист1!A372","v":""},{"$f":"Лист1!C372","v":6},{"$f":"Лист1!BI372/1000","v":0},{"$f":"Лист1!BH372","v":0},{"$f":"IF(#REF!>0,#REF!,0)","v":{"$error":"#REF!"}},{"$error":"#REF!"},{"$f":"IF(#REF!>0,#REF!,0)","v":{"$error":"#REF!"}},0]
["ГРС.г.Вельск",{"$f":"Лист1!B373","v":""},{"$f":"Лист1!A373","v":""},{"$f":"Лист1!C373","v":6},{"$f":"Лист1!BI373/1000","v":0},{"$f":"Лист1!BH373","v":0},{"$f":"IF(#REF!>0,#REF!,0)","v":{"$error":"#REF!"}},{"$error":"#REF!"},{"$f":"IF(#REF!>0,#REF!,0)","v":{"$error":"#REF!"}},0]
["ГРС.г.Вельск",{"$f":"Лист1!B374","v":"Вельск, ул.Кирова-52"},{"$f":"Лист1!A374","v":"ИП                Колданов        Евгений Савватиевич"},{"$f":"Лист1!C374","v":6},{"$f":"Лист1!BI374/1000","v":3.0000000000000001E-3},{"$f":"Лист1!BH374","v":2.2190000000000001E-3},{"$f":"IF(#REF!>0,#REF!,0)","v":{"$error":"#REF!"}},{"$f":"IF(G377>0,1,0)","v":{"$error":"#REF!"}},{"$f":"IF(#REF!>0,#REF!,0)","v":{"$error":"#REF!"}},7.8100000000000001E-4]
["ГРС.г.Вельск",{"$f":"Лист1!B375","v":""},{"$f":"Лист1!A375","v":""},{"$f":"Лист1!C375","v":6},{"$f":"Лист1!BI375/1000","v":0},{"$f":"Лист1!BH375","v":0},{"$f":"IF(#REF!>0,#REF!,0)","v":{"$error":"#REF!"}},{"$f":"IF(G378>0,1,0)","v":{"$error":"#REF!"}},{"$f":"IF(#REF!>0,#REF!,0)","v":{"$error":"#REF!"}},0]
["ГРС.г.Вельск",{"$f":"Лист1!B376","v":""},{"$f":"Лист1!A376","v":""},{"$f":"Лист1!C376","v":6},{"$f":"Лист1!BI376/1000","v":0},{"$f":"Лист1!BH376","v":0},{"$f":"IF(#REF!>0,#REF!,0)","v":{"$error":"#REF!"}},{"$error":"#REF!"},{"$f":"IF(#REF!>0,#REF!,0)","v":{"$error":"#REF!"}},0]
["ГРС.г.Вельск",{"$f":"Лист1!B377","v":""},{"$f":"Лист1!A377","v":""},{"$f":"Лист1!C377","v":6},{"$f":"Лист1!BI377/1000","v":0},{"$f":"Лист1!BH377","v":0},{"$f":"IF(#REF!>0,#REF!,0)","v":{"$error":"#REF!"}},{"$error":"#REF!"},{"$f":"IF(#REF!>0,#REF!,0)","v":{"$error":"#REF!"}},0]
["ГРС.г.Вельск",{"$f":"Лист1!B378","v":"Вельск, ул.Горького-1"},{"$f":"Лист1!A378","v":"ИП                Сазанов            Анатолий  Николаевич"},{"$f":"Лист1!C378","v":6},{"$f":"Лист1!BI378/1000","v":2.1000000000000003E-3},{"$f":"Лист1!BH378","v":2.6219999999999998E-3},{"$f":"IF(#REF!>0,#REF!,0)","v":{"$error":"#REF!"}},{"$f":"IF(G381>0,1,0)","v":{"$error":"#REF!"}},{"$f":"IF(#REF!>0,#REF!,0)","v":{"$error":"#REF!"}},-5.2199999999999946E-4]
["ГРС.г.Вельск",{"$f":"Лист1!B379","v":""},{"$f":"Лист1!A379","v":""},{"$f":"Лист1!C379","v":6},{"$f":"Лист1!BI379/1000","v":0},{"$f":"Лист1!BH379","v":0},{"$f":"IF(#REF!>0,#REF!,0)","v":{"$error":"#REF!"}},{"$f":"IF(G382>0,1,0)","v":{"$error":"#REF!"}},{"$f":"IF(#REF!>0,#REF!,0)","v":{"$error":"#REF!"}},0]
["ГРС.г.Вельск",{"$f":"Лист1!B380","v":""},{"$f":"Лист1!A380","v":""},{"$f":"Лист1!C380","v":6},{"$f":"Лист1!BI380/1000","v":0},{"$f":"Лист1!BH380","v":0},{"$f":"IF(#REF!>0,#REF!,0)","v":{"$error":"#REF!"}},{"$error":"#REF!"},{"$f":"IF(#REF!>0,#REF!,0)","v":{"$error":"#REF!"}},0]
["ГРС.г.Вельск",{"$f":"Лист1!B381","v":""},{"$f":"Лист1!A381","v":""},{"$f":"Лист1!C381","v":6},{"$f":"Лист1!BI381/1000","v":0},{"$f":"Лист1!BH381","v":0},{"$f":"IF(#REF!>0,#REF!,0)","v":{"$error":"#REF!"}},{"$error":"#REF!"},{"$f":"IF(#REF!>0,#REF!,0)","v":{"$error":"#REF!"}},0]
["ГРС.г.Вельск",{"$f":"Лист1!B382","v":"Вельск, ул.Горького-1, стр.20"},{"$f":"Лист1!A382","v":"ИП                Сазанов            Анатолий  Николаевич"},{"$f":"Лист1!C382","v":6},{"$f":"Лист1!BI382/1000","v":2E-3},{"$f":"Лист1!BH382","v":1.2099999999999999E-3},{"$f":"IF(#REF!>0,#REF!,0)","v":{"$error":"#REF!"}},{"$f":"IF(G385>0,1,0)","v":{"$error":"#REF!"}},{"$f":"IF(#REF!>0,#REF!,0)","v":{"$error":"#REF!"}},7.9000000000000012E-4]
["ГРС.г.Вельск",{"$f":"Лист1!B383","v":""},{"$f":"Лист1!A383","v":""},{"$f":"Лист1!C383","v":6},{"$f":"Лист1!BI383/1000","v":0},{"$f":"Лист1!BH383","v":0},{"$f":"IF(#REF!>0,#REF!,0)","v":{"$error":"#REF!"}},{"$f":"IF(G386>0,1,0)","v":{"$error":"#REF!"}},{"$f":"IF(#REF!>0,#REF!,0)","v":{"$error":"#REF!"}},0]
["ГРС.г.Вельск",{"$f":"Лист1!B384","v":""},{"$f":"Лист1!A384","v":""},{"$f":"Лист1!C384","v":6},{"$f":"Лист1!BI384/1000","v":0},{"$f":"Лист1!BH384","v":0},{"$f":"IF(#REF!>0,#REF!,0)","v":{"$error":"#REF!"}},{"$error":"#REF!"},{"$f":"IF(#REF!>0,#REF!,0)","v":{"$error":"#REF!"}},0]
["ГРС.г.Вельск",{"$f":"Лист1!B385","v":""},{"$f":"Лист1!A385","v":""},{"$f":"Лист1!C385","v":6},{"$f":"Лист1!BI385/1000","v":0},{"$f":"Лист1!BH385","v":0},{"$f":"IF(#REF!>0,#REF!,0)","v":{"$error":"#REF!"}},{"$error":"#REF!"},{"$f":"IF(#REF!>0,#REF!,0)","v":{"$error":"#REF!"}},0]
["ГРС.г.Вельск",{"$f":"Лист1!B386","v":""},{"$f":"Лист1!A386","v":"ИП               Долгих               Сергей Владиславович"},{"$f":"Лист1!C386","v":7},{"$f":"Лист1!BI386/1000","v":2.15E-3},{"$f":"Лист1!BH386","v":4.8999999999999998E-4},{"$f":"IF(#REF!>0,#REF!,0)","v":{"$error":"#REF!"}},{"$f":"IF(G389>0,1,0)","v":{"$error":"#REF!"}},{"$f":"IF(#REF!>0,#REF!,0)","v":{"$error":"#REF!"}},1.66E-3]
["ГРС.г.Вельск",{"$f":"Лист1!B387","v":""},{"$f":"Лист1!A387","v":""},{"$f":"Лист1!C387","v":7},{"$f":"Лист1!BI387/1000","v":0},{"$f":"Лист1!BH387","v":0},{"$f":"IF(#REF!>0,#REF!,0)","v":{"$error":"#REF!"}},{"$f":"IF(G390>0,1,0)","v":{"$error":"#REF!"}},{"$f":"IF(#REF!>0,#REF!,0)","v":{"$error":"#REF!"}},0]
["ГРС.г.Вельск",{"$f":"Лист1!B388","v":""},{"$f":"Лист1!A388","v":""},{"$f":"Лист1!C388","v":7},{"$f":"Лист1!BI388/1000","v":0},{"$f":"Лист1!BH388","v":0},{"$f":"IF(#REF!>0,#REF!,0)","v":{"$error":"#REF!"}},{"$error":"#REF!"},{"$f":"IF(#REF!>0,#REF!,0)","v":{"$error":"#REF!"}},0]
["ГРС.г.Вельск",{"$f":"Лист1!B389","v":""},{"$f":"Лист1!A389","v":""},{"$f":"Лист1!C389","v":7},{"$f":"Лист1!BI389/1000","v":0},{"$f":"Лист1!BH389","v":0},{"$f":"IF(#REF!>0,#REF!,0)","v":{"$error":"#REF!"}},{"$error":"#REF!"},{"$f":"IF(#REF!>0,#REF!,0)","v":{"$error":"#REF!"}},0]
["ГРС.г.Вельск",{"$f":"Лист1!B390","v":"Вельск, ул.Дзержинского-66В"},{"$f":"Лист1!A390","v":"ООО          \"ВельДез\" "},{"$f":"Лист1!C390","v":6},{"$f":"Лист1!BI390/1000","v":2E-3},{"$f":"Лист1!BH390","v":5.6299999999999992E-4},{"$f":"IF(#REF!>0,#REF!,0)","v":{"$error":"#REF!"}},{"$f":"IF(G393>0,1,0)","v":{"$error":"#REF!"}},{"$f":"IF(#REF!>0,#REF!,0)","v":{"$error":"#REF!"}},1.4370000000000001E-3]
["ГРС.г.Вельск",{"$f":"Лист1!B391","v":""},{"$f":"Лист1!A391","v":""},{"$f":"Лист1!C391","v":6},{"$f":"Лист1!BI391/1000","v":0},{"$f":"Лист1!BH391","v":0},{"$f":"IF(#REF!>0,#REF!,0)","v":{"$error":"#REF!"}},{"$f":"IF(G394>0,1,0)","v":{"$error":"#REF!"}},{"$f":"IF(#REF!>0,#REF!,0)","v":{"$error":"#REF!"}},0]
["ГРС.г.Вельск",{"$f":"Лист1!B392","v":""},{"$f":"Лист1!A392","v":""},{"$f":"Лист1!C392","v":6},{"$f":"Лист1!BI392/1000","v":0},{"$f":"Лист1!BH392","v":0},{"$f":"IF(#REF!>0,#REF!,0)","v":{"$error":"#REF!"}},{"$error":"#REF!"},{"$f":"IF(#REF!>0,#REF!,0)","v":{"$error":"#REF!"}},0]
["ГРС.г.Вельск",{"$f":"Лист1!B393","v":""},{"$f":"Лист1!A393","v":""},{"$f":"Лист1!C393","v":6},{"$f":"Лист1!BI393/1000","v":0},{"$f":"Лист1!BH393","v":0},{"$f":"IF(#REF!>0,#REF!,0)","v":{"$error":"#REF!"}},{"$error":"#REF!"},{"$f":"IF(#REF!>0,#REF!,0)","v":{"$error":"#REF!"}},0]
["ГРС.г.Вельск",{"$f":"Лист1!B394","v":"Вельск, ул.Дзержинского-86, здание №2"},{"$f":"Лист1!A394","v":"ООО          \"ВельДез\" "},{"$f":"Лист1!C394","v":6},{"$f":"Лист1!BI394/1000","v":3.0000000000000001E-3},{"$f":"Лист1!BH394","v":1.6339999999999998E-3},{"$f":"IF(#REF!>0,#REF!,0)","v":{"$error":"#REF!"}},{"$f":"IF(G397>0,1,0)","v":{"$error":"#REF!"}},{"$f":"IF(#REF!>0,#REF!,0)","v":{"$error":"#REF!"}},1.3660000000000002E-3]
["ГРС.г.Вельск",{"$f":"Лист1!B395","v":""},{"$f":"Лист1!A395","v":""},{"$f":"Лист1!C395","v":6},{"$f":"Лист1!BI395/1000","v":0},{"$f":"Лист1!BH395","v":0},{"$f":"IF(#REF!>0,#REF!,0)","v":{"$error":"#REF!"}},{"$f":"IF(G398>0,1,0)","v":{"$error":"#REF!"}},{"$f":"IF(#REF!>0,#REF!,0)","v":{"$error":"#REF!"}},0]
["ГРС.г.Вельск",{"$f":"Лист1!B396","v":""},{"$f":"Лист1!A396","v":""},{"$f":"Лист1!C396","v":6},{"$f":"Лист1!BI396/1000","v":0},{"$f":"Лист1!BH396","v":0},{"$f":"IF(#REF!>0,#REF!,0)","v":{"$error":"#REF!"}},{"$error":"#REF!"},{"$f":"IF(#REF!>0,#REF!,0)","v":{"$error":"#REF!"}},0]
["ГРС.г.Вельск",{"$f":"Лист1!B397","v":""},{"$f":"Лист1!A397","v":""},{"$f":"Лист1!C397","v":6},{"$f":"Лист1!BI397/1000","v":0},{"$f":"Лист1!BH397","v":0},{"$f":"IF(#REF!>0,#REF!,0)","v":{"$error":"#REF!"}},{"$error":"#REF!"},{"$f":"IF(#REF!>0,#REF!,0)","v":{"$error":"#REF!"}},0]
["ГРС.г.Вельск",{"$f":"Лист1!B398","v":"Вельск, ул.Гагарина-42А, 42Б"},{"$f":"Лист1!A398","v":"ООО          \"ВельДез\" "},{"$f":"Лист1!C398","v":6},{"$f":"Лист1!BI398/1000","v":1.1000000000000001E-3},{"$f":"Лист1!BH398","v":7.2999999999999996E-4},{"$f":"IF(#REF!>0,#REF!,0)","v":{"$error":"#REF!"}},{"$f":"IF(G401>0,1,0)","v":{"$error":"#REF!"}},{"$f":"IF(#REF!>0,#REF!,0)","v":{"$error":"#REF!"}},3.700000000000001E-4]
["ГРС.г.Вельск",{"$f":"Лист1!B399","v":""},{"$f":"Лист1!A399","v":""},{"$f":"Лист1!C399","v":6},{"$f":"Лист1!BI399/1000","v":0},{"$f":"Лист1!BH399","v":0},{"$f":"IF(#REF!>0,#REF!,0)","v":{"$error":"#REF!"}},{"$f":"IF(G402>0,1,0)","v":{"$error":"#REF!"}},{"$f":"IF(#REF!>0,#REF!,0)","v":{"$error":"#REF!"}},0]
["ГРС.г.Вельск",{"$f":"Лист1!B400","v":""},{"$f":"Лист1!A400","v":""},{"$f":"Лист1!C400","v":6},{"$f":"Лист1!BI400/1000","v":0},{"$f":"Лист1!BH400","v":0},{"$f":"IF(#REF!>0,#REF!,0)","v":{"$error":"#REF!"}},{"$error":"#REF!"},{"$f":"IF(#REF!>0,#REF!,0)","v":{"$error":"#REF!"}},{"$f":"E403-F403","v":0}]
["ГРС.г.Вельск",{"$f":"Лист1!B401","v":""},{"$f":"Лист1!A401","v":""},{"$f":"Лист1!C401","v":6},{"$f":"Лист1!BI401/1000","v":0},{"$f":"Лист1!BH401","v":0},{"$f":"IF(#REF!>0,#REF!,0)","v":{"$error":"#REF!"}},{"$error":"#REF!"},{"$f":"IF(#REF!>0,#REF!,0)","v":{"$error":"#REF!"}},0]
["ГРС.г.Вельск",{"$f":"Лист1!B402","v":"Вельск, ул.Карла Маркса-1а, зд.1"},{"$f":"Лист1!A402","v":"ООО          \"ВельДез\""},{"$f":"Лист1!C402","v":6},{"$f":"Лист1!BI402/1000","v":2.6999999999999997E-3},{"$f":"Лист1!BH402","v":1.3720000000000002E-3},{"$f":"IF(#REF!>0,#REF!,0)","v":{"$error":"#REF!"}},{"$f":"IF(G405>0,1,0)","v":{"$error":"#REF!"}},{"$f":"IF(#REF!>0,#REF!,0)","v":{"$error":"#REF!"}},1.3279999999999995E-3]
["ГРС.г.Вельск",{"$f":"Лист1!B403","v":""},{"$f":"Лист1!A403","v":""},{"$f":"Лист1!C403","v":6},{"$f":"Лист1!BI403/1000","v":0},{"$f":"Лист1!BH403","v":0},{"$f":"IF(#REF!>0,#REF!,0)","v":{"$error":"#REF!"}},{"$f":"IF(G406>0,1,0)","v":{"$error":"#REF!"}},{"$f":"IF(#REF!>0,#REF!,0)","v":{"$error":"#REF!"}},0]
["ГРС.г.Вельск",{"$f":"Лист1!B404","v":""},{"$f":"Лист1!A404","v":""},{"$f":"Лист1!C404","v":6},{"$f":"Лист1!BI404/1000","v":0},{"$f":"Лист1!BH404","v":0},{"$f":"IF(#REF!>0,#REF!,0)","v":{"$error":"#REF!"}},{"$error":"#REF!"},{"$f":"IF(#REF!>0,#REF!,0)","v":{"$error":"#REF!"}},0]
["ГРС.г.Вельск",{"$f":"Лист1!B405","v":""},{"$f":"Лист1!A405","v":""},{"$f":"Лист1!C405","v":6},{"$f":"Лист1!BI405/1000","v":0},{"$f":"Лист1!BH405","v":0},{"$f":"IF(#REF!>0,#REF!,0)","v":{"$error":"#REF!"}},{"$error":"#REF!"},{"$f":"IF(#REF!>0,#REF!,0)","v":{"$error":"#REF!"}},0]
["ГРС.г.Вельск",{"$f":"Лист1!B406","v":""},{"$f":"Лист1!A406","v":"ИП                Поромов            Андрей  Павлович"},{"$f":"Лист1!C406","v":7},{"$f":"Лист1!BI406/1000","v":1E-3},{"$f":"Лист1!BH406","v":7.18E-4},{"$f":"IF(#REF!>0,#REF!,0)","v":{"$error":"#REF!"}},{"$f":"IF(G409>0,1,0)","v":{"$error":"#REF!"}},{"$f":"IF(#REF!>0,#REF!,0)","v":{"$error":"#REF!"}},2.8200000000000002E-4]
["ГРС.г.Вельск",{"$f":"Лист1!B407","v":""},{"$f":"Лист1!A407","v":""},{"$f":"Лист1!C407","v":7},{"$f":"Лист1!BI407/1000","v":0},{"$f":"Лист1!BH407","v":0},{"$f":"IF(#REF!>0,#REF!,0)","v":{"$error":"#REF!"}},{"$f":"IF(G410>0,1,0)","v":{"$error":"#REF!"}},{"$f":"IF(#REF!>0,#REF!,0)","v":{"$error":"#REF!"}},0]
["ГРС.г.Вельск",{"$f":"Лист1!B408","v":""},{"$f":"Лист1!A408","v":""},{"$f":"Лист1!C408","v":7},{"$f":"Лист1!BI408/1000","v":0},{"$f":"Лист1!BH408","v":0},{"$f":"IF(#REF!>0,#REF!,0)","v":{"$error":"#REF!"}},{"$error":"#REF!"},{"$f":"IF(#REF!>0,#REF!,0)","v":{"$error":"#REF!"}},0]
["ГРС.г.Вельск",{"$f":"Лист1!B409","v":""},{"$f":"Лист1!A409","v":""},{"$f":"Лист1!C409","v":7},{"$f":"Лист1!BI409/1000","v":0},{"$f":"Лист1!BH409","v":0},{"$f":"IF(#REF!>0,#REF!,0)","v":{"$error":"#REF!"}},{"$error":"#REF!"},{"$f":"IF(#REF!>0,#REF!,0)","v":{"$error":"#REF!"}},0]
["ГРС.г.Вельск",{"$f":"Лист1!B410","v":""},{"$f":"Лист1!A410","v":"ООО           \"У домов\" "},{"$f":"Лист1!C410","v":7},{"$f":"Лист1!BI410/1000","v":8.9999999999999998E-4},{"$f":"Лист1!BH410","v":0},{"$f":"IF(#REF!>0,#REF!,0)","v":{"$error":"#REF!"}},{"$f":"IF(G413>0,1,0)","v":{"$error":"#REF!"}},{"$f":"IF(#REF!>0,#REF!,0)","v":{"$error":"#REF!"}},8.9999999999999998E-4]
["ГРС.г.Вельск",{"$f":"Лист1!B411","v":""},{"$f":"Лист1!A411","v":""},{"$f":"Лист1!C411","v":7},{"$f":"Лист1!BI411/1000","v":0},{"$f":"Лист1!BH411","v":0},{"$f":"IF(#REF!>0,#REF!,0)","v":{"$error":"#REF!"}},{"$f":"IF(G414>0,1,0)","v":{"$error":"#REF!"}},{"$f":"IF(#REF!>0,#REF!,0)","v":{"$error":"#REF!"}},0]
["ГРС.г.Вельск",{"$f":"Лист1!B412","v":""},{"$f":"Лист1!A412","v":""},{"$f":"Лист1!C412","v":7},{"$f":"Лист1!BI412/1000","v":0},{"$f":"Лист1!BH412","v":0},{"$f":"IF(#REF!>0,#REF!,0)","v":{"$error":"#REF!"}},{"$error":"#REF!"},{"$f":"IF(#REF!>0,#REF!,0)","v":{"$error":"#REF!"}},0]
["ГРС.г.Вельск",{"$f":"Лист1!B413","v":""},{"$f":"Лист1!A413","v":""},{"$f":"Лист1!C413","v":7},{"$f":"Лист1!BI413/1000","v":0},{"$f":"Лист1!BH413","v":0},{"$f":"IF(#REF!>0,#REF!,0)","v":{"$error":"#REF!"}},{"$error":"#REF!"},{"$f":"IF(#REF!>0,#REF!,0)","v":{"$error":"#REF!"}},0]
["ГРС.г.Вельск",{"$f":"Лист1!B414","v":"Вельск, ул.Попова-17"},{"$f":"Лист1!A414","v":"ООО          \"Мой Дом\" "},{"$f":"Лист1!C414","v":6},{"$f":"Лист1!BI414/1000","v":2.5999999999999999E-3},{"$f":"Лист1!BH414","v":5.53E-4},{"$f":"IF(#REF!>0,#REF!,0)","v":{"$error":"#REF!"}},{"$f":"IF(G417>0,1,0)","v":{"$error":"#REF!"}},{"$f":"IF(#REF!>0,#REF!,0)","v":{"$error":"#REF!"}},2.0469999999999998E-3]
["ГРС.г.Вельск",{"$f":"Лист1!B415","v":""},{"$f":"Лист1!A415","v":""},{"$f":"Лист1!C415","v":6},{"$f":"Лист1!BI415/1000","v":0},{"$f":"Лист1!BH415","v":0},{"$f":"IF(#REF!>0,#REF!,0)","v":{"$error":"#REF!"}},{"$f":"IF(G418>0,1,0)","v":{"$error":"#REF!"}},{"$f":"IF(#REF!>0,#REF!,0)","v":{"$error":"#REF!"}},0]
["ГРС.г.Вельск",{"$f":"Лист1!B416","v":""},{"$f":"Лист1!A416","v":""},{"$f":"Лист1!C416","v":6},{"$f":"Лист1!BI416/1000","v":0},{"$f":"Лист1!BH416","v":0},{"$f":"IF(#REF!>0,#REF!,0)","v":{"$error":"#REF!"}},{"$error":"#REF!"},{"$f":"IF(#REF!>0,#REF!,0)","v":{"$error":"#REF!"}},0]
["ГРС.г.Вельск",{"$f":"Лист1!B417","v":""},{"$f":"Лист1!A417","v":""},{"$f":"Лист1!C417","v":6},{"$f":"Лист1!BI417/1000","v":0},{"$f":"Лист1!BH417","v":0},{"$f":"IF(#REF!>0,#REF!,0)","v":{"$error":"#REF!"}},{"$error":"#REF!"},{"$f":"IF(#REF!>0,#REF!,0)","v":{"$error":"#REF!"}},0]
["ГРС.г.Вельск",{"$f":"Лист1!B418","v":"Вельск, ул.Попова-17"},{"$f":"Лист1!A418","v":"ООО          \"Мой Дом\" "},{"$f":"Лист1!C418","v":6},{"$f":"Лист1!BI418/1000","v":1.35E-4},{"$f":"Лист1!BH418","v":0},{"$f":"IF(#REF!>0,#REF!,0)","v":{"$error":"#REF!"}},{"$f":"IF(G421>0,1,0)","v":{"$error":"#REF!"}},{"$f":"IF(#REF!>0,#REF!,0)","v":{"$error":"#REF!"}},1.35E-4]
["ГРС.г.Вельск",{"$f":"Лист1!B419","v":""},{"$f":"Лист1!A419","v":""},{"$f":"Лист1!C419","v":6},{"$f":"Лист1!BI419/1000","v":0},{"$f":"Лист1!BH419","v":0},{"$f":"IF(#REF!>0,#REF!,0)","v":{"$error":"#REF!"}},{"$f":"IF(G422>0,1,0)","v":{"$error":"#REF!"}},{"$f":"IF(#REF!>0,#REF!,0)","v":{"$error":"#REF!"}},0]
["ГРС.г.Вельск",{"$f":"Лист1!B420","v":""},{"$f":"Лист1!A420","v":""},{"$f":"Лист1!C420","v":6},{"$f":"Лист1!BI420/1000","v":0},{"$f":"Лист1!BH420","v":0},{"$f":"IF(#REF!>0,#REF!,0)","v":{"$error":"#REF!"}},{"$error":"#REF!"},{"$f":"IF(#REF!>0,#REF!,0)","v":{"$error":"#REF!"}},0]
["ГРС.г.Вельск",{"$f":"Лист1!B421","v":""},{"$f":"Лист1!A421","v":""},{"$f":"Лист1!C421","v":6},{"$f":"Лист1!BI421/1000","v":0},{"$f":"Лист1!BH421","v":0},{"$f":"IF(#REF!>0,#REF!,0)","v":{"$error":"#REF!"}},{"$error":"#REF!"},{"$f":"IF(#REF!>0,#REF!,0)","v":{"$error":"#REF!"}},0]
["ГРС.г.Вельск",{"$f":"Лист1!B422","v":""},{"$f":"Лист1!A422","v":"ИП               Поляков             Василий  Павлович"},{"$f":"Лист1!C422","v":6},{"$f":"Лист1!BI422/1000","v":2E-3},{"$f":"Лист1!BH422","v":1.686E-3},{"$f":"IF(#REF!>0,#REF!,0)","v":{"$error":"#REF!"}},{"$f":"IF(G425>0,1,0)","v":{"$error":"#REF!"}},{"$f":"IF(#REF!>0,#REF!,0)","v":{"$error":"#REF!"}},3.1400000000000004E-4]
["ГРС.г.Вельск",{"$f":"Лист1!B423","v":""},{"$f":"Лист1!A423","v":""},{"$f":"Лист1!C423","v":6},{"$f":"Лист1!BI423/1000","v":0},{"$f":"Лист1!BH423","v":0},{"$f":"IF(#REF!>0,#REF!,0)","v":{"$error":"#REF!"}},{"$f":"IF(G426>0,1,0)","v":{"$error":"#REF!"}},{"$f":"IF(#REF!>0,#REF!,0)","v":{"$error":"#REF!"}},0]
["ГРС.г.Вельск",{"$f":"Лист1!B424","v":""},{"$f":"Лист1!A424","v":""},{"$f":"Лист1!C424","v":6},{"$f":"Лист1!BI424/1000","v":0},{"$f":"Лист1!BH424","v":0},{"$f":"IF(#REF!>0,#REF!,0)","v":{"$error":"#REF!"}},{"$error":"#REF!"},{"$f":"IF(#REF!>0,#REF!,0)","v":{"$error":"#REF!"}},0]
["ГРС.г.Вельск",{"$f":"Лист1!B425","v":""},{"$f":"Лист1!A425","v":""},{"$f":"Лист1!C425","v":6},{"$f":"Лист1!BI425/1000","v":0},{"$f":"Лист1!BH425","v":0},{"$f":"IF(#REF!>0,#REF!,0)","v":{"$error":"#REF!"}},{"$error":"#REF!"},{"$f":"IF(#REF!>0,#REF!,0)","v":{"$error":"#REF!"}},0]
["ГРС.г.Вельск",{"$f":"Лист1!B426","v":""},{"$f":"Лист1!A426","v":"ООО          \"ТТС\""},{"$f":"Лист1!C426","v":7},{"$f":"Лист1!BI426/1000","v":2.9999999999999997E-4},{"$f":"Лист1!BH426","v":6.3E-5},{"$f":"IF(#REF!>0,#REF!,0)","v":{"$error":"#REF!"}},{"$f":"IF(G429>0,1,0)","v":{"$error":"#REF!"}},{"$f":"IF(#REF!>0,#REF!,0)","v":{"$error":"#REF!"}},2.3699999999999996E-4]
["ГРС.г.Вельск",{"$f":"Лист1!B427","v":""},{"$f":"Лист1!A427","v":""},{"$f":"Лист1!C427","v":7},{"$f":"Лист1!BI427/1000","v":0},{"$f":"Лист1!BH427","v":0},{"$f":"IF(#REF!>0,#REF!,0)","v":{"$error":"#REF!"}},{"$f":"IF(G430>0,1,0)","v":{"$error":"#REF!"}},{"$f":"IF(#REF!>0,#REF!,0)","v":{"$error":"#REF!"}},0]
["ГРС.г.Вельск",{"$f":"Лист1!B428","v":""},{"$f":"Лист1!A428","v":""},{"$f":"Лист1!C428","v":7},{"$f":"Лист1!BI428/1000","v":0},{"$f":"Лист1!BH428","v":0},{"$f":"IF(#REF!>0,#REF!,0)","v":{"$error":"#REF!"}},{"$error":"#REF!"},{"$f":"IF(#REF!>0,#REF!,0)","v":{"$error":"#REF!"}},0]
["ГРС.г.Вельск",{"$f":"Лист1!B429","v":""},{"$f":"Лист1!A429","v":""},{"$f":"Лист1!C429","v":7},{"$f":"Лист1!BI429/1000","v":0},{"$f":"Лист1!BH429","v":0},{"$f":"IF(#REF!>0,#REF!,0)","v":{"$error":"#REF!"}},{"$error":"#REF!"},{"$f":"IF(#REF!>0,#REF!,0)","v":{"$error":"#REF!"}},0]
["ГРС.г.Вельск",{"$f":"Лист1!B430","v":""},{"$f":"Лист1!A430","v":"ООО КЭС  \"КОРАЛЛ\""},{"$f":"Лист1!C430","v":6},{"$f":"Лист1!BI430/1000","v":1.2999999999999999E-3},{"$f":"Лист1!BH430","v":7.1999999999999994E-4},{"$f":"IF(#REF!>0,#REF!,0)","v":{"$error":"#REF!"}},{"$f":"IF(G433>0,1,0)","v":{"$error":"#REF!"}},{"$f":"IF(#REF!>0,#REF!,0)","v":{"$error":"#REF!"}},5.8E-4]
["ГРС.г.Вельск",{"$f":"Лист1!B431","v":""},{"$f":"Лист1!A431","v":""},{"$f":"Лист1!C431","v":6},{"$f":"Лист1!BI431/1000","v":0},{"$f":"Лист1!BH431","v":0},{"$f":"IF(#REF!>0,#REF!,0)","v":{"$error":"#REF!"}},{"$f":"IF(G434>0,1,0)","v":{"$error":"#REF!"}},{"$f":"IF(#REF!>0,#REF!,0)","v":{"$error":"#REF!"}},0]
["ГРС.г.Вельск",{"$f":"Лист1!B432","v":""},{"$f":"Лист1!A432","v":""},{"$f":"Лист1!C432","v":6},{"$f":"Лист1!BI432/1000","v":0},{"$f":"Лист1!BH432","v":0},{"$f":"IF(#REF!>0,#REF!,0)","v":{"$error":"#REF!"}},{"$error":"#REF!"},{"$f":"IF(#REF!>0,#REF!,0)","v":{"$error":"#REF!"}},0]
["ГРС.г.Вельск",{"$f":"Лист1!B433","v":""},{"$f":"Лист1!A433","v":""},{"$f":"Лист1!C433","v":6},{"$f":"Лист1!BI433/1000","v":0},{"$f":"Лист1!BH433","v":0},{"$f":"IF(#REF!>0,#REF!,0)","v":{"$error":"#REF!"}},{"$error":"#REF!"},{"$f":"IF(#REF!>0,#REF!,0)","v":{"$error":"#REF!"}},0]
["ГРС.г.Вельск",{"$f":"Лист1!B434","v":""},{"$f":"Лист1!A434","v":"ИП               Истомин           Сергей Николаевич"},{"$f":"Лист1!C434","v":7},{"$f":"Лист1!BI434/1000","v":5.9999999999999995E-4},{"$f":"Лист1!BH434","v":2.6900000000000003E-4},{"$f":"IF(#REF!>0,#REF!,0)","v":{"$error":"#REF!"}},{"$f":"IF(G437>0,1,0)","v":{"$error":"#REF!"}},{"$f":"IF(#REF!>0,#REF!,0)","v":{"$error":"#REF!"}},3.3099999999999991E-4]
["ГРС.г.Вельск",{"$f":"Лист1!B435","v":""},{"$f":"Лист1!A435","v":""},{"$f":"Лист1!C435","v":7},{"$f":"Лист1!BI435/1000","v":0},{"$f":"Лист1!BH435","v":0},{"$f":"IF(#REF!>0,#REF!,0)","v":{"$error":"#REF!"}},{"$f":"IF(G438>0,1,0)","v":{"$error":"#REF!"}},{"$f":"IF(#REF!>0,#REF!,0)","v":{"$error":"#REF!"}},0]
["ГРС.г.Вельск",{"$f":"Лист1!B436","v":""},{"$f":"Лист1!A436","v":""},{"$f":"Лист1!C436","v":7},{"$f":"Лист1!BI436/1000","v":0},{"$f":"Лист1!BH436","v":0},{"$f":"IF(#REF!>0,#REF!,0)","v":{"$error":"#REF!"}},{"$error":"#REF!"},{"$f":"IF(#REF!>0,#REF!,0)","v":{"$error":"#REF!"}},0]
["ГРС.г.Вельск",{"$f":"Лист1!B437","v":""},{"$f":"Лист1!A437","v":""},{"$f":"Лист1!C437","v":7},{"$f":"Лист1!BI437/1000","v":0},{"$f":"Лист1!BH437","v":0},{"$f":"IF(#REF!>0,#REF!,0)","v":{"$error":"#REF!"}},{"$error":"#REF!"},{"$f":"IF(#REF!>0,#REF!,0)","v":{"$error":"#REF!"}},0]
["ГРС.г.Вельск",{"$f":"Лист1!B438","v":""},{"$f":"Лист1!A438","v":"Гр.               Поскотинов      Эдуард Викторович"},{"$f":"Лист1!C438","v":7},{"$f":"Лист1!BI438/1000","v":8.0000000000000004E-4},{"$f":"Лист1!BH438","v":7.2800000000000002E-4},{"$f":"IF(#REF!>0,#REF!,0)","v":{"$error":"#REF!"}},{"$f":"IF(G441>0,1,0)","v":{"$error":"#REF!"}},{"$f":"IF(#REF!>0,#REF!,0)","v":{"$error":"#REF!"}},7.2000000000000015E-5]
["ГРС.г.Вельск",{"$f":"Лист1!B439","v":""},{"$f":"Лист1!A439","v":""},{"$f":"Лист1!C439","v":7},{"$f":"Лист1!BI439/1000","v":0},{"$f":"Лист1!BH439","v":0},{"$f":"IF(#REF!>0,#REF!,0)","v":{"$error":"#REF!"}},{"$f":"IF(G442>0,1,0)","v":{"$error":"#REF!"}},{"$f":"IF(#REF!>0,#REF!,0)","v":{"$error":"#REF!"}},0]
["ГРС.г.Вельск",{"$f":"Лист1!B440","v":""},{"$f":"Лист1!A440","v":""},{"$f":"Лист1!C440","v":7},{"$f":"Лист1!BI440/1000","v":0},{"$f":"Лист1!BH440","v":0},{"$f":"IF(#REF!>0,#REF!,0)","v":{"$error":"#REF!"}},{"$error":"#REF!"},{"$f":"IF(#REF!>0,#REF!,0)","v":{"$error":"#REF!"}},0]
["ГРС.г.Вельск",{"$f":"Лист1!B441","v":""},{"$f":"Лист1!A441","v":""},{"$f":"Лист1!C441","v":7},{"$f":"Лист1!BI441/1000","v":0},{"$f":"Лист1!BH441","v":0},{"$f":"IF(#REF!>0,#REF!,0)","v":{"$error":"#REF!"}},{"$error":"#REF!"},{"$f":"IF(#REF!>0,#REF!,0)","v":{"$error":"#REF!"}},0]
["ГРС.г.Вельск",{"$f":"Лист1!B442","v":""},{"$f":"Лист1!A442","v":"ИП             Саврасова        Елена Сергеевна"},{"$f":"Лист1!C442","v":6},{"$f":"Лист1!BI442/1000","v":1.1999999999999999E-3},{"$f":"Лист1!BH442","v":1.17E-3},{"$f":"IF(#REF!>0,#REF!,0)","v":{"$error":"#REF!"}},{"$f":"IF(G445>0,1,0)","v":{"$error":"#REF!"}},{"$f":"IF(#REF!>0,#REF!,0)","v":{"$error":"#REF!"}},2.9999999999999862E-5]
["ГРС.г.Вельск",{"$f":"Лист1!B443","v":""},{"$f":"Лист1!A443","v":""},{"$f":"Лист1!C443","v":6},{"$f":"Лист1!BI443/1000","v":0},{"$f":"Лист1!BH443","v":0},{"$f":"IF(#REF!>0,#REF!,0)","v":{"$error":"#REF!"}},{"$f":"IF(G446>0,1,0)","v":{"$error":"#REF!"}},{"$f":"IF(#REF!>0,#REF!,0)","v":{"$error":"#REF!"}},0]
["ГРС.г.Вельск",{"$f":"Лист1!B444","v":""},{"$f":"Лист1!A444","v":""},{"$f":"Лист1!C444","v":6},{"$f":"Лист1!BI444/1000","v":0},{"$f":"Лист1!BH444","v":0},{"$f":"IF(#REF!>0,#REF!,0)","v":{"$error":"#REF!"}},{"$error":"#REF!"},{"$f":"IF(#REF!>0,#REF!,0)","v":{"$error":"#REF!"}},0]
["ГРС.г.Вельск",{"$f":"Лист1!B445","v":""},{"$f":"Лист1!A445","v":""},{"$f":"Лист1!C445","v":6},{"$f":"Лист1!BI445/1000","v":0},{"$f":"Лист1!BH445","v":0},{"$f":"IF(#REF!>0,#REF!,0)","v":{"$error":"#REF!"}},{"$error":"#REF!"},{"$f":"IF(#REF!>0,#REF!,0)","v":{"$error":"#REF!"}},0]
["ГРС.г.Вельск",{"$f":"Лист1!B446","v":""},{"$f":"Лист1!A446","v":"Следственное управление СК РФ по АО и НАО"},{"$f":"Лист1!C446","v":6},{"$f":"Лист1!BI446/1000","v":2.3E-3},{"$f":"Лист1!BH446","v":2.689E-3},{"$f":"IF(#REF!>0,#REF!,0)","v":{"$error":"#REF!"}},{"$f":"IF(G449>0,1,0)","v":{"$error":"#REF!"}},{"$f":"IF(#REF!>0,#REF!,0)","v":{"$error":"#REF!"}},-3.8900000000000002E-4]
["ГРС.г.Вельск",{"$f":"Лист1!B447","v":""},{"$f":"Лист1!A447","v":""},{"$f":"Лист1!C447","v":6},{"$f":"Лист1!BI447/1000","v":0},{"$f":"Лист1!BH447","v":0},{"$f":"IF(#REF!>0,#REF!,0)","v":{"$error":"#REF!"}},{"$f":"IF(G450>0,1,0)","v":{"$error":"#REF!"}},{"$f":"IF(#REF!>0,#REF!,0)","v":{"$error":"#REF!"}},0]
["ГРС.г.Вельск",{"$f":"Лист1!B448","v":""},{"$f":"Лист1!A448","v":""},{"$f":"Лист1!C448","v":6},{"$f":"Лист1!BI448/1000","v":0},{"$f":"Лист1!BH448","v":0},{"$f":"IF(#REF!>0,#REF!,0)","v":{"$error":"#REF!"}},{"$error":"#REF!"},{"$f":"IF(#REF!>0,#REF!,0)","v":{"$error":"#REF!"}},0]
["ГРС.г.Вельск",{"$f":"Лист1!B449","v":""},{"$f":"Лист1!A449","v":""},{"$f":"Лист1!C449","v":6},{"$f":"Лист1!BI449/1000","v":0},{"$f":"Лист1!BH449","v":0},{"$f":"IF(#REF!>0,#REF!,0)","v":{"$error":"#REF!"}},{"$error":"#REF!"},{"$f":"IF(#REF!>0,#REF!,0)","v":{"$error":"#REF!"}},0]
["ГРС.г.Вельск",{"$f":"Лист1!B450","v":""},{"$f":"Лист1!A450","v":"Гр.              Пятовский      Петр Владимирович"},{"$f":"Лист1!C450","v":7},{"$f":"Лист1!BI450/1000","v":1.9000000000000001E-4},{"$f":"Лист1!BH450","v":1.7000000000000001E-4},{"$f":"IF(#REF!>0,#REF!,0)","v":{"$error":"#REF!"}},{"$f":"IF(G453>0,1,0)","v":{"$error":"#REF!"}},{"$f":"IF(#REF!>0,#REF!,0)","v":{"$error":"#REF!"}},1.9999999999999998E-5]
["ГРС.г.Вельск",{"$f":"Лист1!B451","v":""},{"$f":"Лист1!A451","v":""},{"$f":"Лист1!C451","v":7},{"$f":"Лист1!BI451/1000","v":0},{"$f":"Лист1!BH451","v":0},{"$f":"IF(#REF!>0,#REF!,0)","v":{"$error":"#REF!"}},{"$f":"IF(G454>0,1,0)","v":{"$error":"#REF!"}},{"$f":"IF(#REF!>0,#REF!,0)","v":{"$error":"#REF!"}},0]
["ГРС.г.Вельск",{"$f":"Лист1!B452","v":""},{"$f":"Лист1!A452","v":""},{"$f":"Лист1!C452","v":7},{"$f":"Лист1!BI452/1000","v":0},{"$f":"Лист1!BH452","v":0},{"$f":"IF(#REF!>0,#REF!,0)","v":{"$error":"#REF!"}},{"$error":"#REF!"},{"$f":"IF(#REF!>0,#REF!,0)","v":{"$error":"#REF!"}},0]
["ГРС.г.Вельск",{"$f":"Лист1!B453","v":""},{"$f":"Лист1!A453","v":""},{"$f":"Лист1!C453","v":7},{"$f":"Лист1!BI453/1000","v":0},{"$f":"Лист1!BH453","v":0},{"$f":"IF(#REF!>0,#REF!,0)","v":{"$error":"#REF!"}},{"$error":"#REF!"},{"$f":"IF(#REF!>0,#REF!,0)","v":{"$error":"#REF!"}},0]
["ГРС.г.Вельск",{"$f":"Лист1!B454","v":"Вельск, ул.Некрасова-13, стр.1/1, 1/2"},{"$f":"Лист1!A454","v":"ИП              Бегунова         Светлана Николаевна"},{"$f":"Лист1!C454","v":6},{"$f":"Лист1!BI454/1000","v":8.0000000000000002E-3},{"$f":"Лист1!BH454","v":3.774E-3},{"$f":"IF(#REF!>0,#REF!,0)","v":{"$error":"#REF!"}},{"$f":"IF(G457>0,1,0)","v":{"$error":"#REF!"}},{"$f":"IF(#REF!>0,#REF!,0)","v":{"$error":"#REF!"}},4.2260000000000006E-3]
["ГРС.г.Вельск",{"$f":"Лист1!B455","v":""},{"$f":"Лист1!A455","v":""},{"$f":"Лист1!C455","v":6},{"$f":"Лист1!BI455/1000","v":0},{"$f":"Лист1!BH455","v":0},{"$f":"IF(#REF!>0,#REF!,0)","v":{"$error":"#REF!"}},{"$f":"IF(G458>0,1,0)","v":{"$error":"#REF!"}},{"$f":"IF(#REF!>0,#REF!,0)","v":{"$error":"#REF!"}},0]
["ГРС.г.Вельск",{"$f":"Лист1!B456","v":""},{"$f":"Лист1!A456","v":""},{"$f":"Лист1!C456","v":6},{"$f":"Лист1!BI456/1000","v":0},{"$f":"Лист1!BH456","v":0},{"$f":"IF(#REF!>0,#REF!,0)","v":{"$error":"#REF!"}},{"$error":"#REF!"},{"$f":"IF(#REF!>0,#REF!,0)","v":{"$error":"#REF!"}},0]
["ГРС.г.Вельск",{"$f":"Лист1!B457","v":""},{"$f":"Лист1!A457","v":""},{"$f":"Лист1!C457","v":6},{"$f":"Лист1!BI457/1000","v":0},{"$f":"Лист1!BH457","v":0},{"$f":"IF(#REF!>0,#REF!,0)","v":{"$error":"#REF!"}},{"$error":"#REF!"},{"$f":"IF(#REF!>0,#REF!,0)","v":{"$error":"#REF!"}},0]
["ГРС.г.Вельск",{"$f":"Лист1!B458","v":"Вельск, ул.Октябрьская-25а"},{"$f":"Лист1!A458","v":"ИП              Бегунова         Светлана Николаевна"},{"$f":"Лист1!C458","v":7},{"$f":"Лист1!BI458/1000","v":6.9999999999999999E-4},{"$f":"Лист1!BH458","v":6.4700000000000001E-4},{"$f":"IF(#REF!>0,#REF!,0)","v":{"$error":"#REF!"}},{"$f":"IF(G461>0,1,0)","v":{"$error":"#REF!"}},{"$f":"IF(#REF!>0,#REF!,0)","v":{"$error":"#REF!"}},5.2999999999999987E-5]
["ГРС.г.Вельск",{"$f":"Лист1!B459","v":""},{"$f":"Лист1!A459","v":""},{"$f":"Лист1!C459","v":7},{"$f":"Лист1!BI459/1000","v":0},{"$f":"Лист1!BH459","v":0},{"$f":"IF(#REF!>0,#REF!,0)","v":{"$error":"#REF!"}},{"$f":"IF(G462>0,1,0)","v":{"$error":"#REF!"}},{"$f":"IF(#REF!>0,#REF!,0)","v":{"$error":"#REF!"}},0]
["ГРС.г.Вельск",{"$f":"Лист1!B460","v":""},{"$f":"Лист1!A460","v":""},{"$f":"Лист1!C460","v":7},{"$f":"Лист1!BI460/1000","v":0},{"$f":"Лист1!BH460","v":0},{"$f":"IF(#REF!>0,#REF!,0)","v":{"$error":"#REF!"}},{"$error":"#REF!"},{"$f":"IF(#REF!>0,#REF!,0)","v":{"$error":"#REF!"}},0]
["ГРС.г.Вельск",{"$f":"Лист1!B461","v":""},{"$f":"Лист1!A461","v":""},{"$f":"Лист1!C461","v":7},{"$f":"Лист1!BI461/1000","v":0},{"$f":"Лист1!BH461","v":0},{"$f":"IF(#REF!>0,#REF!,0)","v":{"$error":"#REF!"}},{"$error":"#REF!"},{"$f":"IF(#REF!>0,#REF!,0)","v":{"$error":"#REF!"}},0]
["ГРС.г.Вельск",{"$f":"Лист1!B462","v":"Вельск, ул.Октябрьская-96а"},{"$f":"Лист1!A462","v":"ИП              Бегунова         Светлана Николаевна"},{"$f":"Лист1!C462","v":6},{"$f":"Лист1!BI462/1000","v":1.6999999999999999E-3},{"$f":"Лист1!BH462","v":9.3999999999999997E-4},{"$f":"IF(#REF!>0,#REF!,0)","v":{"$error":"#REF!"}},{"$f":"IF(G465>0,1,0)","v":{"$error":"#REF!"}},{"$f":"IF(#REF!>0,#REF!,0)","v":{"$error":"#REF!"}},7.5999999999999993E-4]
["ГРС.г.Вельск",{"$f":"Лист1!B463","v":""},{"$f":"Лист1!A463","v":""},{"$f":"Лист1!C463","v":6},{"$f":"Лист1!BI463/1000","v":0},{"$f":"Лист1!BH463","v":0},{"$f":"IF(#REF!>0,#REF!,0)","v":{"$error":"#REF!"}},{"$f":"IF(G466>0,1,0)","v":{"$error":"#REF!"}},{"$f":"IF(#REF!>0,#REF!,0)","v":{"$error":"#REF!"}},0]
["ГРС.г.Вельск",{"$f":"Лист1!B464","v":""},{"$f":"Лист1!A464","v":""},{"$f":"Лист1!C464","v":6},{"$f":"Лист1!BI464/1000","v":0},{"$f":"Лист1!BH464","v":0},{"$f":"IF(#REF!>0,#REF!,0)","v":{"$error":"#REF!"}},{"$error":"#REF!"},{"$f":"IF(#REF!>0,#REF!,0)","v":{"$error":"#REF!"}},{"$f":"E467-F467","v":0}]
["ГРС.г.Вельск",{"$f":"Лист1!B465","v":""},{"$f":"Лист1!A465","v":""},{"$f":"Лист1!C465","v":6},{"$f":"Лист1!BI465/1000","v":0},{"$f":"Лист1!BH465","v":0},{"$f":"IF(#REF!>0,#REF!,0)","v":{"$error":"#REF!"}},{"$error":"#REF!"},{"$f":"IF(#REF!>0,#REF!,0)","v":{"$error":"#REF!"}},0]
["ГРС.г.Вельск",{"$f":"Лист1!B466","v":"д.Вороновская, здание администрации"},{"$f":"Лист1!A466","v":"Администрация МО \"Муравьевское\""},{"$f":"Лист1!C466","v":7},{"$f":"Лист1!BI466/1000","v":1E-3},{"$f":"Лист1!BH466","v":5.0900000000000001E-4},{"$f":"IF(#REF!>0,#REF!,0)","v":{"$error":"#REF!"}},{"$f":"IF(G469>0,1,0)","v":{"$error":"#REF!"}},{"$f":"IF(#REF!>0,#REF!,0)","v":{"$error":"#REF!"}},4.9100000000000001E-4]
["ГРС.г.Вельск",{"$f":"Лист1!B467","v":""},{"$f":"Лист1!A467","v":""},{"$f":"Лист1!C467","v":7},{"$f":"Лист1!BI467/1000","v":0},{"$f":"Лист1!BH467","v":0},{"$f":"IF(#REF!>0,#REF!,0)","v":{"$error":"#REF!"}},{"$f":"IF(G470>0,1,0)","v":{"$error":"#REF!"}},{"$f":"IF(#REF!>0,#REF!,0)","v":{"$error":"#REF!"}},0]
["ГРС.г.Вельск",{"$f":"Лист1!B468","v":""},{"$f":"Лист1!A468","v":""},{"$f":"Лист1!C468","v":7},{"$f":"Лист1!BI468/1000","v":0},{"$f":"Лист1!BH468","v":0},{"$f":"IF(#REF!>0,#REF!,0)","v":{"$error":"#REF!"}},{"$error":"#REF!"},{"$f":"IF(#REF!>0,#REF!,0)","v":{"$error":"#REF!"}},0]
["ГРС.г.Вельск",{"$f":"Лист1!B469","v":""},{"$f":"Лист1!A469","v":""},{"$f":"Лист1!C469","v":7},{"$f":"Лист1!BI469/1000","v":0},{"$f":"Лист1!BH469","v":0},{"$f":"IF(#REF!>0,#REF!,0)","v":{"$error":"#REF!"}},{"$error":"#REF!"},{"$f":"IF(#REF!>0,#REF!,0)","v":{"$error":"#REF!"}},0]
["ГРС.г.Вельск",{"$f":"Лист1!B470","v":"д.Горка Муравьевская, дом-музей"},{"$f":"Лист1!A470","v":"Администрация МО \"Муравьевское\""},{"$f":"Лист1!C470","v":7},{"$f":"Лист1!BI470/1000","v":5.0000000000000001E-4},{"$f":"Лист1!BH470","v":2.6999999999999999E-5},{"$f":"IF(#REF!>0,#REF!,0)","v":{"$error":"#REF!"}},{"$f":"IF(G473>0,1,0)","v":{"$error":"#REF!"}},{"$f":"IF(#REF!>0,#REF!,0)","v":{"$error":"#REF!"}},4.73E-4]
["ГРС.г.Вельск",{"$f":"Лист1!B471","v":""},{"$f":"Лист1!A471","v":""},{"$f":"Лист1!C471","v":7},{"$f":"Лист1!BI471/1000","v":0},{"$f":"Лист1!BH471","v":0},{"$f":"IF(#REF!>0,#REF!,0)","v":{"$error":"#REF!"}},{"$f":"IF(G474>0,1,0)","v":{"$error":"#REF!"}},{"$f":"IF(#REF!>0,#REF!,0)","v":{"$error":"#REF!"}},0]
["ГРС.г.Вельск",{"$f":"Лист1!B472","v":""},{"$f":"Лист1!A472","v":""},{"$f":"Лист1!C472","v":7},{"$f":"Лист1!BI472/1000","v":0},{"$f":"Лист1!BH472","v":0},{"$f":"IF(#REF!>0,#REF!,0)","v":{"$error":"#REF!"}},{"$error":"#REF!"},{"$f":"IF(#REF!>0,#REF!,0)","v":{"$error":"#REF!"}},0]
["ГРС.г.Вельск",{"$f":"Лист1!B473","v":""},{"$f":"Лист1!A473","v":""},{"$f":"Лист1!C473","v":7},{"$f":"Лист1!BI473/1000","v":0},{"$f":"Лист1!BH473","v":0},{"$f":"IF(#REF!>0,#REF!,0)","v":{"$error":"#REF!"}},{"$error":"#REF!"},{"$f":"IF(#REF!>0,#REF!,0)","v":{"$error":"#REF!"}},0]
["ГРС.г.Вельск",{"$f":"Лист1!B474","v":""},{"$f":"Лист1!A474","v":"ИП              Угрюмова        Надежда Федоровна"},{"$f":"Лист1!C474","v":7},{"$f":"Лист1!BI474/1000","v":1E-3},{"$f":"Лист1!BH474","v":5.0000000000000001E-4},{"$f":"IF(#REF!>0,#REF!,0)","v":{"$error":"#REF!"}},{"$f":"IF(G477>0,1,0)","v":{"$error":"#REF!"}},{"$f":"IF(#REF!>0,#REF!,0)","v":{"$error":"#REF!"}},5.0000000000000001E-4]
["ГРС.г.Вельск",{"$f":"Лист1!B475","v":""},{"$f":"Лист1!A475","v":""},{"$f":"Лист1!C475","v":7},{"$f":"Лист1!BI475/1000","v":0},{"$f":"Лист1!BH475","v":0},{"$f":"IF(#REF!>0,#REF!,0)","v":{"$error":"#REF!"}},{"$f":"IF(G478>0,1,0)","v":{"$error":"#REF!"}},{"$f":"IF(#REF!>0,#REF!,0)","v":{"$error":"#REF!"}},0]
["ГРС.г.Вельск",{"$f":"Лист1!B476","v":""},{"$f":"Лист1!A476","v":""},{"$f":"Лист1!C476","v":7},{"$f":"Лист1!BI476/1000","v":0},{"$f":"Лист1!BH476","v":0},{"$f":"IF(#REF!>0,#REF!,0)","v":{"$error":"#REF!"}},{"$error":"#REF!"},{"$f":"IF(#REF!>0,#REF!,0)","v":{"$error":"#REF!"}},0]
["ГРС.г.Вельск",{"$f":"Лист1!B477","v":""},{"$f":"Лист1!A477","v":""},{"$f":"Лист1!C477","v":7},{"$f":"Лист1!BI477/1000","v":0},{"$f":"Лист1!BH477","v":0},{"$f":"IF(#REF!>0,#REF!,0)","v":{"$error":"#REF!"}},{"$error":"#REF!"},{"$f":"IF(#REF!>0,#REF!,0)","v":{"$error":"#REF!"}},0]
["ГРС.г.Вельск",{"$f":"Лист1!B478","v":""},{"$f":"Лист1!A478","v":"ИП              Горбунова       Вероника  Александровна"},{"$f":"Лист1!C478","v":6},{"$f":"Лист1!BI478/1000","v":1.5E-3},{"$f":"Лист1!BH478","v":8.8000000000000003E-4},{"$f":"IF(#REF!>0,#REF!,0)","v":{"$error":"#REF!"}},{"$f":"IF(G481>0,1,0)","v":{"$error":"#REF!"}},{"$f":"IF(#REF!>0,#REF!,0)","v":{"$error":"#REF!"}},6.2E-4]
["ГРС.г.Вельск",{"$f":"Лист1!B479","v":""},{"$f":"Лист1!A479","v":""},{"$f":"Лист1!C479","v":6},{"$f":"Лист1!BI479/1000","v":0},{"$f":"Лист1!BH479","v":0},{"$f":"IF(#REF!>0,#REF!,0)","v":{"$error":"#REF!"}},{"$f":"IF(G482>0,1,0)","v":{"$error":"#REF!"}},{"$f":"IF(#REF!>0,#REF!,0)","v":{"$error":"#REF!"}},0]
["ГРС.г.Вельск",{"$f":"Лист1!B480","v":""},{"$f":"Лист1!A480","v":""},{"$f":"Лист1!C480","v":6},{"$f":"Лист1!BI480/1000","v":0},{"$f":"Лист1!BH480","v":0},{"$f":"IF(#REF!>0,#REF!,0)","v":{"$error":"#REF!"}},{"$error":"#REF!"},{"$f":"IF(#REF!>0,#REF!,0)","v":{"$error":"#REF!"}},0]
["ГРС.г.Вельск",{"$f":"Лист1!B481","v":""},{"$f":"Лист1!A481","v":""},{"$f":"Лист1!C481","v":6},{"$f":"Лист1!BI481/1000","v":0},{"$f":"Лист1!BH481","v":0},{"$f":"IF(#REF!>0,#REF!,0)","v":{"$error":"#REF!"}},{"$error":"#REF!"},{"$f":"IF(#REF!>0,#REF!,0)","v":{"$error":"#REF!"}},0]
["ГРС.г.Вельск",{"$f":"Лист1!B482","v":""},{"$f":"Лист1!A482","v":"ООО          \"Кварц\""},{"$f":"Лист1!C482","v":6},{"$f":"Лист1!BI482/1000","v":3.0000000000000001E-3},{"$f":"Лист1!BH482","v":1.686E-3},{"$f":"IF(#REF!>0,#REF!,0)","v":{"$error":"#REF!"}},{"$f":"IF(G485>0,1,0)","v":{"$error":"#REF!"}},{"$f":"IF(#REF!>0,#REF!,0)","v":{"$error":"#REF!"}},1.3140000000000001E-3]
["ГРС.г.Вельск",{"$f":"Лист1!B483","v":""},{"$f":"Лист1!A483","v":""},{"$f":"Лист1!C483","v":6},{"$f":"Лист1!BI483/1000","v":0},{"$f":"Лист1!BH483","v":0},{"$f":"IF(#REF!>0,#REF!,0)","v":{"$error":"#REF!"}},{"$f":"IF(G486>0,1,0)","v":{"$error":"#REF!"}},{"$f":"IF(#REF!>0,#REF!,0)","v":{"$error":"#REF!"}},0]
["ГРС.г.Вельск",{"$f":"Лист1!B484","v":""},{"$f":"Лист1!A484","v":""},{"$f":"Лист1!C484","v":6},{"$f":"Лист1!BI484/1000","v":0},{"$f":"Лист1!BH484","v":0},{"$f":"IF(#REF!>0,#REF!,0)","v":{"$error":"#REF!"}},{"$error":"#REF!"},{"$f":"IF(#REF!>0,#REF!,0)","v":{"$error":"#REF!"}},0]
["ГРС.г.Вельск",{"$f":"Лист1!B485","v":""},{"$f":"Лист1!A485","v":""},{"$f":"Лист1!C485","v":6},{"$f":"Лист1!BI485/1000","v":0},{"$f":"Лист1!BH485","v":0},{"$f":"IF(#REF!>0,#REF!,0)","v":{"$error":"#REF!"}},{"$error":"#REF!"},{"$f":"IF(#REF!>0,#REF!,0)","v":{"$error":"#REF!"}},0]
["ГРС.г.Вельск",{"$f":"Лист1!B486","v":""},{"$f":"Лист1!A486","v":"ООО          \"Грузавтокомплект\""},{"$f":"Лист1!C486","v":7},{"$f":"Лист1!BI486/1000","v":5.9999999999999995E-4},{"$f":"Лист1!BH486","v":7.5900000000000002E-4},{"$f":"IF(#REF!>0,#REF!,0)","v":{"$error":"#REF!"}},{"$f":"IF(G489>0,1,0)","v":{"$error":"#REF!"}},{"$f":"IF(#REF!>0,#REF!,0)","v":{"$error":"#REF!"}},-1.5900000000000007E-4]
["ГРС.г.Вельск",{"$f":"Лист1!B487","v":""},{"$f":"Лист1!A487","v":""},{"$f":"Лист1!C487","v":7},{"$f":"Лист1!BI487/1000","v":0},{"$f":"Лист1!BH487","v":0},{"$f":"IF(#REF!>0,#REF!,0)","v":{"$error":"#REF!"}},{"$f":"IF(G490>0,1,0)","v":{"$error":"#REF!"}},{"$f":"IF(#REF!>0,#REF!,0)","v":{"$error":"#REF!"}},0]
["ГРС.г.Вельск",{"$f":"Лист1!B488","v":""},{"$f":"Лист1!A488","v":""},{"$f":"Лист1!C488","v":7},{"$f":"Лист1!BI488/1000","v":0},{"$f":"Лист1!BH488","v":0},{"$f":"IF(#REF!>0,#REF!,0)","v":{"$error":"#REF!"}},{"$error":"#REF!"},{"$f":"IF(#REF!>0,#REF!,0)","v":{"$error":"#REF!"}},0]
["ГРС.г.Вельск",{"$f":"Лист1!B489","v":""},{"$f":"Лист1!A489","v":""},{"$f":"Лист1!C489","v":7},{"$f":"Лист1!BI489/1000","v":0},{"$f":"Лист1!BH489","v":0},{"$f":"IF(#REF!>0,#REF!,0)","v":{"$error":"#REF!"}},{"$error":"#REF!"},{"$f":"IF(#REF!>0,#REF!,0)","v":{"$error":"#REF!"}},0]
["ГРС.г.Вельск",{"$f":"Лист1!B490","v":""},{"$f":"Лист1!A490","v":"ИП              Ошонков         Александр Юрьевич"},{"$f":"Лист1!C490","v":6},{"$f":"Лист1!BI490/1000","v":1.6000000000000001E-3},{"$f":"Лист1!BH490","v":1.2880000000000001E-3},{"$f":"IF(#REF!>0,#REF!,0)","v":{"$error":"#REF!"}},{"$f":"IF(G493>0,1,0)","v":{"$error":"#REF!"}},{"$f":"IF(#REF!>0,#REF!,0)","v":{"$error":"#REF!"}},3.1199999999999999E-4]
["ГРС.г.Вельск",{"$f":"Лист1!B491","v":""},{"$f":"Лист1!A491","v":""},{"$f":"Лист1!C491","v":6},{"$f":"Лист1!BI491/1000","v":0},{"$f":"Лист1!BH491","v":0},{"$f":"IF(#REF!>0,#REF!,0)","v":{"$error":"#REF!"}},{"$f":"IF(G494>0,1,0)","v":{"$error":"#REF!"}},{"$f":"IF(#REF!>0,#REF!,0)","v":{"$error":"#REF!"}},0]
["ГРС.г.Вельск",{"$f":"Лист1!B492","v":""},{"$f":"Лист1!A492","v":""},{"$f":"Лист1!C492","v":6},{"$f":"Лист1!BI492/1000","v":0},{"$f":"Лист1!BH492","v":0},{"$f":"IF(#REF!>0,#REF!,0)","v":{"$error":"#REF!"}},{"$error":"#REF!"},{"$f":"IF(#REF!>0,#REF!,0)","v":{"$error":"#REF!"}},0]
["ГРС.г.Вельск",{"$f":"Лист1!B493","v":""},{"$f":"Лист1!A493","v":""},{"$f":"Лист1!C493","v":6},{"$f":"Лист1!BI493/1000","v":0},{"$f":"Лист1!BH493","v":0},{"$f":"IF(#REF!>0,#REF!,0)","v":{"$error":"#REF!"}},{"$error":"#REF!"},{"$f":"IF(#REF!>0,#REF!,0)","v":{"$error":"#REF!"}},0]
["ГРС.г.Вельск",{"$f":"Лист1!B494","v":""},{"$f":"Лист1!A494","v":"ИП              Илатовский    Сергей Петрович"},{"$f":"Лист1!C494","v":7},{"$f":"Лист1!BI494/1000","v":5.0000000000000001E-4},{"$f":"Лист1!BH494","v":2.8799999999999995E-4},{"$f":"IF(#REF!>0,#REF!,0)","v":{"$error":"#REF!"}},{"$f":"IF(G497>0,1,0)","v":{"$error":"#REF!"}},{"$f":"IF(#REF!>0,#REF!,0)","v":{"$error":"#REF!"}},2.1200000000000006E-4]
["ГРС.г.Вельск",{"$f":"Лист1!B495","v":""},{"$f":"Лист1!A495","v":""},{"$f":"Лист1!C495","v":7},{"$f":"Лист1!BI495/1000","v":0},{"$f":"Лист1!BH495","v":0},{"$f":"IF(#REF!>0,#REF!,0)","v":{"$error":"#REF!"}},{"$f":"IF(G498>0,1,0)","v":{"$error":"#REF!"}},{"$f":"IF(#REF!>0,#REF!,0)","v":{"$error":"#REF!"}},0]
["ГРС.г.Вельск",{"$f":"Лист1!B496","v":""},{"$f":"Лист1!A496","v":""},{"$f":"Лист1!C496","v":7},{"$f":"Лист1!BI496/1000","v":0},{"$f":"Лист1!BH496","v":0},{"$f":"IF(#REF!>0,#REF!,0)","v":{"$error":"#REF!"}},{"$error":"#REF!"},{"$f":"IF(#REF!>0,#REF!,0)","v":{"$error":"#REF!"}},0]
["ГРС.г.Вельск",{"$f":"Лист1!B497","v":""},{"$f":"Лист1!A497","v":""},{"$f":"Лист1!C497","v":7},{"$f":"Лист1!BI497/1000","v":0},{"$f":"Лист1!BH497","v":0},{"$f":"IF(#REF!>0,#REF!,0)","v":{"$error":"#REF!"}},{"$error":"#REF!"},{"$f":"IF(#REF!>0,#REF!,0)","v":{"$error":"#REF!"}},0]
["ГРС.г.Вельск",{"$f":"Лист1!B498","v":"Вельск, пер.Макаренко-12"},{"$f":"Лист1!A498","v":"ООО          \"БИОЛЕСПРОМ\""},{"$f":"Лист1!C498","v":6},{"$f":"Лист1!BI498/1000","v":5.0000000000000001E-3},{"$f":"Лист1!BH498","v":7.5890000000000003E-3},{"$f":"IF(#REF!>0,#REF!,0)","v":{"$error":"#REF!"}},{"$f":"IF(G501>0,1,0)","v":{"$error":"#REF!"}},{"$f":"IF(#REF!>0,#REF!,0)","v":{"$error":"#REF!"}},-2.5890000000000002E-3]
["ГРС.г.Вельск",{"$f":"Лист1!B499","v":""},{"$f":"Лист1!A499","v":""},{"$f":"Лист1!C499","v":6},{"$f":"Лист1!BI499/1000","v":0},{"$f":"Лист1!BH499","v":0},{"$f":"IF(#REF!>0,#REF!,0)","v":{"$error":"#REF!"}},{"$f":"IF(G502>0,1,0)","v":{"$error":"#REF!"}},{"$f":"IF(#REF!>0,#REF!,0)","v":{"$error":"#REF!"}},0]
["ГРС.г.Вельск",{"$f":"Лист1!B500","v":""},{"$f":"Лист1!A500","v":""},{"$f":"Лист1!C500","v":6},{"$f":"Лист1!BI500/1000","v":0},{"$f":"Лист1!BH500","v":0},{"$f":"IF(#REF!>0,#REF!,0)","v":{"$error":"#REF!"}},{"$error":"#REF!"},{"$f":"IF(#REF!>0,#REF!,0)","v":{"$error":"#REF!"}},0]
["ГРС.г.Вельск",{"$f":"Лист1!B501","v":""},{"$f":"Лист1!A501","v":""},{"$f":"Лист1!C501","v":6},{"$f":"Лист1!BI501/1000","v":0},{"$f":"Лист1!BH501","v":0},{"$f":"IF(#REF!>0,#REF!,0)","v":{"$error":"#REF!"}},{"$error":"#REF!"},{"$f":"IF(#REF!>0,#REF!,0)","v":{"$error":"#REF!"}},0]
["ГРС.г.Вельск",{"$f":"Лист1!B502","v":"Вельск, ул.Гагарина-1"},{"$f":"Лист1!A502","v":"ООО          \"БИОЛЕСПРОМ\""},{"$f":"Лист1!C502","v":6},{"$f":"Лист1!BI502/1000","v":5.4999999999999997E-3},{"$f":"Лист1!BH502","v":5.6680000000000012E-3},{"$f":"IF(#REF!>0,#REF!,0)","v":{"$error":"#REF!"}},{"$f":"IF(G505>0,1,0)","v":{"$error":"#REF!"}},{"$f":"IF(#REF!>0,#REF!,0)","v":{"$error":"#REF!"}},-1.6800000000000148E-4]
["ГРС.г.Вельск",{"$f":"Лист1!B503","v":""},{"$f":"Лист1!A503","v":""},{"$f":"Лист1!C503","v":6},{"$f":"Лист1!BI503/1000","v":0},{"$f":"Лист1!BH503","v":0},{"$f":"IF(#REF!>0,#REF!,0)","v":{"$error":"#REF!"}},{"$f":"IF(G506>0,1,0)","v":{"$error":"#REF!"}},{"$f":"IF(#REF!>0,#REF!,0)","v":{"$error":"#REF!"}},0]
["ГРС.г.Вельск",{"$f":"Лист1!B504","v":""},{"$f":"Лист1!A504","v":""},{"$f":"Лист1!C504","v":6},{"$f":"Лист1!BI504/1000","v":0},{"$f":"Лист1!BH504","v":0},{"$f":"IF(#REF!>0,#REF!,0)","v":{"$error":"#REF!"}},{"$error":"#REF!"},{"$f":"IF(#REF!>0,#REF!,0)","v":{"$error":"#REF!"}},0]
["ГРС.г.Вельск",{"$f":"Лист1!B505","v":""},{"$f":"Лист1!A505","v":""},{"$f":"Лист1!C505","v":6},{"$f":"Лист1!BI505/1000","v":0},{"$f":"Лист1!BH505","v":0},{"$f":"IF(#REF!>0,#REF!,0)","v":{"$error":"#REF!"}},{"$error":"#REF!"},{"$f":"IF(#REF!>0,#REF!,0)","v":{"$error":"#REF!"}},0]
["ГРС.г.Вельск",{"$f":"Лист1!B506","v":""},{"$f":"Лист1!A506","v":"ИП               Растегаев     Юрий Вячеславович"},{"$f":"Лист1!C506","v":6},{"$f":"Лист1!BI506/1000","v":1.6999999999999999E-3},{"$f":"Лист1!BH506","v":1.2330000000000002E-3},{"$f":"IF(#REF!>0,#REF!,0)","v":{"$error":"#REF!"}},{"$f":"IF(G509>0,1,0)","v":{"$error":"#REF!"}},{"$f":"IF(#REF!>0,#REF!,0)","v":{"$error":"#REF!"}},4.6699999999999975E-4]
["ГРС.г.Вельск",{"$f":"Лист1!B507","v":""},{"$f":"Лист1!A507","v":""},{"$f":"Лист1!C507","v":6},{"$f":"Лист1!BI507/1000","v":0},{"$f":"Лист1!BH507","v":0},{"$f":"IF(#REF!>0,#REF!,0)","v":{"$error":"#REF!"}},{"$f":"IF(G510>0,1,0)","v":{"$error":"#REF!"}},{"$f":"IF(#REF!>0,#REF!,0)","v":{"$error":"#REF!"}},0]
["ГРС.г.Вельск",{"$f":"Лист1!B508","v":""},{"$f":"Лист1!A508","v":""},{"$f":"Лист1!C508","v":6},{"$f":"Лист1!BI508/1000","v":0},{"$f":"Лист1!BH508","v":0},{"$f":"IF(#REF!>0,#REF!,0)","v":{"$error":"#REF!"}},{"$error":"#REF!"},{"$f":"IF(#REF!>0,#REF!,0)","v":{"$error":"#REF!"}},0]
["ГРС.г.Вельск",{"$f":"Лист1!B509","v":""},{"$f":"Лист1!A509","v":""},{"$f":"Лист1!C509","v":6},{"$f":"Лист1!BI509/1000","v":0},{"$f":"Лист1!BH509","v":0},{"$f":"IF(#REF!>0,#REF!,0)","v":{"$error":"#REF!"}},{"$error":"#REF!"},{"$f":"IF(#REF!>0,#REF!,0)","v":{"$error":"#REF!"}},0]
["ГРС.г.Вельск",{"$f":"Лист1!B510","v":""},{"$f":"Лист1!A510","v":"ИП              Кудрявцева     Светлана Николаевна"},{"$f":"Лист1!C510","v":6},{"$f":"Лист1!BI510/1000","v":2E-3},{"$f":"Лист1!BH510","v":1.335E-3},{"$f":"IF(#REF!>0,#REF!,0)","v":{"$error":"#REF!"}},{"$f":"IF(G513>0,1,0)","v":{"$error":"#REF!"}},{"$f":"IF(#REF!>0,#REF!,0)","v":{"$error":"#REF!"}},6.6500000000000001E-4]
["ГРС.г.Вельск",{"$f":"Лист1!B511","v":""},{"$f":"Лист1!A511","v":""},{"$f":"Лист1!C511","v":6},{"$f":"Лист1!BI511/1000","v":0},{"$f":"Лист1!BH511","v":0},{"$f":"IF(#REF!>0,#REF!,0)","v":{"$error":"#REF!"}},{"$f":"IF(G514>0,1,0)","v":{"$error":"#REF!"}},{"$f":"IF(#REF!>0,#REF!,0)","v":{"$error":"#REF!"}},0]
["ГРС.г.Вельск",{"$f":"Лист1!B512","v":""},{"$f":"Лист1!A512","v":""},{"$f":"Лист1!C512","v":6},{"$f":"Лист1!BI512/1000","v":0},{"$f":"Лист1!BH512","v":0},{"$f":"IF(#REF!>0,#REF!,0)","v":{"$error":"#REF!"}},{"$error":"#REF!"},{"$f":"IF(#REF!>0,#REF!,0)","v":{"$error":"#REF!"}},0]
["ГРС.г.Вельск",{"$f":"Лист1!B513","v":""},{"$f":"Лист1!A513","v":""},{"$f":"Лист1!C513","v":6},{"$f":"Лист1!BI513/1000","v":0},{"$f":"Лист1!BH513","v":0},{"$f":"IF(#REF!>0,#REF!,0)","v":{"$error":"#REF!"}},{"$error":"#REF!"},{"$f":"IF(#REF!>0,#REF!,0)","v":{"$error":"#REF!"}},0]
["ГРС.г.Вельск",{"$f":"Лист1!B514","v":""},{"$f":"Лист1!A514","v":"Гр.              Церковников   Евгений Сергеевич"},{"$f":"Лист1!C514","v":6},{"$f":"Лист1!BI514/1000","v":1.6999999999999999E-3},{"$f":"Лист1!BH514","v":8.5599999999999999E-4},{"$f":"IF(#REF!>0,#REF!,0)","v":{"$error":"#REF!"}},{"$f":"IF(G517>0,1,0)","v":{"$error":"#REF!"}},{"$f":"IF(#REF!>0,#REF!,0)","v":{"$error":"#REF!"}},8.4399999999999992E-4]
["ГРС.г.Вельск",{"$f":"Лист1!B515","v":""},{"$f":"Лист1!A515","v":""},{"$f":"Лист1!C515","v":6},{"$f":"Лист1!BI515/1000","v":0},{"$f":"Лист1!BH515","v":0},{"$f":"IF(#REF!>0,#REF!,0)","v":{"$error":"#REF!"}},{"$f":"IF(G518>0,1,0)","v":{"$error":"#REF!"}},{"$f":"IF(#REF!>0,#REF!,0)","v":{"$error":"#REF!"}},0]
["ГРС.г.Вельск",{"$f":"Лист1!B516","v":""},{"$f":"Лист1!A516","v":""},{"$f":"Лист1!C516","v":6},{"$f":"Лист1!BI516/1000","v":0},{"$f":"Лист1!BH516","v":0},{"$f":"IF(#REF!>0,#REF!,0)","v":{"$error":"#REF!"}},{"$error":"#REF!"},{"$f":"IF(#REF!>0,#REF!,0)","v":{"$error":"#REF!"}},0]
["ГРС.г.Вельск",{"$f":"Лист1!B517","v":""},{"$f":"Лист1!A517","v":""},{"$f":"Лист1!C517","v":6},{"$f":"Лист1!BI517/1000","v":0},{"$f":"Лист1!BH517","v":0},{"$f":"IF(#REF!>0,#REF!,0)","v":{"$error":"#REF!"}},{"$error":"#REF!"},{"$f":"IF(#REF!>0,#REF!,0)","v":{"$error":"#REF!"}},0]
["ГРС.г.Вельск",{"$f":"Лист1!B518","v":"Вельск, ул.Гагарина-5"},{"$f":"Лист1!A518","v":"Гр.               Лобанов Иван Валентинович"},{"$f":"Лист1!C518","v":6},{"$f":"Лист1!BI518/1000","v":8.9999999999999998E-4},{"$f":"Лист1!BH518","v":9.5399999999999999E-4},{"$f":"IF(#REF!>0,#REF!,0)","v":{"$error":"#REF!"}},{"$f":"IF(G521>0,1,0)","v":{"$error":"#REF!"}},{"$f":"IF(#REF!>0,#REF!,0)","v":{"$error":"#REF!"}},-5.4000000000000012E-5]
["ГРС.г.Вельск",{"$f":"Лист1!B519","v":""},{"$f":"Лист1!A519","v":""},{"$f":"Лист1!C519","v":6},{"$f":"Лист1!BI519/1000","v":0},{"$f":"Лист1!BH519","v":0},{"$f":"IF(#REF!>0,#REF!,0)","v":{"$error":"#REF!"}},{"$f":"IF(G522>0,1,0)","v":{"$error":"#REF!"}},{"$f":"IF(#REF!>0,#REF!,0)","v":{"$error":"#REF!"}},0]
["ГРС.г.Вельск",{"$f":"Лист1!B520","v":""},{"$f":"Лист1!A520","v":""},{"$f":"Лист1!C520","v":6},{"$f":"Лист1!BI520/1000","v":0},{"$f":"Лист1!BH520","v":0},{"$f":"IF(#REF!>0,#REF!,0)","v":{"$error":"#REF!"}},{"$error":"#REF!"},{"$f":"IF(#REF!>0,#REF!,0)","v":{"$error":"#REF!"}},0]
["ГРС.г.Вельск",{"$f":"Лист1!B521","v":""},{"$f":"Лист1!A521","v":""},{"$f":"Лист1!C521","v":6},{"$f":"Лист1!BI521/1000","v":0},{"$f":"Лист1!BH521","v":0},{"$f":"IF(#REF!>0,#REF!,0)","v":{"$error":"#REF!"}},{"$error":"#REF!"},{"$f":"IF(#REF!>0,#REF!,0)","v":{"$error":"#REF!"}},0]
["ГРС.г.Вельск",{"$f":"Лист1!B522","v":"Вельск, ул.Гагарина-5"},{"$f":"Лист1!A522","v":"Гр.               Лобанов Иван Валентинович"},{"$f":"Лист1!C522","v":6},{"$f":"Лист1!BI522/1000","v":8.0000000000000004E-4},{"$f":"Лист1!BH522","v":0},{"$f":"IF(#REF!>0,#REF!,0)","v":{"$error":"#REF!"}},{"$f":"IF(G525>0,1,0)","v":{"$error":"#REF!"}},{"$f":"IF(#REF!>0,#REF!,0)","v":{"$error":"#REF!"}},8.0000000000000004E-4]
["ГРС.г.Вельск",{"$f":"Лист1!B523","v":""},{"$f":"Лист1!A523","v":""},{"$f":"Лист1!C523","v":6},{"$f":"Лист1!BI523/1000","v":0},{"$f":"Лист1!BH523","v":0},{"$f":"IF(#REF!>0,#REF!,0)","v":{"$error":"#REF!"}},{"$f":"IF(G526>0,1,0)","v":{"$error":"#REF!"}},{"$f":"IF(#REF!>0,#REF!,0)","v":{"$error":"#REF!"}},0]
["ГРС.г.Вельск",{"$f":"Лист1!B524","v":""},{"$f":"Лист1!A524","v":""},{"$f":"Лист1!C524","v":6},{"$f":"Лист1!BI524/1000","v":0},{"$f":"Лист1!BH524","v":0},{"$f":"IF(#REF!>0,#REF!,0)","v":{"$error":"#REF!"}},{"$error":"#REF!"},{"$f":"IF(#REF!>0,#REF!,0)","v":{"$error":"#REF!"}},0]
["ГРС.г.Вельск",{"$f":"Лист1!B525","v":""},{"$f":"Лист1!A525","v":""},{"$f":"Лист1!C525","v":6},{"$f":"Лист1!BI525/1000","v":0},{"$f":"Лист1!BH525","v":0},{"$f":"IF(#REF!>0,#REF!,0)","v":{"$error":"#REF!"}},{"$error":"#REF!"},{"$f":"IF(#REF!>0,#REF!,0)","v":{"$error":"#REF!"}},0]
["ГРС.г.Вельск",{"$f":"Лист1!B526","v":"Вельск, ул.Фефилова-17"},{"$f":"Лист1!A526","v":"ИП              Фомин              Михаил Аркадьевич"},{"$f":"Лист1!C526","v":7},{"$f":"Лист1!BI526/1000","v":4.0000000000000002E-4},{"$f":"Лист1!BH526","v":3.79E-4},{"$f":"IF(#REF!>0,#REF!,0)","v":{"$error":"#REF!"}},{"$f":"IF(G529>0,1,0)","v":{"$error":"#REF!"}},{"$f":"IF(#REF!>0,#REF!,0)","v":{"$error":"#REF!"}},2.1000000000000023E-5]
["ГРС.г.Вельск",{"$f":"Лист1!B527","v":""},{"$f":"Лист1!A527","v":""},{"$f":"Лист1!C527","v":7},{"$f":"Лист1!BI527/1000","v":0},{"$f":"Лист1!BH527","v":0},{"$f":"IF(#REF!>0,#REF!,0)","v":{"$error":"#REF!"}},{"$f":"IF(G530>0,1,0)","v":{"$error":"#REF!"}},{"$f":"IF(#REF!>0,#REF!,0)","v":{"$error":"#REF!"}},0]
["ГРС.г.Вельск",{"$f":"Лист1!B528","v":""},{"$f":"Лист1!A528","v":""},{"$f":"Лист1!C528","v":7},{"$f":"Лист1!BI528/1000","v":0},{"$f":"Лист1!BH528","v":0},{"$f":"IF(#REF!>0,#REF!,0)","v":{"$error":"#REF!"}},{"$error":"#REF!"},{"$f":"IF(#REF!>0,#REF!,0)","v":{"$error":"#REF!"}},{"$f":"E531-F531","v":0}]
["ГРС.г.Вельск",{"$f":"Лист1!B529","v":""},{"$f":"Лист1!A529","v":""},{"$f":"Лист1!C529","v":7},{"$f":"Лист1!BI529/1000","v":0},{"$f":"Лист1!BH529","v":0},{"$f":"IF(#REF!>0,#REF!,0)","v":{"$error":"#REF!"}},{"$error":"#REF!"},{"$f":"IF(#REF!>0,#REF!,0)","v":{"$error":"#REF!"}},0]
["ГРС.г.Вельск",{"$f":"Лист1!B530","v":"Вельск, ул.Советская-34"},{"$f":"Лист1!A530","v":"ИП              Фомин              Михаил Аркадьевич"},{"$f":"Лист1!C530","v":7},{"$f":"Лист1!BI530/1000","v":2.0000000000000001E-4},{"$f":"Лист1!BH530","v":2.4899999999999998E-4},{"$f":"IF(#REF!>0,#REF!,0)","v":{"$error":"#REF!"}},{"$f":"IF(G533>0,1,0)","v":{"$error":"#REF!"}},{"$f":"IF(#REF!>0,#REF!,0)","v":{"$error":"#REF!"}},-4.8999999999999971E-5]
["ГРС.г.Вельск",{"$f":"Лист1!B531","v":""},{"$f":"Лист1!A531","v":""},{"$f":"Лист1!C531","v":7},{"$f":"Лист1!BI531/1000","v":0},{"$f":"Лист1!BH531","v":0},{"$f":"IF(#REF!>0,#REF!,0)","v":{"$error":"#REF!"}},{"$f":"IF(G534>0,1,0)","v":{"$error":"#REF!"}},{"$f":"IF(#REF!>0,#REF!,0)","v":{"$error":"#REF!"}},0]
["ГРС.г.Вельск",{"$f":"Лист1!B532","v":""},{"$f":"Лист1!A532","v":""},{"$f":"Лист1!C532","v":7},{"$f":"Лист1!BI532/1000","v":0},{"$f":"Лист1!BH532","v":0},{"$f":"IF(#REF!>0,#REF!,0)","v":{"$error":"#REF!"}},{"$error":"#REF!"},{"$f":"IF(#REF!>0,#REF!,0)","v":{"$error":"#REF!"}},0]
["ГРС.г.Вельск",{"$f":"Лист1!B533","v":""},{"$f":"Лист1!A533","v":""},{"$f":"Лист1!C533","v":7},{"$f":"Лист1!BI533/1000","v":0},{"$f":"Лист1!BH533","v":0},{"$f":"IF(#REF!>0,#REF!,0)","v":{"$error":"#REF!"}},{"$error":"#REF!"},{"$f":"IF(#REF!>0,#REF!,0)","v":{"$error":"#REF!"}},0]
["ГРС.г.Вельск",{"$f":"Лист1!B534","v":""},{"$f":"Лист1!A534","v":"ИП              Шишов              Андрей Викторович"},{"$f":"Лист1!C534","v":6},{"$f":"Лист1!BI534/1000","v":5.0000000000000001E-3},{"$f":"Лист1!BH534","v":2.3879999999999999E-3},{"$f":"IF(#REF!>0,#REF!,0)","v":{"$error":"#REF!"}},{"$f":"IF(G537>0,1,0)","v":{"$error":"#REF!"}},{"$f":"IF(#REF!>0,#REF!,0)","v":{"$error":"#REF!"}},2.6120000000000002E-3]
["ГРС.г.Вельск",{"$f":"Лист1!B535","v":""},{"$f":"Лист1!A535","v":""},{"$f":"Лист1!C535","v":6},{"$f":"Лист1!BI535/1000","v":0},{"$f":"Лист1!BH535","v":0},{"$f":"IF(#REF!>0,#REF!,0)","v":{"$error":"#REF!"}},{"$f":"IF(G538>0,1,0)","v":{"$error":"#REF!"}},{"$f":"IF(#REF!>0,#REF!,0)","v":{"$error":"#REF!"}},0]
["ГРС.г.Вельск",{"$f":"Лист1!B536","v":""},{"$f":"Лист1!A536","v":""},{"$f":"Лист1!C536","v":6},{"$f":"Лист1!BI536/1000","v":0},{"$f":"Лист1!BH536","v":0},{"$f":"IF(#REF!>0,#REF!,0)","v":{"$error":"#REF!"}},{"$error":"#REF!"},{"$f":"IF(#REF!>0,#REF!,0)","v":{"$error":"#REF!"}},0]
["ГРС.г.Вельск",{"$f":"Лист1!B537","v":""},{"$f":"Лист1!A537","v":""},{"$f":"Лист1!C537","v":6},{"$f":"Лист1!BI537/1000","v":0},{"$f":"Лист1!BH537","v":0},{"$f":"IF(#REF!>0,#REF!,0)","v":{"$error":"#REF!"}},{"$error":"#REF!"},{"$f":"IF(#REF!>0,#REF!,0)","v":{"$error":"#REF!"}},0]
["ГРС.г.Вельск",{"$f":"Лист1!B538","v":""},{"$f":"Лист1!A538","v":"Гр.              Гомзяков           Игорь Сергеевич"},{"$f":"Лист1!C538","v":7},{"$f":"Лист1!BI538/1000","v":6.9999999999999999E-4},{"$f":"Лист1!BH538","v":2.0599999999999999E-4},{"$f":"IF(#REF!>0,#REF!,0)","v":{"$error":"#REF!"}},{"$f":"IF(G541>0,1,0)","v":{"$error":"#REF!"}},{"$f":"IF(#REF!>0,#REF!,0)","v":{"$error":"#REF!"}},4.9399999999999997E-4]
["ГРС.г.Вельск",{"$f":"Лист1!B539","v":""},{"$f":"Лист1!A539","v":""},{"$f":"Лист1!C539","v":7},{"$f":"Лист1!BI539/1000","v":0},{"$f":"Лист1!BH539","v":0},{"$f":"IF(#REF!>0,#REF!,0)","v":{"$error":"#REF!"}},{"$f":"IF(G542>0,1,0)","v":{"$error":"#REF!"}},{"$f":"IF(#REF!>0,#REF!,0)","v":{"$error":"#REF!"}},0]
["ГРС.г.Вельск",{"$f":"Лист1!B540","v":""},{"$f":"Лист1!A540","v":""},{"$f":"Лист1!C540","v":7},{"$f":"Лист1!BI540/1000","v":0},{"$f":"Лист1!BH540","v":0},{"$f":"IF(#REF!>0,#REF!,0)","v":{"$error":"#REF!"}},{"$error":"#REF!"},{"$f":"IF(#REF!>0,#REF!,0)","v":{"$error":"#REF!"}},0]
["ГРС.г.Вельск",{"$f":"Лист1!B541","v":""},{"$f":"Лист1!A541","v":""},{"$f":"Лист1!C541","v":7},{"$f":"Лист1!BI541/1000","v":0},{"$f":"Лист1!BH541","v":0},{"$f":"IF(#REF!>0,#REF!,0)","v":{"$error":"#REF!"}},{"$error":"#REF!"},{"$f":"IF(#REF!>0,#REF!,0)","v":{"$error":"#REF!"}},0]
["ГРС.г.Вельск",{"$f":"Лист1!B542","v":""},{"$f":"Лист1!A542","v":"ООО           \"Резерв\" "},{"$f":"Лист1!C542","v":7},{"$f":"Лист1!BI542/1000","v":8.0000000000000004E-4},{"$f":"Лист1!BH542","v":5.2800000000000004E-4},{"$f":"IF(#REF!>0,#REF!,0)","v":{"$error":"#REF!"}},{"$f":"IF(G545>0,1,0)","v":{"$error":"#REF!"}},{"$f":"IF(#REF!>0,#REF!,0)","v":{"$error":"#REF!"}},2.72E-4]
["ГРС.г.Вельск",{"$f":"Лист1!B543","v":""},{"$f":"Лист1!A543","v":""},{"$f":"Лист1!C543","v":7},{"$f":"Лист1!BI543/1000","v":0},{"$f":"Лист1!BH543","v":0},{"$f":"IF(#REF!>0,#REF!,0)","v":{"$error":"#REF!"}},{"$f":"IF(G546>0,1,0)","v":{"$error":"#REF!"}},{"$f":"IF(#REF!>0,#REF!,0)","v":{"$error":"#REF!"}},0]
["ГРС.г.Вельск",{"$f":"Лист1!B544","v":""},{"$f":"Лист1!A544","v":""},{"$f":"Лист1!C544","v":7},{"$f":"Лист1!BI544/1000","v":0},{"$f":"Лист1!BH544","v":0},{"$f":"IF(#REF!>0,#REF!,0)","v":{"$error":"#REF!"}},{"$error":"#REF!"},{"$f":"IF(#REF!>0,#REF!,0)","v":{"$error":"#REF!"}},0]
["ГРС.г.Вельск",{"$f":"Лист1!B545","v":""},{"$f":"Лист1!A545","v":""},{"$f":"Лист1!C545","v":7},{"$f":"Лист1!BI545/1000","v":0},{"$f":"Лист1!BH545","v":0},{"$f":"IF(#REF!>0,#REF!,0)","v":{"$error":"#REF!"}},{"$error":"#REF!"},{"$f":"IF(#REF!>0,#REF!,0)","v":{"$error":"#REF!"}},0]
["ГРС.г.Вельск",{"$f":"Лист1!B546","v":""},{"$f":"Лист1!A546","v":"ИП              Петухов            Алексей Николаевич"},{"$f":"Лист1!C546","v":6},{"$f":"Лист1!BI546/1000","v":4.0000000000000001E-3},{"$f":"Лист1!BH546","v":1.3929999999999999E-3},{"$f":"IF(#REF!>0,#REF!,0)","v":{"$error":"#REF!"}},{"$f":"IF(G549>0,1,0)","v":{"$error":"#REF!"}},{"$f":"IF(#REF!>0,#REF!,0)","v":{"$error":"#REF!"}},2.6069999999999999E-3]
["ГРС.г.Вельск",{"$f":"Лист1!B547","v":""},{"$f":"Лист1!A547","v":""},{"$f":"Лист1!C547","v":6},{"$f":"Лист1!BI547/1000","v":0},{"$f":"Лист1!BH547","v":0},{"$f":"IF(#REF!>0,#REF!,0)","v":{"$error":"#REF!"}},{"$f":"IF(G550>0,1,0)","v":{"$error":"#REF!"}},{"$f":"IF(#REF!>0,#REF!,0)","v":{"$error":"#REF!"}},0]
["ГРС.г.Вельск",{"$f":"Лист1!B548","v":""},{"$f":"Лист1!A548","v":""},{"$f":"Лист1!C548","v":6},{"$f":"Лист1!BI548/1000","v":0},{"$f":"Лист1!BH548","v":0},{"$f":"IF(#REF!>0,#REF!,0)","v":{"$error":"#REF!"}},{"$error":"#REF!"},{"$f":"IF(#REF!>0,#REF!,0)","v":{"$error":"#REF!"}},0]
["ГРС.г.Вельск",{"$f":"Лист1!B549","v":""},{"$f":"Лист1!A549","v":""},{"$f":"Лист1!C549","v":6},{"$f":"Лист1!BI549/1000","v":0},{"$f":"Лист1!BH549","v":0},{"$f":"IF(#REF!>0,#REF!,0)","v":{"$error":"#REF!"}},{"$error":"#REF!"},{"$f":"IF(#REF!>0,#REF!,0)","v":{"$error":"#REF!"}},0]
["ГРС.г.Вельск",{"$f":"Лист1!B550","v":""},{"$f":"Лист1!A550","v":"ООО ПСК    \"Архпромкомплект\""},{"$f":"Лист1!C550","v":6},{"$f":"Лист1!BI550/1000","v":1.5E-3},{"$f":"Лист1!BH550","v":8.9999999999999998E-4},{"$f":"IF(#REF!>0,#REF!,0)","v":{"$error":"#REF!"}},{"$f":"IF(G553>0,1,0)","v":{"$error":"#REF!"}},{"$f":"IF(#REF!>0,#REF!,0)","v":{"$error":"#REF!"}},6.0000000000000006E-4]
["ГРС.г.Вельск",{"$f":"Лист1!B551","v":""},{"$f":"Лист1!A551","v":""},{"$f":"Лист1!C551","v":6},{"$f":"Лист1!BI551/1000","v":0},{"$f":"Лист1!BH551","v":0},{"$f":"IF(#REF!>0,#REF!,0)","v":{"$error":"#REF!"}},{"$f":"IF(G554>0,1,0)","v":{"$error":"#REF!"}},{"$f":"IF(#REF!>0,#REF!,0)","v":{"$error":"#REF!"}},0]
["ГРС.г.Вельск",{"$f":"Лист1!B552","v":""},{"$f":"Лист1!A552","v":""},{"$f":"Лист1!C552","v":6},{"$f":"Лист1!BI552/1000","v":0},{"$f":"Лист1!BH552","v":0},{"$f":"IF(#REF!>0,#REF!,0)","v":{"$error":"#REF!"}},{"$error":"#REF!"},{"$f":"IF(#REF!>0,#REF!,0)","v":{"$error":"#REF!"}},0]
["ГРС.г.Вельск",{"$f":"Лист1!B553","v":""},{"$f":"Лист1!A553","v":""},{"$f":"Лист1!C553","v":6},{"$f":"Лист1!BI553/1000","v":0},{"$f":"Лист1!BH553","v":0},{"$f":"IF(#REF!>0,#REF!,0)","v":{"$error":"#REF!"}},{"$error":"#REF!"},{"$f":"IF(#REF!>0,#REF!,0)","v":{"$error":"#REF!"}},0]
["ГРС.г.Вельск",{"$f":"Лист1!B554","v":""},{"$f":"Лист1!A554","v":"ИП               Шадрин            Артем Юрьевич"},{"$f":"Лист1!C554","v":6},{"$f":"Лист1!BI554/1000","v":3.0999999999999999E-3},{"$f":"Лист1!BH554","v":7.6000000000000004E-4},{"$f":"IF(#REF!>0,#REF!,0)","v":{"$error":"#REF!"}},{"$f":"IF(G557>0,1,0)","v":{"$error":"#REF!"}},{"$f":"IF(#REF!>0,#REF!,0)","v":{"$error":"#REF!"}},2.3400000000000001E-3]
["ГРС.г.Вельск",{"$f":"Лист1!B555","v":""},{"$f":"Лист1!A555","v":""},{"$f":"Лист1!C555","v":6},{"$f":"Лист1!BI555/1000","v":0},{"$f":"Лист1!BH555","v":0},{"$f":"IF(#REF!>0,#REF!,0)","v":{"$error":"#REF!"}},{"$f":"IF(G558>0,1,0)","v":{"$error":"#REF!"}},{"$f":"IF(#REF!>0,#REF!,0)","v":{"$error":"#REF!"}},0]
["ГРС.г.Вельск",{"$f":"Лист1!B556","v":""},{"$f":"Лист1!A556","v":""},{"$f":"Лист1!C556","v":6},{"$f":"Лист1!BI556/1000","v":0},{"$f":"Лист1!BH556","v":0},{"$f":"IF(#REF!>0,#REF!,0)","v":{"$error":"#REF!"}},{"$error":"#REF!"},{"$f":"IF(#REF!>0,#REF!,0)","v":{"$error":"#REF!"}},0]
["ГРС.г.Вельск",{"$f":"Лист1!B557","v":""},{"$f":"Лист1!A557","v":""},{"$f":"Лист1!C557","v":6},{"$f":"Лист1!BI557/1000","v":0},{"$f":"Лист1!BH557","v":0},{"$f":"IF(#REF!>0,#REF!,0)","v":{"$error":"#REF!"}},{"$error":"#REF!"},{"$f":"IF(#REF!>0,#REF!,0)","v":{"$error":"#REF!"}},0]
["ГРС.г.Вельск",{"$f":"Лист1!B558","v":""},{"$f":"Лист1!A558","v":"ИП                Устюжанина   Кристина Николаевна   "},{"$f":"Лист1!C558","v":6},{"$f":"Лист1!BI558/1000","v":4.2000000000000006E-3},{"$f":"Лист1!BH558","v":4.0739999999999995E-3},{"$f":"IF(#REF!>0,#REF!,0)","v":{"$error":"#REF!"}},{"$f":"IF(G561>0,1,0)","v":{"$error":"#REF!"}},{"$f":"IF(#REF!>0,#REF!,0)","v":{"$error":"#REF!"}},1.2600000000000111E-4]
["ГРС.г.Вельск",{"$f":"Лист1!B559","v":""},{"$f":"Лист1!A559","v":""},{"$f":"Лист1!C559","v":6},{"$f":"Лист1!BI559/1000","v":0},{"$f":"Лист1!BH559","v":0},{"$f":"IF(#REF!>0,#REF!,0)","v":{"$error":"#REF!"}},{"$f":"IF(G562>0,1,0)","v":{"$error":"#REF!"}},{"$f":"IF(#REF!>0,#REF!,0)","v":{"$error":"#REF!"}},0]
["ГРС.г.Вельск",{"$f":"Лист1!B560","v":""},{"$f":"Лист1!A560","v":""},{"$f":"Лист1!C560","v":6},{"$f":"Лист1!BI560/1000","v":0},{"$f":"Лист1!BH560","v":0},{"$f":"IF(#REF!>0,#REF!,0)","v":{"$error":"#REF!"}},{"$error":"#REF!"},{"$f":"IF(#REF!>0,#REF!,0)","v":{"$error":"#REF!"}},0]
["ГРС.г.Вельск",{"$f":"Лист1!B561","v":""},{"$f":"Лист1!A561","v":""},{"$f":"Лист1!C561","v":6},{"$f":"Лист1!BI561/1000","v":0},{"$f":"Лист1!BH561","v":0},{"$f":"IF(#REF!>0,#REF!,0)","v":{"$error":"#REF!"}},{"$error":"#REF!"},{"$f":"IF(#REF!>0,#REF!,0)","v":{"$error":"#REF!"}},0]
["ГРС.г.Вельск",{"$f":"Лист1!B562","v":""},{"$f":"Лист1!A562","v":"РОО           \"Вельская Картинная Галерея\""},{"$f":"Лист1!C562","v":7},{"$f":"Лист1!BI562/1000","v":5.9999999999999995E-4},{"$f":"Лист1!BH562","v":0},{"$f":"IF(#REF!>0,#REF!,0)","v":{"$error":"#REF!"}},{"$f":"IF(G565>0,1,0)","v":{"$error":"#REF!"}},{"$f":"IF(#REF!>0,#REF!,0)","v":{"$error":"#REF!"}},5.9999999999999995E-4]
["ГРС.г.Вельск",{"$f":"Лист1!B563","v":""},{"$f":"Лист1!A563","v":""},{"$f":"Лист1!C563","v":7},{"$f":"Лист1!BI563/1000","v":0},{"$f":"Лист1!BH563","v":0},{"$f":"IF(#REF!>0,#REF!,0)","v":{"$error":"#REF!"}},{"$f":"IF(G566>0,1,0)","v":{"$error":"#REF!"}},{"$f":"IF(#REF!>0,#REF!,0)","v":{"$error":"#REF!"}},0]
["ГРС.г.Вельск",{"$f":"Лист1!B564","v":""},{"$f":"Лист1!A564","v":""},{"$f":"Лист1!C564","v":7},{"$f":"Лист1!BI564/1000","v":0},{"$f":"Лист1!BH564","v":0},{"$f":"IF(#REF!>0,#REF!,0)","v":{"$error":"#REF!"}},{"$error":"#REF!"},{"$f":"IF(#REF!>0,#REF!,0)","v":{"$error":"#REF!"}},0]
["ГРС.г.Вельск",{"$f":"Лист1!B565","v":""},{"$f":"Лист1!A565","v":""},{"$f":"Лист1!C565","v":7},{"$f":"Лист1!BI565/1000","v":0},{"$f":"Лист1!BH565","v":0},{"$f":"IF(#REF!>0,#REF!,0)","v":{"$error":"#REF!"}},{"$error":"#REF!"},{"$f":"IF(#REF!>0,#REF!,0)","v":{"$error":"#REF!"}},0]
["ГРС.г.Вельск",{"$f":"Лист1!B566","v":""},{"$f":"Лист1!A566","v":"Гр.                Никифоров      Алексей Григорьевич"},{"$f":"Лист1!C566","v":6},{"$f":"Лист1!BI566/1000","v":3.5000000000000001E-3},{"$f":"Лист1!BH566","v":2.0459999999999996E-3},{"$f":"IF(#REF!>0,#REF!,0)","v":{"$error":"#REF!"}},{"$f":"IF(G569>0,1,0)","v":{"$error":"#REF!"}},{"$f":"IF(#REF!>0,#REF!,0)","v":{"$error":"#REF!"}},1.4540000000000004E-3]
["ГРС.г.Вельск",{"$f":"Лист1!B567","v":""},{"$f":"Лист1!A567","v":""},{"$f":"Лист1!C567","v":6},{"$f":"Лист1!BI567/1000","v":0},{"$f":"Лист1!BH567","v":0},{"$f":"IF(#REF!>0,#REF!,0)","v":{"$error":"#REF!"}},{"$f":"IF(G570>0,1,0)","v":{"$error":"#REF!"}},{"$f":"IF(#REF!>0,#REF!,0)","v":{"$error":"#REF!"}},0]
["ГРС.г.Вельск",{"$f":"Лист1!B568","v":""},{"$f":"Лист1!A568","v":""},{"$f":"Лист1!C568","v":6},{"$f":"Лист1!BI568/1000","v":0},{"$f":"Лист1!BH568","v":0},{"$f":"IF(#REF!>0,#REF!,0)","v":{"$error":"#REF!"}},{"$error":"#REF!"},{"$f":"IF(#REF!>0,#REF!,0)","v":{"$error":"#REF!"}},0]
["ГРС.г.Вельск",{"$f":"Лист1!B569","v":""},{"$f":"Лист1!A569","v":""},{"$f":"Лист1!C569","v":6},{"$f":"Лист1!BI569/1000","v":0},{"$f":"Лист1!BH569","v":0},{"$f":"IF(#REF!>0,#REF!,0)","v":{"$error":"#REF!"}},{"$error":"#REF!"},{"$f":"IF(#REF!>0,#REF!,0)","v":{"$error":"#REF!"}},0]
["ГРС.г.Вельск",{"$f":"Лист1!B570","v":""},{"$f":"Лист1!A570","v":"Гр.               Горбунов          Владимир Вениаминович"},{"$f":"Лист1!C570","v":7},{"$f":"Лист1!BI570/1000","v":2.0000000000000001E-4},{"$f":"Лист1!BH570","v":1.7999999999999997E-5},{"$f":"IF(#REF!>0,#REF!,0)","v":{"$error":"#REF!"}},{"$f":"IF(G573>0,1,0)","v":{"$error":"#REF!"}},{"$f":"IF(#REF!>0,#REF!,0)","v":{"$error":"#REF!"}},1.8200000000000001E-4]
["ГРС.г.Вельск",{"$f":"Лист1!B571","v":""},{"$f":"Лист1!A571","v":""},{"$f":"Лист1!C571","v":7},{"$f":"Лист1!BI571/1000","v":0},{"$f":"Лист1!BH571","v":0},{"$f":"IF(#REF!>0,#REF!,0)","v":{"$error":"#REF!"}},{"$f":"IF(G574>0,1,0)","v":{"$error":"#REF!"}},{"$f":"IF(#REF!>0,#REF!,0)","v":{"$error":"#REF!"}},0]
["ГРС.г.Вельск",{"$f":"Лист1!B572","v":""},{"$f":"Лист1!A572","v":""},{"$f":"Лист1!C572","v":7},{"$f":"Лист1!BI572/1000","v":0},{"$f":"Лист1!BH572","v":0},{"$f":"IF(#REF!>0,#REF!,0)","v":{"$error":"#REF!"}},{"$error":"#REF!"},{"$f":"IF(#REF!>0,#REF!,0)","v":{"$error":"#REF!"}},0]
["ГРС.г.Вельск",{"$f":"Лист1!B573","v":""},{"$f":"Лист1!A573","v":""},{"$f":"Лист1!C573","v":7},{"$f":"Лист1!BI573/1000","v":0},{"$f":"Лист1!BH573","v":0},{"$f":"IF(#REF!>0,#REF!,0)","v":{"$error":"#REF!"}},{"$error":"#REF!"},{"$f":"IF(#REF!>0,#REF!,0)","v":{"$error":"#REF!"}},0]
["ГРС.г.Вельск",{"$f":"Лист1!B574","v":"Вельск, (ул.Дзержинского-107 + ул.Советская-52/15)"},{"$f":"Лист1!A574","v":"ООО          \"Этажи\""},{"$f":"Лист1!C574","v":6},{"$f":"Лист1!BI574/1000","v":8.8999999999999982E-3},{"$f":"Лист1!BH574","v":3.222E-3},{"$f":"IF(#REF!>0,#REF!,0)","v":{"$error":"#REF!"}},{"$f":"IF(G577>0,1,0)","v":{"$error":"#REF!"}},{"$f":"IF(#REF!>0,#REF!,0)","v":{"$error":"#REF!"}},5.6779999999999982E-3]
["ГРС.г.Вельск",{"$f":"Лист1!B575","v":""},{"$f":"Лист1!A575","v":""},{"$f":"Лист1!C575","v":6},{"$f":"Лист1!BI575/1000","v":0},{"$f":"Лист1!BH575","v":0},{"$f":"IF(#REF!>0,#REF!,0)","v":{"$error":"#REF!"}},{"$f":"IF(G578>0,1,0)","v":{"$error":"#REF!"}},{"$f":"IF(#REF!>0,#REF!,0)","v":{"$error":"#REF!"}},0]
["ГРС.г.Вельск",{"$f":"Лист1!B576","v":""},{"$f":"Лист1!A576","v":""},{"$f":"Лист1!C576","v":6},{"$f":"Лист1!BI576/1000","v":0},{"$f":"Лист1!BH576","v":0},{"$f":"IF(#REF!>0,#REF!,0)","v":{"$error":"#REF!"}},{"$error":"#REF!"},{"$f":"IF(#REF!>0,#REF!,0)","v":{"$error":"#REF!"}},0]
["ГРС.г.Вельск",{"$f":"Лист1!B577","v":""},{"$f":"Лист1!A577","v":""},{"$f":"Лист1!C577","v":6},{"$f":"Лист1!BI577/1000","v":0},{"$f":"Лист1!BH577","v":0},{"$f":"IF(#REF!>0,#REF!,0)","v":{"$error":"#REF!"}},{"$error":"#REF!"},{"$f":"IF(#REF!>0,#REF!,0)","v":{"$error":"#REF!"}},0]
["ГРС.г.Вельск",{"$f":"Лист1!B578","v":"Вельск, ул.Гагарина-9а"},{"$f":"Лист1!A578","v":"ООО          \"Этажи\""},{"$f":"Лист1!C578","v":6},{"$f":"Лист1!BI578/1000","v":2.3E-3},{"$f":"Лист1!BH578","v":0},{"$f":"IF(#REF!>0,#REF!,0)","v":{"$error":"#REF!"}},{"$f":"IF(G581>0,1,0)","v":{"$error":"#REF!"}},{"$f":"IF(#REF!>0,#REF!,0)","v":{"$error":"#REF!"}},2.3E-3]
["ГРС.г.Вельск",{"$f":"Лист1!B579","v":""},{"$f":"Лист1!A579","v":""},{"$f":"Лист1!C579","v":6},{"$f":"Лист1!BI579/1000","v":0},{"$f":"Лист1!BH579","v":0},{"$f":"IF(#REF!>0,#REF!,0)","v":{"$error":"#REF!"}},{"$f":"IF(G582>0,1,0)","v":{"$error":"#REF!"}},{"$f":"IF(#REF!>0,#REF!,0)","v":{"$error":"#REF!"}},0]
["ГРС.г.Вельск",{"$f":"Лист1!B580","v":""},{"$f":"Лист1!A580","v":""},{"$f":"Лист1!C580","v":6},{"$f":"Лист1!BI580/1000","v":0},{"$f":"Лист1!BH580","v":0},{"$f":"IF(#REF!>0,#REF!,0)","v":{"$error":"#REF!"}},{"$error":"#REF!"},{"$f":"IF(#REF!>0,#REF!,0)","v":{"$error":"#REF!"}},0]
["ГРС.г.Вельск",{"$f":"Лист1!B581","v":""},{"$f":"Лист1!A581","v":""},{"$f":"Лист1!C581","v":6},{"$f":"Лист1!BI581/1000","v":0},{"$f":"Лист1!BH581","v":0},{"$f":"IF(#REF!>0,#REF!,0)","v":{"$error":"#REF!"}},{"$error":"#REF!"},{"$f":"IF(#REF!>0,#REF!,0)","v":{"$error":"#REF!"}},0]
["ГРС.г.Вельск",{"$f":"Лист1!B582","v":"Вельск, ул.Советская-88"},{"$f":"Лист1!A582","v":"ООО          \"Этажи\""},{"$f":"Лист1!C582","v":6},{"$f":"Лист1!BI582/1000","v":2E-3},{"$f":"Лист1!BH582","v":7.0999999999999991E-4},{"$f":"IF(#REF!>0,#REF!,0)","v":{"$error":"#REF!"}},{"$f":"IF(G585>0,1,0)","v":{"$error":"#REF!"}},{"$f":"IF(#REF!>0,#REF!,0)","v":{"$error":"#REF!"}},1.2900000000000001E-3]
["ГРС.г.Вельск",{"$f":"Лист1!B583","v":""},{"$f":"Лист1!A583","v":""},{"$f":"Лист1!C583","v":6},{"$f":"Лист1!BI583/1000","v":0},{"$f":"Лист1!BH583","v":0},{"$f":"IF(#REF!>0,#REF!,0)","v":{"$error":"#REF!"}},{"$f":"IF(G586>0,1,0)","v":{"$error":"#REF!"}},{"$f":"IF(#REF!>0,#REF!,0)","v":{"$error":"#REF!"}},0]
["ГРС.г.Вельск",{"$f":"Лист1!B584","v":""},{"$f":"Лист1!A584","v":""},{"$f":"Лист1!C584","v":6},{"$f":"Лист1!BI584/1000","v":0},{"$f":"Лист1!BH584","v":0},{"$f":"IF(#REF!>0,#REF!,0)","v":{"$error":"#REF!"}},{"$error":"#REF!"},{"$f":"IF(#REF!>0,#REF!,0)","v":{"$error":"#REF!"}},0]
["ГРС.г.Вельск",{"$f":"Лист1!B585","v":""},{"$f":"Лист1!A585","v":""},{"$f":"Лист1!C585","v":6},{"$f":"Лист1!BI585/1000","v":0},{"$f":"Лист1!BH585","v":0},{"$f":"IF(#REF!>0,#REF!,0)","v":{"$error":"#REF!"}},{"$error":"#REF!"},{"$f":"IF(#REF!>0,#REF!,0)","v":{"$error":"#REF!"}},0]
["ГРС.г.Вельск",{"$f":"Лист1!B586","v":""},{"$f":"Лист1!A586","v":"Гр.               Онегина          Светлана Витальевна"},{"$f":"Лист1!C586","v":7},{"$f":"Лист1!BI586/1000","v":8.0000000000000004E-4},{"$f":"Лист1!BH586","v":8.0000000000000004E-4},{"$f":"IF(#REF!>0,#REF!,0)","v":{"$error":"#REF!"}},{"$f":"IF(G589>0,1,0)","v":{"$error":"#REF!"}},{"$f":"IF(#REF!>0,#REF!,0)","v":{"$error":"#REF!"}},0]
["ГРС.г.Вельск",{"$f":"Лист1!B587","v":""},{"$f":"Лист1!A587","v":""},{"$f":"Лист1!C587","v":7},{"$f":"Лист1!BI587/1000","v":0},{"$f":"Лист1!BH587","v":0},{"$f":"IF(#REF!>0,#REF!,0)","v":{"$error":"#REF!"}},{"$f":"IF(G590>0,1,0)","v":{"$error":"#REF!"}},{"$f":"IF(#REF!>0,#REF!,0)","v":{"$error":"#REF!"}},0]
["ГРС.г.Вельск",{"$f":"Лист1!B588","v":""},{"$f":"Лист1!A588","v":""},{"$f":"Лист1!C588","v":7},{"$f":"Лист1!BI588/1000","v":0},{"$f":"Лист1!BH588","v":0},{"$f":"IF(#REF!>0,#REF!,0)","v":{"$error":"#REF!"}},{"$error":"#REF!"},{"$f":"IF(#REF!>0,#REF!,0)","v":{"$error":"#REF!"}},0]
["ГРС.г.Вельск",{"$f":"Лист1!B589","v":""},{"$f":"Лист1!A589","v":""},{"$f":"Лист1!C589","v":7},{"$f":"Лист1!BI589/1000","v":0},{"$f":"Лист1!BH589","v":0},{"$f":"IF(#REF!>0,#REF!,0)","v":{"$error":"#REF!"}},{"$error":"#REF!"},{"$f":"IF(#REF!>0,#REF!,0)","v":{"$error":"#REF!"}},0]
["ГРС.г.Вельск",{"$f":"Лист1!B590","v":"Вельск, ул.Дзержинского-92"},{"$f":"Лист1!A590","v":"ООО          \"ПКФ Север\""},{"$f":"Лист1!C590","v":6},{"$f":"Лист1!BI590/1000","v":8.9999999999999993E-3},{"$f":"Лист1!BH590","v":6.5309999999999995E-3},{"$f":"IF(#REF!>0,#REF!,0)","v":{"$error":"#REF!"}},{"$f":"IF(G593>0,1,0)","v":{"$error":"#REF!"}},{"$f":"IF(#REF!>0,#REF!,0)","v":{"$error":"#REF!"}},2.4689999999999998E-3]
["ГРС.г.Вельск",{"$f":"Лист1!B591","v":""},{"$f":"Лист1!A591","v":""},{"$f":"Лист1!C591","v":6},{"$f":"Лист1!BI591/1000","v":0},{"$f":"Лист1!BH591","v":0},{"$f":"IF(#REF!>0,#REF!,0)","v":{"$error":"#REF!"}},{"$f":"IF(G594>0,1,0)","v":{"$error":"#REF!"}},{"$f":"IF(#REF!>0,#REF!,0)","v":{"$error":"#REF!"}},0]
["ГРС.г.Вельск",{"$f":"Лист1!B592","v":""},{"$f":"Лист1!A592","v":""},{"$f":"Лист1!C592","v":6},{"$f":"Лист1!BI592/1000","v":0},{"$f":"Лист1!BH592","v":0},{"$f":"IF(#REF!>0,#REF!,0)","v":{"$error":"#REF!"}},{"$error":"#REF!"},{"$f":"IF(#REF!>0,#REF!,0)","v":{"$error":"#REF!"}},{"$f":"E595-F595","v":0}]
["ГРС.г.Вельск",{"$f":"Лист1!B593","v":""},{"$f":"Лист1!A593","v":""},{"$f":"Лист1!C593","v":6},{"$f":"Лист1!BI593/1000","v":0},{"$f":"Лист1!BH593","v":0},{"$f":"IF(#REF!>0,#REF!,0)","v":{"$error":"#REF!"}},{"$error":"#REF!"},{"$f":"IF(#REF!>0,#REF!,0)","v":{"$error":"#REF!"}},0]
["ГРС.г.Вельск",{"$f":"Лист1!B594","v":"Вельск, ул.Красная-27"},{"$f":"Лист1!A594","v":"ООО          \"ПКФ Север\""},{"$f":"Лист1!C594","v":6},{"$f":"Лист1!BI594/1000","v":3.7000000000000002E-3},{"$f":"Лист1!BH594","v":2.6250000000000002E-3},{"$f":"IF(#REF!>0,#REF!,0)","v":{"$error":"#REF!"}},{"$f":"IF(G597>0,1,0)","v":{"$error":"#REF!"}},{"$f":"IF(#REF!>0,#REF!,0)","v":{"$error":"#REF!"}},1.075E-3]
["ГРС.г.Вельск",{"$f":"Лист1!B595","v":""},{"$f":"Лист1!A595","v":""},{"$f":"Лист1!C595","v":6},{"$f":"Лист1!BI595/1000","v":0},{"$f":"Лист1!BH595","v":0},{"$f":"IF(#REF!>0,#REF!,0)","v":{"$error":"#REF!"}},{"$f":"IF(G598>0,1,0)","v":{"$error":"#REF!"}},{"$f":"IF(#REF!>0,#REF!,0)","v":{"$error":"#REF!"}},0]
["ГРС.г.Вельск",{"$f":"Лист1!B596","v":""},{"$f":"Лист1!A596","v":""},{"$f":"Лист1!C596","v":6},{"$f":"Лист1!BI596/1000","v":0},{"$f":"Лист1!BH596","v":0},{"$f":"IF(#REF!>0,#REF!,0)","v":{"$error":"#REF!"}},{"$error":"#REF!"},{"$f":"IF(#REF!>0,#REF!,0)","v":{"$error":"#REF!"}},0]
["ГРС.г.Вельск",{"$f":"Лист1!B597","v":""},{"$f":"Лист1!A597","v":""},{"$f":"Лист1!C597","v":6},{"$f":"Лист1!BI597/1000","v":0},{"$f":"Лист1!BH597","v":0},{"$f":"IF(#REF!>0,#REF!,0)","v":{"$error":"#REF!"}},{"$error":"#REF!"},{"$f":"IF(#REF!>0,#REF!,0)","v":{"$error":"#REF!"}},0]
["ГРС.г.Вельск",{"$f":"Лист1!B598","v":"д.Горка Муравьевская, ул.70 лет Октября-12"},{"$f":"Лист1!A598","v":"Гр.               Афанасьев    Денис Михайлович"},{"$f":"Лист1!C598","v":7},{"$f":"Лист1!BI598/1000","v":2.9999999999999997E-4},{"$f":"Лист1!BH598","v":2.1900000000000001E-4},{"$f":"IF(#REF!>0,#REF!,0)","v":{"$error":"#REF!"}},{"$f":"IF(G601>0,1,0)","v":{"$error":"#REF!"}},{"$f":"IF(#REF!>0,#REF!,0)","v":{"$error":"#REF!"}},8.0999999999999963E-5]
["ГРС.г.Вельск",{"$f":"Лист1!B599","v":""},{"$f":"Лист1!A599","v":""},{"$f":"Лист1!C599","v":7},{"$f":"Лист1!BI599/1000","v":0},{"$f":"Лист1!BH599","v":0},{"$f":"IF(#REF!>0,#REF!,0)","v":{"$error":"#REF!"}},{"$f":"IF(G602>0,1,0)","v":{"$error":"#REF!"}},{"$f":"IF(#REF!>0,#REF!,0)","v":{"$error":"#REF!"}},0]
["ГРС.г.Вельск",{"$f":"Лист1!B600","v":""},{"$f":"Лист1!A600","v":""},{"$f":"Лист1!C600","v":7},{"$f":"Лист1!BI600/1000","v":0},{"$f":"Лист1!BH600","v":0},{"$f":"IF(#REF!>0,#REF!,0)","v":{"$error":"#REF!"}},{"$error":"#REF!"},{"$f":"IF(#REF!>0,#REF!,0)","v":{"$error":"#REF!"}},0]
["ГРС.г.Вельск",{"$f":"Лист1!B601","v":""},{"$f":"Лист1!A601","v":""},{"$f":"Лист1!C601","v":7},{"$f":"Лист1!BI601/1000","v":0},{"$f":"Лист1!BH601","v":0},{"$f":"IF(#REF!>0,#REF!,0)","v":{"$error":"#REF!"}},{"$error":"#REF!"},{"$f":"IF(#REF!>0,#REF!,0)","v":{"$error":"#REF!"}},0]
["ГРС.г.Вельск",{"$f":"Лист1!B602","v":"Вельск, ул.Революционная-1Б"},{"$f":"Лист1!A602","v":"Гр.               Афанасьев    Денис Михайлович"},{"$f":"Лист1!C602","v":6},{"$f":"Лист1!BI602/1000","v":2E-3},{"$f":"Лист1!BH602","v":7.1999999999999994E-4},{"$f":"IF(#REF!>0,#REF!,0)","v":{"$error":"#REF!"}},{"$f":"IF(G605>0,1,0)","v":{"$error":"#REF!"}},{"$f":"IF(#REF!>0,#REF!,0)","v":{"$error":"#REF!"}},1.2800000000000001E-3]
["ГРС.г.Вельск",{"$f":"Лист1!B603","v":""},{"$f":"Лист1!A603","v":""},{"$f":"Лист1!C603","v":6},{"$f":"Лист1!BI603/1000","v":0},{"$f":"Лист1!BH603","v":0},{"$f":"IF(#REF!>0,#REF!,0)","v":{"$error":"#REF!"}},{"$f":"IF(G606>0,1,0)","v":{"$error":"#REF!"}},{"$f":"IF(#REF!>0,#REF!,0)","v":{"$error":"#REF!"}},0]
["ГРС.г.Вельск",{"$f":"Лист1!B604","v":""},{"$f":"Лист1!A604","v":""},{"$f":"Лист1!C604","v":6},{"$f":"Лист1!BI604/1000","v":0},{"$f":"Лист1!BH604","v":0},{"$f":"IF(#REF!>0,#REF!,0)","v":{"$error":"#REF!"}},{"$error":"#REF!"},{"$f":"IF(#REF!>0,#REF!,0)","v":{"$error":"#REF!"}},0]
["ГРС.г.Вельск",{"$f":"Лист1!B605","v":""},{"$f":"Лист1!A605","v":""},{"$f":"Лист1!C605","v":6},{"$f":"Лист1!BI605/1000","v":0},{"$f":"Лист1!BH605","v":0},{"$f":"IF(#REF!>0,#REF!,0)","v":{"$error":"#REF!"}},{"$error":"#REF!"},{"$f":"IF(#REF!>0,#REF!,0)","v":{"$error":"#REF!"}},0]
["ГРС.г.Вельск",{"$f":"Лист1!B606","v":""},{"$f":"Лист1!A606","v":"Гр.               Цаплин          Иван Сергеевич"},{"$f":"Лист1!C606","v":7},{"$f":"Лист1!BI606/1000","v":3.0600000000000001E-4},{"$f":"Лист1!BH606","v":0},{"$f":"IF(#REF!>0,#REF!,0)","v":{"$error":"#REF!"}},{"$f":"IF(G609>0,1,0)","v":{"$error":"#REF!"}},{"$f":"IF(#REF!>0,#REF!,0)","v":{"$error":"#REF!"}},3.0600000000000001E-4]
["ГРС.г.Вельск",{"$f":"Лист1!B607","v":""},{"$f":"Лист1!A607","v":""},{"$f":"Лист1!C607","v":7},{"$f":"Лист1!BI607/1000","v":0},{"$f":"Лист1!BH607","v":0},{"$f":"IF(#REF!>0,#REF!,0)","v":{"$error":"#REF!"}},{"$f":"IF(G610>0,1,0)","v":{"$error":"#REF!"}},{"$f":"IF(#REF!>0,#REF!,0)","v":{"$error":"#REF!"}},0]
["ГРС.г.Вельск",{"$f":"Лист1!B608","v":""},{"$f":"Лист1!A608","v":""},{"$f":"Лист1!C608","v":7},{"$f":"Лист1!BI608/1000","v":0},{"$f":"Лист1!BH608","v":0},{"$f":"IF(#REF!>0,#REF!,0)","v":{"$error":"#REF!"}},{"$error":"#REF!"},{"$f":"IF(#REF!>0,#REF!,0)","v":{"$error":"#REF!"}},0]
["ГРС.г.Вельск",{"$f":"Лист1!B609","v":""},{"$f":"Лист1!A609","v":""},{"$f":"Лист1!C609","v":7},{"$f":"Лист1!BI609/1000","v":0},{"$f":"Лист1!BH609","v":0},{"$f":"IF(#REF!>0,#REF!,0)","v":{"$error":"#REF!"}},{"$error":"#REF!"},{"$f":"IF(#REF!>0,#REF!,0)","v":{"$error":"#REF!"}},0]
["ГРС.г.Вельск",{"$f":"Лист1!B610","v":""},{"$f":"Лист1!A610","v":"ООО          \"Вельская неделя\""},{"$f":"Лист1!C610","v":6},{"$f":"Лист1!BI610/1000","v":1.1000000000000001E-3},{"$f":"Лист1!BH610","v":1.2999999999999999E-3},{"$f":"IF(#REF!>0,#REF!,0)","v":{"$error":"#REF!"}},{"$f":"IF(G613>0,1,0)","v":{"$error":"#REF!"}},{"$f":"IF(#REF!>0,#REF!,0)","v":{"$error":"#REF!"}},-1.9999999999999987E-4]
["ГРС.г.Вельск",{"$f":"Лист1!B611","v":""},{"$f":"Лист1!A611","v":""},{"$f":"Лист1!C611","v":6},{"$f":"Лист1!BI611/1000","v":0},{"$f":"Лист1!BH611","v":0},{"$f":"IF(#REF!>0,#REF!,0)","v":{"$error":"#REF!"}},{"$f":"IF(G614>0,1,0)","v":{"$error":"#REF!"}},{"$f":"IF(#REF!>0,#REF!,0)","v":{"$error":"#REF!"}},0]
["ГРС.г.Вельск",{"$f":"Лист1!B612","v":""},{"$f":"Лист1!A612","v":""},{"$f":"Лист1!C612","v":6},{"$f":"Лист1!BI612/1000","v":0},{"$f":"Лист1!BH612","v":0},{"$f":"IF(#REF!>0,#REF!,0)","v":{"$error":"#REF!"}},{"$error":"#REF!"},{"$f":"IF(#REF!>0,#REF!,0)","v":{"$error":"#REF!"}},0]
["ГРС.г.Вельск",{"$f":"Лист1!B613","v":""},{"$f":"Лист1!A613","v":""},{"$f":"Лист1!C613","v":6},{"$f":"Лист1!BI613/1000","v":0},{"$f":"Лист1!BH613","v":0},{"$f":"IF(#REF!>0,#REF!,0)","v":{"$error":"#REF!"}},{"$error":"#REF!"},{"$f":"IF(#REF!>0,#REF!,0)","v":{"$error":"#REF!"}},0]
["ГРС.г.Вельск",{"$f":"Лист1!B614","v":""},{"$f":"Лист1!A614","v":"Гр.               Сухоруков      Анатолий Николаевич        (до 01.04  -  гр.Шухтина М.А.) "},{"$f":"Лист1!C614","v":7},{"$f":"Лист1!BI614/1000","v":1E-3},{"$f":"Лист1!BH614","v":2.92E-4},{"$f":"IF(#REF!>0,#REF!,0)","v":{"$error":"#REF!"}},{"$f":"IF(G617>0,1,0)","v":{"$error":"#REF!"}},{"$f":"IF(#REF!>0,#REF!,0)","v":{"$error":"#REF!"}},7.0800000000000008E-4]
["ГРС.г.Вельск",{"$f":"Лист1!B615","v":""},{"$f":"Лист1!A615","v":""},{"$f":"Лист1!C615","v":7},{"$f":"Лист1!BI615/1000","v":0},{"$f":"Лист1!BH615","v":0},{"$f":"IF(#REF!>0,#REF!,0)","v":{"$error":"#REF!"}},{"$f":"IF(G618>0,1,0)","v":{"$error":"#REF!"}},{"$f":"IF(#REF!>0,#REF!,0)","v":{"$error":"#REF!"}},0]
["ГРС.г.Вельск",{"$f":"Лист1!B616","v":""},{"$f":"Лист1!A616","v":""},{"$f":"Лист1!C616","v":7},{"$f":"Лист1!BI616/1000","v":0},{"$f":"Лист1!BH616","v":0},{"$f":"IF(#REF!>0,#REF!,0)","v":{"$error":"#REF!"}},{"$error":"#REF!"},{"$f":"IF(#REF!>0,#REF!,0)","v":{"$error":"#REF!"}},0]
["ГРС.г.Вельск",{"$f":"Лист1!B617","v":""},{"$f":"Лист1!A617","v":""},{"$f":"Лист1!C617","v":7},{"$f":"Лист1!BI617/1000","v":0},{"$f":"Лист1!BH617","v":0},{"$f":"IF(#REF!>0,#REF!,0)","v":{"$error":"#REF!"}},{"$error":"#REF!"},{"$f":"IF(#REF!>0,#REF!,0)","v":{"$error":"#REF!"}},0]
["ГРС.г.Вельск",{"$f":"Лист1!B618","v":"д.Лукинская, ул.Шоссейная-1"},{"$f":"Лист1!A618","v":"Гр.               Кудрявцев      Сергей Владимирович"},{"$f":"Лист1!C618","v":7},{"$f":"Лист1!BI618/1000","v":6.9999999999999999E-4},{"$f":"Лист1!BH618","v":4.4000000000000002E-4},{"$f":"IF(#REF!>0,#REF!,0)","v":{"$error":"#REF!"}},{"$f":"IF(G621>0,1,0)","v":{"$error":"#REF!"}},{"$f":"IF(#REF!>0,#REF!,0)","v":{"$error":"#REF!"}},2.5999999999999998E-4]
["ГРС.г.Вельск",{"$f":"Лист1!B619","v":""},{"$f":"Лист1!A619","v":""},{"$f":"Лист1!C619","v":7},{"$f":"Лист1!BI619/1000","v":0},{"$f":"Лист1!BH619","v":0},{"$f":"IF(#REF!>0,#REF!,0)","v":{"$error":"#REF!"}},{"$f":"IF(G622>0,1,0)","v":{"$error":"#REF!"}},{"$f":"IF(#REF!>0,#REF!,0)","v":{"$error":"#REF!"}},0]
["ГРС.г.Вельск",{"$f":"Лист1!B620","v":""},{"$f":"Лист1!A620","v":""},{"$f":"Лист1!C620","v":7},{"$f":"Лист1!BI620/1000","v":0},{"$f":"Лист1!BH620","v":0},{"$f":"IF(#REF!>0,#REF!,0)","v":{"$error":"#REF!"}},{"$error":"#REF!"},{"$f":"IF(#REF!>0,#REF!,0)","v":{"$error":"#REF!"}},0]
["ГРС.г.Вельск",{"$f":"Лист1!B621","v":""},{"$f":"Лист1!A621","v":""},{"$f":"Лист1!C621","v":7},{"$f":"Лист1!BI621/1000","v":0},{"$f":"Лист1!BH621","v":0},{"$f":"IF(#REF!>0,#REF!,0)","v":{"$error":"#REF!"}},{"$error":"#REF!"},{"$f":"IF(#REF!>0,#REF!,0)","v":{"$error":"#REF!"}},0]
["ГРС.г.Вельск",{"$f":"Лист1!B622","v":"Вельск, ул.Пушкина-39А"},{"$f":"Лист1!A622","v":"Гр.               Кудрявцев      Сергей Владимирович"},{"$f":"Лист1!C622","v":7},{"$f":"Лист1!BI622/1000","v":5.5000000000000003E-4},{"$f":"Лист1!BH622","v":2.7300000000000002E-4},{"$f":"IF(#REF!>0,#REF!,0)","v":{"$error":"#REF!"}},{"$f":"IF(G625>0,1,0)","v":{"$error":"#REF!"}},{"$f":"IF(#REF!>0,#REF!,0)","v":{"$error":"#REF!"}},2.7700000000000001E-4]
["ГРС.г.Вельск",{"$f":"Лист1!B623","v":""},{"$f":"Лист1!A623","v":""},{"$f":"Лист1!C623","v":7},{"$f":"Лист1!BI623/1000","v":0},{"$f":"Лист1!BH623","v":0},{"$f":"IF(#REF!>0,#REF!,0)","v":{"$error":"#REF!"}},{"$f":"IF(G626>0,1,0)","v":{"$error":"#REF!"}},{"$f":"IF(#REF!>0,#REF!,0)","v":{"$error":"#REF!"}},0]
["ГРС.г.Вельск",{"$f":"Лист1!B624","v":""},{"$f":"Лист1!A624","v":""},{"$f":"Лист1!C624","v":7},{"$f":"Лист1!BI624/1000","v":0},{"$f":"Лист1!BH624","v":0},{"$f":"IF(#REF!>0,#REF!,0)","v":{"$error":"#REF!"}},{"$error":"#REF!"},{"$f":"IF(#REF!>0,#REF!,0)","v":{"$error":"#REF!"}},0]
["ГРС.г.Вельск",{"$f":"Лист1!B625","v":""},{"$f":"Лист1!A625","v":""},{"$f":"Лист1!C625","v":7},{"$f":"Лист1!BI625/1000","v":0},{"$f":"Лист1!BH625","v":0},{"$f":"IF(#REF!>0,#REF!,0)","v":{"$error":"#REF!"}},{"$error":"#REF!"},{"$f":"IF(#REF!>0,#REF!,0)","v":{"$error":"#REF!"}},0]
["ГРС.г.Вельск",{"$f":"Лист1!B626","v":""},{"$f":"Лист1!A626","v":"МБУ ДО     \"Вельская спортивная школа\""},{"$f":"Лист1!C626","v":6},{"$f":"Лист1!BI626/1000","v":1.6999999999999999E-3},{"$f":"Лист1!BH626","v":5.1000000000000004E-4},{"$f":"IF(#REF!>0,#REF!,0)","v":{"$error":"#REF!"}},{"$f":"IF(G629>0,1,0)","v":{"$error":"#REF!"}},{"$f":"IF(#REF!>0,#REF!,0)","v":{"$error":"#REF!"}},1.1899999999999999E-3]
["ГРС.г.Вельск",{"$f":"Лист1!B627","v":""},{"$f":"Лист1!A627","v":""},{"$f":"Лист1!C627","v":6},{"$f":"Лист1!BI627/1000","v":0},{"$f":"Лист1!BH627","v":0},{"$f":"IF(#REF!>0,#REF!,0)","v":{"$error":"#REF!"}},{"$f":"IF(G630>0,1,0)","v":{"$error":"#REF!"}},{"$f":"IF(#REF!>0,#REF!,0)","v":{"$error":"#REF!"}},0]
["ГРС.г.Вельск",{"$f":"Лист1!B628","v":""},{"$f":"Лист1!A628","v":""},{"$f":"Лист1!C628","v":6},{"$f":"Лист1!BI628/1000","v":0},{"$f":"Лист1!BH628","v":0},{"$f":"IF(#REF!>0,#REF!,0)","v":{"$error":"#REF!"}},{"$error":"#REF!"},{"$f":"IF(#REF!>0,#REF!,0)","v":{"$error":"#REF!"}},0]
["ГРС.г.Вельск",{"$f":"Лист1!B629","v":""},{"$f":"Лист1!A629","v":""},{"$f":"Лист1!C629","v":6},{"$f":"Лист1!BI629/1000","v":0},{"$f":"Лист1!BH629","v":0},{"$f":"IF(#REF!>0,#REF!,0)","v":{"$error":"#REF!"}},{"$error":"#REF!"},{"$f":"IF(#REF!>0,#REF!,0)","v":{"$error":"#REF!"}},0]
["ГРС.г.Вельск",{"$f":"Лист1!B630","v":""},{"$f":"Лист1!A630","v":"ООО          \"Династия\""},{"$f":"Лист1!C630","v":7},{"$f":"Лист1!BI630/1000","v":4.0000000000000002E-4},{"$f":"Лист1!BH630","v":2.8000000000000003E-4},{"$f":"IF(#REF!>0,#REF!,0)","v":{"$error":"#REF!"}},{"$f":"IF(G633>0,1,0)","v":{"$error":"#REF!"}},{"$f":"IF(#REF!>0,#REF!,0)","v":{"$error":"#REF!"}},1.1999999999999999E-4]
["ГРС.г.Вельск",{"$f":"Лист1!B631","v":""},{"$f":"Лист1!A631","v":""},{"$f":"Лист1!C631","v":7},{"$f":"Лист1!BI631/1000","v":0},{"$f":"Лист1!BH631","v":0},{"$f":"IF(#REF!>0,#REF!,0)","v":{"$error":"#REF!"}},{"$f":"IF(G634>0,1,0)","v":{"$error":"#REF!"}},{"$f":"IF(#REF!>0,#REF!,0)","v":{"$error":"#REF!"}},0]
["ГРС.г.Вельск",{"$f":"Лист1!B632","v":""},{"$f":"Лист1!A632","v":""},{"$f":"Лист1!C632","v":7},{"$f":"Лист1!BI632/1000","v":0},{"$f":"Лист1!BH632","v":0},{"$f":"IF(#REF!>0,#REF!,0)","v":{"$error":"#REF!"}},{"$error":"#REF!"},{"$f":"IF(#REF!>0,#REF!,0)","v":{"$error":"#REF!"}},0]
["ГРС.г.Вельск",{"$f":"Лист1!B633","v":""},{"$f":"Лист1!A633","v":""},{"$f":"Лист1!C633","v":7},{"$f":"Лист1!BI633/1000","v":0},{"$f":"Лист1!BH633","v":0},{"$f":"IF(#REF!>0,#REF!,0)","v":{"$error":"#REF!"}},{"$error":"#REF!"},{"$f":"IF(#REF!>0,#REF!,0)","v":{"$error":"#REF!"}},0]
["ГРС.г.Вельск",{"$f":"Лист1!B634","v":"Вельск, ул.Тракторная-14 "},{"$f":"Лист1!A634","v":"ИП               Марденгский  Михаил Владимирович"},{"$f":"Лист1!C634","v":7},{"$f":"Лист1!BI634/1000","v":1E-3},{"$f":"Лист1!BH634","v":0},{"$f":"IF(#REF!>0,#REF!,0)","v":{"$error":"#REF!"}},{"$f":"IF(G637>0,1,0)","v":{"$error":"#REF!"}},{"$f":"IF(#REF!>0,#REF!,0)","v":{"$error":"#REF!"}},1E-3]
["ГРС.г.Вельск",{"$f":"Лист1!B635","v":""},{"$f":"Лист1!A635","v":""},{"$f":"Лист1!C635","v":7},{"$f":"Лист1!BI635/1000","v":0},{"$f":"Лист1!BH635","v":0},{"$f":"IF(#REF!>0,#REF!,0)","v":{"$error":"#REF!"}},{"$f":"IF(G638>0,1,0)","v":{"$error":"#REF!"}},{"$f":"IF(#REF!>0,#REF!,0)","v":{"$error":"#REF!"}},0]
["ГРС.г.Вельск",{"$f":"Лист1!B636","v":""},{"$f":"Лист1!A636","v":""},{"$f":"Лист1!C636","v":7},{"$f":"Лист1!BI636/1000","v":0},{"$f":"Лист1!BH636","v":0},{"$f":"IF(#REF!>0,#REF!,0)","v":{"$error":"#REF!"}},{"$error":"#REF!"},{"$f":"IF(#REF!>0,#REF!,0)","v":{"$error":"#REF!"}},0]
["ГРС.г.Вельск",{"$f":"Лист1!B637","v":""},{"$f":"Лист1!A637","v":""},{"$f":"Лист1!C637","v":7},{"$f":"Лист1!BI637/1000","v":0},{"$f":"Лист1!BH637","v":0},{"$f":"IF(#REF!>0,#REF!,0)","v":{"$error":"#REF!"}},{"$error":"#REF!"},{"$f":"IF(#REF!>0,#REF!,0)","v":{"$error":"#REF!"}},0]
["ГРС.г.Вельск",{"$f":"Лист1!B638","v":"Вельск, ул.Тракторная-14/5"},{"$f":"Лист1!A638","v":"ИП               Марденгский  Михаил Владимирович"},{"$f":"Лист1!C638","v":6},{"$f":"Лист1!BI638/1000","v":1E-3},{"$f":"Лист1!BH638","v":0},{"$f":"IF(#REF!>0,#REF!,0)","v":{"$error":"#REF!"}},{"$f":"IF(G641>0,1,0)","v":{"$error":"#REF!"}},{"$f":"IF(#REF!>0,#REF!,0)","v":{"$error":"#REF!"}},1E-3]
["ГРС.г.Вельск",{"$f":"Лист1!B639","v":""},{"$f":"Лист1!A639","v":""},{"$f":"Лист1!C639","v":6},{"$f":"Лист1!BI639/1000","v":0},{"$f":"Лист1!BH639","v":0},{"$f":"IF(#REF!>0,#REF!,0)","v":{"$error":"#REF!"}},{"$f":"IF(G642>0,1,0)","v":{"$error":"#REF!"}},{"$f":"IF(#REF!>0,#REF!,0)","v":{"$error":"#REF!"}},0]
["ГРС.г.Вельск",{"$f":"Лист1!B640","v":""},{"$f":"Лист1!A640","v":""},{"$f":"Лист1!C640","v":6},{"$f":"Лист1!BI640/1000","v":0},{"$f":"Лист1!BH640","v":0},{"$f":"IF(#REF!>0,#REF!,0)","v":{"$error":"#REF!"}},{"$error":"#REF!"},{"$f":"IF(#REF!>0,#REF!,0)","v":{"$error":"#REF!"}},0]
["ГРС.г.Вельск",{"$f":"Лист1!B641","v":""},{"$f":"Лист1!A641","v":""},{"$f":"Лист1!C641","v":6},{"$f":"Лист1!BI641/1000","v":0},{"$f":"Лист1!BH641","v":0},{"$f":"IF(#REF!>0,#REF!,0)","v":{"$error":"#REF!"}},{"$error":"#REF!"},{"$f":"IF(#REF!>0,#REF!,0)","v":{"$error":"#REF!"}},0]
["ГРС.г.Вельск",{"$f":"Лист1!B642","v":""},{"$f":"Лист1!A642","v":"РУ ФСБ России по Архангельской области"},{"$f":"Лист1!C642","v":6},{"$f":"Лист1!BI642/1000","v":1E-3},{"$f":"Лист1!BH642","v":8.3999999999999993E-4},{"$f":"IF(#REF!>0,#REF!,0)","v":{"$error":"#REF!"}},{"$f":"IF(G645>0,1,0)","v":{"$error":"#REF!"}},{"$f":"IF(#REF!>0,#REF!,0)","v":{"$error":"#REF!"}},1.6000000000000009E-4]
["ГРС.г.Вельск",{"$f":"Лист1!B643","v":""},{"$f":"Лист1!A643","v":""},{"$f":"Лист1!C643","v":6},{"$f":"Лист1!BI643/1000","v":0},{"$f":"Лист1!BH643","v":0},{"$f":"IF(#REF!>0,#REF!,0)","v":{"$error":"#REF!"}},{"$f":"IF(G646>0,1,0)","v":{"$error":"#REF!"}},{"$f":"IF(#REF!>0,#REF!,0)","v":{"$error":"#REF!"}},0]
["ГРС.г.Вельск",{"$f":"Лист1!B644","v":""},{"$f":"Лист1!A644","v":""},{"$f":"Лист1!C644","v":6},{"$f":"Лист1!BI644/1000","v":0},{"$f":"Лист1!BH644","v":0},{"$f":"IF(#REF!>0,#REF!,0)","v":{"$error":"#REF!"}},{"$error":"#REF!"},{"$f":"IF(#REF!>0,#REF!,0)","v":{"$error":"#REF!"}},0]
["ГРС.г.Вельск",{"$f":"Лист1!B645","v":""},{"$f":"Лист1!A645","v":""},{"$f":"Лист1!C645","v":6},{"$f":"Лист1!BI645/1000","v":0},{"$f":"Лист1!BH645","v":0},{"$f":"IF(#REF!>0,#REF!,0)","v":{"$error":"#REF!"}},{"$error":"#REF!"},{"$f":"IF(#REF!>0,#REF!,0)","v":{"$error":"#REF!"}},0]
["ГРС.г.Вельск",{"$f":"Лист1!B646","v":""},{"$f":"Лист1!A646","v":"Гр.               Петухов            Алексей Александрович"},{"$f":"Лист1!C646","v":7},{"$f":"Лист1!BI646/1000","v":8.0000000000000004E-4},{"$f":"Лист1!BH646","v":8.7699999999999996E-4},{"$f":"IF(#REF!>0,#REF!,0)","v":{"$error":"#REF!"}},{"$f":"IF(G649>0,1,0)","v":{"$error":"#REF!"}},{"$f":"IF(#REF!>0,#REF!,0)","v":{"$error":"#REF!"}},-7.699999999999992E-5]
["ГРС.г.Вельск",{"$f":"Лист1!B647","v":""},{"$f":"Лист1!A647","v":""},{"$f":"Лист1!C647","v":7},{"$f":"Лист1!BI647/1000","v":0},{"$f":"Лист1!BH647","v":0},{"$f":"IF(#REF!>0,#REF!,0)","v":{"$error":"#REF!"}},{"$f":"IF(G650>0,1,0)","v":{"$error":"#REF!"}},{"$f":"IF(#REF!>0,#REF!,0)","v":{"$error":"#REF!"}},0]
["ГРС.г.Вельск",{"$f":"Лист1!B648","v":""},{"$f":"Лист1!A648","v":""},{"$f":"Лист1!C648","v":7},{"$f":"Лист1!BI648/1000","v":0},{"$f":"Лист1!BH648","v":0},{"$f":"IF(#REF!>0,#REF!,0)","v":{"$error":"#REF!"}},{"$error":"#REF!"},{"$f":"IF(#REF!>0,#REF!,0)","v":{"$error":"#REF!"}},0]
["ГРС.г.Вельск",{"$f":"Лист1!B649","v":""},{"$f":"Лист1!A649","v":""},{"$f":"Лист1!C649","v":7},{"$f":"Лист1!BI649/1000","v":0},{"$f":"Лист1!BH649","v":0},{"$f":"IF(#REF!>0,#REF!,0)","v":{"$error":"#REF!"}},{"$error":"#REF!"},{"$f":"IF(#REF!>0,#REF!,0)","v":{"$error":"#REF!"}},0]
["ГРС.г.Вельск",{"$f":"Лист1!B650","v":""},{"$f":"Лист1!A650","v":"ИП               Новоселов       Сергей Владимирович."},{"$f":"Лист1!C650","v":6},{"$f":"Лист1!BI650/1000","v":1.2999999999999999E-3},{"$f":"Лист1!BH650","v":2.9999999999999997E-4},{"$f":"IF(#REF!>0,#REF!,0)","v":{"$error":"#REF!"}},{"$f":"IF(G653>0,1,0)","v":{"$error":"#REF!"}},{"$f":"IF(#REF!>0,#REF!,0)","v":{"$error":"#REF!"}},1E-3]
["ГРС.г.Вельск",{"$f":"Лист1!B651","v":""},{"$f":"Лист1!A651","v":""},{"$f":"Лист1!C651","v":6},{"$f":"Лист1!BI651/1000","v":0},{"$f":"Лист1!BH651","v":0},{"$f":"IF(#REF!>0,#REF!,0)","v":{"$error":"#REF!"}},{"$f":"IF(G654>0,1,0)","v":{"$error":"#REF!"}},{"$f":"IF(#REF!>0,#REF!,0)","v":{"$error":"#REF!"}},0]
["ГРС.г.Вельск",{"$f":"Лист1!B652","v":""},{"$f":"Лист1!A652","v":""},{"$f":"Лист1!C652","v":6},{"$f":"Лист1!BI652/1000","v":0},{"$f":"Лист1!BH652","v":0},{"$f":"IF(#REF!>0,#REF!,0)","v":{"$error":"#REF!"}},{"$error":"#REF!"},{"$f":"IF(#REF!>0,#REF!,0)","v":{"$error":"#REF!"}},0]
["ГРС.г.Вельск",{"$f":"Лист1!B653","v":""},{"$f":"Лист1!A653","v":""},{"$f":"Лист1!C653","v":6},{"$f":"Лист1!BI653/1000","v":0},{"$f":"Лист1!BH653","v":0},{"$f":"IF(#REF!>0,#REF!,0)","v":{"$error":"#REF!"}},{"$error":"#REF!"},{"$f":"IF(#REF!>0,#REF!,0)","v":{"$error":"#REF!"}},0]
["ГРС.г.Вельск",{"$f":"Лист1!B654","v":""},{"$f":"Лист1!A654","v":"Гр.               Кошутин           Денис Михайлович"},{"$f":"Лист1!C654","v":6},{"$f":"Лист1!BI654/1000","v":1.6000000000000001E-3},{"$f":"Лист1!BH654","v":0},{"$f":"IF(#REF!>0,#REF!,0)","v":{"$error":"#REF!"}},{"$f":"IF(G657>0,1,0)","v":{"$error":"#REF!"}},{"$f":"IF(#REF!>0,#REF!,0)","v":{"$error":"#REF!"}},1.6000000000000001E-3]
["ГРС.г.Вельск",{"$f":"Лист1!B655","v":""},{"$f":"Лист1!A655","v":""},{"$f":"Лист1!C655","v":6},{"$f":"Лист1!BI655/1000","v":0},{"$f":"Лист1!BH655","v":0},{"$f":"IF(#REF!>0,#REF!,0)","v":{"$error":"#REF!"}},{"$f":"IF(G658>0,1,0)","v":{"$error":"#REF!"}},{"$f":"IF(#REF!>0,#REF!,0)","v":{"$error":"#REF!"}},0]
["ГРС.г.Вельск",{"$f":"Лист1!B656","v":""},{"$f":"Лист1!A656","v":""},{"$f":"Лист1!C656","v":6},{"$f":"Лист1!BI656/1000","v":0},{"$f":"Лист1!BH656","v":0},{"$f":"IF(#REF!>0,#REF!,0)","v":{"$error":"#REF!"}},{"$error":"#REF!"},{"$f":"IF(#REF!>0,#REF!,0)","v":{"$error":"#REF!"}},{"$f":"E659-F659","v":0}]
["ГРС.г.Вельск",{"$f":"Лист1!B657","v":""},{"$f":"Лист1!A657","v":""},{"$f":"Лист1!C657","v":6},{"$f":"Лист1!BI657/1000","v":0},{"$f":"Лист1!BH657","v":0},{"$f":"IF(#REF!>0,#REF!,0)","v":{"$error":"#REF!"}},{"$error":"#REF!"},{"$f":"IF(#REF!>0,#REF!,0)","v":{"$error":"#REF!"}},0]
["ГРС.г.Вельск",{"$f":"Лист1!B658","v":""},{"$f":"Лист1!A658","v":"ИП               Бегунов           Дмитрий Андреевич"},{"$f":"Лист1!C658","v":6},{"$f":"Лист1!BI658/1000","v":8.9999999999999993E-3},{"$f":"Лист1!BH658","v":4.4520000000000002E-3},{"$f":"IF(#REF!>0,#REF!,0)","v":{"$error":"#REF!"}},{"$f":"IF(G661>0,1,0)","v":{"$error":"#REF!"}},{"$f":"IF(#REF!>0,#REF!,0)","v":{"$error":"#REF!"}},4.5479999999999991E-3]
["ГРС.г.Вельск",{"$f":"Лист1!B659","v":""},{"$f":"Лист1!A659","v":""},{"$f":"Лист1!C659","v":6},{"$f":"Лист1!BI659/1000","v":0},{"$f":"Лист1!BH659","v":0},{"$f":"IF(#REF!>0,#REF!,0)","v":{"$error":"#REF!"}},{"$f":"IF(G662>0,1,0)","v":{"$error":"#REF!"}},{"$f":"IF(#REF!>0,#REF!,0)","v":{"$error":"#REF!"}},0]
["ГРС.г.Вельск",{"$f":"Лист1!B660","v":""},{"$f":"Лист1!A660","v":""},{"$f":"Лист1!C660","v":6},{"$f":"Лист1!BI660/1000","v":0},{"$f":"Лист1!BH660","v":0},{"$f":"IF(#REF!>0,#REF!,0)","v":{"$error":"#REF!"}},{"$error":"#REF!"},{"$f":"IF(#REF!>0,#REF!,0)","v":{"$error":"#REF!"}},0]
["ГРС.г.Вельск",{"$f":"Лист1!B661","v":""},{"$f":"Лист1!A661","v":""},{"$f":"Лист1!C661","v":6},{"$f":"Лист1!BI661/1000","v":0},{"$f":"Лист1!BH661","v":0},{"$f":"IF(#REF!>0,#REF!,0)","v":{"$error":"#REF!"}},{"$error":"#REF!"},{"$f":"IF(#REF!>0,#REF!,0)","v":{"$error":"#REF!"}},0]
["ГРС.г.Вельск",{"$f":"Лист1!B662","v":""},{"$f":"Лист1!A662","v":"Гр.               Михалев          Василий Иванович"},{"$f":"Лист1!C662","v":7},{"$f":"Лист1!BI662/1000","v":8.9999999999999998E-4},{"$f":"Лист1!BH662","v":4.86E-4},{"$f":"IF(#REF!>0,#REF!,0)","v":{"$error":"#REF!"}},{"$f":"IF(G665>0,1,0)","v":{"$error":"#REF!"}},{"$f":"IF(#REF!>0,#REF!,0)","v":{"$error":"#REF!"}},4.1399999999999998E-4]
["ГРС.г.Вельск",{"$f":"Лист1!B663","v":""},{"$f":"Лист1!A663","v":""},{"$f":"Лист1!C663","v":7},{"$f":"Лист1!BI663/1000","v":0},{"$f":"Лист1!BH663","v":0},{"$f":"IF(#REF!>0,#REF!,0)","v":{"$error":"#REF!"}},{"$f":"IF(G666>0,1,0)","v":{"$error":"#REF!"}},{"$f":"IF(#REF!>0,#REF!,0)","v":{"$error":"#REF!"}},0]
["ГРС.г.Вельск",{"$f":"Лист1!B664","v":""},{"$f":"Лист1!A664","v":""},{"$f":"Лист1!C664","v":7},{"$f":"Лист1!BI664/1000","v":0},{"$f":"Лист1!BH664","v":0},{"$f":"IF(#REF!>0,#REF!,0)","v":{"$error":"#REF!"}},{"$error":"#REF!"},{"$f":"IF(#REF!>0,#REF!,0)","v":{"$error":"#REF!"}},0]
["ГРС.г.Вельск",{"$f":"Лист1!B665","v":""},{"$f":"Лист1!A665","v":""},{"$f":"Лист1!C665","v":7},{"$f":"Лист1!BI665/1000","v":0},{"$f":"Лист1!BH665","v":0},{"$f":"IF(#REF!>0,#REF!,0)","v":{"$error":"#REF!"}},{"$error":"#REF!"},{"$f":"IF(#REF!>0,#REF!,0)","v":{"$error":"#REF!"}},0]
["ГРС.г.Вельск",{"$f":"Лист1!B666","v":"Вельск, ул.Дзержинского-58"},{"$f":"Лист1!A666","v":"Гр.               Ибрагимов      Рафаил Гейдар оглы"},{"$f":"Лист1!C666","v":6},{"$f":"Лист1!BI666/1000","v":2.5999999999999999E-3},{"$f":"Лист1!BH666","v":2.7320000000000001E-3},{"$f":"IF(#REF!>0,#REF!,0)","v":{"$error":"#REF!"}},{"$f":"IF(G669>0,1,0)","v":{"$error":"#REF!"}},{"$f":"IF(#REF!>0,#REF!,0)","v":{"$error":"#REF!"}},-1.3200000000000017E-4]
["ГРС.г.Вельск",{"$f":"Лист1!B667","v":""},{"$f":"Лист1!A667","v":""},{"$f":"Лист1!C667","v":6},{"$f":"Лист1!BI667/1000","v":0},{"$f":"Лист1!BH667","v":0},{"$f":"IF(#REF!>0,#REF!,0)","v":{"$error":"#REF!"}},{"$f":"IF(G670>0,1,0)","v":{"$error":"#REF!"}},{"$f":"IF(#REF!>0,#REF!,0)","v":{"$error":"#REF!"}},0]
["ГРС.г.Вельск",{"$f":"Лист1!B668","v":""},{"$f":"Лист1!A668","v":""},{"$f":"Лист1!C668","v":6},{"$f":"Лист1!BI668/1000","v":0},{"$f":"Лист1!BH668","v":0},{"$f":"IF(#REF!>0,#REF!,0)","v":{"$error":"#REF!"}},{"$error":"#REF!"},{"$f":"IF(#REF!>0,#REF!,0)","v":{"$error":"#REF!"}},0]
["ГРС.г.Вельск",{"$f":"Лист1!B669","v":""},{"$f":"Лист1!A669","v":""},{"$f":"Лист1!C669","v":6},{"$f":"Лист1!BI669/1000","v":0},{"$f":"Лист1!BH669","v":0},{"$f":"IF(#REF!>0,#REF!,0)","v":{"$error":"#REF!"}},{"$error":"#REF!"},{"$f":"IF(#REF!>0,#REF!,0)","v":{"$error":"#REF!"}},0]
["ГРС.г.Вельск",{"$f":"Лист1!B670","v":"Вельск, ул.Привокзальная-9"},{"$f":"Лист1!A670","v":"Гр.               Ибрагимов      Рафаил Гейдар оглы"},{"$f":"Лист1!C670","v":6},{"$f":"Лист1!BI670/1000","v":1.9E-3},{"$f":"Лист1!BH670","v":6.6800000000000008E-4},{"$f":"IF(#REF!>0,#REF!,0)","v":{"$error":"#REF!"}},{"$f":"IF(G673>0,1,0)","v":{"$error":"#REF!"}},{"$f":"IF(#REF!>0,#REF!,0)","v":{"$error":"#REF!"}},1.232E-3]
["ГРС.г.Вельск",{"$f":"Лист1!B671","v":""},{"$f":"Лист1!A671","v":""},{"$f":"Лист1!C671","v":6},{"$f":"Лист1!BI671/1000","v":0},{"$f":"Лист1!BH671","v":0},{"$f":"IF(#REF!>0,#REF!,0)","v":{"$error":"#REF!"}},{"$f":"IF(G674>0,1,0)","v":{"$error":"#REF!"}},{"$f":"IF(#REF!>0,#REF!,0)","v":{"$error":"#REF!"}},0]
["ГРС.г.Вельск",{"$f":"Лист1!B672","v":""},{"$f":"Лист1!A672","v":""},{"$f":"Лист1!C672","v":6},{"$f":"Лист1!BI672/1000","v":0},{"$f":"Лист1!BH672","v":0},{"$f":"IF(#REF!>0,#REF!,0)","v":{"$error":"#REF!"}},{"$error":"#REF!"},{"$f":"IF(#REF!>0,#REF!,0)","v":{"$error":"#REF!"}},0]
["ГРС.г.Вельск",{"$f":"Лист1!B673","v":""},{"$f":"Лист1!A673","v":""},{"$f":"Лист1!C673","v":6},{"$f":"Лист1!BI673/1000","v":0},{"$f":"Лист1!BH673","v":0},{"$f":"IF(#REF!>0,#REF!,0)","v":{"$error":"#REF!"}},{"$error":"#REF!"},{"$f":"IF(#REF!>0,#REF!,0)","v":{"$error":"#REF!"}},0]
["ГРС.г.Вельск",{"$f":"Лист1!B674","v":"Вельск, ул.1 мая-7"},{"$f":"Лист1!A674","v":"Гр.               Ибрагимов      Рафаил Гейдар оглы"},{"$f":"Лист1!C674","v":6},{"$f":"Лист1!BI674/1000","v":2.3E-3},{"$f":"Лист1!BH674","v":8.8000000000000003E-4},{"$f":"IF(#REF!>0,#REF!,0)","v":{"$error":"#REF!"}},{"$f":"IF(G677>0,1,0)","v":{"$error":"#REF!"}},{"$f":"IF(#REF!>0,#REF!,0)","v":{"$error":"#REF!"}},1.4199999999999998E-3]
["ГРС.г.Вельск",{"$f":"Лист1!B675","v":""},{"$f":"Лист1!A675","v":""},{"$f":"Лист1!C675","v":6},{"$f":"Лист1!BI675/1000","v":0},{"$f":"Лист1!BH675","v":0},{"$f":"IF(#REF!>0,#REF!,0)","v":{"$error":"#REF!"}},{"$f":"IF(G678>0,1,0)","v":{"$error":"#REF!"}},{"$f":"IF(#REF!>0,#REF!,0)","v":{"$error":"#REF!"}},0]
["ГРС.г.Вельск",{"$f":"Лист1!B676","v":""},{"$f":"Лист1!A676","v":""},{"$f":"Лист1!C676","v":6},{"$f":"Лист1!BI676/1000","v":0},{"$f":"Лист1!BH676","v":0},{"$f":"IF(#REF!>0,#REF!,0)","v":{"$error":"#REF!"}},{"$error":"#REF!"},{"$f":"IF(#REF!>0,#REF!,0)","v":{"$error":"#REF!"}},0]
["ГРС.г.Вельск",{"$f":"Лист1!B677","v":""},{"$f":"Лист1!A677","v":""},{"$f":"Лист1!C677","v":6},{"$f":"Лист1!BI677/1000","v":0},{"$f":"Лист1!BH677","v":0},{"$f":"IF(#REF!>0,#REF!,0)","v":{"$error":"#REF!"}},{"$error":"#REF!"},{"$f":"IF(#REF!>0,#REF!,0)","v":{"$error":"#REF!"}},0]
["ГРС.г.Вельск",{"$f":"Лист1!B678","v":""},{"$f":"Лист1!A678","v":"ИП               Крылова         Алена Николаевна"},{"$f":"Лист1!C678","v":6},{"$f":"Лист1!BI678/1000","v":6.1999999999999998E-3},{"$f":"Лист1!BH678","v":6.02E-4},{"$f":"IF(#REF!>0,#REF!,0)","v":{"$error":"#REF!"}},{"$f":"IF(G681>0,1,0)","v":{"$error":"#REF!"}},{"$f":"IF(#REF!>0,#REF!,0)","v":{"$error":"#REF!"}},5.5979999999999997E-3]
["ГРС.г.Вельск",{"$f":"Лист1!B679","v":""},{"$f":"Лист1!A679","v":""},{"$f":"Лист1!C679","v":6},{"$f":"Лист1!BI679/1000","v":0},{"$f":"Лист1!BH679","v":0},{"$f":"IF(#REF!>0,#REF!,0)","v":{"$error":"#REF!"}},{"$f":"IF(G682>0,1,0)","v":{"$error":"#REF!"}},{"$f":"IF(#REF!>0,#REF!,0)","v":{"$error":"#REF!"}},0]
["ГРС.г.Вельск",{"$f":"Лист1!B680","v":""},{"$f":"Лист1!A680","v":""},{"$f":"Лист1!C680","v":6},{"$f":"Лист1!BI680/1000","v":0},{"$f":"Лист1!BH680","v":0},{"$f":"IF(#REF!>0,#REF!,0)","v":{"$error":"#REF!"}},{"$error":"#REF!"},{"$f":"IF(#REF!>0,#REF!,0)","v":{"$error":"#REF!"}},0]
["ГРС.г.Вельск",{"$f":"Лист1!B681","v":""},{"$f":"Лист1!A681","v":""},{"$f":"Лист1!C681","v":6},{"$f":"Лист1!BI681/1000","v":0},{"$f":"Лист1!BH681","v":0},{"$f":"IF(#REF!>0,#REF!,0)","v":{"$error":"#REF!"}},{"$error":"#REF!"},{"$f":"IF(#REF!>0,#REF!,0)","v":{"$error":"#REF!"}},0]
["ГРС.г.Вельск",{"$f":"Лист1!B682","v":""},{"$f":"Лист1!A682","v":"Гр.               Верещагин     Роман Сергеевич"},{"$f":"Лист1!C682","v":7},{"$f":"Лист1!BI682/1000","v":5.9999999999999995E-4},{"$f":"Лист1!BH682","v":3.5499999999999996E-4},{"$f":"IF(#REF!>0,#REF!,0)","v":{"$error":"#REF!"}},{"$f":"IF(G685>0,1,0)","v":{"$error":"#REF!"}},{"$f":"IF(#REF!>0,#REF!,0)","v":{"$error":"#REF!"}},2.4499999999999999E-4]
["ГРС.г.Вельск",{"$f":"Лист1!B683","v":""},{"$f":"Лист1!A683","v":""},{"$f":"Лист1!C683","v":7},{"$f":"Лист1!BI683/1000","v":0},{"$f":"Лист1!BH683","v":0},{"$f":"IF(#REF!>0,#REF!,0)","v":{"$error":"#REF!"}},{"$f":"IF(G686>0,1,0)","v":{"$error":"#REF!"}},{"$f":"IF(#REF!>0,#REF!,0)","v":{"$error":"#REF!"}},0]
["ГРС.г.Вельск",{"$f":"Лист1!B684","v":""},{"$f":"Лист1!A684","v":""},{"$f":"Лист1!C684","v":7},{"$f":"Лист1!BI684/1000","v":0},{"$f":"Лист1!BH684","v":0},{"$f":"IF(#REF!>0,#REF!,0)","v":{"$error":"#REF!"}},{"$error":"#REF!"},{"$f":"IF(#REF!>0,#REF!,0)","v":{"$error":"#REF!"}},0]
["ГРС.г.Вельск",{"$f":"Лист1!B685","v":""},{"$f":"Лист1!A685","v":""},{"$f":"Лист1!C685","v":7},{"$f":"Лист1!BI685/1000","v":0},{"$f":"Лист1!BH685","v":0},{"$f":"IF(#REF!>0,#REF!,0)","v":{"$error":"#REF!"}},{"$error":"#REF!"},{"$f":"IF(#REF!>0,#REF!,0)","v":{"$error":"#REF!"}},0]
["ГРС.г.Вельск",{"$f":"Лист1!B686","v":""},{"$f":"Лист1!A686","v":"ООО          \"Русская Баня\""},{"$f":"Лист1!C686","v":6},{"$f":"Лист1!BI686/1000","v":2.5000000000000001E-3},{"$f":"Лист1!BH686","v":3.0000000000000001E-3},{"$f":"IF(#REF!>0,#REF!,0)","v":{"$error":"#REF!"}},{"$f":"IF(G689>0,1,0)","v":{"$error":"#REF!"}},{"$f":"IF(#REF!>0,#REF!,0)","v":{"$error":"#REF!"}},-5.0000000000000001E-4]
["ГРС.г.Вельск",{"$f":"Лист1!B687","v":""},{"$f":"Лист1!A687","v":""},{"$f":"Лист1!C687","v":6},{"$f":"Лист1!BI687/1000","v":0},{"$f":"Лист1!BH687","v":0},{"$f":"IF(#REF!>0,#REF!,0)","v":{"$error":"#REF!"}},{"$f":"IF(G690>0,1,0)","v":{"$error":"#REF!"}},{"$f":"IF(#REF!>0,#REF!,0)","v":{"$error":"#REF!"}},0]
["ГРС.г.Вельск",{"$f":"Лист1!B688","v":""},{"$f":"Лист1!A688","v":""},{"$f":"Лист1!C688","v":6},{"$f":"Лист1!BI688/1000","v":0},{"$f":"Лист1!BH688","v":0},{"$f":"IF(#REF!>0,#REF!,0)","v":{"$error":"#REF!"}},{"$error":"#REF!"},{"$f":"IF(#REF!>0,#REF!,0)","v":{"$error":"#REF!"}},0]
["ГРС.г.Вельск",{"$f":"Лист1!B689","v":""},{"$f":"Лист1!A689","v":""},{"$f":"Лист1!C689","v":6},{"$f":"Лист1!BI689/1000","v":0},{"$f":"Лист1!BH689","v":0},{"$f":"IF(#REF!>0,#REF!,0)","v":{"$error":"#REF!"}},{"$error":"#REF!"},{"$f":"IF(#REF!>0,#REF!,0)","v":{"$error":"#REF!"}},0]
["ГРС.г.Вельск",{"$f":"Лист1!B690","v":"д.Лукинская"},{"$f":"Лист1!A690","v":"Гр.               Сафоновский Владимир Николаевич"},{"$f":"Лист1!C690","v":7},{"$f":"Лист1!BI690/1000","v":3.0000000000000001E-3},{"$f":"Лист1!BH690","v":2.9299999999999997E-4},{"$f":"IF(#REF!>0,#REF!,0)","v":{"$error":"#REF!"}},{"$f":"IF(G693>0,1,0)","v":{"$error":"#REF!"}},{"$f":"IF(#REF!>0,#REF!,0)","v":{"$error":"#REF!"}},2.7070000000000002E-3]
["ГРС.г.Вельск",{"$f":"Лист1!B691","v":""},{"$f":"Лист1!A691","v":""},{"$f":"Лист1!C691","v":7},{"$f":"Лист1!BI691/1000","v":0},{"$f":"Лист1!BH691","v":0},{"$f":"IF(#REF!>0,#REF!,0)","v":{"$error":"#REF!"}},{"$f":"IF(G694>0,1,0)","v":{"$error":"#REF!"}},{"$f":"IF(#REF!>0,#REF!,0)","v":{"$error":"#REF!"}},0]
["ГРС.г.Вельск",{"$f":"Лист1!B692","v":""},{"$f":"Лист1!A692","v":""},{"$f":"Лист1!C692","v":7},{"$f":"Лист1!BI692/1000","v":0},{"$f":"Лист1!BH692","v":0},{"$f":"IF(#REF!>0,#REF!,0)","v":{"$error":"#REF!"}},{"$error":"#REF!"},{"$f":"IF(#REF!>0,#REF!,0)","v":{"$error":"#REF!"}},0]
["ГРС.г.Вельск",{"$f":"Лист1!B693","v":""},{"$f":"Лист1!A693","v":""},{"$f":"Лист1!C693","v":7},{"$f":"Лист1!BI693/1000","v":0},{"$f":"Лист1!BH693","v":0},{"$f":"IF(#REF!>0,#REF!,0)","v":{"$error":"#REF!"}},{"$error":"#REF!"},{"$f":"IF(#REF!>0,#REF!,0)","v":{"$error":"#REF!"}},0]
["ГРС.г.Вельск",{"$f":"Лист1!B694","v":"Вельск, ул.Тракторная-18А (гараж)"},{"$f":"Лист1!A694","v":"МУП          \"ЖЭУ\"  г.Вельск"},{"$f":"Лист1!C694","v":6},{"$f":"Лист1!BI694/1000","v":2.2000000000000001E-3},{"$f":"Лист1!BH694","v":9.9799999999999997E-4},{"$f":"IF(#REF!>0,#REF!,0)","v":{"$error":"#REF!"}},{"$f":"IF(G697>0,1,0)","v":{"$error":"#REF!"}},{"$f":"IF(#REF!>0,#REF!,0)","v":{"$error":"#REF!"}},1.2020000000000002E-3]
["ГРС.г.Вельск",{"$f":"Лист1!B695","v":""},{"$f":"Лист1!A695","v":""},{"$f":"Лист1!C695","v":6},{"$f":"Лист1!BI695/1000","v":0},{"$f":"Лист1!BH695","v":0},{"$f":"IF(#REF!>0,#REF!,0)","v":{"$error":"#REF!"}},{"$f":"IF(G698>0,1,0)","v":{"$error":"#REF!"}},{"$f":"IF(#REF!>0,#REF!,0)","v":{"$error":"#REF!"}},0]
["ГРС.г.Вельск",{"$f":"Лист1!B696","v":""},{"$f":"Лист1!A696","v":""},{"$f":"Лист1!C696","v":6},{"$f":"Лист1!BI696/1000","v":0},{"$f":"Лист1!BH696","v":0},{"$f":"IF(#REF!>0,#REF!,0)","v":{"$error":"#REF!"}},{"$error":"#REF!"},{"$f":"IF(#REF!>0,#REF!,0)","v":{"$error":"#REF!"}},0]
["ГРС.г.Вельск",{"$f":"Лист1!B697","v":""},{"$f":"Лист1!A697","v":""},{"$f":"Лист1!C697","v":6},{"$f":"Лист1!BI697/1000","v":0},{"$f":"Лист1!BH697","v":0},{"$f":"IF(#REF!>0,#REF!,0)","v":{"$error":"#REF!"}},{"$error":"#REF!"},{"$f":"IF(#REF!>0,#REF!,0)","v":{"$error":"#REF!"}},0]
["ГРС.г.Вельск",{"$f":"Лист1!B698","v":"Вельск, ул.Нечаевского-3 (адм.здание)"},{"$f":"Лист1!A698","v":"МУП          \"ЖЭУ\"  г.Вельск"},{"$f":"Лист1!C698","v":6},{"$f":"Лист1!BI698/1000","v":1.1999999999999999E-3},{"$f":"Лист1!BH698","v":5.0600000000000005E-4},{"$f":"IF(#REF!>0,#REF!,0)","v":{"$error":"#REF!"}},{"$f":"IF(G701>0,1,0)","v":{"$error":"#REF!"}},{"$f":"IF(#REF!>0,#REF!,0)","v":{"$error":"#REF!"}},6.9399999999999985E-4]
["ГРС.г.Вельск",{"$f":"Лист1!B699","v":""},{"$f":"Лист1!A699","v":""},{"$f":"Лист1!C699","v":6},{"$f":"Лист1!BI699/1000","v":0},{"$f":"Лист1!BH699","v":0},{"$f":"IF(#REF!>0,#REF!,0)","v":{"$error":"#REF!"}},{"$f":"IF(G702>0,1,0)","v":{"$error":"#REF!"}},{"$f":"IF(#REF!>0,#REF!,0)","v":{"$error":"#REF!"}},0]
["ГРС.г.Вельск",{"$f":"Лист1!B700","v":""},{"$f":"Лист1!A700","v":""},{"$f":"Лист1!C700","v":6},{"$f":"Лист1!BI700/1000","v":0},{"$f":"Лист1!BH700","v":0},{"$f":"IF(#REF!>0,#REF!,0)","v":{"$error":"#REF!"}},{"$error":"#REF!"},{"$f":"IF(#REF!>0,#REF!,0)","v":{"$error":"#REF!"}},0]
["ГРС.г.Вельск",{"$f":"Лист1!B701","v":""},{"$f":"Лист1!A701","v":""},{"$f":"Лист1!C701","v":6},{"$f":"Лист1!BI701/1000","v":0},{"$f":"Лист1!BH701","v":0},{"$f":"IF(#REF!>0,#REF!,0)","v":{"$error":"#REF!"}},{"$error":"#REF!"},{"$f":"IF(#REF!>0,#REF!,0)","v":{"$error":"#REF!"}},0]
["ГРС.г.Вельск",{"$f":"Лист1!B702","v":"Вельск, ул.Горького-15"},{"$f":"Лист1!A702","v":"ООО          \"Торговая фирма\""},{"$f":"Лист1!C702","v":6},{"$f":"Лист1!BI702/1000","v":1.1999999999999999E-3},{"$f":"Лист1!BH702","v":1.0349999999999999E-3},{"$f":"IF(#REF!>0,#REF!,0)","v":{"$error":"#REF!"}},{"$f":"IF(G705>0,1,0)","v":{"$error":"#REF!"}},{"$f":"IF(#REF!>0,#REF!,0)","v":{"$error":"#REF!"}},1.65E-4]
["ГРС.г.Вельск",{"$f":"Лист1!B703","v":""},{"$f":"Лист1!A703","v":""},{"$f":"Лист1!C703","v":6},{"$f":"Лист1!BI703/1000","v":0},{"$f":"Лист1!BH703","v":0},{"$f":"IF(#REF!>0,#REF!,0)","v":{"$error":"#REF!"}},{"$f":"IF(G706>0,1,0)","v":{"$error":"#REF!"}},{"$f":"IF(#REF!>0,#REF!,0)","v":{"$error":"#REF!"}},0]
["ГРС.г.Вельск",{"$f":"Лист1!B704","v":""},{"$f":"Лист1!A704","v":""},{"$f":"Лист1!C704","v":6},{"$f":"Лист1!BI704/1000","v":0},{"$f":"Лист1!BH704","v":0},{"$f":"IF(#REF!>0,#REF!,0)","v":{"$error":"#REF!"}},{"$error":"#REF!"},{"$f":"IF(#REF!>0,#REF!,0)","v":{"$error":"#REF!"}},0]
["ГРС.г.Вельск",{"$f":"Лист1!B705","v":""},{"$f":"Лист1!A705","v":""},{"$f":"Лист1!C705","v":6},{"$f":"Лист1!BI705/1000","v":0},{"$f":"Лист1!BH705","v":0},{"$f":"IF(#REF!>0,#REF!,0)","v":{"$error":"#REF!"}},{"$error":"#REF!"},{"$f":"IF(#REF!>0,#REF!,0)","v":{"$error":"#REF!"}},0]
["ГРС.г.Вельск",{"$f":"Лист1!B706","v":"Вельск, ул.Чехова-10а"},{"$f":"Лист1!A706","v":"ООО          \"Торговая фирма\""},{"$f":"Лист1!C706","v":6},{"$f":"Лист1!BI706/1000","v":1.6999999999999999E-3},{"$f":"Лист1!BH706","v":1.1999999999999999E-3},{"$f":"IF(#REF!>0,#REF!,0)","v":{"$error":"#REF!"}},{"$f":"IF(G709>0,1,0)","v":{"$error":"#REF!"}},{"$f":"IF(#REF!>0,#REF!,0)","v":{"$error":"#REF!"}},5.0000000000000001E-4]
["ГРС.г.Вельск",{"$f":"Лист1!B707","v":""},{"$f":"Лист1!A707","v":""},{"$f":"Лист1!C707","v":6},{"$f":"Лист1!BI707/1000","v":0},{"$f":"Лист1!BH707","v":0},{"$f":"IF(#REF!>0,#REF!,0)","v":{"$error":"#REF!"}},{"$f":"IF(G710>0,1,0)","v":{"$error":"#REF!"}},{"$f":"IF(#REF!>0,#REF!,0)","v":{"$error":"#REF!"}},0]
["ГРС.г.Вельск",{"$f":"Лист1!B708","v":""},{"$f":"Лист1!A708","v":""},{"$f":"Лист1!C708","v":6},{"$f":"Лист1!BI708/1000","v":0},{"$f":"Лист1!BH708","v":0},{"$f":"IF(#REF!>0,#REF!,0)","v":{"$error":"#REF!"}},{"$error":"#REF!"},{"$f":"IF(#REF!>0,#REF!,0)","v":{"$error":"#REF!"}},0]
["ГРС.г.Вельск",{"$f":"Лист1!B709","v":""},{"$f":"Лист1!A709","v":""},{"$f":"Лист1!C709","v":6},{"$f":"Лист1!BI709/1000","v":0},{"$f":"Лист1!BH709","v":0},{"$f":"IF(#REF!>0,#REF!,0)","v":{"$error":"#REF!"}},{"$error":"#REF!"},{"$f":"IF(#REF!>0,#REF!,0)","v":{"$error":"#REF!"}},0]
["ГРС.г.Вельск",{"$f":"Лист1!B710","v":""},{"$f":"Лист1!A710","v":"ИП               Осекина        Людмила Петровна"},{"$f":"Лист1!C710","v":7},{"$f":"Лист1!BI710/1000","v":3.2000000000000003E-4},{"$f":"Лист1!BH710","v":3.2000000000000003E-4},{"$f":"IF(#REF!>0,#REF!,0)","v":{"$error":"#REF!"}},{"$f":"IF(G713>0,1,0)","v":{"$error":"#REF!"}},{"$f":"IF(#REF!>0,#REF!,0)","v":{"$error":"#REF!"}},0]
["ГРС.г.Вельск",{"$f":"Лист1!B711","v":""},{"$f":"Лист1!A711","v":""},{"$f":"Лист1!C711","v":7},{"$f":"Лист1!BI711/1000","v":0},{"$f":"Лист1!BH711","v":0},{"$f":"IF(#REF!>0,#REF!,0)","v":{"$error":"#REF!"}},{"$f":"IF(G714>0,1,0)","v":{"$error":"#REF!"}},{"$f":"IF(#REF!>0,#REF!,0)","v":{"$error":"#REF!"}},0]
["ГРС.г.Вельск",{"$f":"Лист1!B712","v":""},{"$f":"Лист1!A712","v":""},{"$f":"Лист1!C712","v":7},{"$f":"Лист1!BI712/1000","v":0},{"$f":"Лист1!BH712","v":0},{"$f":"IF(#REF!>0,#REF!,0)","v":{"$error":"#REF!"}},{"$error":"#REF!"},{"$f":"IF(#REF!>0,#REF!,0)","v":{"$error":"#REF!"}},0]
["ГРС.г.Вельск",{"$f":"Лист1!B713","v":""},{"$f":"Лист1!A713","v":""},{"$f":"Лист1!C713","v":7},{"$f":"Лист1!BI713/1000","v":0},{"$f":"Лист1!BH713","v":0},{"$f":"IF(#REF!>0,#REF!,0)","v":{"$error":"#REF!"}},{"$error":"#REF!"},{"$f":"IF(#REF!>0,#REF!,0)","v":{"$error":"#REF!"}},0]
["ГРС.г.Вельск",{"$f":"Лист1!B714","v":""},{"$f":"Лист1!A714","v":"ИП                Шишова        Наталия Владимировна"},{"$f":"Лист1!C714","v":6},{"$f":"Лист1!BI714/1000","v":2E-3},{"$f":"Лист1!BH714","v":8.8000000000000003E-4},{"$f":"IF(#REF!>0,#REF!,0)","v":{"$error":"#REF!"}},{"$f":"IF(G717>0,1,0)","v":{"$error":"#REF!"}},{"$f":"IF(#REF!>0,#REF!,0)","v":{"$error":"#REF!"}},1.1199999999999999E-3]
["ГРС.г.Вельск",{"$f":"Лист1!B715","v":""},{"$f":"Лист1!A715","v":""},{"$f":"Лист1!C715","v":6},{"$f":"Лист1!BI715/1000","v":0},{"$f":"Лист1!BH715","v":0},{"$f":"IF(#REF!>0,#REF!,0)","v":{"$error":"#REF!"}},{"$f":"IF(G718>0,1,0)","v":{"$error":"#REF!"}},{"$f":"IF(#REF!>0,#REF!,0)","v":{"$error":"#REF!"}},0]
["ГРС.г.Вельск",{"$f":"Лист1!B716","v":""},{"$f":"Лист1!A716","v":""},{"$f":"Лист1!C716","v":6},{"$f":"Лист1!BI716/1000","v":0},{"$f":"Лист1!BH716","v":0},{"$f":"IF(#REF!>0,#REF!,0)","v":{"$error":"#REF!"}},{"$error":"#REF!"},{"$f":"IF(#REF!>0,#REF!,0)","v":{"$error":"#REF!"}},0]
["ГРС.г.Вельск",{"$f":"Лист1!B717","v":""},{"$f":"Лист1!A717","v":""},{"$f":"Лист1!C717","v":6},{"$f":"Лист1!BI717/1000","v":0},{"$f":"Лист1!BH717","v":0},{"$f":"IF(#REF!>0,#REF!,0)","v":{"$error":"#REF!"}},{"$error":"#REF!"},{"$f":"IF(#REF!>0,#REF!,0)","v":{"$error":"#REF!"}},0]
["ГРС.г.Вельск",{"$f":"Лист1!B718","v":""},{"$f":"Лист1!A718","v":"МБОУ         \"Гимназия №4 г.Вельска\""},{"$f":"Лист1!C718","v":6},{"$f":"Лист1!BI718/1000","v":4.0000000000000001E-3},{"$f":"Лист1!BH718","v":5.0090000000000004E-3},{"$f":"IF(#REF!>0,#REF!,0)","v":{"$error":"#REF!"}},{"$f":"IF(G721>0,1,0)","v":{"$error":"#REF!"}},{"$f":"IF(#REF!>0,#REF!,0)","v":{"$error":"#REF!"}},-1.0090000000000003E-3]
["ГРС.г.Вельск",{"$f":"Лист1!B719","v":""},{"$f":"Лист1!A719","v":""},{"$f":"Лист1!C719","v":6},{"$f":"Лист1!BI719/1000","v":0},{"$f":"Лист1!BH719","v":0},{"$f":"IF(#REF!>0,#REF!,0)","v":{"$error":"#REF!"}},{"$f":"IF(G722>0,1,0)","v":{"$error":"#REF!"}},{"$f":"IF(#REF!>0,#REF!,0)","v":{"$error":"#REF!"}},0]
["ГРС.г.Вельск",{"$f":"Лист1!B720","v":""},{"$f":"Лист1!A720","v":""},{"$f":"Лист1!C720","v":6},{"$f":"Лист1!BI720/1000","v":0},{"$f":"Лист1!BH720","v":0},{"$f":"IF(#REF!>0,#REF!,0)","v":{"$error":"#REF!"}},{"$error":"#REF!"},{"$f":"IF(#REF!>0,#REF!,0)","v":{"$error":"#REF!"}},{"$f":"E723-F723","v":0}]
["ГРС.г.Вельск",{"$f":"Лист1!B721","v":""},{"$f":"Лист1!A721","v":""},{"$f":"Лист1!C721","v":6},{"$f":"Лист1!BI721/1000","v":0},{"$f":"Лист1!BH721","v":0},{"$f":"IF(#REF!>0,#REF!,0)","v":{"$error":"#REF!"}},{"$error":"#REF!"},{"$f":"IF(#REF!>0,#REF!,0)","v":{"$error":"#REF!"}},0]
["ГРС.г.Вельск",{"$f":"Лист1!B722","v":""},{"$f":"Лист1!A722","v":"Гр.              Макаров        Евгений Валерьевич"},{"$f":"Лист1!C722","v":7},{"$f":"Лист1!BI722/1000","v":8.9999999999999998E-4},{"$f":"Лист1!BH722","v":7.7000000000000007E-4},{"$f":"IF(#REF!>0,#REF!,0)","v":{"$error":"#REF!"}},{"$f":"IF(G725>0,1,0)","v":{"$error":"#REF!"}},{"$f":"IF(#REF!>0,#REF!,0)","v":{"$error":"#REF!"}},1.2999999999999991E-4]
["ГРС.г.Вельск",{"$f":"Лист1!B723","v":""},{"$f":"Лист1!A723","v":""},{"$f":"Лист1!C723","v":7},{"$f":"Лист1!BI723/1000","v":0},{"$f":"Лист1!BH723","v":0},{"$f":"IF(#REF!>0,#REF!,0)","v":{"$error":"#REF!"}},{"$f":"IF(G726>0,1,0)","v":{"$error":"#REF!"}},{"$f":"IF(#REF!>0,#REF!,0)","v":{"$error":"#REF!"}},0]
["ГРС.г.Вельск",{"$f":"Лист1!B724","v":""},{"$f":"Лист1!A724","v":""},{"$f":"Лист1!C724","v":7},{"$f":"Лист1!BI724/1000","v":0},{"$f":"Лист1!BH724","v":0},{"$f":"IF(#REF!>0,#REF!,0)","v":{"$error":"#REF!"}},{"$error":"#REF!"},{"$f":"IF(#REF!>0,#REF!,0)","v":{"$error":"#REF!"}},0]
["ГРС.г.Вельск",{"$f":"Лист1!B725","v":""},{"$f":"Лист1!A725","v":""},{"$f":"Лист1!C725","v":7},{"$f":"Лист1!BI725/1000","v":0},{"$f":"Лист1!BH725","v":0},{"$f":"IF(#REF!>0,#REF!,0)","v":{"$error":"#REF!"}},{"$error":"#REF!"},{"$f":"IF(#REF!>0,#REF!,0)","v":{"$error":"#REF!"}},0]
["ГРС.г.Вельск",{"$f":"Лист1!B726","v":""},{"$f":"Лист1!A726","v":"ИП              Зубов            Александр Михайлович"},{"$f":"Лист1!C726","v":7},{"$f":"Лист1!BI726/1000","v":6.7000000000000002E-4},{"$f":"Лист1!BH726","v":4.6300000000000003E-4},{"$f":"IF(#REF!>0,#REF!,0)","v":{"$error":"#REF!"}},{"$f":"IF(G729>0,1,0)","v":{"$error":"#REF!"}},{"$f":"IF(#REF!>0,#REF!,0)","v":{"$error":"#REF!"}},2.0699999999999999E-4]
["ГРС.г.Вельск",{"$f":"Лист1!B727","v":""},{"$f":"Лист1!A727","v":""},{"$f":"Лист1!C727","v":7},{"$f":"Лист1!BI727/1000","v":0},{"$f":"Лист1!BH727","v":0},{"$f":"IF(#REF!>0,#REF!,0)","v":{"$error":"#REF!"}},{"$f":"IF(G730>0,1,0)","v":{"$error":"#REF!"}},{"$f":"IF(#REF!>0,#REF!,0)","v":{"$error":"#REF!"}},0]
["ГРС.г.Вельск",{"$f":"Лист1!B728","v":""},{"$f":"Лист1!A728","v":""},{"$f":"Лист1!C728","v":7},{"$f":"Лист1!BI728/1000","v":0},{"$f":"Лист1!BH728","v":0},{"$f":"IF(#REF!>0,#REF!,0)","v":{"$error":"#REF!"}},{"$error":"#REF!"},{"$f":"IF(#REF!>0,#REF!,0)","v":{"$error":"#REF!"}},0]
["ГРС.г.Вельск",{"$f":"Лист1!B729","v":""},{"$f":"Лист1!A729","v":""},{"$f":"Лист1!C729","v":7},{"$f":"Лист1!BI729/1000","v":0},{"$f":"Лист1!BH729","v":0},{"$f":"IF(#REF!>0,#REF!,0)","v":{"$error":"#REF!"}},{"$error":"#REF!"},{"$f":"IF(#REF!>0,#REF!,0)","v":{"$error":"#REF!"}},0]
["ГРС.г.Вельск",{"$f":"Лист1!B730","v":""},{"$f":"Лист1!A730","v":"ООО          \"Торговый дом \"УМК\"                               (до 01.08  -  ООО \"УПК\")"},{"$f":"Лист1!C730","v":5},{"$f":"Лист1!BI730/1000","v":3.7999999999999999E-2},{"$f":"Лист1!BH730","v":3.8406999999999997E-2},{"$f":"IF(#REF!>0,#REF!,0)","v":{"$error":"#REF!"}},{"$f":"IF(G733>0,1,0)","v":{"$error":"#REF!"}},{"$f":"IF(#REF!>0,#REF!,0)","v":{"$error":"#REF!"}},-4.0699999999999764E-4]
["ГРС.г.Вельск",{"$f":"Лист1!B731","v":""},{"$f":"Лист1!A731","v":""},{"$f":"Лист1!C731","v":5},{"$f":"Лист1!BI731/1000","v":0},{"$f":"Лист1!BH731","v":0},{"$f":"IF(#REF!>0,#REF!,0)","v":{"$error":"#REF!"}},{"$f":"IF(G734>0,1,0)","v":{"$error":"#REF!"}},{"$f":"IF(#REF!>0,#REF!,0)","v":{"$error":"#REF!"}},0]
["ГРС.г.Вельск",{"$f":"Лист1!B732","v":""},{"$f":"Лист1!A732","v":""},{"$f":"Лист1!C732","v":5},{"$f":"Лист1!BI732/1000","v":0},{"$f":"Лист1!BH732","v":0},{"$f":"IF(#REF!>0,#REF!,0)","v":{"$error":"#REF!"}},{"$error":"#REF!"},{"$f":"IF(#REF!>0,#REF!,0)","v":{"$error":"#REF!"}},0]
["ГРС.г.Вельск",{"$f":"Лист1!B733","v":""},{"$f":"Лист1!A733","v":""},{"$f":"Лист1!C733","v":5},{"$f":"Лист1!BI733/1000","v":0},{"$f":"Лист1!BH733","v":0},{"$f":"IF(#REF!>0,#REF!,0)","v":{"$error":"#REF!"}},{"$error":"#REF!"},{"$f":"IF(#REF!>0,#REF!,0)","v":{"$error":"#REF!"}},0]
["ГРС.г.Вельск",{"$f":"Лист1!B734","v":"Вельск, ул.Фефилова-31 (с 01.03  -  ул.1 мая)"},{"$f":"Лист1!A734","v":"ООО          \"ВельскТеплоКом\""},{"$f":"Лист1!C734","v":6},{"$f":"Лист1!BI734/1000","v":0},{"$f":"Лист1!BH734","v":0},{"$f":"IF(#REF!>0,#REF!,0)","v":{"$error":"#REF!"}},{"$f":"IF(G737>0,1,0)","v":{"$error":"#REF!"}},{"$f":"IF(#REF!>0,#REF!,0)","v":{"$error":"#REF!"}},0]
["ГРС.г.Вельск",{"$f":"Лист1!B735","v":""},{"$f":"Лист1!A735","v":""},{"$f":"Лист1!C735","v":6},{"$f":"Лист1!BI735/1000","v":0},{"$f":"Лист1!BH735","v":0},{"$f":"IF(#REF!>0,#REF!,0)","v":{"$error":"#REF!"}},{"$f":"IF(G738>0,1,0)","v":{"$error":"#REF!"}},{"$f":"IF(#REF!>0,#REF!,0)","v":{"$error":"#REF!"}},0]
["ГРС.г.Вельск",{"$f":"Лист1!B736","v":"Вельск, ул.Белинского-53"},{"$f":"Лист1!A736","v":"ООО          \"ВельскТеплоКом\""},{"$f":"Лист1!C736","v":6},{"$f":"Лист1!BI736/1000","v":8.9999999999999993E-3},{"$f":"Лист1!BH736","v":9.477000000000001E-3},{"$f":"IF(#REF!>0,#REF!,0)","v":{"$error":"#REF!"}},{"$error":"#REF!"},{"$f":"IF(#REF!>0,#REF!,0)","v":{"$error":"#REF!"}},-4.7700000000000173E-4]
["ГРС.г.Вельск",{"$f":"Лист1!B737","v":""},{"$f":"Лист1!A737","v":""},{"$f":"Лист1!C737","v":6},{"$f":"Лист1!BI737/1000","v":0},{"$f":"Лист1!BH737","v":0},{"$f":"IF(#REF!>0,#REF!,0)","v":{"$error":"#REF!"}},{"$error":"#REF!"},{"$f":"IF(#REF!>0,#REF!,0)","v":{"$error":"#REF!"}},0]
["ГРС.г.Вельск",{"$f":"Лист1!B738","v":"Вельск, (ул.Белинского-53 + ул.1 мая/ул.К.Маркса, кв.47)"},{"$f":"Лист1!A738","v":"ООО          \"ВельскТеплоКом\""},{"$f":"Лист1!C738","v":6},{"$f":"Лист1!BI738/1000","v":0},{"$f":"Лист1!BH738","v":0},{"$f":"IF(#REF!>0,#REF!,0)","v":{"$error":"#REF!"}},{"$f":"IF(G741>0,1,0)","v":{"$error":"#REF!"}},{"$f":"IF(#REF!>0,#REF!,0)","v":{"$error":"#REF!"}},0]
["ГРС.г.Вельск",{"$f":"Лист1!B739","v":""},{"$f":"Лист1!A739","v":""},{"$f":"Лист1!C739","v":6},{"$f":"Лист1!BI739/1000","v":0},{"$f":"Лист1!BH739","v":0},{"$f":"IF(#REF!>0,#REF!,0)","v":{"$error":"#REF!"}},{"$f":"IF(G742>0,1,0)","v":{"$error":"#REF!"}},{"$f":"IF(#REF!>0,#REF!,0)","v":{"$error":"#REF!"}},0]
["ГРС.г.Вельск",{"$f":"Лист1!B740","v":"Вельск, ул.1 мая/ул.К.Маркса, квартал 47"},{"$f":"Лист1!A740","v":"ООО          \"ВельскТеплоКом\""},{"$f":"Лист1!C740","v":6},{"$f":"Лист1!BI740/1000","v":8.0000000000000002E-3},{"$f":"Лист1!BH740","v":6.0999999999999995E-3},{"$f":"IF(#REF!>0,#REF!,0)","v":{"$error":"#REF!"}},{"$error":"#REF!"},{"$f":"IF(#REF!>0,#REF!,0)","v":{"$error":"#REF!"}},1.9000000000000006E-3]
["ГРС.г.Вельск",{"$f":"Лист1!B741","v":""},{"$f":"Лист1!A741","v":""},{"$f":"Лист1!C741","v":6},{"$f":"Лист1!BI741/1000","v":0},{"$f":"Лист1!BH741","v":0},{"$f":"IF(#REF!>0,#REF!,0)","v":{"$error":"#REF!"}},{"$error":"#REF!"},{"$f":"IF(#REF!>0,#REF!,0)","v":{"$error":"#REF!"}},0]
["ГРС.г.Вельск",{"$f":"Лист1!B742","v":"пст.Аргуновский, ул.Мира-5"},{"$f":"Лист1!A742","v":"ООО          \"ВельскТеплоКом\""},{"$f":"Лист1!C742","v":6},{"$f":"Лист1!BI742/1000","v":0},{"$f":"Лист1!BH742","v":0},{"$f":"IF(#REF!>0,#REF!,0)","v":{"$error":"#REF!"}},{"$f":"IF(G745>0,1,0)","v":{"$error":"#REF!"}},{"$f":"IF(#REF!>0,#REF!,0)","v":{"$error":"#REF!"}},0]
["ГРС.г.Вельск",{"$f":"Лист1!B743","v":""},{"$f":"Лист1!A743","v":""},{"$f":"Лист1!C743","v":6},{"$f":"Лист1!BI743/1000","v":0},{"$f":"Лист1!BH743","v":0},null,null,null,0]
["ГРС.г.Вельск",{"$f":"Лист1!B744","v":"пст.Аргуновский, ул.Мира-5"},{"$f":"Лист1!A744","v":"ООО          \"ВельскТеплоКом\""},{"$f":"Лист1!C744","v":6},{"$f":"Лист1!BI744/1000","v":5.4999999999999997E-3},{"$f":"Лист1!BH744","v":5.4000000000000003E-3},null,null,null,9.9999999999999395E-5]
["ГРС.г.Вельск",{"$f":"Лист1!B745","v":""},{"$f":"Лист1!A745","v":""},{"$f":"Лист1!C745","v":6},{"$f":"Лист1!BI745/1000","v":0},{"$f":"Лист1!BH745","v":0},null,null,null,0]
["ГРС.г.Вельск",{"$f":"Лист1!B746","v":"Вельск, (ул.Красная-24а + ул.Революционная-1а с 01.09)"},{"$f":"Лист1!A746","v":"ООО          \"Торговый дом \"Устьялес\""},{"$f":"Лист1!C746","v":6},{"$f":"Лист1!BI746/1000","v":6.4000000000000003E-3},{"$f":"Лист1!BH746","v":1.6899999999999999E-3},null,null,null,4.7100000000000006E-3]
["ГРС.г.Вельск",{"$f":"Лист1!B747","v":""},{"$f":"Лист1!A747","v":""},{"$f":"Лист1!C747","v":6},{"$f":"Лист1!BI747/1000","v":0},{"$f":"Лист1!BH747","v":0},null,null,null,0]
["ГРС.г.Вельск",{"$f":"Лист1!B748","v":""},{"$f":"Лист1!A748","v":""},{"$f":"Лист1!C748","v":6},{"$f":"Лист1!BI748/1000","v":0},{"$f":"Лист1!BH748","v":0},null,null,null,0]
["ГРС.г.Вельск",{"$f":"Лист1!B749","v":""},{"$f":"Лист1!A749","v":""},{"$f":"Лист1!C749","v":6},{"$f":"Лист1!BI749/1000","v":0},{"$f":"Лист1!BH749","v":0},null,null,null,0]
["ГРС.г.Вельск",{"$f":"Лист1!B750","v":"д.Горка Муравьевская, КСК"},{"$f":"Лист1!A750","v":"МБУК         \"Районный культурный центр\""},{"$f":"Лист1!C750","v":6},{"$f":"Лист1!BI750/1000","v":2.5999999999999999E-3},{"$f":"Лист1!BH750","v":4.4909999999999993E-3},null,null,null,-1.8909999999999995E-3]
["ГРС.г.Вельск",{"$f":"Лист1!B751","v":""},{"$f":"Лист1!A751","v":""},{"$f":"Лист1!C751","v":6},{"$f":"Лист1!BI751/1000","v":0},{"$f":"Лист1!BH751","v":0},null,null,null,0]
["ГРС.г.Вельск",{"$f":"Лист1!B752","v":""},{"$f":"Лист1!A752","v":""},{"$f":"Лист1!C752","v":6},{"$f":"Лист1!BI752/1000","v":0},{"$f":"Лист1!BH752","v":0},null,null,null,0]
["ГРС.г.Вельск",{"$f":"Лист1!B753","v":""},{"$f":"Лист1!A753","v":""},{"$f":"Лист1!C753","v":6},{"$f":"Лист1!BI753/1000","v":0},{"$f":"Лист1!BH753","v":0},null,null,null,0]
["ГРС.г.Вельск",{"$f":"Лист1!B754","v":""},{"$f":"Лист1!A754","v":"ГБУК АО    \"Вельский краеведческий музей\" "},{"$f":"Лист1!C754","v":6},{"$f":"Лист1!BI754/1000","v":4.7999999999999996E-3},{"$f":"Лист1!BH754","v":3.3509999999999998E-3},null,null,null,1.4489999999999998E-3]
["ГРС.г.Вельск",{"$f":"Лист1!B755","v":""},{"$f":"Лист1!A755","v":""},{"$f":"Лист1!C755","v":6},{"$f":"Лист1!BI755/1000","v":0},{"$f":"Лист1!BH755","v":0},null,null,null,0]
["ГРС.г.Вельск",{"$f":"Лист1!B756","v":""},{"$f":"Лист1!A756","v":""},{"$f":"Лист1!C756","v":6},{"$f":"Лист1!BI756/1000","v":0},{"$f":"Лист1!BH756","v":0},null,null,null,0]
["ГРС.г.Вельск",{"$f":"Лист1!B757","v":""},{"$f":"Лист1!A757","v":""},{"$f":"Лист1!C757","v":6},{"$f":"Лист1!BI757/1000","v":0},{"$f":"Лист1!BH757","v":0},null,null,null,0]
["ГРС.г.Вельск",{"$f":"Лист1!B758","v":""},{"$f":"Лист1!A758","v":"ИП              Кордумов        Алексей Федорович"},{"$f":"Лист1!C758","v":7},{"$f":"Лист1!BI758/1000","v":6.9999999999999999E-4},{"$f":"Лист1!BH758","v":5.7299999999999994E-4},null,null,null,1.2700000000000005E-4]
["ГРС.г.Вельск",{"$f":"Лист1!B759","v":""},{"$f":"Лист1!A759","v":""},{"$f":"Лист1!C759","v":7},{"$f":"Лист1!BI759/1000","v":0},{"$f":"Лист1!BH759","v":0},null,null,null,0]
["ГРС.г.Вельск",{"$f":"Лист1!B760","v":""},{"$f":"Лист1!A760","v":""},{"$f":"Лист1!C760","v":7},{"$f":"Лист1!BI760/1000","v":0},{"$f":"Лист1!BH760","v":0},null,null,null,0]
["ГРС.г.Вельск",{"$f":"Лист1!B761","v":""},{"$f":"Лист1!A761","v":""},{"$f":"Лист1!C761","v":7},{"$f":"Лист1!BI761/1000","v":0},{"$f":"Лист1!BH761","v":0},null,null,null,0]
["ГРС.г.Вельск",{"$f":"Лист1!B762","v":""},{"$f":"Лист1!A762","v":"ООО          \"Вельск Магнум\""},{"$f":"Лист1!C762","v":6},{"$f":"Лист1!BI762/1000","v":1.1999999999999999E-3},{"$f":"Лист1!BH762","v":8.7699999999999996E-4},null,null,null,3.2299999999999994E-4]
["ГРС.г.Вельск",{"$f":"Лист1!B763","v":""},{"$f":"Лист1!A763","v":""},{"$f":"Лист1!C763","v":6},{"$f":"Лист1!BI763/1000","v":0},{"$f":"Лист1!BH763","v":0},null,null,null,0]
["ГРС.г.Вельск",{"$f":"Лист1!B764","v":""},{"$f":"Лист1!A764","v":""},{"$f":"Лист1!C764","v":6},{"$f":"Лист1!BI764/1000","v":0},{"$f":"Лист1!BH764","v":0},null,null,null,0]
["ГРС.г.Вельск",{"$f":"Лист1!B765","v":""},{"$f":"Лист1!A765","v":""},{"$f":"Лист1!C765","v":6},{"$f":"Лист1!BI765/1000","v":0},{"$f":"Лист1!BH765","v":0},null,null,null,0]
["ГРС.г.Вельск",{"$f":"Лист1!B766","v":""},{"$f":"Лист1!A766","v":"ООО          \"Альбион-2002\"  "},{"$f":"Лист1!C766","v":7},{"$f":"Лист1!BI766/1000","v":1E-3},{"$f":"Лист1!BH766","v":1.7199999999999998E-4},null,null,null,8.2800000000000007E-4]
["ГРС.г.Вельск",{"$f":"Лист1!B767","v":""},{"$f":"Лист1!A767","v":""},{"$f":"Лист1!C767","v":7},{"$f":"Лист1!BI767/1000","v":0},{"$f":"Лист1!BH767","v":0},null,null,null,0]
["ГРС.г.Вельск",{"$f":"Лист1!B768","v":""},{"$f":"Лист1!A768","v":""},{"$f":"Лист1!C768","v":7},{"$f":"Лист1!BI768/1000","v":0},{"$f":"Лист1!BH768","v":0},null,null,null,0]
["ГРС.г.Вельск",{"$f":"Лист1!B769","v":""},{"$f":"Лист1!A769","v":""},{"$f":"Лист1!C769","v":7},{"$f":"Лист1!BI769/1000","v":0},{"$f":"Лист1!BH769","v":0},null,null,null,0]
["ГРС.г.Вельск",{"$f":"Лист1!B770","v":""},{"$f":"Лист1!A770","v":"ООО          \"ТГК-2 Энергосбыт\""},{"$f":"Лист1!C770","v":6},{"$f":"Лист1!BI770/1000","v":2.7200000000000002E-3},{"$f":"Лист1!BH770","v":1.5E-3},null,null,null,1.2200000000000002E-3]
["ГРС.г.Вельск",{"$f":"Лист1!B771","v":""},{"$f":"Лист1!A771","v":""},{"$f":"Лист1!C771","v":6},{"$f":"Лист1!BI771/1000","v":0},{"$f":"Лист1!BH771","v":0},null,null,null,0]
["ГРС.г.Вельск",{"$f":"Лист1!B772","v":""},{"$f":"Лист1!A772","v":""},{"$f":"Лист1!C772","v":6},{"$f":"Лист1!BI772/1000","v":0},{"$f":"Лист1!BH772","v":0},null,null,null,0]
["ГРС.г.Вельск",{"$f":"Лист1!B773","v":""},{"$f":"Лист1!A773","v":""},{"$f":"Лист1!C773","v":6},{"$f":"Лист1!BI773/1000","v":0},{"$f":"Лист1!BH773","v":0},null,null,null,0]
["ГРС.г.Вельск",{"$f":"Лист1!B774","v":""},{"$f":"Лист1!A774","v":"АО             \"Агрофирма \"Вельская\""},{"$f":"Лист1!C774","v":5},{"$f":"Лист1!BI774/1000","v":1.06E-2},{"$f":"Лист1!BH774","v":1.3606E-2},null,null,null,-3.006E-3]
["ГРС.г.Вельск",{"$f":"Лист1!B775","v":""},{"$f":"Лист1!A775","v":""},{"$f":"Лист1!C775","v":5},{"$f":"Лист1!BI775/1000","v":0},{"$f":"Лист1!BH775","v":0},null,null,null,0]
["ГРС.г.Вельск",{"$f":"Лист1!B776","v":""},{"$f":"Лист1!A776","v":""},{"$f":"Лист1!C776","v":5},{"$f":"Лист1!BI776/1000","v":0},{"$f":"Лист1!BH776","v":0},null,null,null,0]
["ГРС.г.Вельск",{"$f":"Лист1!B777","v":""},{"$f":"Лист1!A777","v":""},{"$f":"Лист1!C777","v":5},{"$f":"Лист1!BI777/1000","v":0},{"$f":"Лист1!BH777","v":0},null,null,null,0]
["ГРС.г.Вельск",{"$f":"Лист1!B778","v":""},{"$f":"Лист1!A778","v":"Гр.              Гайдай           Ирина Савватиевна"},{"$f":"Лист1!C778","v":6},{"$f":"Лист1!BI778/1000","v":2E-3},{"$f":"Лист1!BH778","v":5.9199999999999997E-4},null,null,null,1.408E-3]
["ГРС.г.Вельск",{"$f":"Лист1!B779","v":""},{"$f":"Лист1!A779","v":""},{"$f":"Лист1!C779","v":6},{"$f":"Лист1!BI779/1000","v":0},{"$f":"Лист1!BH779","v":0},null,null,null,0]
["ГРС.г.Вельск",{"$f":"Лист1!B780","v":""},{"$f":"Лист1!A780","v":""},{"$f":"Лист1!C780","v":6},{"$f":"Лист1!BI780/1000","v":0},{"$f":"Лист1!BH780","v":0},null,null,null,0]
["ГРС.г.Вельск",{"$f":"Лист1!B781","v":""},{"$f":"Лист1!A781","v":""},{"$f":"Лист1!C781","v":6},{"$f":"Лист1!BI781/1000","v":0},{"$f":"Лист1!BH781","v":0},null,null,null,0]
["ГРС.г.Вельск",{"$f":"Лист1!B782","v":""},{"$f":"Лист1!A782","v":"Гр.              Крапивин        Алексей Валерьевич"},{"$f":"Лист1!C782","v":6},{"$f":"Лист1!BI782/1000","v":2E-3},{"$f":"Лист1!BH782","v":8.25E-4},null,null,null,1.175E-3]
["ГРС.г.Вельск",{"$f":"Лист1!B783","v":""},{"$f":"Лист1!A783","v":""},{"$f":"Лист1!C783","v":6},{"$f":"Лист1!BI783/1000","v":0},{"$f":"Лист1!BH783","v":0},null,null,null,0]
["ГРС.г.Вельск",{"$f":"Лист1!B784","v":""},{"$f":"Лист1!A784","v":""},{"$f":"Лист1!C784","v":6},{"$f":"Лист1!BI784/1000","v":0},{"$f":"Лист1!BH784","v":0},null,null,null,{"$f":"E787-F787","v":0}]
["ГРС.г.Вельск",{"$f":"Лист1!B785","v":""},{"$f":"Лист1!A785","v":""},{"$f":"Лист1!C785","v":6},{"$f":"Лист1!BI785/1000","v":0},{"$f":"Лист1!BH785","v":0},null,null,null,0]
["ГРС.г.Вельск",{"$f":"Лист1!B786","v":""},{"$f":"Лист1!A786","v":"ООО          \"Вельская строительно-буровая компания\""},{"$f":"Лист1!C786","v":7},{"$f":"Лист1!BI786/1000","v":5.0000000000000001E-4},{"$f":"Лист1!BH786","v":6.1899999999999998E-4},null,null,null,-1.1899999999999997E-4]
["ГРС.г.Вельск",{"$f":"Лист1!B787","v":""},{"$f":"Лист1!A787","v":""},{"$f":"Лист1!C787","v":7},{"$f":"Лист1!BI787/1000","v":0},{"$f":"Лист1!BH787","v":0},null,null,null,0]
["ГРС.г.Вельск",{"$f":"Лист1!B788","v":""},{"$f":"Лист1!A788","v":""},{"$f":"Лист1!C788","v":7},{"$f":"Лист1!BI788/1000","v":0},{"$f":"Лист1!BH788","v":0},null,null,null,0]
["ГРС.г.Вельск",{"$f":"Лист1!B789","v":""},{"$f":"Лист1!A789","v":""},{"$f":"Лист1!C789","v":7},{"$f":"Лист1!BI789/1000","v":0},{"$f":"Лист1!BH789","v":0},null,null,null,0]
["ГРС.г.Вельск",{"$f":"Лист1!B790","v":""},{"$f":"Лист1!A790","v":"ИП              Булатов          Михаил Юрьевич"},{"$f":"Лист1!C790","v":7},{"$f":"Лист1!BI790/1000","v":5.9999999999999995E-4},{"$f":"Лист1!BH790","v":4.0300000000000004E-4},null,null,null,1.9699999999999991E-4]
["ГРС.г.Вельск",{"$f":"Лист1!B791","v":""},{"$f":"Лист1!A791","v":""},{"$f":"Лист1!C791","v":7},{"$f":"Лист1!BI791/1000","v":0},{"$f":"Лист1!BH791","v":0},null,null,null,0]
["ГРС.г.Вельск",{"$f":"Лист1!B792","v":""},{"$f":"Лист1!A792","v":""},{"$f":"Лист1!C792","v":7},{"$f":"Лист1!BI792/1000","v":0},{"$f":"Лист1!BH792","v":0},null,null,null,0]
["ГРС.г.Вельск",{"$f":"Лист1!B793","v":""},{"$f":"Лист1!A793","v":""},{"$f":"Лист1!C793","v":7},{"$f":"Лист1!BI793/1000","v":0},{"$f":"Лист1!BH793","v":0},null,null,null,0]
["ГРС.г.Вельск",{"$f":"Лист1!B794","v":""},{"$f":"Лист1!A794","v":"ИП              Истомина       Нина Андреевна"},{"$f":"Лист1!C794","v":6},{"$f":"Лист1!BI794/1000","v":1.2999999999999999E-3},{"$f":"Лист1!BH794","v":9.8700000000000003E-4},null,null,null,3.1299999999999991E-4]
["ГРС.г.Вельск",{"$f":"Лист1!B795","v":""},{"$f":"Лист1!A795","v":""},{"$f":"Лист1!C795","v":6},{"$f":"Лист1!BI795/1000","v":0},{"$f":"Лист1!BH795","v":0},null,null,null,0]
["ГРС.г.Вельск",{"$f":"Лист1!B796","v":""},{"$f":"Лист1!A796","v":""},{"$f":"Лист1!C796","v":6},{"$f":"Лист1!BI796/1000","v":0},{"$f":"Лист1!BH796","v":0},null,null,null,0]
["ГРС.г.Вельск",{"$f":"Лист1!B797","v":""},{"$f":"Лист1!A797","v":""},{"$f":"Лист1!C797","v":6},{"$f":"Лист1!BI797/1000","v":0},{"$f":"Лист1!BH797","v":0},null,null,null,0]
["ГРС.г.Вельск",{"$f":"Лист1!B798","v":""},{"$f":"Лист1!A798","v":"ООО          \"Металл Трейдинг\"                             (до 01.09  -  ИП Александрова Е.Ю.)"},{"$f":"Лист1!C798","v":7},{"$f":"Лист1!BI798/1000","v":8.0000000000000004E-4},{"$f":"Лист1!BH798","v":9.4099999999999989E-4},null,null,null,-1.4099999999999985E-4]
["ГРС.г.Вельск",{"$f":"Лист1!B799","v":""},{"$f":"Лист1!A799","v":""},{"$f":"Лист1!C799","v":7},{"$f":"Лист1!BI799/1000","v":0},{"$f":"Лист1!BH799","v":0},null,null,null,0]
["ГРС.г.Вельск",{"$f":"Лист1!B800","v":""},{"$f":"Лист1!A800","v":""},{"$f":"Лист1!C800","v":7},{"$f":"Лист1!BI800/1000","v":0},{"$f":"Лист1!BH800","v":0},null,null,null,0]
["ГРС.г.Вельск",{"$f":"Лист1!B801","v":""},{"$f":"Лист1!A801","v":""},{"$f":"Лист1!C801","v":7},{"$f":"Лист1!BI801/1000","v":0},{"$f":"Лист1!BH801","v":0},null,null,null,0]
["ГРС.г.Вельск",{"$f":"Лист1!B802","v":""},{"$f":"Лист1!A802","v":"ООО          \"М8 логистик\" "},{"$f":"Лист1!C802","v":6},{"$f":"Лист1!BI802/1000","v":6.6E-3},{"$f":"Лист1!BH802","v":2.7200000000000002E-3},null,null,null,3.8799999999999998E-3]
["ГРС.г.Вельск",{"$f":"Лист1!B803","v":""},{"$f":"Лист1!A803","v":""},{"$f":"Лист1!C803","v":6},{"$f":"Лист1!BI803/1000","v":0},{"$f":"Лист1!BH803","v":0},null,null,null,0]
["ГРС.г.Вельск",{"$f":"Лист1!B804","v":""},{"$f":"Лист1!A804","v":""},{"$f":"Лист1!C804","v":6},{"$f":"Лист1!BI804/1000","v":0},{"$f":"Лист1!BH804","v":0},null,null,null,0]
["ГРС.г.Вельск",{"$f":"Лист1!B805","v":""},{"$f":"Лист1!A805","v":""},{"$f":"Лист1!C805","v":6},{"$f":"Лист1!BI805/1000","v":0},{"$f":"Лист1!BH805","v":0},null,null,null,0]
["ГРС.г.Вельск",{"$f":"Лист1!B806","v":""},{"$f":"Лист1!A806","v":"ИП              Меньшуткин   Алексей Викторович"},{"$f":"Лист1!C806","v":7},{"$f":"Лист1!BI806/1000","v":5.9999999999999995E-4},{"$f":"Лист1!BH806","v":3.1700000000000001E-4},null,null,null,2.8299999999999994E-4]
["ГРС.г.Вельск",{"$f":"Лист1!B807","v":""},{"$f":"Лист1!A807","v":""},{"$f":"Лист1!C807","v":7},{"$f":"Лист1!BI807/1000","v":0},{"$f":"Лист1!BH807","v":0},null,null,null,0]
["ГРС.г.Вельск",{"$f":"Лист1!B808","v":""},{"$f":"Лист1!A808","v":""},{"$f":"Лист1!C808","v":7},{"$f":"Лист1!BI808/1000","v":0},{"$f":"Лист1!BH808","v":0},null,null,null,0]
["ГРС.г.Вельск",{"$f":"Лист1!B809","v":""},{"$f":"Лист1!A809","v":""},{"$f":"Лист1!C809","v":7},{"$f":"Лист1!BI809/1000","v":0},{"$f":"Лист1!BH809","v":0},null,null,null,0]
["ГРС.г.Вельск",{"$f":"Лист1!B810","v":""},{"$f":"Лист1!A810","v":"Администрация МО \"Вельское\""},{"$f":"Лист1!C810","v":6},{"$f":"Лист1!BI810/1000","v":1E-3},{"$f":"Лист1!BH810","v":6.9999999999999999E-4},null,null,null,3.0000000000000003E-4]
["ГРС.г.Вельск",{"$f":"Лист1!B811","v":""},{"$f":"Лист1!A811","v":""},{"$f":"Лист1!C811","v":6},{"$f":"Лист1!BI811/1000","v":0},{"$f":"Лист1!BH811","v":0},null,null,null,0]
["ГРС.г.Вельск",{"$f":"Лист1!B812","v":""},{"$f":"Лист1!A812","v":""},{"$f":"Лист1!C812","v":6},{"$f":"Лист1!BI812/1000","v":0},{"$f":"Лист1!BH812","v":0},null,null,null,0]
["ГРС.г.Вельск",{"$f":"Лист1!B813","v":""},{"$f":"Лист1!A813","v":""},{"$f":"Лист1!C813","v":6},{"$f":"Лист1!BI813/1000","v":0},{"$f":"Лист1!BH813","v":0},null,null,null,0]
["ГРС.г.Вельск",{"$f":"Лист1!B814","v":"д.Вороновская-8а"},{"$f":"Лист1!A814","v":"ООО          \"ТехноСтрой\"         "},{"$f":"Лист1!C814","v":7},{"$f":"Лист1!BI814/1000","v":1.6999999999999997E-3},{"$f":"Лист1!BH814","v":1.189E-3},null,null,null,5.1099999999999974E-4]
["ГРС.г.Вельск",{"$f":"Лист1!B815","v":""},{"$f":"Лист1!A815","v":""},{"$f":"Лист1!C815","v":7},{"$f":"Лист1!BI815/1000","v":0},{"$f":"Лист1!BH815","v":0},null,null,null,0]
["ГРС.г.Вельск",{"$f":"Лист1!B816","v":""},{"$f":"Лист1!A816","v":""},{"$f":"Лист1!C816","v":7},{"$f":"Лист1!BI816/1000","v":0},{"$f":"Лист1!BH816","v":0},null,null,null,0]
["ГРС.г.Вельск",{"$f":"Лист1!B817","v":""},{"$f":"Лист1!A817","v":""},{"$f":"Лист1!C817","v":7},{"$f":"Лист1!BI817/1000","v":0},{"$f":"Лист1!BH817","v":0},null,null,null,0]
["ГРС.г.Вельск",{"$f":"Лист1!B818","v":"д.Вороновская-8Б  +  д.Вороновская-8г"},{"$f":"Лист1!A818","v":"ООО          \"ТехноСтрой\"         "},{"$f":"Лист1!C818","v":6},{"$f":"Лист1!BI818/1000","v":8.9999999999999998E-4},{"$f":"Лист1!BH818","v":2.3400000000000001E-3},null,null,null,-1.4400000000000001E-3]
["ГРС.г.Вельск",{"$f":"Лист1!B819","v":""},{"$f":"Лист1!A819","v":""},{"$f":"Лист1!C819","v":6},{"$f":"Лист1!BI819/1000","v":0},{"$f":"Лист1!BH819","v":0},null,null,null,0]
["ГРС.г.Вельск",{"$f":"Лист1!B820","v":""},{"$f":"Лист1!A820","v":""},{"$f":"Лист1!C820","v":6},{"$f":"Лист1!BI820/1000","v":0},{"$f":"Лист1!BH820","v":0},null,null,null,0]
["ГРС.г.Вельск",{"$f":"Лист1!B821","v":""},{"$f":"Лист1!A821","v":""},{"$f":"Лист1!C821","v":6},{"$f":"Лист1!BI821/1000","v":0},{"$f":"Лист1!BH821","v":0},null,null,null,0]
["ГРС.г.Вельск",{"$f":"Лист1!B822","v":""},{"$f":"Лист1!A822","v":"ООО ТД    \"СтанкоАбразив\""},{"$f":"Лист1!C822","v":7},{"$f":"Лист1!BI822/1000","v":5.9999999999999995E-4},{"$f":"Лист1!BH822","v":5.22E-4},null,null,null,7.7999999999999944E-5]
["ГРС.г.Вельск",{"$f":"Лист1!B823","v":""},{"$f":"Лист1!A823","v":""},{"$f":"Лист1!C823","v":7},{"$f":"Лист1!BI823/1000","v":0},{"$f":"Лист1!BH823","v":0},null,null,null,0]
["ГРС.г.Вельск",{"$f":"Лист1!B824","v":""},{"$f":"Лист1!A824","v":""},{"$f":"Лист1!C824","v":7},{"$f":"Лист1!BI824/1000","v":0},{"$f":"Лист1!BH824","v":0},null,null,null,0]
["ГРС.г.Вельск",{"$f":"Лист1!B825","v":""},{"$f":"Лист1!A825","v":""},{"$f":"Лист1!C825","v":7},{"$f":"Лист1!BI825/1000","v":0},{"$f":"Лист1!BH825","v":0},null,null,null,0]
["ГРС.г.Вельск",{"$f":"Лист1!B826","v":""},{"$f":"Лист1!A826","v":"ИП               Шичев             Алексей Павлович"},{"$f":"Лист1!C826","v":7},{"$f":"Лист1!BI826/1000","v":2.9499999999999996E-4},{"$f":"Лист1!BH826","v":2.72E-4},null,null,null,2.2999999999999963E-5]
["ГРС.г.Вельск",{"$f":"Лист1!B827","v":""},{"$f":"Лист1!A827","v":""},{"$f":"Лист1!C827","v":7},{"$f":"Лист1!BI827/1000","v":0},{"$f":"Лист1!BH827","v":0},null,null,null,0]
["ГРС.г.Вельск",{"$f":"Лист1!B828","v":""},{"$f":"Лист1!A828","v":""},{"$f":"Лист1!C828","v":7},{"$f":"Лист1!BI828/1000","v":0},{"$f":"Лист1!BH828","v":0},null,null,null,0]
["ГРС.г.Вельск",{"$f":"Лист1!B829","v":""},{"$f":"Лист1!A829","v":""},{"$f":"Лист1!C829","v":7},{"$f":"Лист1!BI829/1000","v":0},{"$f":"Лист1!BH829","v":0},null,null,null,0]
["ГРС.г.Вельск",{"$f":"Лист1!B830","v":""},{"$f":"Лист1!A830","v":"ООО          \"Поважье\" "},{"$f":"Лист1!C830","v":6},{"$f":"Лист1!BI830/1000","v":3.0000000000000001E-3},{"$f":"Лист1!BH830","v":2.6199999999999999E-3},null,null,null,3.8000000000000013E-4]
["ГРС.г.Вельск",{"$f":"Лист1!B831","v":""},{"$f":"Лист1!A831","v":""},{"$f":"Лист1!C831","v":6},{"$f":"Лист1!BI831/1000","v":0},{"$f":"Лист1!BH831","v":0},null,null,null,0]
["ГРС.г.Вельск",{"$f":"Лист1!B832","v":""},{"$f":"Лист1!A832","v":""},{"$f":"Лист1!C832","v":6},{"$f":"Лист1!BI832/1000","v":0},{"$f":"Лист1!BH832","v":0},null,null,null,0]
["ГРС.г.Вельск",{"$f":"Лист1!B833","v":""},{"$f":"Лист1!A833","v":""},{"$f":"Лист1!C833","v":6},{"$f":"Лист1!BI833/1000","v":0},{"$f":"Лист1!BH833","v":0},null,null,null,0]
["ГРС.г.Вельск",{"$f":"Лист1!B834","v":""},{"$f":"Лист1!A834","v":"Гр.               Лукинский     Александр Владимирович "},{"$f":"Лист1!C834","v":7},{"$f":"Лист1!BI834/1000","v":4.0000000000000002E-4},{"$f":"Лист1!BH834","v":4.46E-4},null,null,null,-4.599999999999998E-5]
["ГРС.г.Вельск",{"$f":"Лист1!B835","v":""},{"$f":"Лист1!A835","v":""},{"$f":"Лист1!C835","v":7},{"$f":"Лист1!BI835/1000","v":0},{"$f":"Лист1!BH835","v":0},null,null,null,0]
["ГРС.г.Вельск",{"$f":"Лист1!B836","v":""},{"$f":"Лист1!A836","v":""},{"$f":"Лист1!C836","v":7},{"$f":"Лист1!BI836/1000","v":0},{"$f":"Лист1!BH836","v":0},null,null,null,0]
["ГРС.г.Вельск",{"$f":"Лист1!B837","v":""},{"$f":"Лист1!A837","v":""},{"$f":"Лист1!C837","v":7},{"$f":"Лист1!BI837/1000","v":0},{"$f":"Лист1!BH837","v":0},null,null,null,0]
["ГРС.г.Вельск",{"$f":"Лист1!B838","v":""},{"$f":"Лист1!A838","v":"ООО          \"Северянка\""},{"$f":"Лист1!C838","v":6},{"$f":"Лист1!BI838/1000","v":8.4999999999999995E-4},{"$f":"Лист1!BH838","v":5.5000000000000003E-4},null,null,null,2.9999999999999992E-4]
["ГРС.г.Вельск",{"$f":"Лист1!B839","v":""},{"$f":"Лист1!A839","v":""},{"$f":"Лист1!C839","v":6},{"$f":"Лист1!BI839/1000","v":0},{"$f":"Лист1!BH839","v":0},null,null,null,0]
["ГРС.г.Вельск",{"$f":"Лист1!B840","v":""},{"$f":"Лист1!A840","v":""},{"$f":"Лист1!C840","v":6},{"$f":"Лист1!BI840/1000","v":0},{"$f":"Лист1!BH840","v":0},null,null,null,0]
["ГРС.г.Вельск",{"$f":"Лист1!B841","v":""},{"$f":"Лист1!A841","v":""},{"$f":"Лист1!C841","v":6},{"$f":"Лист1!BI841/1000","v":0},{"$f":"Лист1!BH841","v":0},null,null,null,0]
["ГРС.г.Вельск",{"$f":"Лист1!B842","v":""},{"$f":"Лист1!A842","v":"ИП               Кошелев         Алексей Павлинович"},{"$f":"Лист1!C842","v":7},{"$f":"Лист1!BI842/1000","v":6.4999999999999997E-4},{"$f":"Лист1!BH842","v":1.4999999999999999E-4},null,null,null,5.0000000000000001E-4]
["ГРС.г.Вельск",{"$f":"Лист1!B843","v":""},{"$f":"Лист1!A843","v":""},{"$f":"Лист1!C843","v":7},{"$f":"Лист1!BI843/1000","v":0},{"$f":"Лист1!BH843","v":0},null,null,null,0]
["ГРС.г.Вельск",{"$f":"Лист1!B844","v":""},{"$f":"Лист1!A844","v":""},{"$f":"Лист1!C844","v":7},{"$f":"Лист1!BI844/1000","v":0},{"$f":"Лист1!BH844","v":0},null,null,null,0]
["ГРС.г.Вельск",{"$f":"Лист1!B845","v":""},{"$f":"Лист1!A845","v":""},{"$f":"Лист1!C845","v":7},{"$f":"Лист1!BI845/1000","v":0},{"$f":"Лист1!BH845","v":0},null,null,null,0]
["ГРС.г.Вельск",{"$f":"Лист1!B846","v":""},{"$f":"Лист1!A846","v":"ГКУ АО      \"Вельское лесничество\""},{"$f":"Лист1!C846","v":6},{"$f":"Лист1!BI846/1000","v":1.5E-3},{"$f":"Лист1!BH846","v":9.5E-4},null,null,null,5.5000000000000003E-4]
["ГРС.г.Вельск",{"$f":"Лист1!B847","v":""},{"$f":"Лист1!A847","v":""},{"$f":"Лист1!C847","v":6},{"$f":"Лист1!BI847/1000","v":0},{"$f":"Лист1!BH847","v":0},null,null,null,0]
["ГРС.г.Вельск",{"$f":"Лист1!B848","v":""},{"$f":"Лист1!A848","v":""},{"$f":"Лист1!C848","v":6},{"$f":"Лист1!BI848/1000","v":0},{"$f":"Лист1!BH848","v":0},null,null,null,{"$f":"E851-F851","v":0}]
["ГРС.г.Вельск",{"$f":"Лист1!B849","v":""},{"$f":"Лист1!A849","v":""},{"$f":"Лист1!C849","v":6},{"$f":"Лист1!BI849/1000","v":0},{"$f":"Лист1!BH849","v":0},null,null,null,0]
["ГРС.г.Вельск",{"$f":"Лист1!B850","v":"Вельск, ул.Привокзальная-64"},{"$f":"Лист1!A850","v":"Гр.               Рохин              Андрей Сергеевич"},{"$f":"Лист1!C850","v":6},{"$f":"Лист1!BI850/1000","v":2.5000000000000001E-3},{"$f":"Лист1!BH850","v":1.4679999999999999E-3},null,null,null,1.0320000000000001E-3]
["ГРС.г.Вельск",{"$f":"Лист1!B851","v":""},{"$f":"Лист1!A851","v":""},{"$f":"Лист1!C851","v":6},{"$f":"Лист1!BI851/1000","v":0},{"$f":"Лист1!BH851","v":0},null,null,null,0]
["ГРС.г.Вельск",{"$f":"Лист1!B852","v":""},{"$f":"Лист1!A852","v":""},{"$f":"Лист1!C852","v":6},{"$f":"Лист1!BI852/1000","v":0},{"$f":"Лист1!BH852","v":0},null,null,null,0]
["ГРС.г.Вельск",{"$f":"Лист1!B853","v":""},{"$f":"Лист1!A853","v":""},{"$f":"Лист1!C853","v":6},{"$f":"Лист1!BI853/1000","v":0},{"$f":"Лист1!BH853","v":0},null,null,null,0]
["ГРС.г.Вельск",{"$f":"Лист1!B854","v":"Вельск, ул.Дзержинского-17а"},{"$f":"Лист1!A854","v":"Гр.               Рохин                Андрей Сергеевич"},{"$f":"Лист1!C854","v":7},{"$f":"Лист1!BI854/1000","v":1E-3},{"$f":"Лист1!BH854","v":4.7399999999999997E-4},null,null,null,5.2599999999999999E-4]
["ГРС.г.Вельск",{"$f":"Лист1!B855","v":""},{"$f":"Лист1!A855","v":""},{"$f":"Лист1!C855","v":7},{"$f":"Лист1!BI855/1000","v":0},{"$f":"Лист1!BH855","v":0},null,null,null,0]
["ГРС.г.Вельск",{"$f":"Лист1!B856","v":""},{"$f":"Лист1!A856","v":""},{"$f":"Лист1!C856","v":7},{"$f":"Лист1!BI856/1000","v":0},{"$f":"Лист1!BH856","v":0},null,null,null,0]
["ГРС.г.Вельск",{"$f":"Лист1!B857","v":""},{"$f":"Лист1!A857","v":""},{"$f":"Лист1!C857","v":7},{"$f":"Лист1!BI857/1000","v":0},{"$f":"Лист1!BH857","v":0},null,null,null,0]
["ГРС.г.Вельск",{"$f":"Лист1!B858","v":""},{"$f":"Лист1!A858","v":"ИП               Афонин           Алексей Сергеевич"},{"$f":"Лист1!C858","v":6},{"$f":"Лист1!BI858/1000","v":1.5E-3},{"$f":"Лист1!BH858","v":1.678E-3},null,null,null,-1.7799999999999999E-4]
["ГРС.г.Вельск",{"$f":"Лист1!B859","v":""},{"$f":"Лист1!A859","v":""},{"$f":"Лист1!C859","v":6},{"$f":"Лист1!BI859/1000","v":0},{"$f":"Лист1!BH859","v":0},null,null,null,0]
["ГРС.г.Вельск",{"$f":"Лист1!B860","v":""},{"$f":"Лист1!A860","v":""},{"$f":"Лист1!C860","v":6},{"$f":"Лист1!BI860/1000","v":0},{"$f":"Лист1!BH860","v":0},null,null,null,0]
["ГРС.г.Вельск",{"$f":"Лист1!B861","v":""},{"$f":"Лист1!A861","v":""},{"$f":"Лист1!C861","v":6},{"$f":"Лист1!BI861/1000","v":0},{"$f":"Лист1!BH861","v":0},null,null,null,0]
["ГРС.г.Вельск",{"$f":"Лист1!B862","v":""},{"$f":"Лист1!A862","v":"ИП               Митлинова     Елена Николаевна"},{"$f":"Лист1!C862","v":7},{"$f":"Лист1!BI862/1000","v":1.7999999999999998E-4},{"$f":"Лист1!BH862","v":1.83E-4},null,null,null,-3.0000000000000187E-6]
["ГРС.г.Вельск",{"$f":"Лист1!B863","v":""},{"$f":"Лист1!A863","v":""},{"$f":"Лист1!C863","v":7},{"$f":"Лист1!BI863/1000","v":0},{"$f":"Лист1!BH863","v":0},null,null,null,0]
["ГРС.г.Вельск",{"$f":"Лист1!B864","v":""},{"$f":"Лист1!A864","v":""},{"$f":"Лист1!C864","v":7},{"$f":"Лист1!BI864/1000","v":0},{"$f":"Лист1!BH864","v":0},null,null,null,0]
["ГРС.г.Вельск",{"$f":"Лист1!B865","v":""},{"$f":"Лист1!A865","v":""},{"$f":"Лист1!C865","v":7},{"$f":"Лист1!BI865/1000","v":0},{"$f":"Лист1!BH865","v":0},null,null,null,0]
["ГРС.г.Вельск",{"$f":"Лист1!B866","v":""},{"$f":"Лист1!A866","v":"Гр.               Бовыкина        Елена Михайловна"},{"$f":"Лист1!C866","v":7},{"$f":"Лист1!BI866/1000","v":1E-4},{"$f":"Лист1!BH866","v":1.1E-4},null,null,null,-9.9999999999999991E-6]
["ГРС.г.Вельск",{"$f":"Лист1!B867","v":""},{"$f":"Лист1!A867","v":""},{"$f":"Лист1!C867","v":7},{"$f":"Лист1!BI867/1000","v":0},{"$f":"Лист1!BH867","v":0},null,null,null,0]
["ГРС.г.Вельск",{"$f":"Лист1!B868","v":""},{"$f":"Лист1!A868","v":""},{"$f":"Лист1!C868","v":7},{"$f":"Лист1!BI868/1000","v":0},{"$f":"Лист1!BH868","v":0},null,null,null,0]
["ГРС.г.Вельск",{"$f":"Лист1!B869","v":""},{"$f":"Лист1!A869","v":""},{"$f":"Лист1!C869","v":7},{"$f":"Лист1!BI869/1000","v":0},{"$f":"Лист1!BH869","v":0},null,null,null,0]
["ГРС.г.Вельск",{"$f":"Лист1!B870","v":""},{"$f":"Лист1!A870","v":"ИП               Родина            Ирина Владимировна"},{"$f":"Лист1!C870","v":6},{"$f":"Лист1!BI870/1000","v":8.9999999999999998E-4},{"$f":"Лист1!BH870","v":1.537E-3},null,null,null,-6.3699999999999998E-4]
["ГРС.г.Вельск",{"$f":"Лист1!B871","v":""},{"$f":"Лист1!A871","v":""},{"$f":"Лист1!C871","v":6},{"$f":"Лист1!BI871/1000","v":0},{"$f":"Лист1!BH871","v":0},null,null,null,0]
["ГРС.г.Вельск",{"$f":"Лист1!B872","v":""},{"$f":"Лист1!A872","v":""},{"$f":"Лист1!C872","v":6},{"$f":"Лист1!BI872/1000","v":0},{"$f":"Лист1!BH872","v":0},null,null,null,0]
["ГРС.г.Вельск",{"$f":"Лист1!B873","v":""},{"$f":"Лист1!A873","v":""},{"$f":"Лист1!C873","v":6},{"$f":"Лист1!BI873/1000","v":0},{"$f":"Лист1!BH873","v":0},null,null,null,0]
["ГРС.г.Вельск",{"$f":"Лист1!B874","v":"д.Лукинская "},{"$f":"Лист1!A874","v":"Гр.               Сысоев            Игорь Борисович"},{"$f":"Лист1!C874","v":6},{"$f":"Лист1!BI874/1000","v":8.9999999999999998E-4},{"$f":"Лист1!BH874","v":4.0000000000000001E-3},null,null,null,-3.1000000000000003E-3]
["ГРС.г.Вельск",{"$f":"Лист1!B875","v":""},{"$f":"Лист1!A875","v":""},{"$f":"Лист1!C875","v":6},{"$f":"Лист1!BI875/1000","v":0},{"$f":"Лист1!BH875","v":0},null,null,null,0]
["ГРС.г.Вельск",{"$f":"Лист1!B876","v":""},{"$f":"Лист1!A876","v":""},{"$f":"Лист1!C876","v":6},{"$f":"Лист1!BI876/1000","v":0},{"$f":"Лист1!BH876","v":0},null,null,null,0]
["ГРС.г.Вельск",{"$f":"Лист1!B877","v":""},{"$f":"Лист1!A877","v":""},{"$f":"Лист1!C877","v":6},{"$f":"Лист1!BI877/1000","v":0},{"$f":"Лист1!BH877","v":0},null,null,null,0]
["ГРС.г.Вельск",{"$f":"Лист1!B878","v":""},{"$f":"Лист1!A878","v":"ИП               Савинова         Марина Геннадьевна"},{"$f":"Лист1!C878","v":7},{"$f":"Лист1!BI878/1000","v":2.0000000000000001E-4},{"$f":"Лист1!BH878","v":8.9999999999999992E-5},null,null,null,1.1000000000000002E-4]
["ГРС.г.Вельск",{"$f":"Лист1!B879","v":""},{"$f":"Лист1!A879","v":""},{"$f":"Лист1!C879","v":7},{"$f":"Лист1!BI879/1000","v":0},{"$f":"Лист1!BH879","v":0},null,null,null,0]
["ГРС.г.Вельск",{"$f":"Лист1!B880","v":""},{"$f":"Лист1!A880","v":""},{"$f":"Лист1!C880","v":7},{"$f":"Лист1!BI880/1000","v":0},{"$f":"Лист1!BH880","v":0},null,null,null,0]
["ГРС.г.Вельск",{"$f":"Лист1!B881","v":""},{"$f":"Лист1!A881","v":""},{"$f":"Лист1!C881","v":7},{"$f":"Лист1!BI881/1000","v":0},{"$f":"Лист1!BH881","v":0},null,null,null,0]
["ГРС.г.Вельск",{"$f":"Лист1!B882","v":""},{"$f":"Лист1!A882","v":"ИП               Кудрявцев        Владимир Федорович"},{"$f":"Лист1!C882","v":6},{"$f":"Лист1!BI882/1000","v":6.9999999999999999E-4},{"$f":"Лист1!BH882","v":1.506E-3},null,null,null,-8.0599999999999997E-4]
["ГРС.г.Вельск",{"$f":"Лист1!B883","v":""},{"$f":"Лист1!A883","v":""},{"$f":"Лист1!C883","v":6},{"$f":"Лист1!BI883/1000","v":0},{"$f":"Лист1!BH883","v":0},null,null,null,0]
["ГРС.г.Вельск",{"$f":"Лист1!B884","v":""},{"$f":"Лист1!A884","v":""},{"$f":"Лист1!C884","v":6},{"$f":"Лист1!BI884/1000","v":0},{"$f":"Лист1!BH884","v":0},null,null,null,0]
["ГРС.г.Вельск",{"$f":"Лист1!B885","v":""},{"$f":"Лист1!A885","v":""},{"$f":"Лист1!C885","v":6},{"$f":"Лист1!BI885/1000","v":0},{"$f":"Лист1!BH885","v":0},null,null,null,0]
["ГРС.г.Вельск",{"$f":"Лист1!B886","v":""},{"$f":"Лист1!A886","v":"ООО          \"Делорис\""},{"$f":"Лист1!C886","v":6},{"$f":"Лист1!BI886/1000","v":3.5999999999999999E-3},{"$f":"Лист1!BH886","v":6.2399999999999999E-4},null,null,null,2.9759999999999999E-3]
["ГРС.г.Вельск",{"$f":"Лист1!B887","v":""},{"$f":"Лист1!A887","v":""},{"$f":"Лист1!C887","v":6},{"$f":"Лист1!BI887/1000","v":0},{"$f":"Лист1!BH887","v":0},null,null,null,0]
["ГРС.г.Вельск",{"$f":"Лист1!B888","v":""},{"$f":"Лист1!A888","v":""},{"$f":"Лист1!C888","v":6},{"$f":"Лист1!BI888/1000","v":0},{"$f":"Лист1!BH888","v":0},null,null,null,0]
["ГРС.г.Вельск",{"$f":"Лист1!B889","v":""},{"$f":"Лист1!A889","v":""},{"$f":"Лист1!C889","v":6},{"$f":"Лист1!BI889/1000","v":0},{"$f":"Лист1!BH889","v":0},null,null,null,0]
["ГРС.г.Вельск",{"$f":"Лист1!B890","v":""},{"$f":"Лист1!A890","v":"ИП               Шухтин              Григорий Владимирович"},{"$f":"Лист1!C890","v":7},{"$f":"Лист1!BI890/1000","v":2.0000000000000001E-4},{"$f":"Лист1!BH890","v":0},null,null,null,2.0000000000000001E-4]
["ГРС.г.Вельск",{"$f":"Лист1!B891","v":""},{"$f":"Лист1!A891","v":""},{"$f":"Лист1!C891","v":7},{"$f":"Лист1!BI891/1000","v":0},{"$f":"Лист1!BH891","v":0},null,null,null,0]
["ГРС.г.Вельск",{"$f":"Лист1!B892","v":""},{"$f":"Лист1!A892","v":""},{"$f":"Лист1!C892","v":7},{"$f":"Лист1!BI892/1000","v":0},{"$f":"Лист1!BH892","v":0},null,null,null,0]
["ГРС.г.Вельск",{"$f":"Лист1!B893","v":""},{"$f":"Лист1!A893","v":""},{"$f":"Лист1!C893","v":7},{"$f":"Лист1!BI893/1000","v":0},{"$f":"Лист1!BH893","v":0},null,null,null,0]
["ГРС.г.Вельск",{"$f":"Лист1!B894","v":""},{"$f":"Лист1!A894","v":"ООО          \"БАСТИОН +\""},{"$f":"Лист1!C894","v":5},{"$f":"Лист1!BI894/1000","v":1.5699999999999999E-2},{"$f":"Лист1!BH894","v":6.1909999999999995E-3},null,null,null,9.5090000000000001E-3]
["ГРС.г.Вельск",{"$f":"Лист1!B895","v":""},{"$f":"Лист1!A895","v":""},{"$f":"Лист1!C895","v":5},{"$f":"Лист1!BI895/1000","v":0},{"$f":"Лист1!BH895","v":0},null,null,null,0]
["ГРС.г.Вельск",{"$f":"Лист1!B896","v":""},{"$f":"Лист1!A896","v":""},{"$f":"Лист1!C896","v":5},{"$f":"Лист1!BI896/1000","v":0},{"$f":"Лист1!BH896","v":0},null,null,null,0]
["ГРС.г.Вельск",{"$f":"Лист1!B897","v":""},{"$f":"Лист1!A897","v":""},{"$f":"Лист1!C897","v":5},{"$f":"Лист1!BI897/1000","v":0},{"$f":"Лист1!BH897","v":0},null,null,null,0]
["ГРС.г.Вельск",{"$f":"Лист1!B898","v":""},{"$f":"Лист1!A898","v":"ИП               Кудрявцева       Татьяна Александровна"},{"$f":"Лист1!C898","v":6},{"$f":"Лист1!BI898/1000","v":1.5E-3},{"$f":"Лист1!BH898","v":8.5800000000000004E-4},null,null,null,6.4199999999999999E-4]
["ГРС.г.Вельск",{"$f":"Лист1!B899","v":""},{"$f":"Лист1!A899","v":""},{"$f":"Лист1!C899","v":6},{"$f":"Лист1!BI899/1000","v":0},{"$f":"Лист1!BH899","v":0},null,null,null,0]
["ГРС.г.Вельск",{"$f":"Лист1!B900","v":""},{"$f":"Лист1!A900","v":""},{"$f":"Лист1!C900","v":6},{"$f":"Лист1!BI900/1000","v":0},{"$f":"Лист1!BH900","v":0},null,null,null,0]
["ГРС.г.Вельск",{"$f":"Лист1!B901","v":""},{"$f":"Лист1!A901","v":""},{"$f":"Лист1!C901","v":6},{"$f":"Лист1!BI901/1000","v":0},{"$f":"Лист1!BH901","v":0},null,null,null,0]
["ГРС.г.Вельск",{"$f":"Лист1!B902","v":""},{"$f":"Лист1!A902","v":"Гр.               Волов                Олег Анатольевич"},{"$f":"Лист1!C902","v":7},{"$f":"Лист1!BI902/1000","v":2.0000000000000001E-4},{"$f":"Лист1!BH902","v":4.6E-5},null,null,null,1.54E-4]
["ГРС.г.Вельск",{"$f":"Лист1!B903","v":""},{"$f":"Лист1!A903","v":""},{"$f":"Лист1!C903","v":7},{"$f":"Лист1!BI903/1000","v":0},{"$f":"Лист1!BH903","v":0},null,null,null,0]
["ГРС.г.Вельск",{"$f":"Лист1!B904","v":""},{"$f":"Лист1!A904","v":""},{"$f":"Лист1!C904","v":7},{"$f":"Лист1!BI904/1000","v":0},{"$f":"Лист1!BH904","v":0},null,null,null,0]
["ГРС.г.Вельск",{"$f":"Лист1!B905","v":""},{"$f":"Лист1!A905","v":""},{"$f":"Лист1!C905","v":7},{"$f":"Лист1!BI905/1000","v":0},{"$f":"Лист1!BH905","v":0},null,null,null,0]
["ГРС.г.Вельск",{"$f":"Лист1!B906","v":""},{"$f":"Лист1!A906","v":"ПО             \"Сельменьгахлеб\""},{"$f":"Лист1!C906","v":7},{"$f":"Лист1!BI906/1000","v":5.5000000000000003E-4},{"$f":"Лист1!BH906","v":3.5599999999999998E-4},null,null,null,1.9400000000000005E-4]
["ГРС.г.Вельск",{"$f":"Лист1!B907","v":""},{"$f":"Лист1!A907","v":""},{"$f":"Лист1!C907","v":7},{"$f":"Лист1!BI907/1000","v":0},{"$f":"Лист1!BH907","v":0},null,null,null,0]
["ГРС.г.Вельск",{"$f":"Лист1!B908","v":""},{"$f":"Лист1!A908","v":""},{"$f":"Лист1!C908","v":7},{"$f":"Лист1!BI908/1000","v":0},{"$f":"Лист1!BH908","v":0},null,null,null,0]
["ГРС.г.Вельск",{"$f":"Лист1!B909","v":""},{"$f":"Лист1!A909","v":""},{"$f":"Лист1!C909","v":7},{"$f":"Лист1!BI909/1000","v":0},{"$f":"Лист1!BH909","v":0},null,null,null,0]
["ГРС.г.Вельск",{"$f":"Лист1!B910","v":"Вельск, ул.Гагарина-2Б"},{"$f":"Лист1!A910","v":"ООО          \"Арктиквтормет\""},{"$f":"Лист1!C910","v":7},{"$f":"Лист1!BI910/1000","v":6.9999999999999999E-4},{"$f":"Лист1!BH910","v":7.0099999999999991E-4},null,null,null,-9.9999999999991589E-7]
["ГРС.г.Вельск",{"$f":"Лист1!B911","v":""},{"$f":"Лист1!A911","v":""},{"$f":"Лист1!C911","v":7},{"$f":"Лист1!BI911/1000","v":0},{"$f":"Лист1!BH911","v":0},null,null,null,0]
["ГРС.г.Вельск",{"$f":"Лист1!B912","v":""},{"$f":"Лист1!A912","v":""},{"$f":"Лист1!C912","v":7},{"$f":"Лист1!BI912/1000","v":0},{"$f":"Лист1!BH912","v":0},null,null,null,{"$f":"E915-F915","v":0}]
["ГРС.г.Вельск",{"$f":"Лист1!B913","v":""},{"$f":"Лист1!A913","v":""},{"$f":"Лист1!C913","v":7},{"$f":"Лист1!BI913/1000","v":0},{"$f":"Лист1!BH913","v":0},null,null,null,0]
["ГРС.г.Вельск",{"$f":"Лист1!B914","v":""},{"$f":"Лист1!A914","v":"ИП              Михайлов            Вадим Викторович"},{"$f":"Лист1!C914","v":7},{"$f":"Лист1!BI914/1000","v":8.9999999999999998E-4},{"$f":"Лист1!BH914","v":0},null,null,null,8.9999999999999998E-4]
["ГРС.г.Вельск",{"$f":"Лист1!B915","v":""},{"$f":"Лист1!A915","v":""},{"$f":"Лист1!C915","v":7},{"$f":"Лист1!BI915/1000","v":0},{"$f":"Лист1!BH915","v":0},null,null,null,0]
["ГРС.г.Вельск",{"$f":"Лист1!B916","v":""},{"$f":"Лист1!A916","v":""},{"$f":"Лист1!C916","v":7},{"$f":"Лист1!BI916/1000","v":0},{"$f":"Лист1!BH916","v":0},null,null,null,0]
["ГРС.г.Вельск",{"$f":"Лист1!B917","v":""},{"$f":"Лист1!A917","v":""},{"$f":"Лист1!C917","v":7},{"$f":"Лист1!BI917/1000","v":0},{"$f":"Лист1!BH917","v":0},null,null,null,0]
["ГРС.г.Вельск",{"$f":"Лист1!B918","v":""},{"$f":"Лист1!A918","v":"Гр.              Звездина             Надежда Леонидовна"},{"$f":"Лист1!C918","v":6},{"$f":"Лист1!BI918/1000","v":1.1000000000000001E-3},{"$f":"Лист1!BH918","v":5.1500000000000005E-4},null,null,null,5.8500000000000002E-4]
["ГРС.г.Вельск",{"$f":"Лист1!B919","v":""},{"$f":"Лист1!A919","v":""},{"$f":"Лист1!C919","v":6},{"$f":"Лист1!BI919/1000","v":0},{"$f":"Лист1!BH919","v":0},null,null,null,0]
["ГРС.г.Вельск",{"$f":"Лист1!B920","v":""},{"$f":"Лист1!A920","v":""},{"$f":"Лист1!C920","v":6},{"$f":"Лист1!BI920/1000","v":0},{"$f":"Лист1!BH920","v":0},null,null,null,0]
["ГРС.г.Вельск",{"$f":"Лист1!B921","v":""},{"$f":"Лист1!A921","v":""},{"$f":"Лист1!C921","v":6},{"$f":"Лист1!BI921/1000","v":0},{"$f":"Лист1!BH921","v":0},null,null,null,0]
["ГРС.г.Вельск",{"$f":"Лист1!B922","v":"Вельск, пекарня"},{"$f":"Лист1!A922","v":"ИП             Беляева            Евгения Николаевна"},{"$f":"Лист1!C922","v":7},{"$f":"Лист1!BI922/1000","v":5.0000000000000001E-4},{"$f":"Лист1!BH922","v":2.0100000000000001E-4},null,null,null,2.99E-4]
["ГРС.г.Вельск",{"$f":"Лист1!B923","v":""},{"$f":"Лист1!A923","v":""},{"$f":"Лист1!C923","v":7},{"$f":"Лист1!BI923/1000","v":0},{"$f":"Лист1!BH923","v":0},null,null,null,0]
["ГРС.г.Вельск",{"$f":"Лист1!B924","v":""},{"$f":"Лист1!A924","v":""},{"$f":"Лист1!C924","v":7},{"$f":"Лист1!BI924/1000","v":0},{"$f":"Лист1!BH924","v":0},null,null,null,0]
["ГРС.г.Вельск",{"$f":"Лист1!B925","v":""},{"$f":"Лист1!A925","v":""},{"$f":"Лист1!C925","v":7},{"$f":"Лист1!BI925/1000","v":0},{"$f":"Лист1!BH925","v":0},null,null,null,0]
["ГРС.г.Вельск",{"$f":"Лист1!B926","v":""},{"$f":"Лист1!A926","v":"ИП               Карельская        Елена Юрьевна"},{"$f":"Лист1!C926","v":7},{"$f":"Лист1!BI926/1000","v":8.9999999999999998E-4},{"$f":"Лист1!BH926","v":4.3399999999999998E-4},null,null,null,4.66E-4]
["ГРС.г.Вельск",{"$f":"Лист1!B927","v":""},{"$f":"Лист1!A927","v":""},{"$f":"Лист1!C927","v":7},{"$f":"Лист1!BI927/1000","v":0},{"$f":"Лист1!BH927","v":0},null,null,null,0]
["ГРС.г.Вельск",{"$f":"Лист1!B928","v":""},{"$f":"Лист1!A928","v":""},{"$f":"Лист1!C928","v":7},{"$f":"Лист1!BI928/1000","v":0},{"$f":"Лист1!BH928","v":0},null,null,null,0]
["ГРС.г.Вельск",{"$f":"Лист1!B929","v":""},{"$f":"Лист1!A929","v":""},{"$f":"Лист1!C929","v":7},{"$f":"Лист1!BI929/1000","v":0},{"$f":"Лист1!BH929","v":0},null,null,null,0]
["ГРС.г.Вельск",{"$f":"Лист1!B930","v":""},{"$f":"Лист1!A930","v":"Вельское РО АРОО охотников и рыболовов"},{"$f":"Лист1!C930","v":7},{"$f":"Лист1!BI930/1000","v":1E-3},{"$f":"Лист1!BH930","v":0},null,null,null,1E-3]
["ГРС.г.Вельск",{"$f":"Лист1!B931","v":""},{"$f":"Лист1!A931","v":""},{"$f":"Лист1!C931","v":7},{"$f":"Лист1!BI931/1000","v":0},{"$f":"Лист1!BH931","v":0},null,null,null,{"$f":"E934-F934","v":0}]
["ГРС.г.Вельск",{"$f":"Лист1!B932","v":""},{"$f":"Лист1!A932","v":""},{"$f":"Лист1!C932","v":7},{"$f":"Лист1!BI932/1000","v":0},{"$f":"Лист1!BH932","v":0},null,null,null,0]
["ГРС.г.Вельск",{"$f":"Лист1!B933","v":""},{"$f":"Лист1!A933","v":""},{"$f":"Лист1!C933","v":7},{"$f":"Лист1!BI933/1000","v":0},{"$f":"Лист1!BH933","v":0},null,null,null,0]
["ГРС.г.Вельск",{"$f":"Лист1!B934","v":""},{"$f":"Лист1!A934","v":"ООО          \"Архоблвод\""},{"$f":"Лист1!C934","v":6},{"$f":"Лист1!BI934/1000","v":7.6E-3},{"$f":"Лист1!BH934","v":8.0759999999999998E-3},null,null,null,-4.7599999999999986E-4]
["ГРС.г.Вельск",{"$f":"Лист1!B935","v":""},{"$f":"Лист1!A935","v":""},{"$f":"Лист1!C935","v":6},{"$f":"Лист1!BI935/1000","v":0},{"$f":"Лист1!BH935","v":0},null,null,null,0]
["ГРС.г.Вельск",{"$f":"Лист1!B936","v":""},{"$f":"Лист1!A936","v":""},{"$f":"Лист1!C936","v":6},{"$f":"Лист1!BI936/1000","v":0},{"$f":"Лист1!BH936","v":0},null,null,null,0]
["ГРС.г.Вельск",{"$f":"Лист1!B937","v":""},{"$f":"Лист1!A937","v":""},{"$f":"Лист1!C937","v":6},{"$f":"Лист1!BI937/1000","v":0},{"$f":"Лист1!BH937","v":0},null,null,null,0]
["ГРС.г.Вельск",{"$f":"Лист1!B938","v":"Вельск, ул.Советская-80"},{"$f":"Лист1!A938","v":"ООО          \"Диал - Север\""},{"$f":"Лист1!C938","v":7},{"$f":"Лист1!BI938/1000","v":5.0000000000000001E-4},{"$f":"Лист1!BH938","v":0},null,null,null,5.0000000000000001E-4]
["ГРС.г.Вельск",{"$f":"Лист1!B939","v":""},{"$f":"Лист1!A939","v":""},{"$f":"Лист1!C939","v":7},{"$f":"Лист1!BI939/1000","v":0},{"$f":"Лист1!BH939","v":0},null,null,null,0]
["ГРС.г.Вельск",{"$f":"Лист1!B940","v":""},{"$f":"Лист1!A940","v":""},{"$f":"Лист1!C940","v":7},{"$f":"Лист1!BI940/1000","v":0},{"$f":"Лист1!BH940","v":0},null,null,null,0]
["ГРС.г.Вельск",{"$f":"Лист1!B941","v":""},{"$f":"Лист1!A941","v":""},{"$f":"Лист1!C941","v":7},{"$f":"Лист1!BI941/1000","v":0},{"$f":"Лист1!BH941","v":0},null,null,null,0]
["ГРС.г.Вельск",{"$f":"Лист1!B942","v":""},{"$f":"Лист1!A942","v":"ООО          \"ВЕКТОР\" "},{"$f":"Лист1!C942","v":7},{"$f":"Лист1!BI942/1000","v":6.9999999999999999E-4},{"$f":"Лист1!BH942","v":0},null,null,null,6.9999999999999999E-4]
["ГРС.г.Вельск",{"$f":"Лист1!B943","v":""},{"$f":"Лист1!A943","v":""},{"$f":"Лист1!C943","v":7},{"$f":"Лист1!BI943/1000","v":0},{"$f":"Лист1!BH943","v":0},null,null,null,0]
["ГРС.г.Вельск",{"$f":"Лист1!B944","v":""},{"$f":"Лист1!A944","v":""},{"$f":"Лист1!C944","v":7},{"$f":"Лист1!BI944/1000","v":0},{"$f":"Лист1!BH944","v":0},null,null,null,0]
["ГРС.г.Вельск",{"$f":"Лист1!B945","v":""},{"$f":"Лист1!A945","v":""},{"$f":"Лист1!C945","v":7},{"$f":"Лист1!BI945/1000","v":0},{"$f":"Лист1!BH945","v":0},null,null,null,0]
["ГРС.г.Вельск",{"$f":"Лист1!B946","v":""},{"$f":"Лист1!A946","v":"ООО          \"Абсолют - Сервис\""},{"$f":"Лист1!C946","v":6},{"$f":"Лист1!BI946/1000","v":0},{"$f":"Лист1!BH946","v":0},null,null,null,0]
["ГРС.г.Вельск",{"$f":"Лист1!B947","v":""},{"$f":"Лист1!A947","v":""},{"$f":"Лист1!C947","v":6},{"$f":"Лист1!BI947/1000","v":0},{"$f":"Лист1!BH947","v":0},null,null,null,0]
["ГРС.г.Вельск",{"$f":"Лист1!B948","v":""},{"$f":"Лист1!A948","v":""},{"$f":"Лист1!C948","v":6},{"$f":"Лист1!BI948/1000","v":0},{"$f":"Лист1!BH948","v":0},null,null,null,0]
["ГРС.г.Вельск",{"$f":"Лист1!B949","v":""},{"$f":"Лист1!A949","v":""},{"$f":"Лист1!C949","v":6},{"$f":"Лист1!BI949/1000","v":0},{"$f":"Лист1!BH949","v":0},null,null,null,0]
["ГРС.г.Вельск",{"$f":"Лист1!B950","v":"д.Горка Муравьевская"},{"$f":"Лист1!A950","v":"ИП               Попова             Елена Александровна"},{"$f":"Лист1!C950","v":7},{"$f":"Лист1!BI950/1000","v":0},{"$f":"Лист1!BH950","v":0},null,null,null,0]
["ГРС.г.Вельск",{"$f":"Лист1!B951","v":""},{"$f":"Лист1!A951","v":""},{"$f":"Лист1!C951","v":7},{"$f":"Лист1!BI951/1000","v":0},{"$f":"Лист1!BH951","v":0},null,null,null,0]
["ГРС.г.Вельск",{"$f":"Лист1!B952","v":""},{"$f":"Лист1!A952","v":""},{"$f":"Лист1!C952","v":7},{"$f":"Лист1!BI952/1000","v":0},{"$f":"Лист1!BH952","v":0},null,null,null,0]
["ГРС.г.Вельск",{"$f":"Лист1!B953","v":""},{"$f":"Лист1!A953","v":""},{"$f":"Лист1!C953","v":7},{"$f":"Лист1!BI953/1000","v":0},{"$f":"Лист1!BH953","v":0},null,null,null,0]
["ГРС.г.Вельск",{"$f":"Лист1!B954","v":"д.Плесовская, ул.Нагорная-1А"},{"$f":"Лист1!A954","v":"ООО          \"ПАРТНЕР\""},{"$f":"Лист1!C954","v":6},{"$f":"Лист1!BI954/1000","v":0},{"$f":"Лист1!BH954","v":0},null,null,null,0]
["ГРС.г.Вельск",{"$f":"Лист1!B955","v":""},{"$f":"Лист1!A955","v":""},{"$f":"Лист1!C955","v":6},{"$f":"Лист1!BI955/1000","v":0},{"$f":"Лист1!BH955","v":0},null,null,null,0]
["ГРС.г.Вельск",{"$f":"Лист1!B956","v":""},{"$f":"Лист1!A956","v":""},{"$f":"Лист1!C956","v":6},{"$f":"Лист1!BI956/1000","v":0},{"$f":"Лист1!BH956","v":0},null,null,null,0]
["ГРС.г.Вельск",{"$f":"Лист1!B957","v":""},{"$f":"Лист1!A957","v":""},{"$f":"Лист1!C957","v":6},{"$f":"Лист1!BI957/1000","v":0},{"$f":"Лист1!BH957","v":0},null,null,null,0]
[null,null,{"$f":"Лист1!A958","v":""},null,{"$f":"Лист1!BI958/1000","v":0},{"$f":"Лист1!BH958","v":0},null,null,null,0]
[null,null,{"$f":"Лист1!A959","v":""}]
[null,null,{"$f":"Лист1!A960","v":""}]
[null,null,{"$f":"Лист1!A961","v":""},null,null,{"$f":"Лист1!BH936","v":0},null,null,null,0]
["ГРС.г.Вельск","Вельский район","Вельский район            абонентский участок",8,0.79179999999999995,0.40329999999999999,null,null,null,{"$f":"E965-F965","v":0.38849999999999996}]
[null,null,"ИТОГО",null,2.6040000000000001,1.2938000000000001,{"$f":"SUM(G19:G965)","v":{"$error":"#REF!"}},null,{"$f":"SUM(I19:I965)","v":{"$error":"#REF!"}},{"$f":"E966-F966","v":1.3102}]

{"sheet":"Лист1","index":1,"n_rows":1028,"n_cols":64,"rows_kept":1028,"cut":false,"hidden":false,"merged":[[11,27,12,27],[11,28,12,28],[11,29,12,29],[11,30,12,32],[11,54,12,56],[11,34,12,34],[11,35,12,35],[11,36,12,38],[11,40,12,40],[11,41,12,41],[11,42,12,44],[11,46,12,46],[11,47,12,47],[11,48,12,50],[11,52,12,52],[11,53,12,53],[9,5,9,6],[9,16,9,22],[9,34,9,58],[9,60,12,60],[10,10,10,12],[10,18,10,20],[10,24,10,25],[10,26,10,27],[10,28,10,29],[10,34,10,35],[10,40,10,41],[10,46,10,47],[10,52,10,53],[11,24,12,24],[11,25,12,25],[11,26,12,26]]}
[]
[]
[]
["Транспортировка газа по сетям ГРО  ООО \"ВельскГазСервис\""]
[]
[null,null,null,null,null,null,null,null,null,null,null,null,null,null,null,null,405.07,null,null,null,null,null,null,null,null,null,null,null,null,null,null,null,null,null,1040.08,null,null,null,null,null,1386.75,null,null,null,null,null,1733.45,null,null,null,null,null,2166.8000000000002,null,null,null,null,null,811.31]
[]
[]
[]
["ОКТЯБРЬ",null,"Группа","Договор  поставки  газа","Лимит","Перебор",null,null,null,"Транспорт  газа",null,null,null,null,null,null,"Инвестиционная составляющая к тарифу ГРО",null,null,null,null,null,null,null,null,null,null,null,null,null,null,null,null,null,"объем  фактической  транспортировки  газа,  тыс.куб.м",null,null,null,null,null,null,null,null,null,null,null,null,null,null,null,null,null,null,null,null,null,null,null,null,null,"План транспортировки по договору,   тыс.куб.м"]
[null,null,null,null,"объем",null,"объем","Расчетный","Тарифная","сумма услуг","сверх  договора",null,null,null,"сумма услуг",null,null,"сумма услуг","сверх  договора",null,null,null,"сумма услуг",null,null,null,null,null,null,null,null,null,null,null,"> 1 000 000 до 10 000 000",null,null,null,null,null,"> 100 000 до 1 000 000",null,null,null,null,null,"> 10 000 до 100 000",null,null,null,null,null,"до 10 000",null,null,null,null,null,"население"]
["Потребитель  газа","Точка подключения",null,null,null,"К",null,"тариф","ставка ,","по  лимиту ,","тариф","сумма услуг","сумма К","НДС","всего ,",null,"размер,","по  лимиту ,","размер,","сумма услуг,","сумма К,","НДС","всего ,",null,null,null,null,null,null,null,null,null,null,null,"лимит","перебор","П",null,null,null,"лимит","перебор","П",null,null,null,"лимит","перебор","П",null,null,null,"лимит","перебор","П"]
[null,null,null,null,"тыс.куб.м",null,"тыс.куб.м","руб./1000 куб.м","руб./1000 куб.м","руб.","руб./1000 куб.м","руб.","руб.","руб.","руб.",null,"руб./1000 куб.м","руб.","руб./1000 куб.м","руб.","руб.","руб.","руб."]
[null,null,null,null,null,null,null,null,null,null,null,null,null,null,null,null,null,null,null,null,null,null,null,null,null,null,null,null,null,null,null,null,null,null,4,null,"л",1,"п",1,5,null,"л",1,"п",1,6,null,"л",1,"п",1,7,null,"л",1,"п",1,8,null,1000]
[]
["АО             \"ГТ Энерго\" ","Вельск,(ул.Гайдара-16В + ул.Дзержинского-210, стр.12)",{"$f":"C17","v":4},"03-4-23.007(333)",282.51800000000003,1.5,0,{"$f":"E16+G16","v":282.51800000000003},{"$f":"SUMIF(Y$14:BA$14,C16,Y$6:BA$6)","v":1040.08},{"$f":"IF(H16=0,ROUND(E16*I16,2),ROUND(H16*E16,2))","v":79816.42},{"$f":"ROUND(F16*I16,2)","v":1560.12},{"$f":"IF(H16=0,ROUND(ROUND(F16*I16,2)*G16,2),ROUND(G16*H16,2))","v":0},{"$f":"L16-ROUND(G16*I16,2)","v":0},null,{"$f":"J16+L16+N16","v":79816.42},null,{"$f":"IF(BI16>0,Q$6,Q$6)","v":405.07},{"$f":"ROUND(Q16*E16,2)","v":114439.57},{"$f":"ROUND(F16*Q16,2)","v":607.61},{"$f":"ROUND(S16*G16,2)","v":0},{"$f":"T16-ROUND(Q16*G16,2)","v":0},null,{"$f":"R16+T16+V16","v":114439.57},null,null,null,null,null,null,null,null,null,null,null,{"$f":"IF($I16=AI$6,$E16,0)","v":282.51800000000003},{"$f":"IF($K16=ROUND(AI$6*$F16,2),$G16,0)","v":0},{"$f":"IF($H16>0,AI16,0)","v":282.51800000000003},{"$f":"IF(AK16>0,1,0)","v":1},{"$f":"IF($H16>0,AJ16,0)","v":0},{"$f":"IF(AM16>0,1,0)","v":0},{"$f":"IF($I16=AO$6,$E16,0)","v":0},{"$f":"IF($K16=ROUND(AO$6*$F16,2),$G16,0)","v":0},{"$f":"IF($H16>0,AO16,0)","v":0},{"$f":"IF(AQ16>0,1,0)","v":0},{"$f":"IF($H16>0,AP16,0)","v":0},{"$f":"IF(AS16>0,1,0)","v":0},{"$f":"IF($I16=AU$6,$E16,0)","v":0},{"$f":"IF($K16=ROUND(AU$6*$F16,2),$G16,0)","v":0},{"$f":"IF($H16>0,AU16,0)","v":0},{"$f":"IF(AW16>0,1,0)","v":0},{"$f":"IF($H16>0,AV16,0)","v":0},{"$f":"IF(AY16>0,1,0)","v":0},{"$f":"IF($I16=BA$6,$E16,0)","v":0},{"$f":"IF($K16=ROUND(BA$6*$F16,2),$G16,0)","v":0},{"$f":"IF($H16>0,BA16,0)","v":0},{"$f":"IF(BC16>0,1,0)","v":0},{"$f":"IF($H16>0,BB16,0)","v":0},{"$f":"IF(BE16>0,1,0)","v":0},null,{"$f":"H16/1000","v":0.28251800000000005},321.7,null,null,{"$f":"E16-SUM(AI16,AO16,AU16,BA16)","v":0}]
[{"$f":"IF(E17+G17>0,A16,\"\")","v":""},{"$f":"IF(E17+G17>0,B16,\"\")","v":""},4,"03-4-23.007(333)",0,1.1000000000000001,0,{"$f":"E17+G17","v":0},{"$f":"SUMIF(Y$14:BA$14,C17,Y$6:BA$6)","v":1040.08},{"$f":"IF(H17=0,ROUND(E17*I17,2),ROUND(H17*E17,2))","v":0},{"$f":"ROUND(F17*I17,2)","v":1144.0899999999999},{"$f":"IF(H17=0,ROUND(ROUND(F17*I17,2)*G17,2),ROUND(G17*H17,2))","v":0},{"$f":"L17-ROUND(G17*I17,2)","v":0},null,{"$f":"J17+L17+N17","v":0},null,405.07,{"$f":"ROUND(Q17*E17,2)","v":0},{"$f":"ROUND(F17*Q17,2)","v":445.58},{"$f":"ROUND(S17*G17,2)","v":0},{"$f":"T17-ROUND(Q17*G17,2)","v":0},null,{"$f":"R17+T17+V17","v":0},null,null,null,null,null,null,null,null,null,null,null,{"$f":"IF($I17=AI$6,$E17,0)","v":0},0,{"$f":"IF($H17>0,AI17,0)","v":0},{"$f":"IF(AK17>0,1,0)","v":0},{"$f":"IF($H17>0,AJ17,0)","v":0},{"$f":"IF(AM17>0,1,0)","v":0},{"$f":"IF($I17=AO$6,$E17,0)","v":0},0,{"$f":"IF($H17>0,AO17,0)","v":0},{"$f":"IF(AQ17>0,1,0)","v":0},{"$f":"IF($H17>0,AP17,0)","v":0},{"$f":"IF(AS17>0,1,0)","v":0},{"$f":"IF($I17=AU$6,$E17,0)","v":0},0,{"$f":"IF($H17>0,AU17,0)","v":0},{"$f":"IF(AW17>0,1,0)","v":0},{"$f":"IF($H17>0,AV17,0)","v":0},{"$f":"IF(AY17>0,1,0)","v":0},{"$f":"IF($I17=BA$6,$E17,0)","v":0},0,{"$f":"IF($H17>0,BA17,0)","v":0},{"$f":"IF(BC17>0,1,0)","v":0},{"$f":"IF($H17>0,BB17,0)","v":0},{"$f":"IF(BE17>0,1,0)","v":0},null,{"$f":"H17/1000","v":0},null,null,null,{"$f":"E17-SUM(AI17,AO17,AU17,BA17)","v":0}]
[{"$f":"IF(E18+G18>0,A16,\"\")","v":""},{"$f":"IF(E18+G18>0,B16,\"\")","v":""},{"$f":"C17","v":4},"03-4-23.007(333)",0,1.5,0,0,{"$f":"SUMIF(Y$14:BA$14,C18,Y$7:BA$7)","v":0},0,0,0,0,null,0,null,405.07,0,607.61,0,0,null,0,null,null,null,null,null,null,null,null,null,null,null,{"$f":"IF($I18=AI$7,$E18,0)","v":0},{"$f":"IF($K18=ROUND(AI$7*$F18,2),$G18,0)","v":0},0,0,0,0,{"$f":"IF($I18=AO$7,$E18,0)","v":0},{"$f":"IF($K18=ROUND(AO$7*$F18,2),$G18,0)","v":0},0,0,0,0,{"$f":"IF($I18=AU$7,$E18,0)","v":0},{"$f":"IF($K18=ROUND(AU$7*$F18,2),$G18,0)","v":0},0,0,0,0,{"$f":"IF($I18=BA$7,$E18,0)","v":0},{"$f":"IF($K18=ROUND(BA$7*$F18,2),$G18,0)","v":0},0,0,0,0,null,0,null,null,null,0]
[{"$f":"IF(E19+G19>0,A16,\"\")","v":""},{"$f":"IF(E19+G19>0,B16,\"\")","v":""},{"$f":"C17","v":4},"03-4-23.007(333)",0,1.1000000000000001,0,0,{"$f":"SUMIF(Y$14:BA$14,C19,Y$7:BA$7)","v":0},0,0,0,0,null,0,null,405.07,0,445.58,0,0,null,0,null,null,null,null,null,null,null,null,null,null,null,{"$f":"IF($I19=AI$7,$E19,0)","v":0},{"$f":"IF($K19=ROUND(AI$7*$F19,2),$G19,0)","v":0},0,0,0,0,{"$f":"IF($I19=AO$7,$E19,0)","v":0},{"$f":"IF($K19=ROUND(AO$7*$F19,2),$G19,0)","v":0},0,0,0,0,{"$f":"IF($I19=AU$7,$E19,0)","v":0},{"$f":"IF($K19=ROUND(AU$7*$F19,2),$G19,0)","v":0},0,0,0,0,{"$f":"IF($I19=BA$7,$E19,0)","v":0},{"$f":"IF($K19=ROUND(BA$7*$F19,2),$G19,0)","v":0},0,0,0,0,null,0,null,null,null,0]
["АО             \"ГТ Энерго\" ","д.Горка Муравьевская, БМК №2",{"$f":"C21","v":5},"03-4-23.007(333)",83.254999999999995,1.5,0,83.254999999999995,{"$f":"SUMIF(Y$14:BA$14,C20,Y$6:BA$6)","v":1386.75},{"$f":"IF(H20=0,ROUND(E20*I20,2),ROUND(H20*E20,2))","v":6931.4},{"$f":"ROUND(F20*I20,2)","v":2080.13},{"$f":"IF(H20=0,ROUND(ROUND(F20*I20,2)*G20,2),ROUND(G20*H20,2))","v":0},{"$f":"L20-ROUND(G20*I20,2)","v":0},null,{"$f":"J20+L20+N20","v":6931.4},null,405.07,{"$f":"ROUND(Q20*E20,2)","v":33724.1},{"$f":"ROUND(F20*Q20,2)","v":607.61},{"$f":"ROUND(S20*G20,2)","v":0},{"$f":"T20-ROUND(Q20*G20,2)","v":0},null,{"$f":"R20+T20+V20","v":33724.1},null,null,null,null,null,null,null,null,null,null,null,{"$f":"IF($I20=AI$6,$E20,0)","v":0},{"$f":"IF($K20=ROUND(AI$6*$F20,2),$G20,0)","v":0},{"$f":"IF($H20>0,AI20,0)","v":0},{"$f":"IF(AK20>0,1,0)","v":0},{"$f":"IF($H20>0,AJ20,0)","v":0},{"$f":"IF(AM20>0,1,0)","v":0},{"$f":"IF($I20=AO$6,$E20,0)","v":83.254999999999995},{"$f":"IF($K20=ROUND(AO$6*$F20,2),$G20,0)","v":0},{"$f":"IF($H20>0,AO20,0)","v":83.254999999999995},{"$f":"IF(AQ20>0,1,0)","v":1},{"$f":"IF($H20>0,AP20,0)","v":0},{"$f":"IF(AS20>0,1,0)","v":0},{"$f":"IF($I20=AU$6,$E20,0)","v":0},{"$f":"IF($K20=ROUND(AU$6*$F20,2),$G20,0)","v":0},{"$f":"IF($H20>0,AU20,0)","v":0},{"$f":"IF(AW20>0,1,0)","v":0},{"$f":"IF($H20>0,AV20,0)","v":0},{"$f":"IF(AY20>0,1,0)","v":0},{"$f":"IF($I20=BA$6,$E20,0)","v":0},{"$f":"IF($K20=ROUND(BA$6*$F20,2),$G20,0)","v":0},{"$f":"IF($H20>0,BA20,0)","v":0},{"$f":"IF(BC20>0,1,0)","v":0},{"$f":"IF($H20>0,BB20,0)","v":0},{"$f":"IF(BE20>0,1,0)","v":0},null,8.3254999999999996E-2,86.6,null,null,0]
[{"$f":"IF(E21+G21>0,A20,\"\")","v":""},{"$f":"IF(E21+G21>0,B20,\"\")","v":""},5,"03-4-23.007(333)",0,1.1000000000000001,0,0,{"$f":"SUMIF(Y$14:BA$14,C21,Y$6:BA$6)","v":1386.75},{"$f":"IF(H21=0,ROUND(E21*I21,2),ROUND(H21*E21,2))","v":0},{"$f":"ROUND(F21*I21,2)","v":1525.43},{"$f":"IF(H21=0,ROUND(ROUND(F21*I21,2)*G21,2),ROUND(G21*H21,2))","v":0},{"$f":"L21-ROUND(G21*I21,2)","v":0},null,{"$f":"J21+L21+N21","v":0},null,405.07,{"$f":"ROUND(Q21*E21,2)","v":0},{"$f":"ROUND(F21*Q21,2)","v":445.58},{"$f":"ROUND(S21*G21,2)","v":0},{"$f":"T21-ROUND(Q21*G21,2)","v":0},null,{"$f":"R21+T21+V21","v":0},null,null,null,null,null,null,null,null,null,null,null,0,0,{"$f":"IF($H21>0,AI21,0)","v":0},{"$f":"IF(AK21>0,1,0)","v":0},{"$f":"IF($H21>0,AJ21,0)","v":0},{"$f":"IF(AM21>0,1,0)","v":0},0,0,{"$f":"IF($H21>0,AO21,0)","v":0},{"$f":"IF(AQ21>0,1,0)","v":0},{"$f":"IF($H21>0,AP21,0)","v":0},{"$f":"IF(AS21>0,1,0)","v":0},0,0,{"$f":"IF($H21>0,AU21,0)","v":0},{"$f":"IF(AW21>0,1,0)","v":0},{"$f":"IF($H21>0,AV21,0)","v":0},{"$f":"IF(AY21>0,1,0)","v":0},0,0,{"$f":"IF($H21>0,BA21,0)","v":0},{"$f":"IF(BC21>0,1,0)","v":0},{"$f":"IF($H21>0,BB21,0)","v":0},{"$f":"IF(BE21>0,1,0)","v":0},null,0,null,null,null,0]
[{"$f":"IF(E22+G22>0,A20,\"\")","v":""},{"$f":"IF(E22+G22>0,B20,\"\")","v":""},{"$f":"C21","v":5},"03-4-23.007(333)",0,1.5,0,0,{"$f":"SUMIF(Y$14:BA$14,C22,Y$7:BA$7)","v":0},0,0,0,0,null,0,null,405.07,0,607.61,0,0,null,0,null,null,null,null,null,null,null,null,null,null,null,{"$f":"IF($I22=AI$7,$E22,0)","v":0},{"$f":"IF($K22=ROUND(AI$7*$F22,2),$G22,0)","v":0},0,0,0,0,{"$f":"IF($I22=AO$7,$E22,0)","v":0},{"$f":"IF($K22=ROUND(AO$7*$F22,2),$G22,0)","v":0},0,0,0,0,{"$f":"IF($I22=AU$7,$E22,0)","v":0},{"$f":"IF($K22=ROUND(AU$7*$F22,2),$G22,0)","v":0},0,0,0,0,{"$f":"IF($I22=BA$7,$E22,0)","v":0},{"$f":"IF($K22=ROUND(BA$7*$F22,2),$G22,0)","v":0},0,0,0,0,null,0,null,null,null,0]
[{"$f":"IF(E23+G23>0,A20,\"\")","v":""},{"$f":"IF(E23+G23>0,B20,\"\")","v":""},{"$f":"C21","v":5},"03-4-23.007(333)",0,1.1000000000000001,0,0,{"$f":"SUMIF(Y$14:BA$14,C23,Y$7:BA$7)","v":0},0,0,0,0,null,0,null,405.07,0,445.58,0,0,null,0,null,null,null,null,null,null,null,null,null,null,null,{"$f":"IF($I23=AI$7,$E23,0)","v":0},{"$f":"IF($K23=ROUND(AI$7*$F23,2),$G23,0)","v":0},0,0,0,0,{"$f":"IF($I23=AO$7,$E23,0)","v":0},{"$f":"IF($K23=ROUND(AO$7*$F23,2),$G23,0)","v":0},0,0,0,0,{"$f":"IF($I23=AU$7,$E23,0)","v":0},{"$f":"IF($K23=ROUND(AU$7*$F23,2),$G23,0)","v":0},0,0,0,0,{"$f":"IF($I23=BA$7,$E23,0)","v":0},{"$f":"IF($K23=ROUND(BA$7*$F23,2),$G23,0)","v":0},0,0,0,0,null,0,null,null,null,0]
["АО             \"ГТ Энерго\" ","д.Вороновская, БМК №3",{"$f":"C25","v":5},"03-4-23.007(333)",52.133000000000003,1.5,0,52.133000000000003,{"$f":"SUMIF(Y$14:BA$14,C24,Y$6:BA$6)","v":1386.75},{"$f":"IF(H24=0,ROUND(E24*I24,2),ROUND(H24*E24,2))","v":2717.85},{"$f":"ROUND(F24*I24,2)","v":2080.13},{"$f":"IF(H24=0,ROUND(ROUND(F24*I24,2)*G24,2),ROUND(G24*H24,2))","v":0},{"$f":"L24-ROUND(G24*I24,2)","v":0},null,{"$f":"J24+L24+N24","v":2717.85},null,405.07,{"$f":"ROUND(Q24*E24,2)","v":21117.51},{"$f":"ROUND(F24*Q24,2)","v":607.61},{"$f":"ROUND(S24*G24,2)","v":0},{"$f":"T24-ROUND(Q24*G24,2)","v":0},null,{"$f":"R24+T24+V24","v":21117.51},null,null,null,null,null,null,null,null,null,null,null,{"$f":"IF($I24=AI$6,$E24,0)","v":0},{"$f":"IF($K24=ROUND(AI$6*$F24,2),$G24,0)","v":0},{"$f":"IF($H24>0,AI24,0)","v":0},{"$f":"IF(AK24>0,1,0)","v":0},{"$f":"IF($H24>0,AJ24,0)","v":0},{"$f":"IF(AM24>0,1,0)","v":0},{"$f":"IF($I24=AO$6,$E24,0)","v":52.133000000000003},{"$f":"IF($K24=ROUND(AO$6*$F24,2),$G24,0)","v":0},{"$f":"IF($H24>0,AO24,0)","v":52.133000000000003},{"$f":"IF(AQ24>0,1,0)","v":1},{"$f":"IF($H24>0,AP24,0)","v":0},{"$f":"IF(AS24>0,1,0)","v":0},{"$f":"IF($I24=AU$6,$E24,0)","v":0},{"$f":"IF($K24=ROUND(AU$6*$F24,2),$G24,0)","v":0},{"$f":"IF($H24>0,AU24,0)","v":0},{"$f":"IF(AW24>0,1,0)","v":0},{"$f":"IF($H24>0,AV24,0)","v":0},{"$f":"IF(AY24>0,1,0)","v":0},{"$f":"IF($I24=BA$6,$E24,0)","v":0},{"$f":"IF($K24=ROUND(BA$6*$F24,2),$G24,0)","v":0},{"$f":"IF($H24>0,BA24,0)","v":0},{"$f":"IF(BC24>0,1,0)","v":0},{"$f":"IF($H24>0,BB24,0)","v":0},{"$f":"IF(BE24>0,1,0)","v":0},null,5.2133000000000006E-2,68.7,null,null,0]
[{"$f":"IF(E25+G25>0,A24,\"\")","v":""},{"$f":"IF(E25+G25>0,B24,\"\")","v":""},5,"03-4-23.007(333)",0,1.1000000000000001,0,0,{"$f":"SUMIF(Y$14:BA$14,C25,Y$6:BA$6)","v":1386.75},{"$f":"IF(H25=0,ROUND(E25*I25,2),ROUND(H25*E25,2))","v":0},{"$f":"ROUND(F25*I25,2)","v":1525.43},{"$f":"IF(H25=0,ROUND(ROUND(F25*I25,2)*G25,2),ROUND(G25*H25,2))","v":0},{"$f":"L25-ROUND(G25*I25,2)","v":0},null,{"$f":"J25+L25+N25","v":0},null,405.07,{"$f":"ROUND(Q25*E25,2)","v":0},{"$f":"ROUND(F25*Q25,2)","v":445.58},{"$f":"ROUND(S25*G25,2)","v":0},{"$f":"T25-ROUND(Q25*G25,2)","v":0},null,{"$f":"R25+T25+V25","v":0},null,null,null,null,null,null,null,null,null,null,null,{"$f":"IF($I25=AI$6,$E25,0)","v":0},0,{"$f":"IF($H25>0,AI25,0)","v":0},{"$f":"IF(AK25>0,1,0)","v":0},{"$f":"IF($H25>0,AJ25,0)","v":0},{"$f":"IF(AM25>0,1,0)","v":0},{"$f":"IF($I25=AO$6,$E25,0)","v":0},0,{"$f":"IF($H25>0,AO25,0)","v":0},{"$f":"IF(AQ25>0,1,0)","v":0},{"$f":"IF($H25>0,AP25,0)","v":0},{"$f":"IF(AS25>0,1,0)","v":0},{"$f":"IF($I25=AU$6,$E25,0)","v":0},0,{"$f":"IF($H25>0,AU25,0)","v":0},{"$f":"IF(AW25>0,1,0)","v":0},{"$f":"IF($H25>0,AV25,0)","v":0},{"$f":"IF(AY25>0,1,0)","v":0},{"$f":"IF($I25=BA$6,$E25,0)","v":0},0,{"$f":"IF($H25>0,BA25,0)","v":0},{"$f":"IF(BC25>0,1,0)","v":0},{"$f":"IF($H25>0,BB25,0)","v":0},{"$f":"IF(BE25>0,1,0)","v":0},null,0,null,null,null,0]
[{"$f":"IF(E26+G26>0,A24,\"\")","v":""},{"$f":"IF(E26+G26>0,B24,\"\")","v":""},{"$f":"C25","v":5},"03-4-23.007(333)",0,1.5,0,0,{"$f":"SUMIF(Y$14:BA$14,C26,Y$7:BA$7)","v":0},0,0,0,0,null,0,null,405.07,0,607.61,0,0,null,0,null,null,null,null,null,null,null,null,null,null,null,{"$f":"IF($I26=AI$7,$E26,0)","v":0},{"$f":"IF($K26=ROUND(AI$7*$F26,2),$G26,0)","v":0},0,0,0,0,{"$f":"IF($I26=AO$7,$E26,0)","v":0},{"$f":"IF($K26=ROUND(AO$7*$F26,2),$G26,0)","v":0},0,0,0,0,{"$f":"IF($I26=AU$7,$E26,0)","v":0},{"$f":"IF($K26=ROUND(AU$7*$F26,2),$G26,0)","v":0},0,0,0,0,{"$f":"IF($I26=BA$7,$E26,0)","v":0},{"$f":"IF($K26=ROUND(BA$7*$F26,2),$G26,0)","v":0},0,0,0,0,null,0,null,null,null,0]
[{"$f":"IF(E27+G27>0,A24,\"\")","v":""},{"$f":"IF(E27+G27>0,B24,\"\")","v":""},{"$f":"C25","v":5},"03-4-23.007(333)",0,1.1000000000000001,0,0,{"$f":"SUMIF(Y$14:BA$14,C27,Y$7:BA$7)","v":0},0,0,0,0,null,0,null,405.07,0,445.58,0,0,null,0,null,null,null,null,null,null,null,null,null,null,null,{"$f":"IF($I27=AI$7,$E27,0)","v":0},{"$f":"IF($K27=ROUND(AI$7*$F27,2),$G27,0)","v":0},0,0,0,0,{"$f":"IF($I27=AO$7,$E27,0)","v":0},{"$f":"IF($K27=ROUND(AO$7*$F27,2),$G27,0)","v":0},0,0,0,0,{"$f":"IF($I27=AU$7,$E27,0)","v":0},{"$f":"IF($K27=ROUND(AU$7*$F27,2),$G27,0)","v":0},0,0,0,0,{"$f":"IF($I27=BA$7,$E27,0)","v":0},{"$f":"IF($K27=ROUND(BA$7*$F27,2),$G27,0)","v":0},0,0,0,0,null,0,null,null,null,0]
["АО             \"ГТ Энерго\" ","Вельск, ул.Революционная-73 (ПУ-29)",{"$f":"C29","v":5},"03-4-23.007(333)",43.136000000000003,1.5,0,43.136000000000003,{"$f":"SUMIF(Y$14:BA$14,C28,Y$6:BA$6)","v":1386.75},{"$f":"IF(H28=0,ROUND(E28*I28,2),ROUND(H28*E28,2))","v":1860.71},{"$f":"ROUND(F28*I28,2)","v":2080.13},{"$f":"IF(H28=0,ROUND(ROUND(F28*I28,2)*G28,2),ROUND(G28*H28,2))","v":0},{"$f":"L28-ROUND(G28*I28,2)","v":0},null,{"$f":"J28+L28+N28","v":1860.71},null,405.07,{"$f":"ROUND(Q28*E28,2)","v":17473.099999999999},{"$f":"ROUND(F28*Q28,2)","v":607.61},{"$f":"ROUND(S28*G28,2)","v":0},{"$f":"T28-ROUND(Q28*G28,2)","v":0},null,{"$f":"R28+T28+V28","v":17473.099999999999},null,null,null,null,null,null,null,null,null,null,null,{"$f":"IF($I28=AI$6,$E28,0)","v":0},{"$f":"IF($K28=ROUND(AI$6*$F28,2),$G28,0)","v":0},{"$f":"IF($H28>0,AI28,0)","v":0},{"$f":"IF(AK28>0,1,0)","v":0},{"$f":"IF($H28>0,AJ28,0)","v":0},{"$f":"IF(AM28>0,1,0)","v":0},{"$f":"IF($I28=AO$6,$E28,0)","v":43.136000000000003},{"$f":"IF($K28=ROUND(AO$6*$F28,2),$G28,0)","v":0},{"$f":"IF($H28>0,AO28,0)","v":43.136000000000003},{"$f":"IF(AQ28>0,1,0)","v":1},{"$f":"IF($H28>0,AP28,0)","v":0},{"$f":"IF(AS28>0,1,0)","v":0},{"$f":"IF($I28=AU$6,$E28,0)","v":0},{"$f":"IF($K28=ROUND(AU$6*$F28,2),$G28,0)","v":0},{"$f":"IF($H28>0,AU28,0)","v":0},{"$f":"IF(AW28>0,1,0)","v":0},{"$f":"IF($H28>0,AV28,0)","v":0},{"$f":"IF(AY28>0,1,0)","v":0},{"$f":"IF($I28=BA$6,$E28,0)","v":0},{"$f":"IF($K28=ROUND(BA$6*$F28,2),$G28,0)","v":0},{"$f":"IF($H28>0,BA28,0)","v":0},{"$f":"IF(BC28>0,1,0)","v":0},{"$f":"IF($H28>0,BB28,0)","v":0},{"$f":"IF(BE28>0,1,0)","v":0},null,4.3136000000000001E-2,63.7,null,null,0]
[{"$f":"IF(E29+G29>0,A28,\"\")","v":""},{"$f":"IF(E29+G29>0,B28,\"\")","v":""},5,"03-4-23.007(333)",0,1.1000000000000001,0,0,{"$f":"SUMIF(Y$14:BA$14,C29,Y$6:BA$6)","v":1386.75},{"$f":"IF(H29=0,ROUND(E29*I29,2),ROUND(H29*E29,2))","v":0},{"$f":"ROUND(F29*I29,2)","v":1525.43},{"$f":"IF(H29=0,ROUND(ROUND(F29*I29,2)*G29,2),ROUND(G29*H29,2))","v":0},{"$f":"L29-ROUND(G29*I29,2)","v":0},null,{"$f":"J29+L29+N29","v":0},null,405.07,{"$f":"ROUND(Q29*E29,2)","v":0},{"$f":"ROUND(F29*Q29,2)","v":445.58},{"$f":"ROUND(S29*G29,2)","v":0},{"$f":"T29-ROUND(Q29*G29,2)","v":0},null,{"$f":"R29+T29+V29","v":0},null,null,null,null,null,null,null,null,null,null,null,{"$f":"IF($I29=AI$6,$E29,0)","v":0},0,{"$f":"IF($H29>0,AI29,0)","v":0},{"$f":"IF(AK29>0,1,0)","v":0},{"$f":"IF($H29>0,AJ29,0)","v":0},{"$f":"IF(AM29>0,1,0)","v":0},{"$f":"IF($I29=AO$6,$E29,0)","v":0},0,{"$f":"IF($H29>0,AO29,0)","v":0},{"$f":"IF(AQ29>0,1,0)","v":0},{"$f":"IF($H29>0,AP29,0)","v":0},{"$f":"IF(AS29>0,1,0)","v":0},{"$f":"IF($I29=AU$6,$E29,0)","v":0},0,{"$f":"IF($H29>0,AU29,0)","v":0},{"$f":"IF(AW29>0,1,0)","v":0},{"$f":"IF($H29>0,AV29,0)","v":0},{"$f":"IF(AY29>0,1,0)","v":0},{"$f":"IF($I29=BA$6,$E29,0)","v":0},0,{"$f":"IF($H29>0,BA29,0)","v":0},{"$f":"IF(BC29>0,1,0)","v":0},{"$f":"IF($H29>0,BB29,0)","v":0},{"$f":"IF(BE29>0,1,0)","v":0},null,0,null,null,null,0]
[{"$f":"IF(E30+G30>0,A28,\"\")","v":""},{"$f":"IF(E30+G30>0,B28,\"\")","v":""},{"$f":"C29","v":5},"03-4-23.007(333)",0,1.5,0,0,{"$f":"SUMIF(Y$14:BA$14,C30,Y$7:BA$7)","v":0},0,0,0,0,null,0,null,405.07,0,607.61,0,0,null,0,null,null,null,null,null,null,null,null,null,null,null,{"$f":"IF($I30=AI$7,$E30,0)","v":0},{"$f":"IF($K30=ROUND(AI$7*$F30,2),$G30,0)","v":0},0,0,0,0,{"$f":"IF($I30=AO$7,$E30,0)","v":0},{"$f":"IF($K30=ROUND(AO$7*$F30,2),$G30,0)","v":0},0,0,0,0,{"$f":"IF($I30=AU$7,$E30,0)","v":0},{"$f":"IF($K30=ROUND(AU$7*$F30,2),$G30,0)","v":0},0,0,0,0,{"$f":"IF($I30=BA$7,$E30,0)","v":0},{"$f":"IF($K30=ROUND(BA$7*$F30,2),$G30,0)","v":0},0,0,0,0,null,0,null,null,null,0]
[{"$f":"IF(E31+G31>0,A28,\"\")","v":""},{"$f":"IF(E31+G31>0,B28,\"\")","v":""},{"$f":"C29","v":5},"03-4-23.007(333)",0,1.1000000000000001,0,0,{"$f":"SUMIF(Y$14:BA$14,C31,Y$7:BA$7)","v":0},0,0,0,0,null,0,null,405.07,0,445.58,0,0,null,0,null,null,null,null,null,null,null,null,null,null,null,{"$f":"IF($I31=AI$7,$E31,0)","v":0},{"$f":"IF($K31=ROUND(AI$7*$F31,2),$G31,0)","v":0},0,0,0,0,{"$f":"IF($I31=AO$7,$E31,0)","v":0},{"$f":"IF($K31=ROUND(AO$7*$F31,2),$G31,0)","v":0},0,0,0,0,{"$f":"IF($I31=AU$7,$E31,0)","v":0},{"$f":"IF($K31=ROUND(AU$7*$F31,2),$G31,0)","v":0},0,0,0,0,{"$f":"IF($I31=BA$7,$E31,0)","v":0},{"$f":"IF($K31=ROUND(BA$7*$F31,2),$G31,0)","v":0},0,0,0,0,null,0,null,null,null,0]
["АО             \"ГТ Энерго\" ","Вельск, (ул.Дзержинского-201, а/л №45 + ул.Кирова-6а)",{"$f":"C33","v":5},"03-4-23.007(333)",73.936999999999998,1.5,0,73.936999999999998,{"$f":"SUMIF(Y$14:BA$14,C32,Y$6:BA$6)","v":1386.75},{"$f":"IF(H32=0,ROUND(E32*I32,2),ROUND(H32*E32,2))","v":5466.68},{"$f":"ROUND(F32*I32,2)","v":2080.13},{"$f":"IF(H32=0,ROUND(ROUND(F32*I32,2)*G32,2),ROUND(G32*H32,2))","v":0},{"$f":"L32-ROUND(G32*I32,2)","v":0},null,{"$f":"J32+L32+N32","v":5466.68},null,405.07,{"$f":"ROUND(Q32*E32,2)","v":29949.66},{"$f":"ROUND(F32*Q32,2)","v":607.61},{"$f":"ROUND(S32*G32,2)","v":0},{"$f":"T32-ROUND(Q32*G32,2)","v":0},null,{"$f":"R32+T32+V32","v":29949.66},null,null,null,null,null,null,null,null,null,null,null,{"$f":"IF($I32=AI$6,$E32,0)","v":0},{"$f":"IF($K32=ROUND(AI$6*$F32,2),$G32,0)","v":0},{"$f":"IF($H32>0,AI32,0)","v":0},{"$f":"IF(AK32>0,1,0)","v":0},{"$f":"IF($H32>0,AJ32,0)","v":0},{"$f":"IF(AM32>0,1,0)","v":0},{"$f":"IF($I32=AO$6,$E32,0)","v":73.936999999999998},{"$f":"IF($K32=ROUND(AO$6*$F32,2),$G32,0)","v":0},{"$f":"IF($H32>0,AO32,0)","v":73.936999999999998},{"$f":"IF(AQ32>0,1,0)","v":1},{"$f":"IF($H32>0,AP32,0)","v":0},{"$f":"IF(AS32>0,1,0)","v":0},{"$f":"IF($I32=AU$6,$E32,0)","v":0},{"$f":"IF($K32=ROUND(AU$6*$F32,2),$G32,0)","v":0},{"$f":"IF($H32>0,AU32,0)","v":0},{"$f":"IF(AW32>0,1,0)","v":0},{"$f":"IF($H32>0,AV32,0)","v":0},{"$f":"IF(AY32>0,1,0)","v":0},{"$f":"IF($I32=BA$6,$E32,0)","v":0},{"$f":"IF($K32=ROUND(BA$6*$F32,2),$G32,0)","v":0},{"$f":"IF($H32>0,BA32,0)","v":0},{"$f":"IF(BC32>0,1,0)","v":0},{"$f":"IF($H32>0,BB32,0)","v":0},{"$f":"IF(BE32>0,1,0)","v":0},null,7.3937000000000003E-2,131.30000000000001,null,null,0]
[{"$f":"IF(E33+G33>0,A32,\"\")","v":""},{"$f":"IF(E33+G33>0,B32,\"\")","v":""},5,"03-4-23.007(333)",0,1.1000000000000001,0,0,{"$f":"SUMIF(Y$14:BA$14,C33,Y$6:BA$6)","v":1386.75},{"$f":"IF(H33=0,ROUND(E33*I33,2),ROUND(H33*E33,2))","v":0},{"$f":"ROUND(F33*I33,2)","v":1525.43},{"$f":"IF(H33=0,ROUND(ROUND(F33*I33,2)*G33,2),ROUND(G33*H33,2))","v":0},{"$f":"L33-ROUND(G33*I33,2)","v":0},null,{"$f":"J33+L33+N33","v":0},null,405.07,{"$f":"ROUND(Q33*E33,2)","v":0},{"$f":"ROUND(F33*Q33,2)","v":445.58},{"$f":"ROUND(S33*G33,2)","v":0},{"$f":"T33-ROUND(Q33*G33,2)","v":0},null,{"$f":"R33+T33+V33","v":0},null,null,null,null,null,null,null,null,null,null,null,{"$f":"IF($I33=AI$6,$E33,0)","v":0},0,{"$f":"IF($H33>0,AI33,0)","v":0},{"$f":"IF(AK33>0,1,0)","v":0},{"$f":"IF($H33>0,AJ33,0)","v":0},{"$f":"IF(AM33>0,1,0)","v":0},{"$f":"IF($I33=AO$6,$E33,0)","v":0},0,{"$f":"IF($H33>0,AO33,0)","v":0},{"$f":"IF(AQ33>0,1,0)","v":0},{"$f":"IF($H33>0,AP33,0)","v":0},{"$f":"IF(AS33>0,1,0)","v":0},{"$f":"IF($I33=AU$6,$E33,0)","v":0},0,{"$f":"IF($H33>0,AU33,0)","v":0},{"$f":"IF(AW33>0,1,0)","v":0},{"$f":"IF($H33>0,AV33,0)","v":0},{"$f":"IF(AY33>0,1,0)","v":0},{"$f":"IF($I33=BA$6,$E33,0)","v":0},0,{"$f":"IF($H33>0,BA33,0)","v":0},{"$f":"IF(BC33>0,1,0)","v":0},{"$f":"IF($H33>0,BB33,0)","v":0},{"$f":"IF(BE33>0,1,0)","v":0},null,0,null,null,null,0]
[{"$f":"IF(E34+G34>0,A32,\"\")","v":""},{"$f":"IF(E34+G34>0,B32,\"\")","v":""},{"$f":"C33","v":5},"03-4-23.007(333)",0,1.5,0,0,{"$f":"SUMIF(Y$14:BA$14,C34,Y$7:BA$7)","v":0},0,0,0,0,null,0,null,405.07,0,607.61,0,0,null,0,null,null,null,null,null,null,null,null,null,null,null,{"$f":"IF($I34=AI$7,$E34,0)","v":0},{"$f":"IF($K34=ROUND(AI$7*$F34,2),$G34,0)","v":0},0,0,0,0,{"$f":"IF($I34=AO$7,$E34,0)","v":0},{"$f":"IF($K34=ROUND(AO$7*$F34,2),$G34,0)","v":0},0,0,0,0,{"$f":"IF($I34=AU$7,$E34,0)","v":0},{"$f":"IF($K34=ROUND(AU$7*$F34,2),$G34,0)","v":0},0,0,0,0,{"$f":"IF($I34=BA$7,$E34,0)","v":0},{"$f":"IF($K34=ROUND(BA$7*$F34,2),$G34,0)","v":0},0,0,0,0,null,0,null,null,null,0]
[{"$f":"IF(E35+G35>0,A32,\"\")","v":""},{"$f":"IF(E35+G35>0,B32,\"\")","v":""},{"$f":"C33","v":5},"03-4-23.007(333)",0,1.1000000000000001,0,0,{"$f":"SUMIF(Y$14:BA$14,C35,Y$7:BA$7)","v":0},0,0,0,0,null,0,null,405.07,0,445.58,0,0,null,0,null,null,null,null,null,null,null,null,null,null,null,{"$f":"IF($I35=AI$7,$E35,0)","v":0},{"$f":"IF($K35=ROUND(AI$7*$F35,2),$G35,0)","v":0},0,0,0,0,{"$f":"IF($I35=AO$7,$E35,0)","v":0},{"$f":"IF($K35=ROUND(AO$7*$F35,2),$G35,0)","v":0},0,0,0,0,{"$f":"IF($I35=AU$7,$E35,0)","v":0},{"$f":"IF($K35=ROUND(AU$7*$F35,2),$G35,0)","v":0},0,0,0,0,{"$f":"IF($I35=BA$7,$E35,0)","v":0},{"$f":"IF($K35=ROUND(BA$7*$F35,2),$G35,0)","v":0},0,0,0,0,null,0,null,null,null,0]
["ОАО          \"Архангельскоблгаз\"","",{"$f":"C37","v":7},"03-4-23.011(333)",0.67,1.5,0,0.67,{"$f":"SUMIF(Y$14:BA$14,C36,Y$6:BA$6)","v":2166.8000000000002},{"$f":"IF(H36=0,ROUND(E36*I36,2),ROUND(H36*E36,2))","v":0.45},{"$f":"ROUND(F36*I36,2)","v":3250.2},{"$f":"IF(H36=0,ROUND(ROUND(F36*I36,2)*G36,2),ROUND(G36*H36,2))","v":0},{"$f":"L36-ROUND(G36*I36,2)","v":0},null,{"$f":"J36+L36+N36","v":0.45},null,405.07,{"$f":"ROUND(Q36*E36,2)","v":271.39999999999998},{"$f":"ROUND(F36*Q36,2)","v":607.61},{"$f":"ROUND(S36*G36,2)","v":0},{"$f":"T36-ROUND(Q36*G36,2)","v":0},null,{"$f":"R36+T36+V36","v":271.39999999999998},null,null,null,null,null,null,null,null,null,null,null,{"$f":"IF($I36=AI$6,$E36,0)","v":0},{"$f":"IF($K36=ROUND(AI$6*$F36,2),$G36,0)","v":0},{"$f":"IF($H36>0,AI36,0)","v":0},{"$f":"IF(AK36>0,1,0)","v":0},{"$f":"IF($H36>0,AJ36,0)","v":0},{"$f":"IF(AM36>0,1,0)","v":0},{"$f":"IF($I36=AO$6,$E36,0)","v":0},{"$f":"IF($K36=ROUND(AO$6*$F36,2),$G36,0)","v":0},{"$f":"IF($H36>0,AO36,0)","v":0},{"$f":"IF(AQ36>0,1,0)","v":0},{"$f":"IF($H36>0,AP36,0)","v":0},{"$f":"IF(AS36>0,1,0)","v":0},{"$f":"IF($I36=AU$6,$E36,0)","v":0},{"$f":"IF($K36=ROUND(AU$6*$F36,2),$G36,0)","v":0},{"$f":"IF($H36>0,AU36,0)","v":0},{"$f":"IF(AW36>0,1,0)","v":0},{"$f":"IF($H36>0,AV36,0)","v":0},{"$f":"IF(AY36>0,1,0)","v":0},{"$f":"IF($I36=BA$6,$E36,0)","v":0.67},{"$f":"IF($K36=ROUND(BA$6*$F36,2),$G36,0)","v":0},{"$f":"IF($H36>0,BA36,0)","v":0.67},{"$f":"IF(BC36>0,1,0)","v":1},{"$f":"IF($H36>0,BB36,0)","v":0},{"$f":"IF(BE36>0,1,0)","v":0},null,6.7000000000000002E-4,1,null,null,0]
[{"$f":"IF(E37+G37>0,A36,\"\")","v":""},{"$f":"IF(E37+G37>0,B36,\"\")","v":""},7,"03-4-23.011(333)",0,1.1000000000000001,0,0,{"$f":"SUMIF(Y$14:BA$14,C37,Y$6:BA$6)","v":2166.8000000000002},{"$f":"IF(H37=0,ROUND(E37*I37,2),ROUND(H37*E37,2))","v":0},{"$f":"ROUND(F37*I37,2)","v":2383.48},{"$f":"IF(H37=0,ROUND(ROUND(F37*I37,2)*G37,2),ROUND(G37*H37,2))","v":0},{"$f":"L37-ROUND(G37*I37,2)","v":0},null,{"$f":"J37+L37+N37","v":0},null,405.07,{"$f":"ROUND(Q37*E37,2)","v":0},{"$f":"ROUND(F37*Q37,2)","v":445.58},{"$f":"ROUND(S37*G37,2)","v":0},{"$f":"T37-ROUND(Q37*G37,2)","v":0},null,{"$f":"R37+T37+V37","v":0},null,null,null,null,null,null,null,null,null,null,null,{"$f":"IF($I37=AI$6,$E37,0)","v":0},0,{"$f":"IF($H37>0,AI37,0)","v":0},{"$f":"IF(AK37>0,1,0)","v":0},{"$f":"IF($H37>0,AJ37,0)","v":0},{"$f":"IF(AM37>0,1,0)","v":0},{"$f":"IF($I37=AO$6,$E37,0)","v":0},0,{"$f":"IF($H37>0,AO37,0)","v":0},{"$f":"IF(AQ37>0,1,0)","v":0},{"$f":"IF($H37>0,AP37,0)","v":0},{"$f":"IF(AS37>0,1,0)","v":0},{"$f":"IF($I37=AU$6,$E37,0)","v":0},0,{"$f":"IF($H37>0,AU37,0)","v":0},{"$f":"IF(AW37>0,1,0)","v":0},{"$f":"IF($H37>0,AV37,0)","v":0},{"$f":"IF(AY37>0,1,0)","v":0},{"$f":"IF($I37=BA$6,$E37,0)","v":0},0,{"$f":"IF($H37>0,BA37,0)","v":0},{"$f":"IF(BC37>0,1,0)","v":0},{"$f":"IF($H37>0,BB37,0)","v":0},{"$f":"IF(BE37>0,1,0)","v":0},null,0,null,null,null,0]
[{"$f":"IF(E38+G38>0,A36,\"\")","v":""},{"$f":"IF(E38+G38>0,B36,\"\")","v":""},{"$f":"C37","v":7},"03-4-23.011(333)",0,1.5,0,0,{"$f":"SUMIF(Y$14:BA$14,C38,Y$7:BA$7)","v":0},0,0,0,0,null,0,null,405.07,0,607.61,0,0,null,0,null,null,null,null,null,null,null,null,null,null,null,{"$f":"IF($I38=AI$7,$E38,0)","v":0},{"$f":"IF($K38=ROUND(AI$7*$F38,2),$G38,0)","v":0},0,0,0,0,{"$f":"IF($I38=AO$7,$E38,0)","v":0},{"$f":"IF($K38=ROUND(AO$7*$F38,2),$G38,0)","v":0},0,0,0,0,{"$f":"IF($I38=AU$7,$E38,0)","v":0},{"$f":"IF($K38=ROUND(AU$7*$F38,2),$G38,0)","v":0},0,0,0,0,{"$f":"IF($I38=BA$7,$E38,0)","v":0},{"$f":"IF($K38=ROUND(BA$7*$F38,2),$G38,0)","v":0},0,0,0,0,null,0,null,null,null,0]
[{"$f":"IF(E39+G39>0,A36,\"\")","v":""},{"$f":"IF(E39+G39>0,B36,\"\")","v":""},{"$f":"C37","v":7},"03-4-23.011(333)",0,1.1000000000000001,0,0,{"$f":"SUMIF(Y$14:BA$14,C39,Y$7:BA$7)","v":0},0,0,0,0,null,0,null,405.07,0,445.58,0,0,null,0,null,null,null,null,null,null,null,null,null,null,null,{"$f":"IF($I39=AI$7,$E39,0)","v":0},{"$f":"IF($K39=ROUND(AI$7*$F39,2),$G39,0)","v":0},0,0,0,0,{"$f":"IF($I39=AO$7,$E39,0)","v":0},{"$f":"IF($K39=ROUND(AO$7*$F39,2),$G39,0)","v":0},0,0,0,0,{"$f":"IF($I39=AU$7,$E39,0)","v":0},{"$f":"IF($K39=ROUND(AU$7*$F39,2),$G39,0)","v":0},0,0,0,0,{"$f":"IF($I39=BA$7,$E39,0)","v":0},{"$f":"IF($K39=ROUND(BA$7*$F39,2),$G39,0)","v":0},0,0,0,0,null,0,null,null,null,0]
["ГКУЗ АО АМЦМР   \"Резерв\"","",{"$f":"C41","v":6},"03-4-23.012Б(333)",2.508,1.5,0,2.508,{"$f":"SUMIF(Y$14:BA$14,C40,Y$6:BA$6)","v":1733.45},{"$f":"IF(H40=0,ROUND(E40*I40,2),ROUND(H40*E40,2))","v":6.29},{"$f":"ROUND(F40*I40,2)","v":2600.1799999999998},{"$f":"IF(H40=0,ROUND(ROUND(F40*I40,2)*G40,2),ROUND(G40*H40,2))","v":0},{"$f":"L40-ROUND(G40*I40,2)","v":0},null,{"$f":"J40+L40+N40","v":6.29},null,405.07,{"$f":"ROUND(Q40*E40,2)","v":1015.92},{"$f":"ROUND(F40*Q40,2)","v":607.61},{"$f":"ROUND(S40*G40,2)","v":0},{"$f":"T40-ROUND(Q40*G40,2)","v":0},null,{"$f":"R40+T40+V40","v":1015.92},null,null,null,null,null,null,null,null,null,null,null,{"$f":"IF($I40=AI$6,$E40,0)","v":0},{"$f":"IF($K40=ROUND(AI$6*$F40,2),$G40,0)","v":0},{"$f":"IF($H40>0,AI40,0)","v":0},{"$f":"IF(AK40>0,1,0)","v":0},{"$f":"IF($H40>0,AJ40,0)","v":0},{"$f":"IF(AM40>0,1,0)","v":0},{"$f":"IF($I40=AO$6,$E40,0)","v":0},{"$f":"IF($K40=ROUND(AO$6*$F40,2),$G40,0)","v":0},{"$f":"IF($H40>0,AO40,0)","v":0},{"$f":"IF(AQ40>0,1,0)","v":0},{"$f":"IF($H40>0,AP40,0)","v":0},{"$f":"IF(AS40>0,1,0)","v":0},{"$f":"IF($I40=AU$6,$E40,0)","v":2.508},{"$f":"IF($K40=ROUND(AU$6*$F40,2),$G40,0)","v":0},{"$f":"IF($H40>0,AU40,0)","v":2.508},{"$f":"IF(AW40>0,1,0)","v":1},{"$f":"IF($H40>0,AV40,0)","v":0},{"$f":"IF(AY40>0,1,0)","v":0},{"$f":"IF($I40=BA$6,$E40,0)","v":0},{"$f":"IF($K40=ROUND(BA$6*$F40,2),$G40,0)","v":0},{"$f":"IF($H40>0,BA40,0)","v":0},{"$f":"IF(BC40>0,1,0)","v":0},{"$f":"IF($H40>0,BB40,0)","v":0},{"$f":"IF(BE40>0,1,0)","v":0},null,2.5079999999999998E-3,3.5,null,null,0]
[{"$f":"IF(E41+G41>0,A40,\"\")","v":""},{"$f":"IF(E41+G41>0,B40,\"\")","v":""},6,"03-4-23.012Б(333)",0,1.1000000000000001,0,0,{"$f":"SUMIF(Y$14:BA$14,C41,Y$6:BA$6)","v":1733.45},{"$f":"IF(H41=0,ROUND(E41*I41,2),ROUND(H41*E41,2))","v":0},{"$f":"ROUND(F41*I41,2)","v":1906.8},{"$f":"IF(H41=0,ROUND(ROUND(F41*I41,2)*G41,2),ROUND(G41*H41,2))","v":0},{"$f":"L41-ROUND(G41*I41,2)","v":0},null,{"$f":"J41+L41+N41","v":0},null,405.07,{"$f":"ROUND(Q41*E41,2)","v":0},{"$f":"ROUND(F41*Q41,2)","v":445.58},{"$f":"ROUND(S41*G41,2)","v":0},{"$f":"T41-ROUND(Q41*G41,2)","v":0},null,{"$f":"R41+T41+V41","v":0},null,null,null,null,null,null,null,null,null,null,null,{"$f":"IF($I41=AI$6,$E41,0)","v":0},0,{"$f":"IF($H41>0,AI41,0)","v":0},{"$f":"IF(AK41>0,1,0)","v":0},{"$f":"IF($H41>0,AJ41,0)","v":0},{"$f":"IF(AM41>0,1,0)","v":0},{"$f":"IF($I41=AO$6,$E41,0)","v":0},0,{"$f":"IF($H41>0,AO41,0)","v":0},{"$f":"IF(AQ41>0,1,0)","v":0},{"$f":"IF($H41>0,AP41,0)","v":0},{"$f":"IF(AS41>0,1,0)","v":0},{"$f":"IF($I41=AU$6,$E41,0)","v":0},0,{"$f":"IF($H41>0,AU41,0)","v":0},{"$f":"IF(AW41>0,1,0)","v":0},{"$f":"IF($H41>0,AV41,0)","v":0},{"$f":"IF(AY41>0,1,0)","v":0},{"$f":"IF($I41=BA$6,$E41,0)","v":0},0,{"$f":"IF($H41>0,BA41,0)","v":0},{"$f":"IF(BC41>0,1,0)","v":0},{"$f":"IF($H41>0,BB41,0)","v":0},{"$f":"IF(BE41>0,1,0)","v":0},null,0,null,null,null,0]
[{"$f":"IF(E42+G42>0,A40,\"\")","v":""},{"$f":"IF(E42+G42>0,B40,\"\")","v":""},{"$f":"C41","v":6},"03-4-23.012Б(333)",0,1.5,0,0,{"$f":"SUMIF(Y$14:BA$14,C42,Y$7:BA$7)","v":0},0,0,0,0,null,0,null,405.07,0,607.61,0,0,null,0,null,null,null,null,null,null,null,null,null,null,null,{"$f":"IF($I42=AI$7,$E42,0)","v":0},{"$f":"IF($K42=ROUND(AI$7*$F42,2),$G42,0)","v":0},0,0,0,0,{"$f":"IF($I42=AO$7,$E42,0)","v":0},{"$f":"IF($K42=ROUND(AO$7*$F42,2),$G42,0)","v":0},0,0,0,0,{"$f":"IF($I42=AU$7,$E42,0)","v":0},{"$f":"IF($K42=ROUND(AU$7*$F42,2),$G42,0)","v":0},0,0,0,0,{"$f":"IF($I42=BA$7,$E42,0)","v":0},{"$f":"IF($K42=ROUND(BA$7*$F42,2),$G42,0)","v":0},0,0,0,0,null,0,null,null,null,0]
[{"$f":"IF(E43+G43>0,A40,\"\")","v":""},{"$f":"IF(E43+G43>0,B40,\"\")","v":""},{"$f":"C41","v":6},"03-4-23.012Б(333)",0,1.1000000000000001,0,0,{"$f":"SUMIF(Y$14:BA$14,C43,Y$7:BA$7)","v":0},0,0,0,0,null,0,null,405.07,0,445.58,0,0,null,0,null,null,null,null,null,null,null,null,null,null,null,{"$f":"IF($I43=AI$7,$E43,0)","v":0},{"$f":"IF($K43=ROUND(AI$7*$F43,2),$G43,0)","v":0},0,0,0,0,{"$f":"IF($I43=AO$7,$E43,0)","v":0},{"$f":"IF($K43=ROUND(AO$7*$F43,2),$G43,0)","v":0},0,0,0,0,{"$f":"IF($I43=AU$7,$E43,0)","v":0},{"$f":"IF($K43=ROUND(AU$7*$F43,2),$G43,0)","v":0},0,0,0,0,{"$f":"IF($I43=BA$7,$E43,0)","v":0},{"$f":"IF($K43=ROUND(BA$7*$F43,2),$G43,0)","v":0},0,0,0,0,null,0,null,null,null,0]
["ООО          \"КМТС\"             ","",{"$f":"C45","v":6},"03-4-23.364",1.419,1.5,0,1.419,{"$f":"SUMIF(Y$14:BA$14,C44,Y$6:BA$6)","v":1733.45},{"$f":"IF(H44=0,ROUND(E44*I44,2),ROUND(H44*E44,2))","v":2.0099999999999998},{"$f":"ROUND(F44*I44,2)","v":2600.1799999999998},{"$f":"IF(H44=0,ROUND(ROUND(F44*I44,2)*G44,2),ROUND(G44*H44,2))","v":0},{"$f":"L44-ROUND(G44*I44,2)","v":0},null,{"$f":"J44+L44+N44","v":2.0099999999999998},null,405.07,{"$f":"ROUND(Q44*E44,2)","v":574.79},{"$f":"ROUND(F44*Q44,2)","v":607.61},{"$f":"ROUND(S44*G44,2)","v":0},{"$f":"T44-ROUND(Q44*G44,2)","v":0},null,{"$f":"R44+T44+V44","v":574.79},null,null,null,null,null,null,null,null,null,null,null,{"$f":"IF($I44=AI$6,$E44,0)","v":0},{"$f":"IF($K44=ROUND(AI$6*$F44,2),$G44,0)","v":0},{"$f":"IF($H44>0,AI44,0)","v":0},{"$f":"IF(AK44>0,1,0)","v":0},{"$f":"IF($H44>0,AJ44,0)","v":0},{"$f":"IF(AM44>0,1,0)","v":0},{"$f":"IF($I44=AO$6,$E44,0)","v":0},{"$f":"IF($K44=ROUND(AO$6*$F44,2),$G44,0)","v":0},{"$f":"IF($H44>0,AO44,0)","v":0},{"$f":"IF(AQ44>0,1,0)","v":0},{"$f":"IF($H44>0,AP44,0)","v":0},{"$f":"IF(AS44>0,1,0)","v":0},{"$f":"IF($I44=AU$6,$E44,0)","v":1.419},{"$f":"IF($K44=ROUND(AU$6*$F44,2),$G44,0)","v":0},{"$f":"IF($H44>0,AU44,0)","v":1.419},{"$f":"IF(AW44>0,1,0)","v":1},{"$f":"IF($H44>0,AV44,0)","v":0},{"$f":"IF(AY44>0,1,0)","v":0},{"$f":"IF($I44=BA$6,$E44,0)","v":0},{"$f":"IF($K44=ROUND(BA$6*$F44,2),$G44,0)","v":0},{"$f":"IF($H44>0,BA44,0)","v":0},{"$f":"IF(BC44>0,1,0)","v":0},{"$f":"IF($H44>0,BB44,0)","v":0},{"$f":"IF(BE44>0,1,0)","v":0},null,1.4190000000000001E-3,2.5,null,null,0]
[{"$f":"IF(E45+G45>0,A44,\"\")","v":""},{"$f":"IF(E45+G45>0,B44,\"\")","v":""},6,"03-4-23.364",0,1.1000000000000001,0,0,{"$f":"SUMIF(Y$14:BA$14,C45,Y$6:BA$6)","v":1733.45},{"$f":"IF(H45=0,ROUND(E45*I45,2),ROUND(H45*E45,2))","v":0},{"$f":"ROUND(F45*I45,2)","v":1906.8},{"$f":"IF(H45=0,ROUND(ROUND(F45*I45,2)*G45,2),ROUND(G45*H45,2))","v":0},{"$f":"L45-ROUND(G45*I45,2)","v":0},null,{"$f":"J45+L45+N45","v":0},null,405.07,{"$f":"ROUND(Q45*E45,2)","v":0},{"$f":"ROUND(F45*Q45,2)","v":445.58},{"$f":"ROUND(S45*G45,2)","v":0},{"$f":"T45-ROUND(Q45*G45,2)","v":0},null,{"$f":"R45+T45+V45","v":0},null,null,null,null,null,null,null,null,null,null,null,{"$f":"IF($I45=AI$6,$E45,0)","v":0},0,{"$f":"IF($H45>0,AI45,0)","v":0},{"$f":"IF(AK45>0,1,0)","v":0},{"$f":"IF($H45>0,AJ45,0)","v":0},{"$f":"IF(AM45>0,1,0)","v":0},{"$f":"IF($I45=AO$6,$E45,0)","v":0},0,{"$f":"IF($H45>0,AO45,0)","v":0},{"$f":"IF(AQ45>0,1,0)","v":0},{"$f":"IF($H45>0,AP45,0)","v":0},{"$f":"IF(AS45>0,1,0)","v":0},{"$f":"IF($I45=AU$6,$E45,0)","v":0},0,{"$f":"IF($H45>0,AU45,0)","v":0},{"$f":"IF(AW45>0,1,0)","v":0},{"$f":"IF($H45>0,AV45,0)","v":0},{"$f":"IF(AY45>0,1,0)","v":0},{"$f":"IF($I45=BA$6,$E45,0)","v":0},0,{"$f":"IF($H45>0,BA45,0)","v":0},{"$f":"IF(BC45>0,1,0)","v":0},{"$f":"IF($H45>0,BB45,0)","v":0},{"$f":"IF(BE45>0,1,0)","v":0},null,0,null,null,null,0]
[{"$f":"IF(E46+G46>0,A44,\"\")","v":""},{"$f":"IF(E46+G46>0,B44,\"\")","v":""},{"$f":"C45","v":6},"03-4-23.364",0,1.5,0,0,{"$f":"SUMIF(Y$14:BA$14,C46,Y$7:BA$7)","v":0},0,0,0,0,null,0,null,405.07,0,607.61,0,0,null,0,null,null,null,null,null,null,null,null,null,null,null,{"$f":"IF($I46=AI$7,$E46,0)","v":0},{"$f":"IF($K46=ROUND(AI$7*$F46,2),$G46,0)","v":0},0,0,0,0,{"$f":"IF($I46=AO$7,$E46,0)","v":0},{"$f":"IF($K46=ROUND(AO$7*$F46,2),$G46,0)","v":0},0,0,0,0,{"$f":"IF($I46=AU$7,$E46,0)","v":0},{"$f":"IF($K46=ROUND(AU$7*$F46,2),$G46,0)","v":0},0,0,0,0,{"$f":"IF($I46=BA$7,$E46,0)","v":0},{"$f":"IF($K46=ROUND(BA$7*$F46,2),$G46,0)","v":0},0,0,0,0,null,0,null,null,null,0]
[{"$f":"IF(E47+G47>0,A44,\"\")","v":""},{"$f":"IF(E47+G47>0,B44,\"\")","v":""},{"$f":"C45","v":6},"03-4-23.364",0,1.1000000000000001,0,0,{"$f":"SUMIF(Y$14:BA$14,C47,Y$7:BA$7)","v":0},0,0,0,0,null,0,null,405.07,0,445.58,0,0,null,0,null,null,null,null,null,null,null,null,null,null,null,{"$f":"IF($I47=AI$7,$E47,0)","v":0},{"$f":"IF($K47=ROUND(AI$7*$F47,2),$G47,0)","v":0},0,0,0,0,{"$f":"IF($I47=AO$7,$E47,0)","v":0},{"$f":"IF($K47=ROUND(AO$7*$F47,2),$G47,0)","v":0},0,0,0,0,{"$f":"IF($I47=AU$7,$E47,0)","v":0},{"$f":"IF($K47=ROUND(AU$7*$F47,2),$G47,0)","v":0},0,0,0,0,{"$f":"IF($I47=BA$7,$E47,0)","v":0},{"$f":"IF($K47=ROUND(BA$7*$F47,2),$G47,0)","v":0},0,0,0,0,null,0,null,null,null,0]
["ООО          \"Диал - Север\"","Вельск, ул.50 лет Октября-48",{"$f":"C49","v":5},"03-4-23.366",11,1.5,0,11,{"$f":"SUMIF(Y$14:BA$14,C48,Y$6:BA$6)","v":1386.75},{"$f":"IF(H48=0,ROUND(E48*I48,2),ROUND(H48*E48,2))","v":121},{"$f":"ROUND(F48*I48,2)","v":2080.13},{"$f":"IF(H48=0,ROUND(ROUND(F48*I48,2)*G48,2),ROUND(G48*H48,2))","v":0},{"$f":"L48-ROUND(G48*I48,2)","v":0},null,{"$f":"J48+L48+N48","v":121},null,405.07,{"$f":"ROUND(Q48*E48,2)","v":4455.7700000000004},{"$f":"ROUND(F48*Q48,2)","v":607.61},{"$f":"ROUND(S48*G48,2)","v":0},{"$f":"T48-ROUND(Q48*G48,2)","v":0},null,{"$f":"R48+T48+V48","v":4455.7700000000004},null,null,null,null,null,null,null,null,null,null,null,{"$f":"IF($I48=AI$6,$E48,0)","v":0},{"$f":"IF($K48=ROUND(AI$6*$F48,2),$G48,0)","v":0},{"$f":"IF($H48>0,AI48,0)","v":0},{"$f":"IF(AK48>0,1,0)","v":0},{"$f":"IF($H48>0,AJ48,0)","v":0},{"$f":"IF(AM48>0,1,0)","v":0},{"$f":"IF($I48=AO$6,$E48,0)","v":11},{"$f":"IF($K48=ROUND(AO$6*$F48,2),$G48,0)","v":0},{"$f":"IF($H48>0,AO48,0)","v":11},{"$f":"IF(AQ48>0,1,0)","v":1},{"$f":"IF($H48>0,AP48,0)","v":0},{"$f":"IF(AS48>0,1,0)","v":0},{"$f":"IF($I48=AU$6,$E48,0)","v":0},{"$f":"IF($K48=ROUND(AU$6*$F48,2),$G48,0)","v":0},{"$f":"IF($H48>0,AU48,0)","v":0},{"$f":"IF(AW48>0,1,0)","v":0},{"$f":"IF($H48>0,AV48,0)","v":0},{"$f":"IF(AY48>0,1,0)","v":0},{"$f":"IF($I48=BA$6,$E48,0)","v":0},{"$f":"IF($K48=ROUND(BA$6*$F48,2),$G48,0)","v":0},{"$f":"IF($H48>0,BA48,0)","v":0},{"$f":"IF(BC48>0,1,0)","v":0},{"$f":"IF($H48>0,BB48,0)","v":0},{"$f":"IF(BE48>0,1,0)","v":0},null,1.0999999999999999E-2,10,null,null,0]
[{"$f":"IF(E49+G49>0,A48,\"\")","v":""},{"$f":"IF(E49+G49>0,B48,\"\")","v":""},5,"03-4-23.366",0,1.1000000000000001,0,0,{"$f":"SUMIF(Y$14:BA$14,C49,Y$6:BA$6)","v":1386.75},{"$f":"IF(H49=0,ROUND(E49*I49,2),ROUND(H49*E49,2))","v":0},{"$f":"ROUND(F49*I49,2)","v":1525.43},{"$f":"IF(H49=0,ROUND(ROUND(F49*I49,2)*G49,2),ROUND(G49*H49,2))","v":0},{"$f":"L49-ROUND(G49*I49,2)","v":0},null,{"$f":"J49+L49+N49","v":0},null,405.07,{"$f":"ROUND(Q49*E49,2)","v":0},{"$f":"ROUND(F49*Q49,2)","v":445.58},{"$f":"ROUND(S49*G49,2)","v":0},{"$f":"T49-ROUND(Q49*G49,2)","v":0},null,{"$f":"R49+T49+V49","v":0},null,null,null,null,null,null,null,null,null,null,null,{"$f":"IF($I49=AI$6,$E49,0)","v":0},0,{"$f":"IF($H49>0,AI49,0)","v":0},{"$f":"IF(AK49>0,1,0)","v":0},{"$f":"IF($H49>0,AJ49,0)","v":0},{"$f":"IF(AM49>0,1,0)","v":0},{"$f":"IF($I49=AO$6,$E49,0)","v":0},0,{"$f":"IF($H49>0,AO49,0)","v":0},{"$f":"IF(AQ49>0,1,0)","v":0},{"$f":"IF($H49>0,AP49,0)","v":0},{"$f":"IF(AS49>0,1,0)","v":0},{"$f":"IF($I49=AU$6,$E49,0)","v":0},0,{"$f":"IF($H49>0,AU49,0)","v":0},{"$f":"IF(AW49>0,1,0)","v":0},{"$f":"IF($H49>0,AV49,0)","v":0},{"$f":"IF(AY49>0,1,0)","v":0},{"$f":"IF($I49=BA$6,$E49,0)","v":0},0,{"$f":"IF($H49>0,BA49,0)","v":0},{"$f":"IF(BC49>0,1,0)","v":0},{"$f":"IF($H49>0,BB49,0)","v":0},{"$f":"IF(BE49>0,1,0)","v":0},null,0,null,null,null,0]
[{"$f":"IF(E50+G50>0,A48,\"\")","v":""},{"$f":"IF(E50+G50>0,B48,\"\")","v":""},{"$f":"C49","v":5},"03-4-23.366",0,1.5,0,0,{"$f":"SUMIF(Y$14:BA$14,C50,Y$7:BA$7)","v":0},0,0,0,0,null,0,null,405.07,0,607.61,0,0,null,0,null,null,null,null,null,null,null,null,null,null,null,{"$f":"IF($I50=AI$7,$E50,0)","v":0},{"$f":"IF($K50=ROUND(AI$7*$F50,2),$G50,0)","v":0},0,0,0,0,{"$f":"IF($I50=AO$7,$E50,0)","v":0},{"$f":"IF($K50=ROUND(AO$7*$F50,2),$G50,0)","v":0},0,0,0,0,{"$f":"IF($I50=AU$7,$E50,0)","v":0},{"$f":"IF($K50=ROUND(AU$7*$F50,2),$G50,0)","v":0},0,0,0,0,{"$f":"IF($I50=BA$7,$E50,0)","v":0},{"$f":"IF($K50=ROUND(BA$7*$F50,2),$G50,0)","v":0},0,0,0,0,null,0,null,null,null,0]
[{"$f":"IF(E51+G51>0,A48,\"\")","v":""},{"$f":"IF(E51+G51>0,B48,\"\")","v":""},{"$f":"C49","v":5},"03-4-23.366",0,1.1000000000000001,0,0,{"$f":"SUMIF(Y$14:BA$14,C51,Y$7:BA$7)","v":0},0,0,0,0,null,0,null,405.07,0,445.58,0,0,null,0,null,null,null,null,null,null,null,null,null,null,null,{"$f":"IF($I51=AI$7,$E51,0)","v":0},{"$f":"IF($K51=ROUND(AI$7*$F51,2),$G51,0)","v":0},0,0,0,0,{"$f":"IF($I51=AO$7,$E51,0)","v":0},{"$f":"IF($K51=ROUND(AO$7*$F51,2),$G51,0)","v":0},0,0,0,0,{"$f":"IF($I51=AU$7,$E51,0)","v":0},{"$f":"IF($K51=ROUND(AU$7*$F51,2),$G51,0)","v":0},0,0,0,0,{"$f":"IF($I51=BA$7,$E51,0)","v":0},{"$f":"IF($K51=ROUND(BA$7*$F51,2),$G51,0)","v":0},0,0,0,0,null,0,null,null,null,0]
["ООО          \"Диал - Север\"","Вельск, ул.50 лет Октября-48",{"$f":"C53","v":5},"03-4-23.366(333)",15.842000000000001,1.5,0,15.842000000000001,{"$f":"SUMIF(Y$14:BA$14,C52,Y$6:BA$6)","v":1386.75},{"$f":"IF(H52=0,ROUND(E52*I52,2),ROUND(H52*E52,2))","v":250.97},{"$f":"ROUND(F52*I52,2)","v":2080.13},{"$f":"IF(H52=0,ROUND(ROUND(F52*I52,2)*G52,2),ROUND(G52*H52,2))","v":0},{"$f":"L52-ROUND(G52*I52,2)","v":0},null,{"$f":"J52+L52+N52","v":250.97},null,405.07,{"$f":"ROUND(Q52*E52,2)","v":6417.12},{"$f":"ROUND(F52*Q52,2)","v":607.61},{"$f":"ROUND(S52*G52,2)","v":0},{"$f":"T52-ROUND(Q52*G52,2)","v":0},null,{"$f":"R52+T52+V52","v":6417.12},null,null,null,null,null,null,null,null,null,null,null,{"$f":"IF($I52=AI$6,$E52,0)","v":0},{"$f":"IF($K52=ROUND(AI$6*$F52,2),$G52,0)","v":0},{"$f":"IF($H52>0,AI52,0)","v":0},{"$f":"IF(AK52>0,1,0)","v":0},{"$f":"IF($H52>0,AJ52,0)","v":0},{"$f":"IF(AM52>0,1,0)","v":0},{"$f":"IF($I52=AO$6,$E52,0)","v":15.842000000000001},{"$f":"IF($K52=ROUND(AO$6*$F52,2),$G52,0)","v":0},{"$f":"IF($H52>0,AO52,0)","v":15.842000000000001},{"$f":"IF(AQ52>0,1,0)","v":1},{"$f":"IF($H52>0,AP52,0)","v":0},{"$f":"IF(AS52>0,1,0)","v":0},{"$f":"IF($I52=AU$6,$E52,0)","v":0},{"$f":"IF($K52=ROUND(AU$6*$F52,2),$G52,0)","v":0},{"$f":"IF($H52>0,AU52,0)","v":0},{"$f":"IF(AW52>0,1,0)","v":0},{"$f":"IF($H52>0,AV52,0)","v":0},{"$f":"IF(AY52>0,1,0)","v":0},{"$f":"IF($I52=BA$6,$E52,0)","v":0},{"$f":"IF($K52=ROUND(BA$6*$F52,2),$G52,0)","v":0},{"$f":"IF($H52>0,BA52,0)","v":0},{"$f":"IF(BC52>0,1,0)","v":0},{"$f":"IF($H52>0,BB52,0)","v":0},{"$f":"IF(BE52>0,1,0)","v":0},null,1.5842000000000002E-2,37.000000000000007,null,null,0]
[{"$f":"IF(E53+G53>0,A52,\"\")","v":""},{"$f":"IF(E53+G53>0,B52,\"\")","v":""},5,"03-4-23.366(333)",0,1.1000000000000001,0,0,{"$f":"SUMIF(Y$14:BA$14,C53,Y$6:BA$6)","v":1386.75},{"$f":"IF(H53=0,ROUND(E53*I53,2),ROUND(H53*E53,2))","v":0},{"$f":"ROUND(F53*I53,2)","v":1525.43},{"$f":"IF(H53=0,ROUND(ROUND(F53*I53,2)*G53,2),ROUND(G53*H53,2))","v":0},{"$f":"L53-ROUND(G53*I53,2)","v":0},null,{"$f":"J53+L53+N53","v":0},null,405.07,{"$f":"ROUND(Q53*E53,2)","v":0},{"$f":"ROUND(F53*Q53,2)","v":445.58},{"$f":"ROUND(S53*G53,2)","v":0},{"$f":"T53-ROUND(Q53*G53,2)","v":0},null,{"$f":"R53+T53+V53","v":0},null,null,null,null,null,null,null,null,null,null,null,{"$f":"IF($I53=AI$6,$E53,0)","v":0},0,{"$f":"IF($H53>0,AI53,0)","v":0},{"$f":"IF(AK53>0,1,0)","v":0},{"$f":"IF($H53>0,AJ53,0)","v":0},{"$f":"IF(AM53>0,1,0)","v":0},{"$f":"IF($I53=AO$6,$E53,0)","v":0},0,{"$f":"IF($H53>0,AO53,0)","v":0},{"$f":"IF(AQ53>0,1,0)","v":0},{"$f":"IF($H53>0,AP53,0)","v":0},{"$f":"IF(AS53>0,1,0)","v":0},{"$f":"IF($I53=AU$6,$E53,0)","v":0},0,{"$f":"IF($H53>0,AU53,0)","v":0},{"$f":"IF(AW53>0,1,0)","v":0},{"$f":"IF($H53>0,AV53,0)","v":0},{"$f":"IF(AY53>0,1,0)","v":0},{"$f":"IF($I53=BA$6,$E53,0)","v":0},0,{"$f":"IF($H53>0,BA53,0)","v":0},{"$f":"IF(BC53>0,1,0)","v":0},{"$f":"IF($H53>0,BB53,0)","v":0},{"$f":"IF(BE53>0,1,0)","v":0},null,0,null,null,null,0]
[{"$f":"IF(E54+G54>0,A52,\"\")","v":""},{"$f":"IF(E54+G54>0,B52,\"\")","v":""},{"$f":"C53","v":5},"03-4-23.366(333)",0,1.5,0,0,{"$f":"SUMIF(Y$14:BA$14,C54,Y$7:BA$7)","v":0},0,0,0,0,null,0,null,405.07,0,607.61,0,0,null,0,null,null,null,null,null,null,null,null,null,null,null,{"$f":"IF($I54=AI$7,$E54,0)","v":0},{"$f":"IF($K54=ROUND(AI$7*$F54,2),$G54,0)","v":0},0,0,0,0,{"$f":"IF($I54=AO$7,$E54,0)","v":0},{"$f":"IF($K54=ROUND(AO$7*$F54,2),$G54,0)","v":0},0,0,0,0,{"$f":"IF($I54=AU$7,$E54,0)","v":0},{"$f":"IF($K54=ROUND(AU$7*$F54,2),$G54,0)","v":0},0,0,0,0,{"$f":"IF($I54=BA$7,$E54,0)","v":0},{"$f":"IF($K54=ROUND(BA$7*$F54,2),$G54,0)","v":0},0,0,0,0,null,0,null,null,null,0]
[{"$f":"IF(E55+G55>0,A52,\"\")","v":""},{"$f":"IF(E55+G55>0,B52,\"\")","v":""},{"$f":"C53","v":5},"03-4-23.366(333)",0,1.1000000000000001,0,0,{"$f":"SUMIF(Y$14:BA$14,C55,Y$7:BA$7)","v":0},0,0,0,0,null,0,null,405.07,0,445.58,0,0,null,0,null,null,null,null,null,null,null,null,null,null,null,{"$f":"IF($I55=AI$7,$E55,0)","v":0},{"$f":"IF($K55=ROUND(AI$7*$F55,2),$G55,0)","v":0},0,0,0,0,{"$f":"IF($I55=AO$7,$E55,0)","v":0},{"$f":"IF($K55=ROUND(AO$7*$F55,2),$G55,0)","v":0},0,0,0,0,{"$f":"IF($I55=AU$7,$E55,0)","v":0},{"$f":"IF($K55=ROUND(AU$7*$F55,2),$G55,0)","v":0},0,0,0,0,{"$f":"IF($I55=BA$7,$E55,0)","v":0},{"$f":"IF($K55=ROUND(BA$7*$F55,2),$G55,0)","v":0},0,0,0,0,null,0,null,null,null,0]
["ООО          \"Диал - Север\"","д.Вороновская-38",{"$f":"C57","v":6},"03-4-23.366(333)",3.8069999999999999,1.5,0,3.8069999999999999,{"$f":"SUMIF(Y$14:BA$14,C56,Y$6:BA$6)","v":1733.45},{"$f":"IF(H56=0,ROUND(E56*I56,2),ROUND(H56*E56,2))","v":14.49},{"$f":"ROUND(F56*I56,2)","v":2600.1799999999998},{"$f":"IF(H56=0,ROUND(ROUND(F56*I56,2)*G56,2),ROUND(G56*H56,2))","v":0},{"$f":"L56-ROUND(G56*I56,2)","v":0},null,{"$f":"J56+L56+N56","v":14.49},null,405.07,{"$f":"ROUND(Q56*E56,2)","v":1542.1},{"$f":"ROUND(F56*Q56,2)","v":607.61},{"$f":"ROUND(S56*G56,2)","v":0},{"$f":"T56-ROUND(Q56*G56,2)","v":0},null,{"$f":"R56+T56+V56","v":1542.1},null,null,null,null,null,null,null,null,null,null,null,{"$f":"IF($I56=AI$6,$E56,0)","v":0},{"$f":"IF($K56=ROUND(AI$6*$F56,2),$G56,0)","v":0},{"$f":"IF($H56>0,AI56,0)","v":0},{"$f":"IF(AK56>0,1,0)","v":0},{"$f":"IF($H56>0,AJ56,0)","v":0},{"$f":"IF(AM56>0,1,0)","v":0},{"$f":"IF($I56=AO$6,$E56,0)","v":0},{"$f":"IF($K56=ROUND(AO$6*$F56,2),$G56,0)","v":0},{"$f":"IF($H56>0,AO56,0)","v":0},{"$f":"IF(AQ56>0,1,0)","v":0},{"$f":"IF($H56>0,AP56,0)","v":0},{"$f":"IF(AS56>0,1,0)","v":0},{"$f":"IF($I56=AU$6,$E56,0)","v":3.8069999999999999},{"$f":"IF($K56=ROUND(AU$6*$F56,2),$G56,0)","v":0},{"$f":"IF($H56>0,AU56,0)","v":3.8069999999999999},{"$f":"IF(AW56>0,1,0)","v":1},{"$f":"IF($H56>0,AV56,0)","v":0},{"$f":"IF(AY56>0,1,0)","v":0},{"$f":"IF($I56=BA$6,$E56,0)","v":0},{"$f":"IF($K56=ROUND(BA$6*$F56,2),$G56,0)","v":0},{"$f":"IF($H56>0,BA56,0)","v":0},{"$f":"IF(BC56>0,1,0)","v":0},{"$f":"IF($H56>0,BB56,0)","v":0},{"$f":"IF(BE56>0,1,0)","v":0},null,3.8070000000000001E-3,8.5,null,null,0]
[{"$f":"IF(E57+G57>0,A56,\"\")","v":""},{"$f":"IF(E57+G57>0,B56,\"\")","v":""},6,"03-4-23.366(333)",0,1.1000000000000001,0,0,{"$f":"SUMIF(Y$14:BA$14,C57,Y$6:BA$6)","v":1733.45},{"$f":"IF(H57=0,ROUND(E57*I57,2),ROUND(H57*E57,2))","v":0},{"$f":"ROUND(F57*I57,2)","v":1906.8},{"$f":"IF(H57=0,ROUND(ROUND(F57*I57,2)*G57,2),ROUND(G57*H57,2))","v":0},{"$f":"L57-ROUND(G57*I57,2)","v":0},null,{"$f":"J57+L57+N57","v":0},null,405.07,{"$f":"ROUND(Q57*E57,2)","v":0},{"$f":"ROUND(F57*Q57,2)","v":445.58},{"$f":"ROUND(S57*G57,2)","v":0},{"$f":"T57-ROUND(Q57*G57,2)","v":0},null,{"$f":"R57+T57+V57","v":0},null,null,null,null,null,null,null,null,null,null,null,{"$f":"IF($I57=AI$6,$E57,0)","v":0},0,{"$f":"IF($H57>0,AI57,0)","v":0},{"$f":"IF(AK57>0,1,0)","v":0},{"$f":"IF($H57>0,AJ57,0)","v":0},{"$f":"IF(AM57>0,1,0)","v":0},{"$f":"IF($I57=AO$6,$E57,0)","v":0},0,{"$f":"IF($H57>0,AO57,0)","v":0},{"$f":"IF(AQ57>0,1,0)","v":0},{"$f":"IF($H57>0,AP57,0)","v":0},{"$f":"IF(AS57>0,1,0)","v":0},{"$f":"IF($I57=AU$6,$E57,0)","v":0},0,{"$f":"IF($H57>0,AU57,0)","v":0},{"$f":"IF(AW57>0,1,0)","v":0},{"$f":"IF($H57>0,AV57,0)","v":0},{"$f":"IF(AY57>0,1,0)","v":0},{"$f":"IF($I57=BA$6,$E57,0)","v":0},0,{"$f":"IF($H57>0,BA57,0)","v":0},{"$f":"IF(BC57>0,1,0)","v":0},{"$f":"IF($H57>0,BB57,0)","v":0},{"$f":"IF(BE57>0,1,0)","v":0},null,0,null,null,null,0]
[{"$f":"IF(E58+G58>0,A56,\"\")","v":""},{"$f":"IF(E58+G58>0,B56,\"\")","v":""},{"$f":"C57","v":6},"03-4-23.366(333)",0,1.5,0,0,{"$f":"SUMIF(Y$14:BA$14,C58,Y$7:BA$7)","v":0},0,0,0,0,null,0,null,405.07,0,607.61,0,0,null,0,null,null,null,null,null,null,null,null,null,null,null,{"$f":"IF($I58=AI$7,$E58,0)","v":0},{"$f":"IF($K58=ROUND(AI$7*$F58,2),$G58,0)","v":0},0,0,0,0,{"$f":"IF($I58=AO$7,$E58,0)","v":0},{"$f":"IF($K58=ROUND(AO$7*$F58,2),$G58,0)","v":0},0,0,0,0,{"$f":"IF($I58=AU$7,$E58,0)","v":0},{"$f":"IF($K58=ROUND(AU$7*$F58,2),$G58,0)","v":0},0,0,0,0,{"$f":"IF($I58=BA$7,$E58,0)","v":0},{"$f":"IF($K58=ROUND(BA$7*$F58,2),$G58,0)","v":0},0,0,0,0,null,0,null,null,null,0]
[{"$f":"IF(E59+G59>0,A56,\"\")","v":""},{"$f":"IF(E59+G59>0,B56,\"\")","v":""},{"$f":"C57","v":6},"03-4-23.366(333)",0,1.1000000000000001,0,0,{"$f":"SUMIF(Y$14:BA$14,C59,Y$7:BA$7)","v":0},0,0,0,0,null,0,null,405.07,0,445.58,0,0,null,0,null,null,null,null,null,null,null,null,null,null,null,{"$f":"IF($I59=AI$7,$E59,0)","v":0},{"$f":"IF($K59=ROUND(AI$7*$F59,2),$G59,0)","v":0},0,0,0,0,{"$f":"IF($I59=AO$7,$E59,0)","v":0},{"$f":"IF($K59=ROUND(AO$7*$F59,2),$G59,0)","v":0},0,0,0,0,{"$f":"IF($I59=AU$7,$E59,0)","v":0},{"$f":"IF($K59=ROUND(AU$7*$F59,2),$G59,0)","v":0},0,0,0,0,{"$f":"IF($I59=BA$7,$E59,0)","v":0},{"$f":"IF($K59=ROUND(BA$7*$F59,2),$G59,0)","v":0},0,0,0,0,null,0,null,null,null,0]
["ГКУ Архангельской области «ОГПС № 1»","",{"$f":"C61","v":6},"03-4-23.367Б",2.3330000000000002,1.5,0,2.3330000000000002,{"$f":"SUMIF(Y$14:BA$14,C60,Y$6:BA$6)","v":1733.45},{"$f":"IF(H60=0,ROUND(E60*I60,2),ROUND(H60*E60,2))","v":5.44},{"$f":"ROUND(F60*I60,2)","v":2600.1799999999998},{"$f":"IF(H60=0,ROUND(ROUND(F60*I60,2)*G60,2),ROUND(G60*H60,2))","v":0},{"$f":"L60-ROUND(G60*I60,2)","v":0},null,{"$f":"J60+L60+N60","v":5.44},null,405.07,{"$f":"ROUND(Q60*E60,2)","v":945.03},{"$f":"ROUND(F60*Q60,2)","v":607.61},{"$f":"ROUND(S60*G60,2)","v":0},{"$f":"T60-ROUND(Q60*G60,2)","v":0},null,{"$f":"R60+T60+V60","v":945.03},null,null,null,null,null,null,null,null,null,null,null,{"$f":"IF($I60=AI$6,$E60,0)","v":0},{"$f":"IF($K60=ROUND(AI$6*$F60,2),$G60,0)","v":0},{"$f":"IF($H60>0,AI60,0)","v":0},{"$f":"IF(AK60>0,1,0)","v":0},{"$f":"IF($H60>0,AJ60,0)","v":0},{"$f":"IF(AM60>0,1,0)","v":0},{"$f":"IF($I60=AO$6,$E60,0)","v":0},{"$f":"IF($K60=ROUND(AO$6*$F60,2),$G60,0)","v":0},{"$f":"IF($H60>0,AO60,0)","v":0},{"$f":"IF(AQ60>0,1,0)","v":0},{"$f":"IF($H60>0,AP60,0)","v":0},{"$f":"IF(AS60>0,1,0)","v":0},{"$f":"IF($I60=AU$6,$E60,0)","v":2.3330000000000002},{"$f":"IF($K60=ROUND(AU$6*$F60,2),$G60,0)","v":0},{"$f":"IF($H60>0,AU60,0)","v":2.3330000000000002},{"$f":"IF(AW60>0,1,0)","v":1},{"$f":"IF($H60>0,AV60,0)","v":0},{"$f":"IF(AY60>0,1,0)","v":0},{"$f":"IF($I60=BA$6,$E60,0)","v":0},{"$f":"IF($K60=ROUND(BA$6*$F60,2),$G60,0)","v":0},{"$f":"IF($H60>0,BA60,0)","v":0},{"$f":"IF(BC60>0,1,0)","v":0},{"$f":"IF($H60>0,BB60,0)","v":0},{"$f":"IF(BE60>0,1,0)","v":0},null,2.333E-3,3.9,null,null,0]
[{"$f":"IF(E61+G61>0,A60,\"\")","v":""},{"$f":"IF(E61+G61>0,B60,\"\")","v":""},6,"03-4-23.367Б",0,1.1000000000000001,0,0,{"$f":"SUMIF(Y$14:BA$14,C61,Y$6:BA$6)","v":1733.45},{"$f":"IF(H61=0,ROUND(E61*I61,2),ROUND(H61*E61,2))","v":0},{"$f":"ROUND(F61*I61,2)","v":1906.8},{"$f":"IF(H61=0,ROUND(ROUND(F61*I61,2)*G61,2),ROUND(G61*H61,2))","v":0},{"$f":"L61-ROUND(G61*I61,2)","v":0},null,{"$f":"J61+L61+N61","v":0},null,405.07,{"$f":"ROUND(Q61*E61,2)","v":0},{"$f":"ROUND(F61*Q61,2)","v":445.58},{"$f":"ROUND(S61*G61,2)","v":0},{"$f":"T61-ROUND(Q61*G61,2)","v":0},null,{"$f":"R61+T61+V61","v":0},null,null,null,null,null,null,null,null,null,null,null,0,0,{"$f":"IF($H61>0,AI61,0)","v":0},{"$f":"IF(AK61>0,1,0)","v":0},{"$f":"IF($H61>0,AJ61,0)","v":0},{"$f":"IF(AM61>0,1,0)","v":0},0,0,{"$f":"IF($H61>0,AO61,0)","v":0},{"$f":"IF(AQ61>0,1,0)","v":0},{"$f":"IF($H61>0,AP61,0)","v":0},{"$f":"IF(AS61>0,1,0)","v":0},0,0,{"$f":"IF($H61>0,AU61,0)","v":0},{"$f":"IF(AW61>0,1,0)","v":0},{"$f":"IF($H61>0,AV61,0)","v":0},{"$f":"IF(AY61>0,1,0)","v":0},0,0,{"$f":"IF($H61>0,BA61,0)","v":0},{"$f":"IF(BC61>0,1,0)","v":0},{"$f":"IF($H61>0,BB61,0)","v":0},{"$f":"IF(BE61>0,1,0)","v":0},null,0,null,null,null,0]
["Гр.             Растегаева      Татьяна Борисовна ","",{"$f":"C63","v":7},"03-4-23.371(333)",0.44700000000000001,1.5,0,0.44700000000000001,{"$f":"SUMIF(Y$14:BA$14,C62,Y$6:BA$6)","v":2166.8000000000002},{"$f":"IF(H62=0,ROUND(E62*I62,2),ROUND(H62*E62,2))","v":0.2},{"$f":"ROUND(F62*I62,2)","v":3250.2},{"$f":"IF(H62=0,ROUND(ROUND(F62*I62,2)*G62,2),ROUND(G62*H62,2))","v":0},{"$f":"L62-ROUND(G62*I62,2)","v":0},null,{"$f":"J62+L62+N62","v":0.2},null,405.07,{"$f":"ROUND(Q62*E62,2)","v":181.07},{"$f":"ROUND(F62*Q62,2)","v":607.61},{"$f":"ROUND(S62*G62,2)","v":0},{"$f":"T62-ROUND(Q62*G62,2)","v":0},null,{"$f":"R62+T62+V62","v":181.07},null,null,null,null,null,null,null,null,null,null,null,{"$f":"IF($I62=AI$6,$E62,0)","v":0},0,{"$f":"IF($H62>0,AI62,0)","v":0},{"$f":"IF(AK62>0,1,0)","v":0},{"$f":"IF($H62>0,AJ62,0)","v":0},{"$f":"IF(AM62>0,1,0)","v":0},{"$f":"IF($I62=AO$6,$E62,0)","v":0},0,{"$f":"IF($H62>0,AO62,0)","v":0},{"$f":"IF(AQ62>0,1,0)","v":0},{"$f":"IF($H62>0,AP62,0)","v":0},{"$f":"IF(AS62>0,1,0)","v":0},{"$f":"IF($I62=AU$6,$E62,0)","v":0},0,{"$f":"IF($H62>0,AU62,0)","v":0},{"$f":"IF(AW62>0,1,0)","v":0},{"$f":"IF($H62>0,AV62,0)","v":0},{"$f":"IF(AY62>0,1,0)","v":0},{"$f":"IF($I62=BA$6,$E62,0)","v":0.44700000000000001},0,{"$f":"IF($H62>0,BA62,0)","v":0.44700000000000001},{"$f":"IF(BC62>0,1,0)","v":1},{"$f":"IF($H62>0,BB62,0)","v":0},{"$f":"IF(BE62>0,1,0)","v":0},null,4.4700000000000002E-4,0.5,null,null,0]
[{"$f":"IF(E63+G63>0,A62,\"\")","v":""},{"$f":"IF(E63+G63>0,B62,\"\")","v":""},7,"03-4-23.371(333)",0,1.1000000000000001,0,0,{"$f":"SUMIF(Y$14:BA$14,C63,Y$6:BA$6)","v":2166.8000000000002},{"$f":"IF(H63=0,ROUND(E63*I63,2),ROUND(H63*E63,2))","v":0},{"$f":"ROUND(F63*I63,2)","v":2383.48},{"$f":"IF(H63=0,ROUND(ROUND(F63*I63,2)*G63,2),ROUND(G63*H63,2))","v":0},{"$f":"L63-ROUND(G63*I63,2)","v":0},null,{"$f":"J63+L63+N63","v":0},null,405.07,{"$f":"ROUND(Q63*E63,2)","v":0},{"$f":"ROUND(F63*Q63,2)","v":445.58},{"$f":"ROUND(S63*G63,2)","v":0},{"$f":"T63-ROUND(Q63*G63,2)","v":0},null,{"$f":"R63+T63+V63","v":0},null,null,null,null,null,null,null,null,null,null,null,0,0,{"$f":"IF($H63>0,AI63,0)","v":0},{"$f":"IF(AK63>0,1,0)","v":0},{"$f":"IF($H63>0,AJ63,0)","v":0},{"$f":"IF(AM63>0,1,0)","v":0},0,0,{"$f":"IF($H63>0,AO63,0)","v":0},{"$f":"IF(AQ63>0,1,0)","v":0},{"$f":"IF($H63>0,AP63,0)","v":0},{"$f":"IF(AS63>0,1,0)","v":0},0,0,{"$f":"IF($H63>0,AU63,0)","v":0},{"$f":"IF(AW63>0,1,0)","v":0},{"$f":"IF($H63>0,AV63,0)","v":0},{"$f":"IF(AY63>0,1,0)","v":0},0,0,{"$f":"IF($H63>0,BA63,0)","v":0},{"$f":"IF(BC63>0,1,0)","v":0},{"$f":"IF($H63>0,BB63,0)","v":0},{"$f":"IF(BE63>0,1,0)","v":0},null,0,null,null,null,0]
[{"$f":"IF(E64+G64>0,A62,\"\")","v":""},{"$f":"IF(E64+G64>0,B62,\"\")","v":""},{"$f":"C63","v":7},"03-4-23.371(333)",0,1.5,0,0,{"$f":"SUMIF(Y$14:BA$14,C64,Y$7:BA$7)","v":0},0,0,0,0,null,0,null,405.07,0,607.61,0,0,null,0,null,null,null,null,null,null,null,null,null,null,null,{"$f":"IF($I64=AI$7,$E64,0)","v":0},{"$f":"IF($K64=ROUND(AI$7*$F64,2),$G64,0)","v":0},0,0,0,0,{"$f":"IF($I64=AO$7,$E64,0)","v":0},{"$f":"IF($K64=ROUND(AO$7*$F64,2),$G64,0)","v":0},0,0,0,0,{"$f":"IF($I64=AU$7,$E64,0)","v":0},{"$f":"IF($K64=ROUND(AU$7*$F64,2),$G64,0)","v":0},0,0,0,0,{"$f":"IF($I64=BA$7,$E64,0)","v":0},{"$f":"IF($K64=ROUND(BA$7*$F64,2),$G64,0)","v":0},0,0,0,0,null,0,null,null,null,0]
[{"$f":"IF(E65+G65>0,A62,\"\")","v":""},{"$f":"IF(E65+G65>0,B62,\"\")","v":""},{"$f":"C63","v":7},"03-4-23.371(333)",0,1.1000000000000001,0,0,{"$f":"SUMIF(Y$14:BA$14,C65,Y$7:BA$7)","v":0},0,0,0,0,null,0,null,405.07,0,445.58,0,0,null,0,null,null,null,null,null,null,null,null,null,null,null,{"$f":"IF($I65=AI$7,$E65,0)","v":0},{"$f":"IF($K65=ROUND(AI$7*$F65,2),$G65,0)","v":0},0,0,0,0,{"$f":"IF($I65=AO$7,$E65,0)","v":0},{"$f":"IF($K65=ROUND(AO$7*$F65,2),$G65,0)","v":0},0,0,0,0,{"$f":"IF($I65=AU$7,$E65,0)","v":0},{"$f":"IF($K65=ROUND(AU$7*$F65,2),$G65,0)","v":0},0,0,0,0,{"$f":"IF($I65=BA$7,$E65,0)","v":0},{"$f":"IF($K65=ROUND(BA$7*$F65,2),$G65,0)","v":0},0,0,0,0,null,0,null,null,null,0]
["ИП             Шахова (Гужова) Татьяна   Николаевна","",{"$f":"C67","v":6},"03-4-23.372",1.1619999999999999,1.5,0,1.1619999999999999,{"$f":"SUMIF(Y$14:BA$14,C66,Y$6:BA$6)","v":1733.45},{"$f":"IF(H66=0,ROUND(E66*I66,2),ROUND(H66*E66,2))","v":1.35},{"$f":"ROUND(F66*I66,2)","v":2600.1799999999998},{"$f":"IF(H66=0,ROUND(ROUND(F66*I66,2)*G66,2),ROUND(G66*H66,2))","v":0},{"$f":"L66-ROUND(G66*I66,2)","v":0},null,{"$f":"J66+L66+N66","v":1.35},null,405.07,{"$f":"ROUND(Q66*E66,2)","v":470.69},{"$f":"ROUND(F66*Q66,2)","v":607.61},{"$f":"ROUND(S66*G66,2)","v":0},{"$f":"T66-ROUND(Q66*G66,2)","v":0},null,{"$f":"R66+T66+V66","v":470.69},null,null,null,null,null,null,null,null,null,null,null,{"$f":"IF($I66=AI$6,$E66,0)","v":0},{"$f":"IF($K66=ROUND(AI$6*$F66,2),$G66,0)","v":0},{"$f":"IF($H66>0,AI66,0)","v":0},{"$f":"IF(AK66>0,1,0)","v":0},{"$f":"IF($H66>0,AJ66,0)","v":0},{"$f":"IF(AM66>0,1,0)","v":0},{"$f":"IF($I66=AO$6,$E66,0)","v":0},{"$f":"IF($K66=ROUND(AO$6*$F66,2),$G66,0)","v":0},{"$f":"IF($H66>0,AO66,0)","v":0},{"$f":"IF(AQ66>0,1,0)","v":0},{"$f":"IF($H66>0,AP66,0)","v":0},{"$f":"IF(AS66>0,1,0)","v":0},{"$f":"IF($I66=AU$6,$E66,0)","v":1.1619999999999999},{"$f":"IF($K66=ROUND(AU$6*$F66,2),$G66,0)","v":0},{"$f":"IF($H66>0,AU66,0)","v":1.1619999999999999},{"$f":"IF(AW66>0,1,0)","v":1},{"$f":"IF($H66>0,AV66,0)","v":0},{"$f":"IF(AY66>0,1,0)","v":0},{"$f":"IF($I66=BA$6,$E66,0)","v":0},{"$f":"IF($K66=ROUND(BA$6*$F66,2),$G66,0)","v":0},{"$f":"IF($H66>0,BA66,0)","v":0},{"$f":"IF(BC66>0,1,0)","v":0},{"$f":"IF($H66>0,BB66,0)","v":0},{"$f":"IF(BE66>0,1,0)","v":0},null,1.1619999999999998E-3,2.1,null,null,0]
[{"$f":"IF(E67+G67>0,A66,\"\")","v":""},{"$f":"IF(E67+G67>0,B66,\"\")","v":""},6,"03-4-23.372",0,1.1000000000000001,0,0,{"$f":"SUMIF(Y$14:BA$14,C67,Y$6:BA$6)","v":1733.45},{"$f":"IF(H67=0,ROUND(E67*I67,2),ROUND(H67*E67,2))","v":0},{"$f":"ROUND(F67*I67,2)","v":1906.8},{"$f":"IF(H67=0,ROUND(ROUND(F67*I67,2)*G67,2),ROUND(G67*H67,2))","v":0},{"$f":"L67-ROUND(G67*I67,2)","v":0},null,{"$f":"J67+L67+N67","v":0},null,405.07,{"$f":"ROUND(Q67*E67,2)","v":0},{"$f":"ROUND(F67*Q67,2)","v":445.58},{"$f":"ROUND(S67*G67,2)","v":0},{"$f":"T67-ROUND(Q67*G67,2)","v":0},null,{"$f":"R67+T67+V67","v":0},null,null,null,null,null,null,null,null,null,null,null,{"$f":"IF($I67=AI$6,$E67,0)","v":0},0,{"$f":"IF($H67>0,AI67,0)","v":0},{"$f":"IF(AK67>0,1,0)","v":0},{"$f":"IF($H67>0,AJ67,0)","v":0},{"$f":"IF(AM67>0,1,0)","v":0},{"$f":"IF($I67=AO$6,$E67,0)","v":0},0,{"$f":"IF($H67>0,AO67,0)","v":0},{"$f":"IF(AQ67>0,1,0)","v":0},{"$f":"IF($H67>0,AP67,0)","v":0},{"$f":"IF(AS67>0,1,0)","v":0},{"$f":"IF($I67=AU$6,$E67,0)","v":0},0,{"$f":"IF($H67>0,AU67,0)","v":0},{"$f":"IF(AW67>0,1,0)","v":0},{"$f":"IF($H67>0,AV67,0)","v":0},{"$f":"IF(AY67>0,1,0)","v":0},{"$f":"IF($I67=BA$6,$E67,0)","v":0},0,{"$f":"IF($H67>0,BA67,0)","v":0},{"$f":"IF(BC67>0,1,0)","v":0},{"$f":"IF($H67>0,BB67,0)","v":0},{"$f":"IF(BE67>0,1,0)","v":0},null,0,null,null,null,0]
[{"$f":"IF(E68+G68>0,A66,\"\")","v":""},{"$f":"IF(E68+G68>0,B66,\"\")","v":""},{"$f":"C67","v":6},"03-4-23.372",0,1.5,0,0,{"$f":"SUMIF(Y$14:BA$14,C68,Y$7:BA$7)","v":0},0,0,0,0,null,0,null,405.07,0,607.61,0,0,null,0,null,null,null,null,null,null,null,null,null,null,null,{"$f":"IF($I68=AI$7,$E68,0)","v":0},{"$f":"IF($K68=ROUND(AI$7*$F68,2),$G68,0)","v":0},0,0,0,0,{"$f":"IF($I68=AO$7,$E68,0)","v":0},{"$f":"IF($K68=ROUND(AO$7*$F68,2),$G68,0)","v":0},0,0,0,0,{"$f":"IF($I68=AU$7,$E68,0)","v":0},{"$f":"IF($K68=ROUND(AU$7*$F68,2),$G68,0)","v":0},0,0,0,0,{"$f":"IF($I68=BA$7,$E68,0)","v":0},{"$f":"IF($K68=ROUND(BA$7*$F68,2),$G68,0)","v":0},0,0,0,0,null,0,null,null,null,0]
[{"$f":"IF(E69+G69>0,A66,\"\")","v":""},{"$f":"IF(E69+G69>0,B66,\"\")","v":""},{"$f":"C67","v":6},"03-4-23.372",0,1.1000000000000001,0,0,{"$f":"SUMIF(Y$14:BA$14,C69,Y$7:BA$7)","v":0},0,0,0,0,null,0,null,405.07,0,445.58,0,0,null,0,null,null,null,null,null,null,null,null,null,null,null,{"$f":"IF($I69=AI$7,$E69,0)","v":0},{"$f":"IF($K69=ROUND(AI$7*$F69,2),$G69,0)","v":0},0,0,0,0,{"$f":"IF($I69=AO$7,$E69,0)","v":0},{"$f":"IF($K69=ROUND(AO$7*$F69,2),$G69,0)","v":0},0,0,0,0,{"$f":"IF($I69=AU$7,$E69,0)","v":0},{"$f":"IF($K69=ROUND(AU$7*$F69,2),$G69,0)","v":0},0,0,0,0,{"$f":"IF($I69=BA$7,$E69,0)","v":0},{"$f":"IF($K69=ROUND(BA$7*$F69,2),$G69,0)","v":0},0,0,0,0,null,0,null,null,null,0]
["Гр.             Щепелин          Илья Николаевич             (до 01.09  -  гр.Дмитриева Н.С.)","",{"$f":"C71","v":7},"03-4-23.1126/03-4-23.374",0.45200000000000001,1.5,0,0.45200000000000001,{"$f":"SUMIF(Y$14:BA$14,C70,Y$6:BA$6)","v":2166.8000000000002},{"$f":"IF(H70=0,ROUND(E70*I70,2),ROUND(H70*E70,2))","v":0.2},{"$f":"ROUND(F70*I70,2)","v":3250.2},{"$f":"IF(H70=0,ROUND(ROUND(F70*I70,2)*G70,2),ROUND(G70*H70,2))","v":0},{"$f":"L70-ROUND(G70*I70,2)","v":0},null,{"$f":"J70+L70+N70","v":0.2},null,405.07,{"$f":"ROUND(Q70*E70,2)","v":183.09},{"$f":"ROUND(F70*Q70,2)","v":607.61},{"$f":"ROUND(S70*G70,2)","v":0},{"$f":"T70-ROUND(Q70*G70,2)","v":0},null,{"$f":"R70+T70+V70","v":183.09},null,null,null,null,null,null,null,null,null,null,null,{"$f":"IF($I70=AI$6,$E70,0)","v":0},{"$f":"IF($K70=ROUND(AI$6*$F70,2),$G70,0)","v":0},{"$f":"IF($H70>0,AI70,0)","v":0},{"$f":"IF(AK70>0,1,0)","v":0},{"$f":"IF($H70>0,AJ70,0)","v":0},{"$f":"IF(AM70>0,1,0)","v":0},{"$f":"IF($I70=AO$6,$E70,0)","v":0},{"$f":"IF($K70=ROUND(AO$6*$F70,2),$G70,0)","v":0},{"$f":"IF($H70>0,AO70,0)","v":0},{"$f":"IF(AQ70>0,1,0)","v":0},{"$f":"IF($H70>0,AP70,0)","v":0},{"$f":"IF(AS70>0,1,0)","v":0},{"$f":"IF($I70=AU$6,$E70,0)","v":0},{"$f":"IF($K70=ROUND(AU$6*$F70,2),$G70,0)","v":0},{"$f":"IF($H70>0,AU70,0)","v":0},{"$f":"IF(AW70>0,1,0)","v":0},{"$f":"IF($H70>0,AV70,0)","v":0},{"$f":"IF(AY70>0,1,0)","v":0},{"$f":"IF($I70=BA$6,$E70,0)","v":0.45200000000000001},{"$f":"IF($K70=ROUND(BA$6*$F70,2),$G70,0)","v":0},{"$f":"IF($H70>0,BA70,0)","v":0.45200000000000001},{"$f":"IF(BC70>0,1,0)","v":1},{"$f":"IF($H70>0,BB70,0)","v":0},{"$f":"IF(BE70>0,1,0)","v":0},null,4.5200000000000004E-4,1,null,null,0]
[{"$f":"IF(E71+G71>0,A70,\"\")","v":""},{"$f":"IF(E71+G71>0,B70,\"\")","v":""},7,"03-4-23.1126/03-4-23.374",0,1.1000000000000001,0,0,{"$f":"SUMIF(Y$14:BA$14,C71,Y$6:BA$6)","v":2166.8000000000002},{"$f":"IF(H71=0,ROUND(E71*I71,2),ROUND(H71*E71,2))","v":0},{"$f":"ROUND(F71*I71,2)","v":2383.48},{"$f":"IF(H71=0,ROUND(ROUND(F71*I71,2)*G71,2),ROUND(G71*H71,2))","v":0},{"$f":"L71-ROUND(G71*I71,2)","v":0},null,{"$f":"J71+L71+N71","v":0},null,405.07,{"$f":"ROUND(Q71*E71,2)","v":0},{"$f":"ROUND(F71*Q71,2)","v":445.58},{"$f":"ROUND(S71*G71,2)","v":0},{"$f":"T71-ROUND(Q71*G71,2)","v":0},null,{"$f":"R71+T71+V71","v":0},null,null,null,null,null,null,null,null,null,null,null,{"$f":"IF($I71=AI$6,$E71,0)","v":0},0,{"$f":"IF($H71>0,AI71,0)","v":0},{"$f":"IF(AK71>0,1,0)","v":0},{"$f":"IF($H71>0,AJ71,0)","v":0},{"$f":"IF(AM71>0,1,0)","v":0},{"$f":"IF($I71=AO$6,$E71,0)","v":0},0,{"$f":"IF($H71>0,AO71,0)","v":0},{"$f":"IF(AQ71>0,1,0)","v":0},{"$f":"IF($H71>0,AP71,0)","v":0},{"$f":"IF(AS71>0,1,0)","v":0},{"$f":"IF($I71=AU$6,$E71,0)","v":0},0,{"$f":"IF($H71>0,AU71,0)","v":0},{"$f":"IF(AW71>0,1,0)","v":0},{"$f":"IF($H71>0,AV71,0)","v":0},{"$f":"IF(AY71>0,1,0)","v":0},{"$f":"IF($I71=BA$6,$E71,0)","v":0},0,{"$f":"IF($H71>0,BA71,0)","v":0},{"$f":"IF(BC71>0,1,0)","v":0},{"$f":"IF($H71>0,BB71,0)","v":0},{"$f":"IF(BE71>0,1,0)","v":0},null,0,null,null,null,0]
[{"$f":"IF(E72+G72>0,A70,\"\")","v":""},{"$f":"IF(E72+G72>0,B70,\"\")","v":""},{"$f":"C71","v":7},"03-4-23.1126/03-4-23.374",0,1.5,0,0,{"$f":"SUMIF(Y$14:BA$14,C72,Y$7:BA$7)","v":0},0,0,0,0,null,0,null,405.07,0,607.61,0,0,null,0,null,null,null,null,null,null,null,null,null,null,null,{"$f":"IF($I72=AI$7,$E72,0)","v":0},{"$f":"IF($K72=ROUND(AI$7*$F72,2),$G72,0)","v":0},0,0,0,0,{"$f":"IF($I72=AO$7,$E72,0)","v":0},{"$f":"IF($K72=ROUND(AO$7*$F72,2),$G72,0)","v":0},0,0,0,0,{"$f":"IF($I72=AU$7,$E72,0)","v":0},{"$f":"IF($K72=ROUND(AU$7*$F72,2),$G72,0)","v":0},0,0,0,0,{"$f":"IF($I72=BA$7,$E72,0)","v":0},{"$f":"IF($K72=ROUND(BA$7*$F72,2),$G72,0)","v":0},0,0,0,0,null,0,null,null,null,0]
[{"$f":"IF(E73+G73>0,A70,\"\")","v":""},{"$f":"IF(E73+G73>0,B70,\"\")","v":""},{"$f":"C71","v":7},"03-4-23.1126/03-4-23.374",0,1.1000000000000001,0,0,{"$f":"SUMIF(Y$14:BA$14,C73,Y$7:BA$7)","v":0},0,0,0,0,null,0,null,405.07,0,445.58,0,0,null,0,null,null,null,null,null,null,null,null,null,null,null,{"$f":"IF($I73=AI$7,$E73,0)","v":0},{"$f":"IF($K73=ROUND(AI$7*$F73,2),$G73,0)","v":0},0,0,0,0,{"$f":"IF($I73=AO$7,$E73,0)","v":0},{"$f":"IF($K73=ROUND(AO$7*$F73,2),$G73,0)","v":0},0,0,0,0,{"$f":"IF($I73=AU$7,$E73,0)","v":0},{"$f":"IF($K73=ROUND(AU$7*$F73,2),$G73,0)","v":0},0,0,0,0,{"$f":"IF($I73=BA$7,$E73,0)","v":0},{"$f":"IF($K73=ROUND(BA$7*$F73,2),$G73,0)","v":0},0,0,0,0,null,0,null,null,null,0]
["ООО          \"Строймаркет\"","Вельск, ул.Гагарина-5а",{"$f":"C75","v":6},"03-4-23.375",1.21,1.5,0,1.21,{"$f":"SUMIF(Y$14:BA$14,C74,Y$6:BA$6)","v":1733.45},{"$f":"IF(H74=0,ROUND(E74*I74,2),ROUND(H74*E74,2))","v":1.46},{"$f":"ROUND(F74*I74,2)","v":2600.1799999999998},{"$f":"IF(H74=0,ROUND(ROUND(F74*I74,2)*G74,2),ROUND(G74*H74,2))","v":0},{"$f":"L74-ROUND(G74*I74,2)","v":0},null,{"$f":"J74+L74+N74","v":1.46},null,405.07,{"$f":"ROUND(Q74*E74,2)","v":490.13},{"$f":"ROUND(F74*Q74,2)","v":607.61},{"$f":"ROUND(S74*G74,2)","v":0},{"$f":"T74-ROUND(Q74*G74,2)","v":0},null,{"$f":"R74+T74+V74","v":490.13},null,null,null,null,null,null,null,null,null,null,null,{"$f":"IF($I74=AI$6,$E74,0)","v":0},{"$f":"IF($K74=ROUND(AI$6*$F74,2),$G74,0)","v":0},{"$f":"IF($H74>0,AI74,0)","v":0},{"$f":"IF(AK74>0,1,0)","v":0},{"$f":"IF($H74>0,AJ74,0)","v":0},{"$f":"IF(AM74>0,1,0)","v":0},{"$f":"IF($I74=AO$6,$E74,0)","v":0},{"$f":"IF($K74=ROUND(AO$6*$F74,2),$G74,0)","v":0},{"$f":"IF($H74>0,AO74,0)","v":0},{"$f":"IF(AQ74>0,1,0)","v":0},{"$f":"IF($H74>0,AP74,0)","v":0},{"$f":"IF(AS74>0,1,0)","v":0},{"$f":"IF($I74=AU$6,$E74,0)","v":1.21},{"$f":"IF($K74=ROUND(AU$6*$F74,2),$G74,0)","v":0},{"$f":"IF($H74>0,AU74,0)","v":1.21},{"$f":"IF(AW74>0,1,0)","v":1},{"$f":"IF($H74>0,AV74,0)","v":0},{"$f":"IF(AY74>0,1,0)","v":0},{"$f":"IF($I74=BA$6,$E74,0)","v":0},{"$f":"IF($K74=ROUND(BA$6*$F74,2),$G74,0)","v":0},{"$f":"IF($H74>0,BA74,0)","v":0},{"$f":"IF(BC74>0,1,0)","v":0},{"$f":"IF($H74>0,BB74,0)","v":0},{"$f":"IF(BE74>0,1,0)","v":0},null,1.2099999999999999E-3,1.1000000000000001,null,null,0]
[{"$f":"IF(E75+G75>0,A74,\"\")","v":""},{"$f":"IF(E75+G75>0,B74,\"\")","v":""},6,"03-4-23.375",0,1.1000000000000001,0,0,{"$f":"SUMIF(Y$14:BA$14,C75,Y$6:BA$6)","v":1733.45},{"$f":"IF(H75=0,ROUND(E75*I75,2),ROUND(H75*E75,2))","v":0},{"$f":"ROUND(F75*I75,2)","v":1906.8},{"$f":"IF(H75=0,ROUND(ROUND(F75*I75,2)*G75,2),ROUND(G75*H75,2))","v":0},{"$f":"L75-ROUND(G75*I75,2)","v":0},null,{"$f":"J75+L75+N75","v":0},null,405.07,{"$f":"ROUND(Q75*E75,2)","v":0},{"$f":"ROUND(F75*Q75,2)","v":445.58},{"$f":"ROUND(S75*G75,2)","v":0},{"$f":"T75-ROUND(Q75*G75,2)","v":0},null,{"$f":"R75+T75+V75","v":0},null,null,null,null,null,null,null,null,null,null,null,{"$f":"IF($I75=AI$6,$E75,0)","v":0},0,{"$f":"IF($H75>0,AI75,0)","v":0},{"$f":"IF(AK75>0,1,0)","v":0},{"$f":"IF($H75>0,AJ75,0)","v":0},{"$f":"IF(AM75>0,1,0)","v":0},{"$f":"IF($I75=AO$6,$E75,0)","v":0},0,{"$f":"IF($H75>0,AO75,0)","v":0},{"$f":"IF(AQ75>0,1,0)","v":0},{"$f":"IF($H75>0,AP75,0)","v":0},{"$f":"IF(AS75>0,1,0)","v":0},{"$f":"IF($I75=AU$6,$E75,0)","v":0},0,{"$f":"IF($H75>0,AU75,0)","v":0},{"$f":"IF(AW75>0,1,0)","v":0},{"$f":"IF($H75>0,AV75,0)","v":0},{"$f":"IF(AY75>0,1,0)","v":0},{"$f":"IF($I75=BA$6,$E75,0)","v":0},0,{"$f":"IF($H75>0,BA75,0)","v":0},{"$f":"IF(BC75>0,1,0)","v":0},{"$f":"IF($H75>0,BB75,0)","v":0},{"$f":"IF(BE75>0,1,0)","v":0},null,0,null,null,null,0]
[{"$f":"IF(E76+G76>0,A74,\"\")","v":""},{"$f":"IF(E76+G76>0,B74,\"\")","v":""},{"$f":"C75","v":6},"03-4-23.375",0,1.5,0,0,{"$f":"SUMIF(Y$14:BA$14,C76,Y$7:BA$7)","v":0},0,0,0,0,null,0,null,405.07,0,607.61,0,0,null,0,null,null,null,null,null,null,null,null,null,null,null,{"$f":"IF($I76=AI$7,$E76,0)","v":0},{"$f":"IF($K76=ROUND(AI$7*$F76,2),$G76,0)","v":0},0,0,0,0,{"$f":"IF($I76=AO$7,$E76,0)","v":0},{"$f":"IF($K76=ROUND(AO$7*$F76,2),$G76,0)","v":0},0,0,0,0,{"$f":"IF($I76=AU$7,$E76,0)","v":0},{"$f":"IF($K76=ROUND(AU$7*$F76,2),$G76,0)","v":0},0,0,0,0,{"$f":"IF($I76=BA$7,$E76,0)","v":0},{"$f":"IF($K76=ROUND(BA$7*$F76,2),$G76,0)","v":0},0,0,0,0,null,0,null,null,null,0]
[{"$f":"IF(E77+G77>0,A74,\"\")","v":""},{"$f":"IF(E77+G77>0,B74,\"\")","v":""},{"$f":"C75","v":6},"03-4-23.375",0,1.1000000000000001,0,0,{"$f":"SUMIF(Y$14:BA$14,C77,Y$7:BA$7)","v":0},0,0,0,0,null,0,null,405.07,0,445.58,0,0,null,0,null,null,null,null,null,null,null,null,null,null,null,{"$f":"IF($I77=AI$7,$E77,0)","v":0},{"$f":"IF($K77=ROUND(AI$7*$F77,2),$G77,0)","v":0},0,0,0,0,{"$f":"IF($I77=AO$7,$E77,0)","v":0},{"$f":"IF($K77=ROUND(AO$7*$F77,2),$G77,0)","v":0},0,0,0,0,{"$f":"IF($I77=AU$7,$E77,0)","v":0},{"$f":"IF($K77=ROUND(AU$7*$F77,2),$G77,0)","v":0},0,0,0,0,{"$f":"IF($I77=BA$7,$E77,0)","v":0},{"$f":"IF($K77=ROUND(BA$7*$F77,2),$G77,0)","v":0},0,0,0,0,null,0,null,null,null,0]
["ООО          \"Строймаркет\"","Вельск, ул.Гагарина-5а",{"$f":"C79","v":6},"03-4-23.375(333)",0.32800000000000001,1.5,0,0.32800000000000001,{"$f":"SUMIF(Y$14:BA$14,C78,Y$6:BA$6)","v":1733.45},{"$f":"IF(H78=0,ROUND(E78*I78,2),ROUND(H78*E78,2))","v":0.11},{"$f":"ROUND(F78*I78,2)","v":2600.1799999999998},{"$f":"IF(H78=0,ROUND(ROUND(F78*I78,2)*G78,2),ROUND(G78*H78,2))","v":0},{"$f":"L78-ROUND(G78*I78,2)","v":0},null,{"$f":"J78+L78+N78","v":0.11},null,405.07,{"$f":"ROUND(Q78*E78,2)","v":132.86000000000001},{"$f":"ROUND(F78*Q78,2)","v":607.61},{"$f":"ROUND(S78*G78,2)","v":0},{"$f":"T78-ROUND(Q78*G78,2)","v":0},null,{"$f":"R78+T78+V78","v":132.86000000000001},null,null,null,null,null,null,null,null,null,null,null,{"$f":"IF($I78=AI$6,$E78,0)","v":0},{"$f":"IF($K78=ROUND(AI$6*$F78,2),$G78,0)","v":0},{"$f":"IF($H78>0,AI78,0)","v":0},{"$f":"IF(AK78>0,1,0)","v":0},{"$f":"IF($H78>0,AJ78,0)","v":0},{"$f":"IF(AM78>0,1,0)","v":0},{"$f":"IF($I78=AO$6,$E78,0)","v":0},{"$f":"IF($K78=ROUND(AO$6*$F78,2),$G78,0)","v":0},{"$f":"IF($H78>0,AO78,0)","v":0},{"$f":"IF(AQ78>0,1,0)","v":0},{"$f":"IF($H78>0,AP78,0)","v":0},{"$f":"IF(AS78>0,1,0)","v":0},{"$f":"IF($I78=AU$6,$E78,0)","v":0.32800000000000001},{"$f":"IF($K78=ROUND(AU$6*$F78,2),$G78,0)","v":0},{"$f":"IF($H78>0,AU78,0)","v":0.32800000000000001},{"$f":"IF(AW78>0,1,0)","v":1},{"$f":"IF($H78>0,AV78,0)","v":0},{"$f":"IF(AY78>0,1,0)","v":0},{"$f":"IF($I78=BA$6,$E78,0)","v":0},{"$f":"IF($K78=ROUND(BA$6*$F78,2),$G78,0)","v":0},{"$f":"IF($H78>0,BA78,0)","v":0},{"$f":"IF(BC78>0,1,0)","v":0},{"$f":"IF($H78>0,BB78,0)","v":0},{"$f":"IF(BE78>0,1,0)","v":0},null,3.28E-4,2.5,null,null,0]
[{"$f":"IF(E79+G79>0,A78,\"\")","v":""},{"$f":"IF(E79+G79>0,B78,\"\")","v":""},6,"03-4-23.375(333)",0,1.1000000000000001,0,0,{"$f":"SUMIF(Y$14:BA$14,C79,Y$6:BA$6)","v":1733.45},{"$f":"IF(H79=0,ROUND(E79*I79,2),ROUND(H79*E79,2))","v":0},{"$f":"ROUND(F79*I79,2)","v":1906.8},{"$f":"IF(H79=0,ROUND(ROUND(F79*I79,2)*G79,2),ROUND(G79*H79,2))","v":0},{"$f":"L79-ROUND(G79*I79,2)","v":0},null,{"$f":"J79+L79+N79","v":0},null,405.07,{"$f":"ROUND(Q79*E79,2)","v":0},{"$f":"ROUND(F79*Q79,2)","v":445.58},{"$f":"ROUND(S79*G79,2)","v":0},{"$f":"T79-ROUND(Q79*G79,2)","v":0},null,{"$f":"R79+T79+V79","v":0},null,null,null,null,null,null,null,null,null,null,null,0,0,{"$f":"IF($H79>0,AI79,0)","v":0},{"$f":"IF(AK79>0,1,0)","v":0},{"$f":"IF($H79>0,AJ79,0)","v":0},{"$f":"IF(AM79>0,1,0)","v":0},0,0,{"$f":"IF($H79>0,AO79,0)","v":0},{"$f":"IF(AQ79>0,1,0)","v":0},{"$f":"IF($H79>0,AP79,0)","v":0},{"$f":"IF(AS79>0,1,0)","v":0},0,0,{"$f":"IF($H79>0,AU79,0)","v":0},{"$f":"IF(AW79>0,1,0)","v":0},{"$f":"IF($H79>0,AV79,0)","v":0},{"$f":"IF(AY79>0,1,0)","v":0},0,0,{"$f":"IF($H79>0,BA79,0)","v":0},{"$f":"IF(BC79>0,1,0)","v":0},{"$f":"IF($H79>0,BB79,0)","v":0},{"$f":"IF(BE79>0,1,0)","v":0},null,0,null,null,null,0]
[{"$f":"IF(E80+G80>0,A78,\"\")","v":""},{"$f":"IF(E80+G80>0,B78,\"\")","v":""},{"$f":"C79","v":6},"03-4-23.375(333)",0,1.5,0,0,{"$f":"SUMIF(Y$14:BA$14,C80,Y$7:BA$7)","v":0},0,0,0,0,null,0,null,{"$f":"IF(BI80>0,Q$6,Q$6)","v":405.07},0,607.61,0,0,null,0,null,null,null,null,null,null,null,null,null,null,null,{"$f":"IF($I80=AI$7,$E80,0)","v":0},{"$f":"IF($K80=ROUND(AI$7*$F80,2),$G80,0)","v":0},0,0,0,0,{"$f":"IF($I80=AO$7,$E80,0)","v":0},{"$f":"IF($K80=ROUND(AO$7*$F80,2),$G80,0)","v":0},0,0,0,0,{"$f":"IF($I80=AU$7,$E80,0)","v":0},{"$f":"IF($K80=ROUND(AU$7*$F80,2),$G80,0)","v":0},0,0,0,0,{"$f":"IF($I80=BA$7,$E80,0)","v":0},{"$f":"IF($K80=ROUND(BA$7*$F80,2),$G80,0)","v":0},0,0,0,0,null,0,null,null,null,0]
[{"$f":"IF(E81+G81>0,A78,\"\")","v":""},{"$f":"IF(E81+G81>0,B78,\"\")","v":""},{"$f":"C79","v":6},"03-4-23.375(333)",0,1.1000000000000001,0,{"$f":"E81+G81","v":0},{"$f":"SUMIF(Y$14:BA$14,C81,Y$7:BA$7)","v":0},0,0,0,0,null,0,null,405.07,0,445.58,0,0,null,0,null,null,null,null,null,null,null,null,null,null,null,{"$f":"IF($I81=AI$7,$E81,0)","v":0},{"$f":"IF($K81=ROUND(AI$7*$F81,2),$G81,0)","v":0},0,0,0,0,{"$f":"IF($I81=AO$7,$E81,0)","v":0},{"$f":"IF($K81=ROUND(AO$7*$F81,2),$G81,0)","v":0},0,0,0,0,{"$f":"IF($I81=AU$7,$E81,0)","v":0},{"$f":"IF($K81=ROUND(AU$7*$F81,2),$G81,0)","v":0},0,0,0,0,{"$f":"IF($I81=BA$7,$E81,0)","v":0},{"$f":"IF($K81=ROUND(BA$7*$F81,2),$G81,0)","v":0},0,0,0,0,null,{"$f":"H81/1000","v":0},null,null,null,{"$f":"E81-SUM(AI81,AO81,AU81,BA81)","v":0}]
["ООО          \"Сервис\" ","Вельск, ул.Комсомольская-11",{"$f":"C83","v":6},"03-4-23.381",1.069,1.5,0,1.069,{"$f":"SUMIF(Y$14:BA$14,C82,Y$6:BA$6)","v":1733.45},{"$f":"IF(H82=0,ROUND(E82*I82,2),ROUND(H82*E82,2))","v":1.1399999999999999},{"$f":"ROUND(F82*I82,2)","v":2600.1799999999998},{"$f":"IF(H82=0,ROUND(ROUND(F82*I82,2)*G82,2),ROUND(G82*H82,2))","v":0},{"$f":"L82-ROUND(G82*I82,2)","v":0},null,{"$f":"J82+L82+N82","v":1.1399999999999999},null,405.07,{"$f":"ROUND(Q82*E82,2)","v":433.02},{"$f":"ROUND(F82*Q82,2)","v":607.61},{"$f":"ROUND(S82*G82,2)","v":0},{"$f":"T82-ROUND(Q82*G82,2)","v":0},null,{"$f":"R82+T82+V82","v":433.02},null,null,null,null,null,null,null,null,null,null,null,{"$f":"IF($I82=AI$6,$E82,0)","v":0},{"$f":"IF($K82=ROUND(AI$6*$F82,2),$G82,0)","v":0},{"$f":"IF($H82>0,AI82,0)","v":0},{"$f":"IF(AK82>0,1,0)","v":0},{"$f":"IF($H82>0,AJ82,0)","v":0},{"$f":"IF(AM82>0,1,0)","v":0},{"$f":"IF($I82=AO$6,$E82,0)","v":0},{"$f":"IF($K82=ROUND(AO$6*$F82,2),$G82,0)","v":0},{"$f":"IF($H82>0,AO82,0)","v":0},{"$f":"IF(AQ82>0,1,0)","v":0},{"$f":"IF($H82>0,AP82,0)","v":0},{"$f":"IF(AS82>0,1,0)","v":0},{"$f":"IF($I82=AU$6,$E82,0)","v":1.069},{"$f":"IF($K82=ROUND(AU$6*$F82,2),$G82,0)","v":0},{"$f":"IF($H82>0,AU82,0)","v":1.069},{"$f":"IF(AW82>0,1,0)","v":1},{"$f":"IF($H82>0,AV82,0)","v":0},{"$f":"IF(AY82>0,1,0)","v":0},{"$f":"IF($I82=BA$6,$E82,0)","v":0},{"$f":"IF($K82=ROUND(BA$6*$F82,2),$G82,0)","v":0},{"$f":"IF($H82>0,BA82,0)","v":0},{"$f":"IF(BC82>0,1,0)","v":0},{"$f":"IF($H82>0,BB82,0)","v":0},{"$f":"IF(BE82>0,1,0)","v":0},null,1.0689999999999999E-3,3.4099999999999997,null,null,0]
[{"$f":"IF(E83+G83>0,A82,\"\")","v":""},{"$f":"IF(E83+G83>0,B82,\"\")","v":""},6,"03-4-23.381",0,1.1000000000000001,0,0,{"$f":"SUMIF(Y$14:BA$14,C83,Y$6:BA$6)","v":1733.45},{"$f":"IF(H83=0,ROUND(E83*I83,2),ROUND(H83*E83,2))","v":0},{"$f":"ROUND(F83*I83,2)","v":1906.8},{"$f":"IF(H83=0,ROUND(ROUND(F83*I83,2)*G83,2),ROUND(G83*H83,2))","v":0},{"$f":"L83-ROUND(G83*I83,2)","v":0},null,{"$f":"J83+L83+N83","v":0},null,405.07,{"$f":"ROUND(Q83*E83,2)","v":0},{"$f":"ROUND(F83*Q83,2)","v":445.58},{"$f":"ROUND(S83*G83,2)","v":0},{"$f":"T83-ROUND(Q83*G83,2)","v":0},null,{"$f":"R83+T83+V83","v":0},null,null,null,null,null,null,null,null,null,null,null,{"$f":"IF($I83=AI$6,$E83,0)","v":0},0,{"$f":"IF($H83>0,AI83,0)","v":0},{"$f":"IF(AK83>0,1,0)","v":0},{"$f":"IF($H83>0,AJ83,0)","v":0},{"$f":"IF(AM83>0,1,0)","v":0},{"$f":"IF($I83=AO$6,$E83,0)","v":0},0,{"$f":"IF($H83>0,AO83,0)","v":0},{"$f":"IF(AQ83>0,1,0)","v":0},{"$f":"IF($H83>0,AP83,0)","v":0},{"$f":"IF(AS83>0,1,0)","v":0},{"$f":"IF($I83=AU$6,$E83,0)","v":0},0,{"$f":"IF($H83>0,AU83,0)","v":0},{"$f":"IF(AW83>0,1,0)","v":0},{"$f":"IF($H83>0,AV83,0)","v":0},{"$f":"IF(AY83>0,1,0)","v":0},{"$f":"IF($I83=BA$6,$E83,0)","v":0},0,{"$f":"IF($H83>0,BA83,0)","v":0},{"$f":"IF(BC83>0,1,0)","v":0},{"$f":"IF($H83>0,BB83,0)","v":0},{"$f":"IF(BE83>0,1,0)","v":0},null,0,null,null,null,0]
[{"$f":"IF(E84+G84>0,A82,\"\")","v":""},{"$f":"IF(E84+G84>0,B82,\"\")","v":""},{"$f":"C83","v":6},"03-4-23.381",0,1.5,0,0,{"$f":"SUMIF(Y$14:BA$14,C84,Y$7:BA$7)","v":0},0,0,0,0,null,0,null,405.07,0,607.61,0,0,null,0,null,null,null,null,null,null,null,null,null,null,null,{"$f":"IF($I84=AI$7,$E84,0)","v":0},{"$f":"IF($K84=ROUND(AI$7*$F84,2),$G84,0)","v":0},0,0,0,0,{"$f":"IF($I84=AO$7,$E84,0)","v":0},{"$f":"IF($K84=ROUND(AO$7*$F84,2),$G84,0)","v":0},0,0,0,0,{"$f":"IF($I84=AU$7,$E84,0)","v":0},{"$f":"IF($K84=ROUND(AU$7*$F84,2),$G84,0)","v":0},0,0,0,0,{"$f":"IF($I84=BA$7,$E84,0)","v":0},{"$f":"IF($K84=ROUND(BA$7*$F84,2),$G84,0)","v":0},0,0,0,0,null,0,null,null,null,0]
[{"$f":"IF(E85+G85>0,A82,\"\")","v":""},{"$f":"IF(E85+G85>0,B82,\"\")","v":""},{"$f":"C83","v":6},"03-4-23.381",0,1.1000000000000001,0,0,{"$f":"SUMIF(Y$14:BA$14,C85,Y$7:BA$7)","v":0},0,0,0,0,null,0,null,405.07,0,445.58,0,0,null,0,null,null,null,null,null,null,null,null,null,null,null,{"$f":"IF($I85=AI$7,$E85,0)","v":0},{"$f":"IF($K85=ROUND(AI$7*$F85,2),$G85,0)","v":0},0,0,0,0,{"$f":"IF($I85=AO$7,$E85,0)","v":0},{"$f":"IF($K85=ROUND(AO$7*$F85,2),$G85,0)","v":0},0,0,0,0,{"$f":"IF($I85=AU$7,$E85,0)","v":0},{"$f":"IF($K85=ROUND(AU$7*$F85,2),$G85,0)","v":0},0,0,0,0,{"$f":"IF($I85=BA$7,$E85,0)","v":0},{"$f":"IF($K85=ROUND(BA$7*$F85,2),$G85,0)","v":0},0,0,0,0,null,0,null,null,null,0]
["ООО          \"Сервис\" ","Вельск, ул.Дзержинского-50",{"$f":"C87","v":7},"03-4-23.381(333)",0.24399999999999999,1.5,0,0.24399999999999999,{"$f":"SUMIF(Y$14:BA$14,C86,Y$6:BA$6)","v":2166.8000000000002},{"$f":"IF(H86=0,ROUND(E86*I86,2),ROUND(H86*E86,2))","v":0.06},{"$f":"ROUND(F86*I86,2)","v":3250.2},{"$f":"IF(H86=0,ROUND(ROUND(F86*I86,2)*G86,2),ROUND(G86*H86,2))","v":0},{"$f":"L86-ROUND(G86*I86,2)","v":0},null,{"$f":"J86+L86+N86","v":0.06},null,405.07,{"$f":"ROUND(Q86*E86,2)","v":98.84},{"$f":"ROUND(F86*Q86,2)","v":607.61},{"$f":"ROUND(S86*G86,2)","v":0},{"$f":"T86-ROUND(Q86*G86,2)","v":0},null,{"$f":"R86+T86+V86","v":98.84},null,null,null,null,null,null,null,null,null,null,null,{"$f":"IF($I86=AI$6,$E86,0)","v":0},{"$f":"IF($K86=ROUND(AI$6*$F86,2),$G86,0)","v":0},{"$f":"IF($H86>0,AI86,0)","v":0},{"$f":"IF(AK86>0,1,0)","v":0},{"$f":"IF($H86>0,AJ86,0)","v":0},{"$f":"IF(AM86>0,1,0)","v":0},{"$f":"IF($I86=AO$6,$E86,0)","v":0},{"$f":"IF($K86=ROUND(AO$6*$F86,2),$G86,0)","v":0},{"$f":"IF($H86>0,AO86,0)","v":0},{"$f":"IF(AQ86>0,1,0)","v":0},{"$f":"IF($H86>0,AP86,0)","v":0},{"$f":"IF(AS86>0,1,0)","v":0},{"$f":"IF($I86=AU$6,$E86,0)","v":0},{"$f":"IF($K86=ROUND(AU$6*$F86,2),$G86,0)","v":0},{"$f":"IF($H86>0,AU86,0)","v":0},{"$f":"IF(AW86>0,1,0)","v":0},{"$f":"IF($H86>0,AV86,0)","v":0},{"$f":"IF(AY86>0,1,0)","v":0},{"$f":"IF($I86=BA$6,$E86,0)","v":0.24399999999999999},{"$f":"IF($K86=ROUND(BA$6*$F86,2),$G86,0)","v":0},{"$f":"IF($H86>0,BA86,0)","v":0.24399999999999999},{"$f":"IF(BC86>0,1,0)","v":1},{"$f":"IF($H86>0,BB86,0)","v":0},{"$f":"IF(BE86>0,1,0)","v":0},null,2.4399999999999999E-4,0.4,null,null,0]
[{"$f":"IF(E87+G87>0,A86,\"\")","v":""},{"$f":"IF(E87+G87>0,B86,\"\")","v":""},7,"03-4-23.381(333)",0,1.1000000000000001,0,0,{"$f":"SUMIF(Y$14:BA$14,C87,Y$6:BA$6)","v":2166.8000000000002},{"$f":"IF(H87=0,ROUND(E87*I87,2),ROUND(H87*E87,2))","v":0},{"$f":"ROUND(F87*I87,2)","v":2383.48},{"$f":"IF(H87=0,ROUND(ROUND(F87*I87,2)*G87,2),ROUND(G87*H87,2))","v":0},{"$f":"L87-ROUND(G87*I87,2)","v":0},null,{"$f":"J87+L87+N87","v":0},null,405.07,{"$f":"ROUND(Q87*E87,2)","v":0},{"$f":"ROUND(F87*Q87,2)","v":445.58},{"$f":"ROUND(S87*G87,2)","v":0},{"$f":"T87-ROUND(Q87*G87,2)","v":0},null,{"$f":"R87+T87+V87","v":0},null,null,null,null,null,null,null,null,null,null,null,{"$f":"IF($I87=AI$6,$E87,0)","v":0},0,{"$f":"IF($H87>0,AI87,0)","v":0},{"$f":"IF(AK87>0,1,0)","v":0},{"$f":"IF($H87>0,AJ87,0)","v":0},{"$f":"IF(AM87>0,1,0)","v":0},{"$f":"IF($I87=AO$6,$E87,0)","v":0},0,{"$f":"IF($H87>0,AO87,0)","v":0},{"$f":"IF(AQ87>0,1,0)","v":0},{"$f":"IF($H87>0,AP87,0)","v":0},{"$f":"IF(AS87>0,1,0)","v":0},{"$f":"IF($I87=AU$6,$E87,0)","v":0},0,{"$f":"IF($H87>0,AU87,0)","v":0},{"$f":"IF(AW87>0,1,0)","v":0},{"$f":"IF($H87>0,AV87,0)","v":0},{"$f":"IF(AY87>0,1,0)","v":0},{"$f":"IF($I87=BA$6,$E87,0)","v":0},0,{"$f":"IF($H87>0,BA87,0)","v":0},{"$f":"IF(BC87>0,1,0)","v":0},{"$f":"IF($H87>0,BB87,0)","v":0},{"$f":"IF(BE87>0,1,0)","v":0},null,0,null,null,null,0]
[{"$f":"IF(E88+G88>0,A86,\"\")","v":""},{"$f":"IF(E88+G88>0,B86,\"\")","v":""},{"$f":"C87","v":7},"03-4-23.381(333)",0,1.5,0,0,{"$f":"SUMIF(Y$14:BA$14,C88,Y$7:BA$7)","v":0},0,0,0,0,null,0,null,405.07,0,607.61,0,0,null,0,null,null,null,null,null,null,null,null,null,null,null,{"$f":"IF($I88=AI$7,$E88,0)","v":0},{"$f":"IF($K88=ROUND(AI$7*$F88,2),$G88,0)","v":0},0,0,0,0,{"$f":"IF($I88=AO$7,$E88,0)","v":0},{"$f":"IF($K88=ROUND(AO$7*$F88,2),$G88,0)","v":0},0,0,0,0,{"$f":"IF($I88=AU$7,$E88,0)","v":0},{"$f":"IF($K88=ROUND(AU$7*$F88,2),$G88,0)","v":0},0,0,0,0,{"$f":"IF($I88=BA$7,$E88,0)","v":0},{"$f":"IF($K88=ROUND(BA$7*$F88,2),$G88,0)","v":0},0,0,0,0,null,0,null,null,null,0]
[{"$f":"IF(E89+G89>0,A86,\"\")","v":""},{"$f":"IF(E89+G89>0,B86,\"\")","v":""},{"$f":"C87","v":7},"03-4-23.381(333)",0,1.1000000000000001,0,0,{"$f":"SUMIF(Y$14:BA$14,C89,Y$7:BA$7)","v":0},0,0,0,0,null,0,null,405.07,0,445.58,0,0,null,0,null,null,null,null,null,null,null,null,null,null,null,{"$f":"IF($I89=AI$7,$E89,0)","v":0},{"$f":"IF($K89=ROUND(AI$7*$F89,2),$G89,0)","v":0},0,0,0,0,{"$f":"IF($I89=AO$7,$E89,0)","v":0},{"$f":"IF($K89=ROUND(AO$7*$F89,2),$G89,0)","v":0},0,0,0,0,{"$f":"IF($I89=AU$7,$E89,0)","v":0},{"$f":"IF($K89=ROUND(AU$7*$F89,2),$G89,0)","v":0},0,0,0,0,{"$f":"IF($I89=BA$7,$E89,0)","v":0},{"$f":"IF($K89=ROUND(BA$7*$F89,2),$G89,0)","v":0},0,0,0,0,null,0,null,null,null,0]
["ООО          \"Сервис\" ","Вельск, ул.1 мая-63",{"$f":"C91","v":7},"03-4-23.381(333)",0.27900000000000003,1.5,0,0.27900000000000003,{"$f":"SUMIF(Y$14:BA$14,C90,Y$6:BA$6)","v":2166.8000000000002},{"$f":"IF(H90=0,ROUND(E90*I90,2),ROUND(H90*E90,2))","v":0.08},{"$f":"ROUND(F90*I90,2)","v":3250.2},{"$f":"IF(H90=0,ROUND(ROUND(F90*I90,2)*G90,2),ROUND(G90*H90,2))","v":0},{"$f":"L90-ROUND(G90*I90,2)","v":0},null,{"$f":"J90+L90+N90","v":0.08},null,405.07,{"$f":"ROUND(Q90*E90,2)","v":113.01},{"$f":"ROUND(F90*Q90,2)","v":607.61},{"$f":"ROUND(S90*G90,2)","v":0},{"$f":"T90-ROUND(Q90*G90,2)","v":0},null,{"$f":"R90+T90+V90","v":113.01},null,null,null,null,null,null,null,null,null,null,null,{"$f":"IF($I90=AI$6,$E90,0)","v":0},{"$f":"IF($K90=ROUND(AI$6*$F90,2),$G90,0)","v":0},{"$f":"IF($H90>0,AI90,0)","v":0},{"$f":"IF(AK90>0,1,0)","v":0},{"$f":"IF($H90>0,AJ90,0)","v":0},{"$f":"IF(AM90>0,1,0)","v":0},{"$f":"IF($I90=AO$6,$E90,0)","v":0},{"$f":"IF($K90=ROUND(AO$6*$F90,2),$G90,0)","v":0},{"$f":"IF($H90>0,AO90,0)","v":0},{"$f":"IF(AQ90>0,1,0)","v":0},{"$f":"IF($H90>0,AP90,0)","v":0},{"$f":"IF(AS90>0,1,0)","v":0},{"$f":"IF($I90=AU$6,$E90,0)","v":0},{"$f":"IF($K90=ROUND(AU$6*$F90,2),$G90,0)","v":0},{"$f":"IF($H90>0,AU90,0)","v":0},{"$f":"IF(AW90>0,1,0)","v":0},{"$f":"IF($H90>0,AV90,0)","v":0},{"$f":"IF(AY90>0,1,0)","v":0},{"$f":"IF($I90=BA$6,$E90,0)","v":0.27900000000000003},{"$f":"IF($K90=ROUND(BA$6*$F90,2),$G90,0)","v":0},{"$f":"IF($H90>0,BA90,0)","v":0.27900000000000003},{"$f":"IF(BC90>0,1,0)","v":1},{"$f":"IF($H90>0,BB90,0)","v":0},{"$f":"IF(BE90>0,1,0)","v":0},null,2.7900000000000001E-4,0.5,null,null,0]
[{"$f":"IF(E91+G91>0,A90,\"\")","v":""},{"$f":"IF(E91+G91>0,B90,\"\")","v":""},7,"03-4-23.381(333)",0,1.1000000000000001,0,0,{"$f":"SUMIF(Y$14:BA$14,C91,Y$6:BA$6)","v":2166.8000000000002},{"$f":"IF(H91=0,ROUND(E91*I91,2),ROUND(H91*E91,2))","v":0},{"$f":"ROUND(F91*I91,2)","v":2383.48},{"$f":"IF(H91=0,ROUND(ROUND(F91*I91,2)*G91,2),ROUND(G91*H91,2))","v":0},{"$f":"L91-ROUND(G91*I91,2)","v":0},null,{"$f":"J91+L91+N91","v":0},null,405.07,{"$f":"ROUND(Q91*E91,2)","v":0},{"$f":"ROUND(F91*Q91,2)","v":445.58},{"$f":"ROUND(S91*G91,2)","v":0},{"$f":"T91-ROUND(Q91*G91,2)","v":0},null,{"$f":"R91+T91+V91","v":0},null,null,null,null,null,null,null,null,null,null,null,{"$f":"IF($I91=AI$6,$E91,0)","v":0},0,{"$f":"IF($H91>0,AI91,0)","v":0},{"$f":"IF(AK91>0,1,0)","v":0},{"$f":"IF($H91>0,AJ91,0)","v":0},{"$f":"IF(AM91>0,1,0)","v":0},{"$f":"IF($I91=AO$6,$E91,0)","v":0},0,{"$f":"IF($H91>0,AO91,0)","v":0},{"$f":"IF(AQ91>0,1,0)","v":0},{"$f":"IF($H91>0,AP91,0)","v":0},{"$f":"IF(AS91>0,1,0)","v":0},{"$f":"IF($I91=AU$6,$E91,0)","v":0},0,{"$f":"IF($H91>0,AU91,0)","v":0},{"$f":"IF(AW91>0,1,0)","v":0},{"$f":"IF($H91>0,AV91,0)","v":0},{"$f":"IF(AY91>0,1,0)","v":0},{"$f":"IF($I91=BA$6,$E91,0)","v":0},0,{"$f":"IF($H91>0,BA91,0)","v":0},{"$f":"IF(BC91>0,1,0)","v":0},{"$f":"IF($H91>0,BB91,0)","v":0},{"$f":"IF(BE91>0,1,0)","v":0},null,0,null,null,null,0]
[{"$f":"IF(E92+G92>0,A90,\"\")","v":""},{"$f":"IF(E92+G92>0,B90,\"\")","v":""},{"$f":"C91","v":7},"03-4-23.381(333)",0,1.5,0,0,{"$f":"SUMIF(Y$14:BA$14,C92,Y$7:BA$7)","v":0},0,0,0,0,null,0,null,405.07,0,607.61,0,0,null,0,null,null,null,null,null,null,null,null,null,null,null,{"$f":"IF($I92=AI$7,$E92,0)","v":0},{"$f":"IF($K92=ROUND(AI$7*$F92,2),$G92,0)","v":0},0,0,0,0,{"$f":"IF($I92=AO$7,$E92,0)","v":0},{"$f":"IF($K92=ROUND(AO$7*$F92,2),$G92,0)","v":0},0,0,0,0,{"$f":"IF($I92=AU$7,$E92,0)","v":0},{"$f":"IF($K92=ROUND(AU$7*$F92,2),$G92,0)","v":0},0,0,0,0,{"$f":"IF($I92=BA$7,$E92,0)","v":0},{"$f":"IF($K92=ROUND(BA$7*$F92,2),$G92,0)","v":0},0,0,0,0,null,0,null,null,null,0]
[{"$f":"IF(E93+G93>0,A90,\"\")","v":""},{"$f":"IF(E93+G93>0,B90,\"\")","v":""},{"$f":"C91","v":7},"03-4-23.381(333)",0,1.1000000000000001,0,0,{"$f":"SUMIF(Y$14:BA$14,C93,Y$7:BA$7)","v":0},0,0,0,0,null,0,null,405.07,0,445.58,0,0,null,0,null,null,null,null,null,null,null,null,null,null,null,{"$f":"IF($I93=AI$7,$E93,0)","v":0},{"$f":"IF($K93=ROUND(AI$7*$F93,2),$G93,0)","v":0},0,0,0,0,{"$f":"IF($I93=AO$7,$E93,0)","v":0},{"$f":"IF($K93=ROUND(AO$7*$F93,2),$G93,0)","v":0},0,0,0,0,{"$f":"IF($I93=AU$7,$E93,0)","v":0},{"$f":"IF($K93=ROUND(AU$7*$F93,2),$G93,0)","v":0},0,0,0,0,{"$f":"IF($I93=BA$7,$E93,0)","v":0},{"$f":"IF($K93=ROUND(BA$7*$F93,2),$G93,0)","v":0},0,0,0,0,null,0,null,null,null,0]
["ООО          \"Сервис\" ","Вельск, ул.Гагарина-42, 44",{"$f":"C95","v":6},"03-4-23.381(333)",1.49,1.5,0,1.49,{"$f":"SUMIF(Y$14:BA$14,C94,Y$6:BA$6)","v":1733.45},{"$f":"IF(H94=0,ROUND(E94*I94,2),ROUND(H94*E94,2))","v":2.2200000000000002},{"$f":"ROUND(F94*I94,2)","v":2600.1799999999998},{"$f":"IF(H94=0,ROUND(ROUND(F94*I94,2)*G94,2),ROUND(G94*H94,2))","v":0},{"$f":"L94-ROUND(G94*I94,2)","v":0},null,{"$f":"J94+L94+N94","v":2.2200000000000002},null,405.07,{"$f":"ROUND(Q94*E94,2)","v":603.54999999999995},{"$f":"ROUND(F94*Q94,2)","v":607.61},{"$f":"ROUND(S94*G94,2)","v":0},{"$f":"T94-ROUND(Q94*G94,2)","v":0},null,{"$f":"R94+T94+V94","v":603.54999999999995},null,null,null,null,null,null,null,null,null,null,null,{"$f":"IF($I94=AI$6,$E94,0)","v":0},{"$f":"IF($K94=ROUND(AI$6*$F94,2),$G94,0)","v":0},{"$f":"IF($H94>0,AI94,0)","v":0},{"$f":"IF(AK94>0,1,0)","v":0},{"$f":"IF($H94>0,AJ94,0)","v":0},{"$f":"IF(AM94>0,1,0)","v":0},{"$f":"IF($I94=AO$6,$E94,0)","v":0},{"$f":"IF($K94=ROUND(AO$6*$F94,2),$G94,0)","v":0},{"$f":"IF($H94>0,AO94,0)","v":0},{"$f":"IF(AQ94>0,1,0)","v":0},{"$f":"IF($H94>0,AP94,0)","v":0},{"$f":"IF(AS94>0,1,0)","v":0},{"$f":"IF($I94=AU$6,$E94,0)","v":1.49},{"$f":"IF($K94=ROUND(AU$6*$F94,2),$G94,0)","v":0},{"$f":"IF($H94>0,AU94,0)","v":1.49},{"$f":"IF(AW94>0,1,0)","v":1},{"$f":"IF($H94>0,AV94,0)","v":0},{"$f":"IF(AY94>0,1,0)","v":0},{"$f":"IF($I94=BA$6,$E94,0)","v":0},{"$f":"IF($K94=ROUND(BA$6*$F94,2),$G94,0)","v":0},{"$f":"IF($H94>0,BA94,0)","v":0},{"$f":"IF(BC94>0,1,0)","v":0},{"$f":"IF($H94>0,BB94,0)","v":0},{"$f":"IF(BE94>0,1,0)","v":0},null,1.49E-3,3.6,null,null,0]
[{"$f":"IF(E95+G95>0,A94,\"\")","v":""},{"$f":"IF(E95+G95>0,B94,\"\")","v":""},6,"03-4-23.381(333)",0,1.1000000000000001,0,0,{"$f":"SUMIF(Y$14:BA$14,C95,Y$6:BA$6)","v":1733.45},{"$f":"IF(H95=0,ROUND(E95*I95,2),ROUND(H95*E95,2))","v":0},{"$f":"ROUND(F95*I95,2)","v":1906.8},{"$f":"IF(H95=0,ROUND(ROUND(F95*I95,2)*G95,2),ROUND(G95*H95,2))","v":0},{"$f":"L95-ROUND(G95*I95,2)","v":0},null,{"$f":"J95+L95+N95","v":0},null,405.07,{"$f":"ROUND(Q95*E95,2)","v":0},{"$f":"ROUND(F95*Q95,2)","v":445.58},{"$f":"ROUND(S95*G95,2)","v":0},{"$f":"T95-ROUND(Q95*G95,2)","v":0},null,{"$f":"R95+T95+V95","v":0},null,null,null,null,null,null,null,null,null,null,null,{"$f":"IF($I95=AI$6,$E95,0)","v":0},0,{"$f":"IF($H95>0,AI95,0)","v":0},{"$f":"IF(AK95>0,1,0)","v":0},{"$f":"IF($H95>0,AJ95,0)","v":0},{"$f":"IF(AM95>0,1,0)","v":0},{"$f":"IF($I95=AO$6,$E95,0)","v":0},0,{"$f":"IF($H95>0,AO95,0)","v":0},{"$f":"IF(AQ95>0,1,0)","v":0},{"$f":"IF($H95>0,AP95,0)","v":0},{"$f":"IF(AS95>0,1,0)","v":0},{"$f":"IF($I95=AU$6,$E95,0)","v":0},0,{"$f":"IF($H95>0,AU95,0)","v":0},{"$f":"IF(AW95>0,1,0)","v":0},{"$f":"IF($H95>0,AV95,0)","v":0},{"$f":"IF(AY95>0,1,0)","v":0},{"$f":"IF($I95=BA$6,$E95,0)","v":0},0,{"$f":"IF($H95>0,BA95,0)","v":0},{"$f":"IF(BC95>0,1,0)","v":0},{"$f":"IF($H95>0,BB95,0)","v":0},{"$f":"IF(BE95>0,1,0)","v":0},null,0,null,null,null,0]
[{"$f":"IF(E96+G96>0,A94,\"\")","v":""},{"$f":"IF(E96+G96>0,B94,\"\")","v":""},{"$f":"C95","v":6},"03-4-23.381(333)",0,1.5,0,0,{"$f":"SUMIF(Y$14:BA$14,C96,Y$7:BA$7)","v":0},0,0,0,0,null,0,null,405.07,0,607.61,0,0,null,0,null,null,null,null,null,null,null,null,null,null,null,{"$f":"IF($I96=AI$7,$E96,0)","v":0},{"$f":"IF($K96=ROUND(AI$7*$F96,2),$G96,0)","v":0},0,0,0,0,{"$f":"IF($I96=AO$7,$E96,0)","v":0},{"$f":"IF($K96=ROUND(AO$7*$F96,2),$G96,0)","v":0},0,0,0,0,{"$f":"IF($I96=AU$7,$E96,0)","v":0},{"$f":"IF($K96=ROUND(AU$7*$F96,2),$G96,0)","v":0},0,0,0,0,{"$f":"IF($I96=BA$7,$E96,0)","v":0},{"$f":"IF($K96=ROUND(BA$7*$F96,2),$G96,0)","v":0},0,0,0,0,null,0,null,null,null,0]
[{"$f":"IF(E97+G97>0,A94,\"\")","v":""},{"$f":"IF(E97+G97>0,B94,\"\")","v":""},{"$f":"C95","v":6},"03-4-23.381(333)",0,1.1000000000000001,0,0,{"$f":"SUMIF(Y$14:BA$14,C97,Y$7:BA$7)","v":0},0,0,0,0,null,0,null,405.07,0,445.58,0,0,null,0,null,null,null,null,null,null,null,null,null,null,null,{"$f":"IF($I97=AI$7,$E97,0)","v":0},{"$f":"IF($K97=ROUND(AI$7*$F97,2),$G97,0)","v":0},0,0,0,0,{"$f":"IF($I97=AO$7,$E97,0)","v":0},{"$f":"IF($K97=ROUND(AO$7*$F97,2),$G97,0)","v":0},0,0,0,0,{"$f":"IF($I97=AU$7,$E97,0)","v":0},{"$f":"IF($K97=ROUND(AU$7*$F97,2),$G97,0)","v":0},0,0,0,0,{"$f":"IF($I97=BA$7,$E97,0)","v":0},{"$f":"IF($K97=ROUND(BA$7*$F97,2),$G97,0)","v":0},0,0,0,0,null,0,null,null,null,0]
["ИП            Тюкин              Николай  Федорович  ","Вельск, ул.Набережная-58",{"$f":"C99","v":6},"03-4-23.382",1.2,1.5,0,1.2,{"$f":"SUMIF(Y$14:BA$14,C98,Y$6:BA$6)","v":1733.45},{"$f":"IF(H98=0,ROUND(E98*I98,2),ROUND(H98*E98,2))","v":1.44},{"$f":"ROUND(F98*I98,2)","v":2600.1799999999998},{"$f":"IF(H98=0,ROUND(ROUND(F98*I98,2)*G98,2),ROUND(G98*H98,2))","v":0},{"$f":"L98-ROUND(G98*I98,2)","v":0},null,{"$f":"J98+L98+N98","v":1.44},null,405.07,{"$f":"ROUND(Q98*E98,2)","v":486.08},{"$f":"ROUND(F98*Q98,2)","v":607.61},{"$f":"ROUND(S98*G98,2)","v":0},{"$f":"T98-ROUND(Q98*G98,2)","v":0},null,{"$f":"R98+T98+V98","v":486.08},null,null,null,null,null,null,null,null,null,null,null,{"$f":"IF($I98=AI$6,$E98,0)","v":0},{"$f":"IF($K98=ROUND(AI$6*$F98,2),$G98,0)","v":0},{"$f":"IF($H98>0,AI98,0)","v":0},{"$f":"IF(AK98>0,1,0)","v":0},{"$f":"IF($H98>0,AJ98,0)","v":0},{"$f":"IF(AM98>0,1,0)","v":0},{"$f":"IF($I98=AO$6,$E98,0)","v":0},{"$f":"IF($K98=ROUND(AO$6*$F98,2),$G98,0)","v":0},{"$f":"IF($H98>0,AO98,0)","v":0},{"$f":"IF(AQ98>0,1,0)","v":0},{"$f":"IF($H98>0,AP98,0)","v":0},{"$f":"IF(AS98>0,1,0)","v":0},{"$f":"IF($I98=AU$6,$E98,0)","v":1.2},{"$f":"IF($K98=ROUND(AU$6*$F98,2),$G98,0)","v":0},{"$f":"IF($H98>0,AU98,0)","v":1.2},{"$f":"IF(AW98>0,1,0)","v":1},{"$f":"IF($H98>0,AV98,0)","v":0},{"$f":"IF(AY98>0,1,0)","v":0},{"$f":"IF($I98=BA$6,$E98,0)","v":0},{"$f":"IF($K98=ROUND(BA$6*$F98,2),$G98,0)","v":0},{"$f":"IF($H98>0,BA98,0)","v":0},{"$f":"IF(BC98>0,1,0)","v":0},{"$f":"IF($H98>0,BB98,0)","v":0},{"$f":"IF(BE98>0,1,0)","v":0},null,1.1999999999999999E-3,1.2,null,null,0]
[{"$f":"IF(E99+G99>0,A98,\"\")","v":""},{"$f":"IF(E99+G99>0,B98,\"\")","v":""},6,"03-4-23.382",0,1.1000000000000001,0,0,{"$f":"SUMIF(Y$14:BA$14,C99,Y$6:BA$6)","v":1733.45},{"$f":"IF(H99=0,ROUND(E99*I99,2),ROUND(H99*E99,2))","v":0},{"$f":"ROUND(F99*I99,2)","v":1906.8},{"$f":"IF(H99=0,ROUND(ROUND(F99*I99,2)*G99,2),ROUND(G99*H99,2))","v":0},{"$f":"L99-ROUND(G99*I99,2)","v":0},null,{"$f":"J99+L99+N99","v":0},null,405.07,{"$f":"ROUND(Q99*E99,2)","v":0},{"$f":"ROUND(F99*Q99,2)","v":445.58},{"$f":"ROUND(S99*G99,2)","v":0},{"$f":"T99-ROUND(Q99*G99,2)","v":0},null,{"$f":"R99+T99+V99","v":0},null,null,null,null,null,null,null,null,null,null,null,{"$f":"IF($I99=AI$6,$E99,0)","v":0},0,{"$f":"IF($H99>0,AI99,0)","v":0},{"$f":"IF(AK99>0,1,0)","v":0},{"$f":"IF($H99>0,AJ99,0)","v":0},{"$f":"IF(AM99>0,1,0)","v":0},{"$f":"IF($I99=AO$6,$E99,0)","v":0},0,{"$f":"IF($H99>0,AO99,0)","v":0},{"$f":"IF(AQ99>0,1,0)","v":0},{"$f":"IF($H99>0,AP99,0)","v":0},{"$f":"IF(AS99>0,1,0)","v":0},{"$f":"IF($I99=AU$6,$E99,0)","v":0},0,{"$f":"IF($H99>0,AU99,0)","v":0},{"$f":"IF(AW99>0,1,0)","v":0},{"$f":"IF($H99>0,AV99,0)","v":0},{"$f":"IF(AY99>0,1,0)","v":0},{"$f":"IF($I99=BA$6,$E99,0)","v":0},0,{"$f":"IF($H99>0,BA99,0)","v":0},{"$f":"IF(BC99>0,1,0)","v":0},{"$f":"IF($H99>0,BB99,0)","v":0},{"$f":"IF(BE99>0,1,0)","v":0},null,0,null,null,null,0]
[{"$f":"IF(E100+G100>0,A98,\"\")","v":""},{"$f":"IF(E100+G100>0,B98,\"\")","v":""},{"$f":"C99","v":6},"03-4-23.382",0,1.5,0,0,{"$f":"SUMIF(Y$14:BA$14,C100,Y$7:BA$7)","v":0},0,0,0,0,null,0,null,405.07,0,607.61,0,0,null,0,null,null,null,null,null,null,null,null,null,null,null,{"$f":"IF($I100=AI$7,$E100,0)","v":0},{"$f":"IF($K100=ROUND(AI$7*$F100,2),$G100,0)","v":0},0,0,0,0,{"$f":"IF($I100=AO$7,$E100,0)","v":0},{"$f":"IF($K100=ROUND(AO$7*$F100,2),$G100,0)","v":0},0,0,0,0,{"$f":"IF($I100=AU$7,$E100,0)","v":0},{"$f":"IF($K100=ROUND(AU$7*$F100,2),$G100,0)","v":0},0,0,0,0,{"$f":"IF($I100=BA$7,$E100,0)","v":0},{"$f":"IF($K100=ROUND(BA$7*$F100,2),$G100,0)","v":0},0,0,0,0,null,0,null,null,null,0]
[{"$f":"IF(E101+G101>0,A98,\"\")","v":""},{"$f":"IF(E101+G101>0,B98,\"\")","v":""},{"$f":"C99","v":6},"03-4-23.382",0,1.1000000000000001,0,0,{"$f":"SUMIF(Y$14:BA$14,C101,Y$7:BA$7)","v":0},0,0,0,0,null,0,null,405.07,0,445.58,0,0,null,0,null,null,null,null,null,null,null,null,null,null,null,{"$f":"IF($I101=AI$7,$E101,0)","v":0},{"$f":"IF($K101=ROUND(AI$7*$F101,2),$G101,0)","v":0},0,0,0,0,{"$f":"IF($I101=AO$7,$E101,0)","v":0},{"$f":"IF($K101=ROUND(AO$7*$F101,2),$G101,0)","v":0},0,0,0,0,{"$f":"IF($I101=AU$7,$E101,0)","v":0},{"$f":"IF($K101=ROUND(AU$7*$F101,2),$G101,0)","v":0},0,0,0,0,{"$f":"IF($I101=BA$7,$E101,0)","v":0},{"$f":"IF($K101=ROUND(BA$7*$F101,2),$G101,0)","v":0},0,0,0,0,null,0,null,null,null,0]
["ИП            Тюкин              Николай  Федорович  ","Вельск, ул.Революционная-3в",{"$f":"C103","v":6},"03-4-23.382(333)",1.2,1.5,0,1.2,{"$f":"SUMIF(Y$14:BA$14,C102,Y$6:BA$6)","v":1733.45},{"$f":"IF(H102=0,ROUND(E102*I102,2),ROUND(H102*E102,2))","v":1.44},{"$f":"ROUND(F102*I102,2)","v":2600.1799999999998},{"$f":"IF(H102=0,ROUND(ROUND(F102*I102,2)*G102,2),ROUND(G102*H102,2))","v":0},{"$f":"L102-ROUND(G102*I102,2)","v":0},null,{"$f":"J102+L102+N102","v":1.44},null,405.07,{"$f":"ROUND(Q102*E102,2)","v":486.08},{"$f":"ROUND(F102*Q102,2)","v":607.61},{"$f":"ROUND(S102*G102,2)","v":0},{"$f":"T102-ROUND(Q102*G102,2)","v":0},null,{"$f":"R102+T102+V102","v":486.08},null,null,null,null,null,null,null,null,null,null,null,{"$f":"IF($I102=AI$6,$E102,0)","v":0},{"$f":"IF($K102=ROUND(AI$6*$F102,2),$G102,0)","v":0},{"$f":"IF($H102>0,AI102,0)","v":0},{"$f":"IF(AK102>0,1,0)","v":0},{"$f":"IF($H102>0,AJ102,0)","v":0},{"$f":"IF(AM102>0,1,0)","v":0},{"$f":"IF($I102=AO$6,$E102,0)","v":0},{"$f":"IF($K102=ROUND(AO$6*$F102,2),$G102,0)","v":0},{"$f":"IF($H102>0,AO102,0)","v":0},{"$f":"IF(AQ102>0,1,0)","v":0},{"$f":"IF($H102>0,AP102,0)","v":0},{"$f":"IF(AS102>0,1,0)","v":0},{"$f":"IF($I102=AU$6,$E102,0)","v":1.2},{"$f":"IF($K102=ROUND(AU$6*$F102,2),$G102,0)","v":0},{"$f":"IF($H102>0,AU102,0)","v":1.2},{"$f":"IF(AW102>0,1,0)","v":1},{"$f":"IF($H102>0,AV102,0)","v":0},{"$f":"IF(AY102>0,1,0)","v":0},{"$f":"IF($I102=BA$6,$E102,0)","v":0},{"$f":"IF($K102=ROUND(BA$6*$F102,2),$G102,0)","v":0},{"$f":"IF($H102>0,BA102,0)","v":0},{"$f":"IF(BC102>0,1,0)","v":0},{"$f":"IF($H102>0,BB102,0)","v":0},{"$f":"IF(BE102>0,1,0)","v":0},null,1.1999999999999999E-3,1.2,null,null,0]
[{"$f":"IF(E103+G103>0,A102,\"\")","v":""},{"$f":"IF(E103+G103>0,B102,\"\")","v":""},6,"03-4-23.382(333)",0,1.1000000000000001,0,0,{"$f":"SUMIF(Y$14:BA$14,C103,Y$6:BA$6)","v":1733.45},{"$f":"IF(H103=0,ROUND(E103*I103,2),ROUND(H103*E103,2))","v":0},{"$f":"ROUND(F103*I103,2)","v":1906.8},{"$f":"IF(H103=0,ROUND(ROUND(F103*I103,2)*G103,2),ROUND(G103*H103,2))","v":0},{"$f":"L103-ROUND(G103*I103,2)","v":0},null,{"$f":"J103+L103+N103","v":0},null,405.07,{"$f":"ROUND(Q103*E103,2)","v":0},{"$f":"ROUND(F103*Q103,2)","v":445.58},{"$f":"ROUND(S103*G103,2)","v":0},{"$f":"T103-ROUND(Q103*G103,2)","v":0},null,{"$f":"R103+T103+V103","v":0},null,null,null,null,null,null,null,null,null,null,null,{"$f":"IF($I103=AI$6,$E103,0)","v":0},0,{"$f":"IF($H103>0,AI103,0)","v":0},{"$f":"IF(AK103>0,1,0)","v":0},{"$f":"IF($H103>0,AJ103,0)","v":0},{"$f":"IF(AM103>0,1,0)","v":0},{"$f":"IF($I103=AO$6,$E103,0)","v":0},0,{"$f":"IF($H103>0,AO103,0)","v":0},{"$f":"IF(AQ103>0,1,0)","v":0},{"$f":"IF($H103>0,AP103,0)","v":0},{"$f":"IF(AS103>0,1,0)","v":0},{"$f":"IF($I103=AU$6,$E103,0)","v":0},0,{"$f":"IF($H103>0,AU103,0)","v":0},{"$f":"IF(AW103>0,1,0)","v":0},{"$f":"IF($H103>0,AV103,0)","v":0},{"$f":"IF(AY103>0,1,0)","v":0},{"$f":"IF($I103=BA$6,$E103,0)","v":0},0,{"$f":"IF($H103>0,BA103,0)","v":0},{"$f":"IF(BC103>0,1,0)","v":0},{"$f":"IF($H103>0,BB103,0)","v":0},{"$f":"IF(BE103>0,1,0)","v":0},null,0,null,null,null,0]
[{"$f":"IF(E104+G104>0,A102,\"\")","v":""},{"$f":"IF(E104+G104>0,B102,\"\")","v":""},{"$f":"C103","v":6},"03-4-23.382(333)",0,1.5,0,0,{"$f":"SUMIF(Y$14:BA$14,C104,Y$7:BA$7)","v":0},0,0,0,0,null,0,null,405.07,0,607.61,0,0,null,0,null,null,null,null,null,null,null,null,null,null,null,{"$f":"IF($I104=AI$7,$E104,0)","v":0},{"$f":"IF($K104=ROUND(AI$7*$F104,2),$G104,0)","v":0},0,0,0,0,{"$f":"IF($I104=AO$7,$E104,0)","v":0},{"$f":"IF($K104=ROUND(AO$7*$F104,2),$G104,0)","v":0},0,0,0,0,{"$f":"IF($I104=AU$7,$E104,0)","v":0},{"$f":"IF($K104=ROUND(AU$7*$F104,2),$G104,0)","v":0},0,0,0,0,{"$f":"IF($I104=BA$7,$E104,0)","v":0},{"$f":"IF($K104=ROUND(BA$7*$F104,2),$G104,0)","v":0},0,0,0,0,null,0,null,null,null,0]
[{"$f":"IF(E105+G105>0,A102,\"\")","v":""},{"$f":"IF(E105+G105>0,B102,\"\")","v":""},{"$f":"C103","v":6},"03-4-23.382(333)",0,1.1000000000000001,0,0,{"$f":"SUMIF(Y$14:BA$14,C105,Y$7:BA$7)","v":0},0,0,0,0,null,0,null,405.07,0,445.58,0,0,null,0,null,null,null,null,null,null,null,null,null,null,null,{"$f":"IF($I105=AI$7,$E105,0)","v":0},{"$f":"IF($K105=ROUND(AI$7*$F105,2),$G105,0)","v":0},0,0,0,0,{"$f":"IF($I105=AO$7,$E105,0)","v":0},{"$f":"IF($K105=ROUND(AO$7*$F105,2),$G105,0)","v":0},0,0,0,0,{"$f":"IF($I105=AU$7,$E105,0)","v":0},{"$f":"IF($K105=ROUND(AU$7*$F105,2),$G105,0)","v":0},0,0,0,0,{"$f":"IF($I105=BA$7,$E105,0)","v":0},{"$f":"IF($K105=ROUND(BA$7*$F105,2),$G105,0)","v":0},0,0,0,0,null,0,null,null,null,0]
["ИП            Тюкин              Николай  Федорович  ","д.Горка Муравьевская, ул.Школьная-4",{"$f":"C107","v":7},"03-4-23.382(333)",0.81,1.5,0,0.81,{"$f":"SUMIF(Y$14:BA$14,C106,Y$6:BA$6)","v":2166.8000000000002},{"$f":"IF(H106=0,ROUND(E106*I106,2),ROUND(H106*E106,2))","v":0.66},{"$f":"ROUND(F106*I106,2)","v":3250.2},{"$f":"IF(H106=0,ROUND(ROUND(F106*I106,2)*G106,2),ROUND(G106*H106,2))","v":0},{"$f":"L106-ROUND(G106*I106,2)","v":0},null,{"$f":"J106+L106+N106","v":0.66},null,405.07,{"$f":"ROUND(Q106*E106,2)","v":328.11},{"$f":"ROUND(F106*Q106,2)","v":607.61},{"$f":"ROUND(S106*G106,2)","v":0},{"$f":"T106-ROUND(Q106*G106,2)","v":0},null,{"$f":"R106+T106+V106","v":328.11},null,null,null,null,null,null,null,null,null,null,null,{"$f":"IF($I106=AI$6,$E106,0)","v":0},{"$f":"IF($K106=ROUND(AI$6*$F106,2),$G106,0)","v":0},{"$f":"IF($H106>0,AI106,0)","v":0},{"$f":"IF(AK106>0,1,0)","v":0},{"$f":"IF($H106>0,AJ106,0)","v":0},{"$f":"IF(AM106>0,1,0)","v":0},{"$f":"IF($I106=AO$6,$E106,0)","v":0},{"$f":"IF($K106=ROUND(AO$6*$F106,2),$G106,0)","v":0},{"$f":"IF($H106>0,AO106,0)","v":0},{"$f":"IF(AQ106>0,1,0)","v":0},{"$f":"IF($H106>0,AP106,0)","v":0},{"$f":"IF(AS106>0,1,0)","v":0},{"$f":"IF($I106=AU$6,$E106,0)","v":0},{"$f":"IF($K106=ROUND(AU$6*$F106,2),$G106,0)","v":0},{"$f":"IF($H106>0,AU106,0)","v":0},{"$f":"IF(AW106>0,1,0)","v":0},{"$f":"IF($H106>0,AV106,0)","v":0},{"$f":"IF(AY106>0,1,0)","v":0},{"$f":"IF($I106=BA$6,$E106,0)","v":0.81},{"$f":"IF($K106=ROUND(BA$6*$F106,2),$G106,0)","v":0},{"$f":"IF($H106>0,BA106,0)","v":0.81},{"$f":"IF(BC106>0,1,0)","v":1},{"$f":"IF($H106>0,BB106,0)","v":0},{"$f":"IF(BE106>0,1,0)","v":0},null,8.1000000000000006E-4,0.8,null,null,0]
[{"$f":"IF(E107+G107>0,A106,\"\")","v":""},{"$f":"IF(E107+G107>0,B106,\"\")","v":""},7,"03-4-23.382(333)",0,1.1000000000000001,0,0,{"$f":"SUMIF(Y$14:BA$14,C107,Y$6:BA$6)","v":2166.8000000000002},{"$f":"IF(H107=0,ROUND(E107*I107,2),ROUND(H107*E107,2))","v":0},{"$f":"ROUND(F107*I107,2)","v":2383.48},{"$f":"IF(H107=0,ROUND(ROUND(F107*I107,2)*G107,2),ROUND(G107*H107,2))","v":0},{"$f":"L107-ROUND(G107*I107,2)","v":0},null,{"$f":"J107+L107+N107","v":0},null,405.07,{"$f":"ROUND(Q107*E107,2)","v":0},{"$f":"ROUND(F107*Q107,2)","v":445.58},{"$f":"ROUND(S107*G107,2)","v":0},{"$f":"T107-ROUND(Q107*G107,2)","v":0},null,{"$f":"R107+T107+V107","v":0},null,null,null,null,null,null,null,null,null,null,null,{"$f":"IF($I107=AI$6,$E107,0)","v":0},0,{"$f":"IF($H107>0,AI107,0)","v":0},{"$f":"IF(AK107>0,1,0)","v":0},{"$f":"IF($H107>0,AJ107,0)","v":0},{"$f":"IF(AM107>0,1,0)","v":0},{"$f":"IF($I107=AO$6,$E107,0)","v":0},0,{"$f":"IF($H107>0,AO107,0)","v":0},{"$f":"IF(AQ107>0,1,0)","v":0},{"$f":"IF($H107>0,AP107,0)","v":0},{"$f":"IF(AS107>0,1,0)","v":0},{"$f":"IF($I107=AU$6,$E107,0)","v":0},0,{"$f":"IF($H107>0,AU107,0)","v":0},{"$f":"IF(AW107>0,1,0)","v":0},{"$f":"IF($H107>0,AV107,0)","v":0},{"$f":"IF(AY107>0,1,0)","v":0},{"$f":"IF($I107=BA$6,$E107,0)","v":0},0,{"$f":"IF($H107>0,BA107,0)","v":0},{"$f":"IF(BC107>0,1,0)","v":0},{"$f":"IF($H107>0,BB107,0)","v":0},{"$f":"IF(BE107>0,1,0)","v":0},null,0,null,null,null,0]
[{"$f":"IF(E108+G108>0,A106,\"\")","v":""},{"$f":"IF(E108+G108>0,B106,\"\")","v":""},{"$f":"C107","v":7},"03-4-23.382(333)",0,1.5,0,0,{"$f":"SUMIF(Y$14:BA$14,C108,Y$7:BA$7)","v":0},0,0,0,0,null,0,null,405.07,0,607.61,0,0,null,0,null,null,null,null,null,null,null,null,null,null,null,{"$f":"IF($I108=AI$7,$E108,0)","v":0},{"$f":"IF($K108=ROUND(AI$7*$F108,2),$G108,0)","v":0},0,0,0,0,{"$f":"IF($I108=AO$7,$E108,0)","v":0},{"$f":"IF($K108=ROUND(AO$7*$F108,2),$G108,0)","v":0},0,0,0,0,{"$f":"IF($I108=AU$7,$E108,0)","v":0},{"$f":"IF($K108=ROUND(AU$7*$F108,2),$G108,0)","v":0},0,0,0,0,{"$f":"IF($I108=BA$7,$E108,0)","v":0},{"$f":"IF($K108=ROUND(BA$7*$F108,2),$G108,0)","v":0},0,0,0,0,null,0,null,null,null,0]
[{"$f":"IF(E109+G109>0,A106,\"\")","v":""},{"$f":"IF(E109+G109>0,B106,\"\")","v":""},{"$f":"C107","v":7},"03-4-23.382(333)",0,1.1000000000000001,0,0,{"$f":"SUMIF(Y$14:BA$14,C109,Y$7:BA$7)","v":0},0,0,0,0,null,0,null,405.07,0,445.58,0,0,null,0,null,null,null,null,null,null,null,null,null,null,null,{"$f":"IF($I109=AI$7,$E109,0)","v":0},{"$f":"IF($K109=ROUND(AI$7*$F109,2),$G109,0)","v":0},0,0,0,0,{"$f":"IF($I109=AO$7,$E109,0)","v":0},{"$f":"IF($K109=ROUND(AO$7*$F109,2),$G109,0)","v":0},0,0,0,0,{"$f":"IF($I109=AU$7,$E109,0)","v":0},{"$f":"IF($K109=ROUND(AU$7*$F109,2),$G109,0)","v":0},0,0,0,0,{"$f":"IF($I109=BA$7,$E109,0)","v":0},{"$f":"IF($K109=ROUND(BA$7*$F109,2),$G109,0)","v":0},0,0,0,0,null,0,null,null,null,0]
["Гр.             Козлов             Олег   Станиславович","",{"$f":"C111","v":7},"03-4-23.394(333)",0.20599999999999999,1.5,0,0.20599999999999999,{"$f":"SUMIF(Y$14:BA$14,C110,Y$6:BA$6)","v":2166.8000000000002},{"$f":"IF(H110=0,ROUND(E110*I110,2),ROUND(H110*E110,2))","v":0.04},{"$f":"ROUND(F110*I110,2)","v":3250.2},{"$f":"IF(H110=0,ROUND(ROUND(F110*I110,2)*G110,2),ROUND(G110*H110,2))","v":0},{"$f":"L110-ROUND(G110*I110,2)","v":0},null,{"$f":"J110+L110+N110","v":0.04},null,405.07,{"$f":"ROUND(Q110*E110,2)","v":83.44},{"$f":"ROUND(F110*Q110,2)","v":607.61},{"$f":"ROUND(S110*G110,2)","v":0},{"$f":"T110-ROUND(Q110*G110,2)","v":0},null,{"$f":"R110+T110+V110","v":83.44},null,null,null,null,null,null,null,null,null,null,null,{"$f":"IF($I110=AI$6,$E110,0)","v":0},{"$f":"IF($K110=ROUND(AI$6*$F110,2),$G110,0)","v":0},{"$f":"IF($H110>0,AI110,0)","v":0},{"$f":"IF(AK110>0,1,0)","v":0},{"$f":"IF($H110>0,AJ110,0)","v":0},{"$f":"IF(AM110>0,1,0)","v":0},{"$f":"IF($I110=AO$6,$E110,0)","v":0},{"$f":"IF($K110=ROUND(AO$6*$F110,2),$G110,0)","v":0},{"$f":"IF($H110>0,AO110,0)","v":0},{"$f":"IF(AQ110>0,1,0)","v":0},{"$f":"IF($H110>0,AP110,0)","v":0},{"$f":"IF(AS110>0,1,0)","v":0},{"$f":"IF($I110=AU$6,$E110,0)","v":0},{"$f":"IF($K110=ROUND(AU$6*$F110,2),$G110,0)","v":0},{"$f":"IF($H110>0,AU110,0)","v":0},{"$f":"IF(AW110>0,1,0)","v":0},{"$f":"IF($H110>0,AV110,0)","v":0},{"$f":"IF(AY110>0,1,0)","v":0},{"$f":"IF($I110=BA$6,$E110,0)","v":0.20599999999999999},{"$f":"IF($K110=ROUND(BA$6*$F110,2),$G110,0)","v":0},{"$f":"IF($H110>0,BA110,0)","v":0.20599999999999999},{"$f":"IF(BC110>0,1,0)","v":1},{"$f":"IF($H110>0,BB110,0)","v":0},{"$f":"IF(BE110>0,1,0)","v":0},null,2.0599999999999999E-4,1,null,null,0]
[{"$f":"IF(E111+G111>0,A110,\"\")","v":""},{"$f":"IF(E111+G111>0,B110,\"\")","v":""},7,"03-4-23.394(333)",0,1.1000000000000001,0,0,{"$f":"SUMIF(Y$14:BA$14,C111,Y$6:BA$6)","v":2166.8000000000002},{"$f":"IF(H111=0,ROUND(E111*I111,2),ROUND(H111*E111,2))","v":0},{"$f":"ROUND(F111*I111,2)","v":2383.48},{"$f":"IF(H111=0,ROUND(ROUND(F111*I111,2)*G111,2),ROUND(G111*H111,2))","v":0},{"$f":"L111-ROUND(G111*I111,2)","v":0},null,{"$f":"J111+L111+N111","v":0},null,405.07,{"$f":"ROUND(Q111*E111,2)","v":0},{"$f":"ROUND(F111*Q111,2)","v":445.58},{"$f":"ROUND(S111*G111,2)","v":0},{"$f":"T111-ROUND(Q111*G111,2)","v":0},null,{"$f":"R111+T111+V111","v":0},null,null,null,null,null,null,null,null,null,null,null,{"$f":"IF($I111=AI$6,$E111,0)","v":0},0,{"$f":"IF($H111>0,AI111,0)","v":0},{"$f":"IF(AK111>0,1,0)","v":0},{"$f":"IF($H111>0,AJ111,0)","v":0},{"$f":"IF(AM111>0,1,0)","v":0},{"$f":"IF($I111=AO$6,$E111,0)","v":0},0,{"$f":"IF($H111>0,AO111,0)","v":0},{"$f":"IF(AQ111>0,1,0)","v":0},{"$f":"IF($H111>0,AP111,0)","v":0},{"$f":"IF(AS111>0,1,0)","v":0},{"$f":"IF($I111=AU$6,$E111,0)","v":0},0,{"$f":"IF($H111>0,AU111,0)","v":0},{"$f":"IF(AW111>0,1,0)","v":0},{"$f":"IF($H111>0,AV111,0)","v":0},{"$f":"IF(AY111>0,1,0)","v":0},{"$f":"IF($I111=BA$6,$E111,0)","v":0},0,{"$f":"IF($H111>0,BA111,0)","v":0},{"$f":"IF(BC111>0,1,0)","v":0},{"$f":"IF($H111>0,BB111,0)","v":0},{"$f":"IF(BE111>0,1,0)","v":0},null,0,null,null,null,0]
[{"$f":"IF(E112+G112>0,A110,\"\")","v":""},{"$f":"IF(E112+G112>0,B110,\"\")","v":""},{"$f":"C111","v":7},"03-4-23.394(333)",0,1.5,0,0,{"$f":"SUMIF(Y$14:BA$14,C112,Y$7:BA$7)","v":0},0,0,0,0,null,0,null,405.07,0,607.61,0,0,null,0,null,null,null,null,null,null,null,null,null,null,null,{"$f":"IF($I112=AI$7,$E112,0)","v":0},{"$f":"IF($K112=ROUND(AI$7*$F112,2),$G112,0)","v":0},0,0,0,0,{"$f":"IF($I112=AO$7,$E112,0)","v":0},{"$f":"IF($K112=ROUND(AO$7*$F112,2),$G112,0)","v":0},0,0,0,0,{"$f":"IF($I112=AU$7,$E112,0)","v":0},{"$f":"IF($K112=ROUND(AU$7*$F112,2),$G112,0)","v":0},0,0,0,0,{"$f":"IF($I112=BA$7,$E112,0)","v":0},{"$f":"IF($K112=ROUND(BA$7*$F112,2),$G112,0)","v":0},0,0,0,0,null,0,null,null,null,0]
[{"$f":"IF(E113+G113>0,A110,\"\")","v":""},{"$f":"IF(E113+G113>0,B110,\"\")","v":""},{"$f":"C111","v":7},"03-4-23.394(333)",0,1.1000000000000001,0,0,{"$f":"SUMIF(Y$14:BA$14,C113,Y$7:BA$7)","v":0},0,0,0,0,null,0,null,405.07,0,445.58,0,0,null,0,null,null,null,null,null,null,null,null,null,null,null,{"$f":"IF($I113=AI$7,$E113,0)","v":0},{"$f":"IF($K113=ROUND(AI$7*$F113,2),$G113,0)","v":0},0,0,0,0,{"$f":"IF($I113=AO$7,$E113,0)","v":0},{"$f":"IF($K113=ROUND(AO$7*$F113,2),$G113,0)","v":0},0,0,0,0,{"$f":"IF($I113=AU$7,$E113,0)","v":0},{"$f":"IF($K113=ROUND(AU$7*$F113,2),$G113,0)","v":0},0,0,0,0,{"$f":"IF($I113=BA$7,$E113,0)","v":0},{"$f":"IF($K113=ROUND(BA$7*$F113,2),$G113,0)","v":0},0,0,0,0,null,0,null,null,null,0]
["Гр.              Вострецов      Олег  Анатольевич","",{"$f":"C115","v":6},"03-4-23.408",0.48199999999999998,1.5,0,0.48199999999999998,{"$f":"SUMIF(Y$14:BA$14,C114,Y$6:BA$6)","v":1733.45},{"$f":"IF(H114=0,ROUND(E114*I114,2),ROUND(H114*E114,2))","v":0.23},{"$f":"ROUND(F114*I114,2)","v":2600.1799999999998},{"$f":"IF(H114=0,ROUND(ROUND(F114*I114,2)*G114,2),ROUND(G114*H114,2))","v":0},{"$f":"L114-ROUND(G114*I114,2)","v":0},null,{"$f":"J114+L114+N114","v":0.23},null,405.07,{"$f":"ROUND(Q114*E114,2)","v":195.24},{"$f":"ROUND(F114*Q114,2)","v":607.61},{"$f":"ROUND(S114*G114,2)","v":0},{"$f":"T114-ROUND(Q114*G114,2)","v":0},null,{"$f":"R114+T114+V114","v":195.24},null,null,null,null,null,null,null,null,null,null,null,{"$f":"IF($I114=AI$6,$E114,0)","v":0},{"$f":"IF($K114=ROUND(AI$6*$F114,2),$G114,0)","v":0},{"$f":"IF($H114>0,AI114,0)","v":0},{"$f":"IF(AK114>0,1,0)","v":0},{"$f":"IF($H114>0,AJ114,0)","v":0},{"$f":"IF(AM114>0,1,0)","v":0},{"$f":"IF($I114=AO$6,$E114,0)","v":0},{"$f":"IF($K114=ROUND(AO$6*$F114,2),$G114,0)","v":0},{"$f":"IF($H114>0,AO114,0)","v":0},{"$f":"IF(AQ114>0,1,0)","v":0},{"$f":"IF($H114>0,AP114,0)","v":0},{"$f":"IF(AS114>0,1,0)","v":0},{"$f":"IF($I114=AU$6,$E114,0)","v":0.48199999999999998},{"$f":"IF($K114=ROUND(AU$6*$F114,2),$G114,0)","v":0},{"$f":"IF($H114>0,AU114,0)","v":0.48199999999999998},{"$f":"IF(AW114>0,1,0)","v":1},{"$f":"IF($H114>0,AV114,0)","v":0},{"$f":"IF(AY114>0,1,0)","v":0},{"$f":"IF($I114=BA$6,$E114,0)","v":0},{"$f":"IF($K114=ROUND(BA$6*$F114,2),$G114,0)","v":0},{"$f":"IF($H114>0,BA114,0)","v":0},{"$f":"IF(BC114>0,1,0)","v":0},{"$f":"IF($H114>0,BB114,0)","v":0},{"$f":"IF(BE114>0,1,0)","v":0},null,4.8200000000000001E-4,2.6,null,null,0]
[{"$f":"IF(E115+G115>0,A114,\"\")","v":""},{"$f":"IF(E115+G115>0,B114,\"\")","v":""},6,"03-4-23.408",0,1.1000000000000001,0,0,{"$f":"SUMIF(Y$14:BA$14,C115,Y$6:BA$6)","v":1733.45},{"$f":"IF(H115=0,ROUND(E115*I115,2),ROUND(H115*E115,2))","v":0},{"$f":"ROUND(F115*I115,2)","v":1906.8},{"$f":"IF(H115=0,ROUND(ROUND(F115*I115,2)*G115,2),ROUND(G115*H115,2))","v":0},{"$f":"L115-ROUND(G115*I115,2)","v":0},null,{"$f":"J115+L115+N115","v":0},null,405.07,{"$f":"ROUND(Q115*E115,2)","v":0},{"$f":"ROUND(F115*Q115,2)","v":445.58},{"$f":"ROUND(S115*G115,2)","v":0},{"$f":"T115-ROUND(Q115*G115,2)","v":0},null,{"$f":"R115+T115+V115","v":0},null,null,null,null,null,null,null,null,null,null,null,{"$f":"IF($I115=AI$6,$E115,0)","v":0},0,{"$f":"IF($H115>0,AI115,0)","v":0},{"$f":"IF(AK115>0,1,0)","v":0},{"$f":"IF($H115>0,AJ115,0)","v":0},{"$f":"IF(AM115>0,1,0)","v":0},{"$f":"IF($I115=AO$6,$E115,0)","v":0},0,{"$f":"IF($H115>0,AO115,0)","v":0},{"$f":"IF(AQ115>0,1,0)","v":0},{"$f":"IF($H115>0,AP115,0)","v":0},{"$f":"IF(AS115>0,1,0)","v":0},{"$f":"IF($I115=AU$6,$E115,0)","v":0},0,{"$f":"IF($H115>0,AU115,0)","v":0},{"$f":"IF(AW115>0,1,0)","v":0},{"$f":"IF($H115>0,AV115,0)","v":0},{"$f":"IF(AY115>0,1,0)","v":0},{"$f":"IF($I115=BA$6,$E115,0)","v":0},0,{"$f":"IF($H115>0,BA115,0)","v":0},{"$f":"IF(BC115>0,1,0)","v":0},{"$f":"IF($H115>0,BB115,0)","v":0},{"$f":"IF(BE115>0,1,0)","v":0},null,0,null,null,null,0]
[{"$f":"IF(E116+G116>0,A114,\"\")","v":""},{"$f":"IF(E116+G116>0,B114,\"\")","v":""},{"$f":"C115","v":6},"03-4-23.408",0,1.5,0,0,{"$f":"SUMIF(Y$14:BA$14,C116,Y$7:BA$7)","v":0},0,0,0,0,null,0,null,405.07,0,607.61,0,0,null,0,null,null,null,null,null,null,null,null,null,null,null,{"$f":"IF($I116=AI$7,$E116,0)","v":0},{"$f":"IF($K116=ROUND(AI$7*$F116,2),$G116,0)","v":0},0,0,0,0,{"$f":"IF($I116=AO$7,$E116,0)","v":0},{"$f":"IF($K116=ROUND(AO$7*$F116,2),$G116,0)","v":0},0,0,0,0,{"$f":"IF($I116=AU$7,$E116,0)","v":0},{"$f":"IF($K116=ROUND(AU$7*$F116,2),$G116,0)","v":0},0,0,0,0,{"$f":"IF($I116=BA$7,$E116,0)","v":0},{"$f":"IF($K116=ROUND(BA$7*$F116,2),$G116,0)","v":0},0,0,0,0,null,0,null,null,null,0]
[{"$f":"IF(E117+G117>0,A114,\"\")","v":""},{"$f":"IF(E117+G117>0,B114,\"\")","v":""},{"$f":"C115","v":6},"03-4-23.408",0,1.1000000000000001,0,0,{"$f":"SUMIF(Y$14:BA$14,C117,Y$7:BA$7)","v":0},0,0,0,0,null,0,null,405.07,0,445.58,0,0,null,0,null,null,null,null,null,null,null,null,null,null,null,{"$f":"IF($I117=AI$7,$E117,0)","v":0},{"$f":"IF($K117=ROUND(AI$7*$F117,2),$G117,0)","v":0},0,0,0,0,{"$f":"IF($I117=AO$7,$E117,0)","v":0},{"$f":"IF($K117=ROUND(AO$7*$F117,2),$G117,0)","v":0},0,0,0,0,{"$f":"IF($I117=AU$7,$E117,0)","v":0},{"$f":"IF($K117=ROUND(AU$7*$F117,2),$G117,0)","v":0},0,0,0,0,{"$f":"IF($I117=BA$7,$E117,0)","v":0},{"$f":"IF($K117=ROUND(BA$7*$F117,2),$G117,0)","v":0},0,0,0,0,null,0,null,null,null,0]
["ООО          \"Вельская  энергетическая  компания\"","Вельск, ул.Горького-1",{"$f":"C119","v":4},"03-4-23.426",0,1.5,0,0,{"$f":"SUMIF(Y$14:BA$14,C118,Y$6:BA$6)","v":1040.08},{"$f":"IF(H118=0,ROUND(E118*I118,2),ROUND(H118*E118,2))","v":0},{"$f":"ROUND(F118*I118,2)","v":1560.12},{"$f":"IF(H118=0,ROUND(ROUND(F118*I118,2)*G118,2),ROUND(G118*H118,2))","v":0},{"$f":"L118-ROUND(G118*I118,2)","v":0},null,{"$f":"J118+L118+N118","v":0},null,405.07,{"$f":"ROUND(Q118*E118,2)","v":0},{"$f":"ROUND(F118*Q118,2)","v":607.61},{"$f":"ROUND(S118*G118,2)","v":0},{"$f":"T118-ROUND(Q118*G118,2)","v":0},null,{"$f":"R118+T118+V118","v":0},null,null,null,null,null,null,null,null,null,null,null,{"$f":"IF($I118=AI$6,$E118,0)","v":0},{"$f":"IF($K118=ROUND(AI$6*$F118,2),$G118,0)","v":0},{"$f":"IF($H118>0,AI118,0)","v":0},{"$f":"IF(AK118>0,1,0)","v":0},{"$f":"IF($H118>0,AJ118,0)","v":0},{"$f":"IF(AM118>0,1,0)","v":0},{"$f":"IF($I118=AO$6,$E118,0)","v":0},{"$f":"IF($K118=ROUND(AO$6*$F118,2),$G118,0)","v":0},{"$f":"IF($H118>0,AO118,0)","v":0},{"$f":"IF(AQ118>0,1,0)","v":0},{"$f":"IF($H118>0,AP118,0)","v":0},{"$f":"IF(AS118>0,1,0)","v":0},{"$f":"IF($I118=AU$6,$E118,0)","v":0},{"$f":"IF($K118=ROUND(AU$6*$F118,2),$G118,0)","v":0},{"$f":"IF($H118>0,AU118,0)","v":0},{"$f":"IF(AW118>0,1,0)","v":0},{"$f":"IF($H118>0,AV118,0)","v":0},{"$f":"IF(AY118>0,1,0)","v":0},{"$f":"IF($I118=BA$6,$E118,0)","v":0},{"$f":"IF($K118=ROUND(BA$6*$F118,2),$G118,0)","v":0},{"$f":"IF($H118>0,BA118,0)","v":0},{"$f":"IF(BC118>0,1,0)","v":0},{"$f":"IF($H118>0,BB118,0)","v":0},{"$f":"IF(BE118>0,1,0)","v":0},null,0,0,null,null,0]
[{"$f":"IF(E119+G119>0,A118,\"\")","v":""},{"$f":"IF(E119+G119>0,B118,\"\")","v":""},4,"03-4-23.426",0,1.1000000000000001,0,0,{"$f":"SUMIF(Y$14:BA$14,C119,Y$6:BA$6)","v":1040.08},{"$f":"IF(H119=0,ROUND(E119*I119,2),ROUND(H119*E119,2))","v":0},{"$f":"ROUND(F119*I119,2)","v":1144.0899999999999},{"$f":"IF(H119=0,ROUND(ROUND(F119*I119,2)*G119,2),ROUND(G119*H119,2))","v":0},{"$f":"L119-ROUND(G119*I119,2)","v":0},null,{"$f":"J119+L119+N119","v":0},null,405.07,{"$f":"ROUND(Q119*E119,2)","v":0},{"$f":"ROUND(F119*Q119,2)","v":445.58},{"$f":"ROUND(S119*G119,2)","v":0},{"$f":"T119-ROUND(Q119*G119,2)","v":0},null,{"$f":"R119+T119+V119","v":0},null,null,null,null,null,null,null,null,null,null,null,{"$f":"IF($I119=AI$6,$E119,0)","v":0},0,{"$f":"IF($H119>0,AI119,0)","v":0},{"$f":"IF(AK119>0,1,0)","v":0},{"$f":"IF($H119>0,AJ119,0)","v":0},{"$f":"IF(AM119>0,1,0)","v":0},{"$f":"IF($I119=AO$6,$E119,0)","v":0},0,{"$f":"IF($H119>0,AO119,0)","v":0},{"$f":"IF(AQ119>0,1,0)","v":0},{"$f":"IF($H119>0,AP119,0)","v":0},{"$f":"IF(AS119>0,1,0)","v":0},{"$f":"IF($I119=AU$6,$E119,0)","v":0},0,{"$f":"IF($H119>0,AU119,0)","v":0},{"$f":"IF(AW119>0,1,0)","v":0},{"$f":"IF($H119>0,AV119,0)","v":0},{"$f":"IF(AY119>0,1,0)","v":0},{"$f":"IF($I119=BA$6,$E119,0)","v":0},0,{"$f":"IF($H119>0,BA119,0)","v":0},{"$f":"IF(BC119>0,1,0)","v":0},{"$f":"IF($H119>0,BB119,0)","v":0},{"$f":"IF(BE119>0,1,0)","v":0},null,0,null,null,null,0]
[{"$f":"IF(E120+G120>0,A118,\"\")","v":""},{"$f":"IF(E120+G120>0,B118,\"\")","v":""},{"$f":"C119","v":4},"03-4-23.426",0,1.5,0,0,{"$f":"SUMIF(Y$14:BA$14,C120,Y$7:BA$7)","v":0},0,0,0,0,null,0,null,405.07,0,607.61,0,0,null,0,null,null,null,null,null,null,null,null,null,null,null,{"$f":"IF($I120=AI$7,$E120,0)","v":0},{"$f":"IF($K120=ROUND(AI$7*$F120,2),$G120,0)","v":0},0,0,0,0,{"$f":"IF($I120=AO$7,$E120,0)","v":0},{"$f":"IF($K120=ROUND(AO$7*$F120,2),$G120,0)","v":0},0,0,0,0,{"$f":"IF($I120=AU$7,$E120,0)","v":0},{"$f":"IF($K120=ROUND(AU$7*$F120,2),$G120,0)","v":0},0,0,0,0,{"$f":"IF($I120=BA$7,$E120,0)","v":0},{"$f":"IF($K120=ROUND(BA$7*$F120,2),$G120,0)","v":0},0,0,0,0,null,0,null,null,null,0]
[{"$f":"IF(E121+G121>0,A118,\"\")","v":""},{"$f":"IF(E121+G121>0,B118,\"\")","v":""},{"$f":"C119","v":4},"03-4-23.426",0,1.1000000000000001,0,0,{"$f":"SUMIF(Y$14:BA$14,C121,Y$7:BA$7)","v":0},0,0,0,0,null,0,null,405.07,0,445.58,0,0,null,0,null,null,null,null,null,null,null,null,null,null,null,{"$f":"IF($I121=AI$7,$E121,0)","v":0},{"$f":"IF($K121=ROUND(AI$7*$F121,2),$G121,0)","v":0},0,0,0,0,{"$f":"IF($I121=AO$7,$E121,0)","v":0},{"$f":"IF($K121=ROUND(AO$7*$F121,2),$G121,0)","v":0},0,0,0,0,{"$f":"IF($I121=AU$7,$E121,0)","v":0},{"$f":"IF($K121=ROUND(AU$7*$F121,2),$G121,0)","v":0},0,0,0,0,{"$f":"IF($I121=BA$7,$E121,0)","v":0},{"$f":"IF($K121=ROUND(BA$7*$F121,2),$G121,0)","v":0},0,0,0,0,null,0,null,null,null,0]
["ООО          \"Вельская  энергетическая  компания\"","Вельск, ул.Горького-1",{"$f":"C123","v":4},"03-4-23.426(333)",0,1.5,0,0,{"$f":"SUMIF(Y$14:BA$14,C122,Y$6:BA$6)","v":1040.08},{"$f":"IF(H122=0,ROUND(E122*I122,2),ROUND(H122*E122,2))","v":0},{"$f":"ROUND(F122*I122,2)","v":1560.12},{"$f":"IF(H122=0,ROUND(ROUND(F122*I122,2)*G122,2),ROUND(G122*H122,2))","v":0},{"$f":"L122-ROUND(G122*I122,2)","v":0},null,{"$f":"J122+L122+N122","v":0},null,405.07,{"$f":"ROUND(Q122*E122,2)","v":0},{"$f":"ROUND(F122*Q122,2)","v":607.61},{"$f":"ROUND(S122*G122,2)","v":0},{"$f":"T122-ROUND(Q122*G122,2)","v":0},null,{"$f":"R122+T122+V122","v":0},null,null,null,null,null,null,null,null,null,null,null,{"$f":"IF($I122=AI$6,$E122,0)","v":0},{"$f":"IF($K122=ROUND(AI$6*$F122,2),$G122,0)","v":0},{"$f":"IF($H122>0,AI122,0)","v":0},{"$f":"IF(AK122>0,1,0)","v":0},{"$f":"IF($H122>0,AJ122,0)","v":0},{"$f":"IF(AM122>0,1,0)","v":0},{"$f":"IF($I122=AO$6,$E122,0)","v":0},{"$f":"IF($K122=ROUND(AO$6*$F122,2),$G122,0)","v":0},{"$f":"IF($H122>0,AO122,0)","v":0},{"$f":"IF(AQ122>0,1,0)","v":0},{"$f":"IF($H122>0,AP122,0)","v":0},{"$f":"IF(AS122>0,1,0)","v":0},{"$f":"IF($I122=AU$6,$E122,0)","v":0},{"$f":"IF($K122=ROUND(AU$6*$F122,2),$G122,0)","v":0},{"$f":"IF($H122>0,AU122,0)","v":0},{"$f":"IF(AW122>0,1,0)","v":0},{"$f":"IF($H122>0,AV122,0)","v":0},{"$f":"IF(AY122>0,1,0)","v":0},{"$f":"IF($I122=BA$6,$E122,0)","v":0},{"$f":"IF($K122=ROUND(BA$6*$F122,2),$G122,0)","v":0},{"$f":"IF($H122>0,BA122,0)","v":0},{"$f":"IF(BC122>0,1,0)","v":0},{"$f":"IF($H122>0,BB122,0)","v":0},{"$f":"IF(BE122>0,1,0)","v":0},null,0,0,null,null,0]
[{"$f":"IF(E123+G123>0,A122,\"\")","v":""},{"$f":"IF(E123+G123>0,B122,\"\")","v":""},4,"03-4-23.426(333)",0,1.1000000000000001,0,0,{"$f":"SUMIF(Y$14:BA$14,C123,Y$6:BA$6)","v":1040.08},{"$f":"IF(H123=0,ROUND(E123*I123,2),ROUND(H123*E123,2))","v":0},{"$f":"ROUND(F123*I123,2)","v":1144.0899999999999},{"$f":"IF(H123=0,ROUND(ROUND(F123*I123,2)*G123,2),ROUND(G123*H123,2))","v":0},{"$f":"L123-ROUND(G123*I123,2)","v":0},null,{"$f":"J123+L123+N123","v":0},null,405.07,{"$f":"ROUND(Q123*E123,2)","v":0},{"$f":"ROUND(F123*Q123,2)","v":445.58},{"$f":"ROUND(S123*G123,2)","v":0},{"$f":"T123-ROUND(Q123*G123,2)","v":0},null,{"$f":"R123+T123+V123","v":0},null,null,null,null,null,null,null,null,null,null,null,{"$f":"IF($I123=AI$6,$E123,0)","v":0},0,{"$f":"IF($H123>0,AI123,0)","v":0},{"$f":"IF(AK123>0,1,0)","v":0},{"$f":"IF($H123>0,AJ123,0)","v":0},{"$f":"IF(AM123>0,1,0)","v":0},{"$f":"IF($I123=AO$6,$E123,0)","v":0},0,{"$f":"IF($H123>0,AO123,0)","v":0},{"$f":"IF(AQ123>0,1,0)","v":0},{"$f":"IF($H123>0,AP123,0)","v":0},{"$f":"IF(AS123>0,1,0)","v":0},{"$f":"IF($I123=AU$6,$E123,0)","v":0},0,{"$f":"IF($H123>0,AU123,0)","v":0},{"$f":"IF(AW123>0,1,0)","v":0},{"$f":"IF($H123>0,AV123,0)","v":0},{"$f":"IF(AY123>0,1,0)","v":0},{"$f":"IF($I123=BA$6,$E123,0)","v":0},0,{"$f":"IF($H123>0,BA123,0)","v":0},{"$f":"IF(BC123>0,1,0)","v":0},{"$f":"IF($H123>0,BB123,0)","v":0},{"$f":"IF(BE123>0,1,0)","v":0},null,0,null,null,null,0]
[{"$f":"IF(E124+G124>0,A122,\"\")","v":""},{"$f":"IF(E124+G124>0,B122,\"\")","v":""},{"$f":"C123","v":4},"03-4-23.426(333)",0,1.5,0,0,{"$f":"SUMIF(Y$14:BA$14,C124,Y$7:BA$7)","v":0},0,0,0,0,null,0,null,405.07,0,607.61,0,0,null,0,null,null,null,null,null,null,null,null,null,null,null,{"$f":"IF($I124=AI$7,$E124,0)","v":0},{"$f":"IF($K124=ROUND(AI$7*$F124,2),$G124,0)","v":0},0,0,0,0,{"$f":"IF($I124=AO$7,$E124,0)","v":0},{"$f":"IF($K124=ROUND(AO$7*$F124,2),$G124,0)","v":0},0,0,0,0,{"$f":"IF($I124=AU$7,$E124,0)","v":0},{"$f":"IF($K124=ROUND(AU$7*$F124,2),$G124,0)","v":0},0,0,0,0,{"$f":"IF($I124=BA$7,$E124,0)","v":0},{"$f":"IF($K124=ROUND(BA$7*$F124,2),$G124,0)","v":0},0,0,0,0,null,0,null,null,null,0]
[{"$f":"IF(E125+G125>0,A122,\"\")","v":""},{"$f":"IF(E125+G125>0,B122,\"\")","v":""},{"$f":"C123","v":4},"03-4-23.426(333)",0,1.1000000000000001,0,0,{"$f":"SUMIF(Y$14:BA$14,C125,Y$7:BA$7)","v":0},0,0,0,0,null,0,null,405.07,0,445.58,0,0,null,0,null,null,null,null,null,null,null,null,null,null,null,{"$f":"IF($I125=AI$7,$E125,0)","v":0},{"$f":"IF($K125=ROUND(AI$7*$F125,2),$G125,0)","v":0},0,0,0,0,{"$f":"IF($I125=AO$7,$E125,0)","v":0},{"$f":"IF($K125=ROUND(AO$7*$F125,2),$G125,0)","v":0},0,0,0,0,{"$f":"IF($I125=AU$7,$E125,0)","v":0},{"$f":"IF($K125=ROUND(AU$7*$F125,2),$G125,0)","v":0},0,0,0,0,{"$f":"IF($I125=BA$7,$E125,0)","v":0},{"$f":"IF($K125=ROUND(BA$7*$F125,2),$G125,0)","v":0},0,0,0,0,null,0,null,null,null,0]
["ООО          \"Вельская  энергетическая  компания\"","Вельск, ул.Набережная, кот.\"Терапия\"",{"$f":"C127","v":5},"03-4-23.426(333)",0,1.5,0,0,{"$f":"SUMIF(Y$14:BA$14,C126,Y$6:BA$6)","v":1386.75},{"$f":"IF(H126=0,ROUND(E126*I126,2),ROUND(H126*E126,2))","v":0},{"$f":"ROUND(F126*I126,2)","v":2080.13},{"$f":"IF(H126=0,ROUND(ROUND(F126*I126,2)*G126,2),ROUND(G126*H126,2))","v":0},{"$f":"L126-ROUND(G126*I126,2)","v":0},null,{"$f":"J126+L126+N126","v":0},null,405.07,{"$f":"ROUND(Q126*E126,2)","v":0},{"$f":"ROUND(F126*Q126,2)","v":607.61},{"$f":"ROUND(S126*G126,2)","v":0},{"$f":"T126-ROUND(Q126*G126,2)","v":0},null,{"$f":"R126+T126+V126","v":0},null,null,null,null,null,null,null,null,null,null,null,{"$f":"IF($I126=AI$6,$E126,0)","v":0},{"$f":"IF($K126=ROUND(AI$6*$F126,2),$G126,0)","v":0},{"$f":"IF($H126>0,AI126,0)","v":0},{"$f":"IF(AK126>0,1,0)","v":0},{"$f":"IF($H126>0,AJ126,0)","v":0},{"$f":"IF(AM126>0,1,0)","v":0},{"$f":"IF($I126=AO$6,$E126,0)","v":0},{"$f":"IF($K126=ROUND(AO$6*$F126,2),$G126,0)","v":0},{"$f":"IF($H126>0,AO126,0)","v":0},{"$f":"IF(AQ126>0,1,0)","v":0},{"$f":"IF($H126>0,AP126,0)","v":0},{"$f":"IF(AS126>0,1,0)","v":0},{"$f":"IF($I126=AU$6,$E126,0)","v":0},{"$f":"IF($K126=ROUND(AU$6*$F126,2),$G126,0)","v":0},{"$f":"IF($H126>0,AU126,0)","v":0},{"$f":"IF(AW126>0,1,0)","v":0},{"$f":"IF($H126>0,AV126,0)","v":0},{"$f":"IF(AY126>0,1,0)","v":0},{"$f":"IF($I126=BA$6,$E126,0)","v":0},{"$f":"IF($K126=ROUND(BA$6*$F126,2),$G126,0)","v":0},{"$f":"IF($H126>0,BA126,0)","v":0},{"$f":"IF(BC126>0,1,0)","v":0},{"$f":"IF($H126>0,BB126,0)","v":0},{"$f":"IF(BE126>0,1,0)","v":0},null,0,0,null,null,0]
[{"$f":"IF(E127+G127>0,A126,\"\")","v":""},{"$f":"IF(E127+G127>0,B126,\"\")","v":""},5,"03-4-23.426(333)",0,1.1000000000000001,0,0,{"$f":"SUMIF(Y$14:BA$14,C127,Y$6:BA$6)","v":1386.75},{"$f":"IF(H127=0,ROUND(E127*I127,2),ROUND(H127*E127,2))","v":0},{"$f":"ROUND(F127*I127,2)","v":1525.43},{"$f":"IF(H127=0,ROUND(ROUND(F127*I127,2)*G127,2),ROUND(G127*H127,2))","v":0},{"$f":"L127-ROUND(G127*I127,2)","v":0},null,{"$f":"J127+L127+N127","v":0},null,405.07,{"$f":"ROUND(Q127*E127,2)","v":0},{"$f":"ROUND(F127*Q127,2)","v":445.58},{"$f":"ROUND(S127*G127,2)","v":0},{"$f":"T127-ROUND(Q127*G127,2)","v":0},null,{"$f":"R127+T127+V127","v":0},null,null,null,null,null,null,null,null,null,null,null,{"$f":"IF($I127=AI$6,$E127,0)","v":0},0,{"$f":"IF($H127>0,AI127,0)","v":0},{"$f":"IF(AK127>0,1,0)","v":0},{"$f":"IF($H127>0,AJ127,0)","v":0},{"$f":"IF(AM127>0,1,0)","v":0},{"$f":"IF($I127=AO$6,$E127,0)","v":0},0,{"$f":"IF($H127>0,AO127,0)","v":0},{"$f":"IF(AQ127>0,1,0)","v":0},{"$f":"IF($H127>0,AP127,0)","v":0},{"$f":"IF(AS127>0,1,0)","v":0},{"$f":"IF($I127=AU$6,$E127,0)","v":0},0,{"$f":"IF($H127>0,AU127,0)","v":0},{"$f":"IF(AW127>0,1,0)","v":0},{"$f":"IF($H127>0,AV127,0)","v":0},{"$f":"IF(AY127>0,1,0)","v":0},{"$f":"IF($I127=BA$6,$E127,0)","v":0},0,{"$f":"IF($H127>0,BA127,0)","v":0},{"$f":"IF(BC127>0,1,0)","v":0},{"$f":"IF($H127>0,BB127,0)","v":0},{"$f":"IF(BE127>0,1,0)","v":0},null,0,null,null,null,0]
[{"$f":"IF(E128+G128>0,A126,\"\")","v":""},{"$f":"IF(E128+G128>0,B126,\"\")","v":""},{"$f":"C127","v":5},"03-4-23.426(333)",0,1.5,0,0,{"$f":"SUMIF(Y$14:BA$14,C128,Y$7:BA$7)","v":0},0,0,0,0,null,0,null,405.07,0,607.61,0,0,null,0,null,null,null,null,null,null,null,null,null,null,null,{"$f":"IF($I128=AI$7,$E128,0)","v":0},{"$f":"IF($K128=ROUND(AI$7*$F128,2),$G128,0)","v":0},0,0,0,0,{"$f":"IF($I128=AO$7,$E128,0)","v":0},{"$f":"IF($K128=ROUND(AO$7*$F128,2),$G128,0)","v":0},0,0,0,0,{"$f":"IF($I128=AU$7,$E128,0)","v":0},{"$f":"IF($K128=ROUND(AU$7*$F128,2),$G128,0)","v":0},0,0,0,0,{"$f":"IF($I128=BA$7,$E128,0)","v":0},{"$f":"IF($K128=ROUND(BA$7*$F128,2),$G128,0)","v":0},0,0,0,0,null,0,null,null,null,0]
[{"$f":"IF(E129+G129>0,A126,\"\")","v":""},{"$f":"IF(E129+G129>0,B126,\"\")","v":""},{"$f":"C127","v":5},"03-4-23.426(333)",0,1.1000000000000001,0,0,{"$f":"SUMIF(Y$14:BA$14,C129,Y$7:BA$7)","v":0},0,0,0,0,null,0,null,405.07,0,445.58,0,0,null,0,null,null,null,null,null,null,null,null,null,null,null,{"$f":"IF($I129=AI$7,$E129,0)","v":0},{"$f":"IF($K129=ROUND(AI$7*$F129,2),$G129,0)","v":0},0,0,0,0,{"$f":"IF($I129=AO$7,$E129,0)","v":0},{"$f":"IF($K129=ROUND(AO$7*$F129,2),$G129,0)","v":0},0,0,0,0,{"$f":"IF($I129=AU$7,$E129,0)","v":0},{"$f":"IF($K129=ROUND(AU$7*$F129,2),$G129,0)","v":0},0,0,0,0,{"$f":"IF($I129=BA$7,$E129,0)","v":0},{"$f":"IF($K129=ROUND(BA$7*$F129,2),$G129,0)","v":0},0,0,0,0,null,0,null,null,null,0]
["ООО          \"Вельская торговая компания\"","",{"$f":"C131","v":6},"03-4-23.562(333)",5.1559999999999997,1.5,0,5.1559999999999997,{"$f":"SUMIF(Y$14:BA$14,C130,Y$6:BA$6)","v":1733.45},{"$f":"IF(H130=0,ROUND(E130*I130,2),ROUND(H130*E130,2))","v":26.58},{"$f":"ROUND(F130*I130,2)","v":2600.1799999999998},{"$f":"IF(H130=0,ROUND(ROUND(F130*I130,2)*G130,2),ROUND(G130*H130,2))","v":0},{"$f":"L130-ROUND(G130*I130,2)","v":0},null,{"$f":"J130+L130+N130","v":26.58},null,405.07,{"$f":"ROUND(Q130*E130,2)","v":2088.54},{"$f":"ROUND(F130*Q130,2)","v":607.61},{"$f":"ROUND(S130*G130,2)","v":0},{"$f":"T130-ROUND(Q130*G130,2)","v":0},null,{"$f":"R130+T130+V130","v":2088.54},null,null,null,null,null,null,null,null,null,null,null,{"$f":"IF($I130=AI$6,$E130,0)","v":0},{"$f":"IF($K130=ROUND(AI$6*$F130,2),$G130,0)","v":0},{"$f":"IF($H130>0,AI130,0)","v":0},{"$f":"IF(AK130>0,1,0)","v":0},{"$f":"IF($H130>0,AJ130,0)","v":0},{"$f":"IF(AM130>0,1,0)","v":0},{"$f":"IF($I130=AO$6,$E130,0)","v":0},{"$f":"IF($K130=ROUND(AO$6*$F130,2),$G130,0)","v":0},{"$f":"IF($H130>0,AO130,0)","v":0},{"$f":"IF(AQ130>0,1,0)","v":0},{"$f":"IF($H130>0,AP130,0)","v":0},{"$f":"IF(AS130>0,1,0)","v":0},{"$f":"IF($I130=AU$6,$E130,0)","v":5.1559999999999997},{"$f":"IF($K130=ROUND(AU$6*$F130,2),$G130,0)","v":0},{"$f":"IF($H130>0,AU130,0)","v":5.1559999999999997},{"$f":"IF(AW130>0,1,0)","v":1},{"$f":"IF($H130>0,AV130,0)","v":0},{"$f":"IF(AY130>0,1,0)","v":0},{"$f":"IF($I130=BA$6,$E130,0)","v":0},{"$f":"IF($K130=ROUND(BA$6*$F130,2),$G130,0)","v":0},{"$f":"IF($H130>0,BA130,0)","v":0},{"$f":"IF(BC130>0,1,0)","v":0},{"$f":"IF($H130>0,BB130,0)","v":0},{"$f":"IF(BE130>0,1,0)","v":0},null,5.156E-3,10,null,null,0]
[{"$f":"IF(E131+G131>0,A130,\"\")","v":""},{"$f":"IF(E131+G131>0,B130,\"\")","v":""},6,"03-4-23.562(333)",0,1.1000000000000001,0,0,{"$f":"SUMIF(Y$14:BA$14,C131,Y$6:BA$6)","v":1733.45},{"$f":"IF(H131=0,ROUND(E131*I131,2),ROUND(H131*E131,2))","v":0},{"$f":"ROUND(F131*I131,2)","v":1906.8},{"$f":"IF(H131=0,ROUND(ROUND(F131*I131,2)*G131,2),ROUND(G131*H131,2))","v":0},{"$f":"L131-ROUND(G131*I131,2)","v":0},null,{"$f":"J131+L131+N131","v":0},null,405.07,{"$f":"ROUND(Q131*E131,2)","v":0},{"$f":"ROUND(F131*Q131,2)","v":445.58},{"$f":"ROUND(S131*G131,2)","v":0},{"$f":"T131-ROUND(Q131*G131,2)","v":0},null,{"$f":"R131+T131+V131","v":0},null,null,null,null,null,null,null,null,null,null,null,{"$f":"IF($I131=AI$6,$E131,0)","v":0},0,{"$f":"IF($H131>0,AI131,0)","v":0},{"$f":"IF(AK131>0,1,0)","v":0},{"$f":"IF($H131>0,AJ131,0)","v":0},{"$f":"IF(AM131>0,1,0)","v":0},{"$f":"IF($I131=AO$6,$E131,0)","v":0},0,{"$f":"IF($H131>0,AO131,0)","v":0},{"$f":"IF(AQ131>0,1,0)","v":0},{"$f":"IF($H131>0,AP131,0)","v":0},{"$f":"IF(AS131>0,1,0)","v":0},{"$f":"IF($I131=AU$6,$E131,0)","v":0},0,{"$f":"IF($H131>0,AU131,0)","v":0},{"$f":"IF(AW131>0,1,0)","v":0},{"$f":"IF($H131>0,AV131,0)","v":0},{"$f":"IF(AY131>0,1,0)","v":0},{"$f":"IF($I131=BA$6,$E131,0)","v":0},0,{"$f":"IF($H131>0,BA131,0)","v":0},{"$f":"IF(BC131>0,1,0)","v":0},{"$f":"IF($H131>0,BB131,0)","v":0},{"$f":"IF(BE131>0,1,0)","v":0},null,0,null,null,null,0]
[{"$f":"IF(E132+G132>0,A130,\"\")","v":""},{"$f":"IF(E132+G132>0,B130,\"\")","v":""},{"$f":"C131","v":6},"03-4-23.562(333)",0,1.5,0,0,{"$f":"SUMIF(Y$14:BA$14,C132,Y$7:BA$7)","v":0},0,0,0,0,null,0,null,405.07,0,607.61,0,0,null,0,null,null,null,null,null,null,null,null,null,null,null,{"$f":"IF($I132=AI$7,$E132,0)","v":0},{"$f":"IF($K132=ROUND(AI$7*$F132,2),$G132,0)","v":0},0,0,0,0,{"$f":"IF($I132=AO$7,$E132,0)","v":0},{"$f":"IF($K132=ROUND(AO$7*$F132,2),$G132,0)","v":0},0,0,0,0,{"$f":"IF($I132=AU$7,$E132,0)","v":0},{"$f":"IF($K132=ROUND(AU$7*$F132,2),$G132,0)","v":0},0,0,0,0,{"$f":"IF($I132=BA$7,$E132,0)","v":0},{"$f":"IF($K132=ROUND(BA$7*$F132,2),$G132,0)","v":0},0,0,0,0,null,0,null,null,null,0]
[{"$f":"IF(E133+G133>0,A130,\"\")","v":""},{"$f":"IF(E133+G133>0,B130,\"\")","v":""},{"$f":"C131","v":6},"03-4-23.562(333)",0,1.1000000000000001,0,0,{"$f":"SUMIF(Y$14:BA$14,C133,Y$7:BA$7)","v":0},0,0,0,0,null,0,null,405.07,0,445.58,0,0,null,0,null,null,null,null,null,null,null,null,null,null,null,{"$f":"IF($I133=AI$7,$E133,0)","v":0},{"$f":"IF($K133=ROUND(AI$7*$F133,2),$G133,0)","v":0},0,0,0,0,{"$f":"IF($I133=AO$7,$E133,0)","v":0},{"$f":"IF($K133=ROUND(AO$7*$F133,2),$G133,0)","v":0},0,0,0,0,{"$f":"IF($I133=AU$7,$E133,0)","v":0},{"$f":"IF($K133=ROUND(AU$7*$F133,2),$G133,0)","v":0},0,0,0,0,{"$f":"IF($I133=BA$7,$E133,0)","v":0},{"$f":"IF($K133=ROUND(BA$7*$F133,2),$G133,0)","v":0},0,0,0,0,null,0,null,null,null,0]
["Гр.              Хобатенков      Виктор  Николаевич      ","",{"$f":"C135","v":6},"03-4-23.442(333)",0.74199999999999999,1.5,0,0.74199999999999999,{"$f":"SUMIF(Y$14:BA$14,C134,Y$6:BA$6)","v":1733.45},{"$f":"IF(H134=0,ROUND(E134*I134,2),ROUND(H134*E134,2))","v":0.55000000000000004},{"$f":"ROUND(F134*I134,2)","v":2600.1799999999998},{"$f":"IF(H134=0,ROUND(ROUND(F134*I134,2)*G134,2),ROUND(G134*H134,2))","v":0},{"$f":"L134-ROUND(G134*I134,2)","v":0},null,{"$f":"J134+L134+N134","v":0.55000000000000004},null,405.07,{"$f":"ROUND(Q134*E134,2)","v":300.56},{"$f":"ROUND(F134*Q134,2)","v":607.61},{"$f":"ROUND(S134*G134,2)","v":0},{"$f":"T134-ROUND(Q134*G134,2)","v":0},null,{"$f":"R134+T134+V134","v":300.56},null,null,null,null,null,null,null,null,null,null,null,{"$f":"IF($I134=AI$6,$E134,0)","v":0},{"$f":"IF($K134=ROUND(AI$6*$F134,2),$G134,0)","v":0},{"$f":"IF($H134>0,AI134,0)","v":0},{"$f":"IF(AK134>0,1,0)","v":0},{"$f":"IF($H134>0,AJ134,0)","v":0},{"$f":"IF(AM134>0,1,0)","v":0},{"$f":"IF($I134=AO$6,$E134,0)","v":0},{"$f":"IF($K134=ROUND(AO$6*$F134,2),$G134,0)","v":0},{"$f":"IF($H134>0,AO134,0)","v":0},{"$f":"IF(AQ134>0,1,0)","v":0},{"$f":"IF($H134>0,AP134,0)","v":0},{"$f":"IF(AS134>0,1,0)","v":0},{"$f":"IF($I134=AU$6,$E134,0)","v":0.74199999999999999},{"$f":"IF($K134=ROUND(AU$6*$F134,2),$G134,0)","v":0},{"$f":"IF($H134>0,AU134,0)","v":0.74199999999999999},{"$f":"IF(AW134>0,1,0)","v":1},{"$f":"IF($H134>0,AV134,0)","v":0},{"$f":"IF(AY134>0,1,0)","v":0},{"$f":"IF($I134=BA$6,$E134,0)","v":0},{"$f":"IF($K134=ROUND(BA$6*$F134,2),$G134,0)","v":0},{"$f":"IF($H134>0,BA134,0)","v":0},{"$f":"IF(BC134>0,1,0)","v":0},{"$f":"IF($H134>0,BB134,0)","v":0},{"$f":"IF(BE134>0,1,0)","v":0},null,7.4200000000000004E-4,1.7,null,null,0]
[{"$f":"IF(E135+G135>0,A134,\"\")","v":""},{"$f":"IF(E135+G135>0,B134,\"\")","v":""},6,"03-4-23.442(333)",0,1.1000000000000001,0,0,{"$f":"SUMIF(Y$14:BA$14,C135,Y$6:BA$6)","v":1733.45},{"$f":"IF(H135=0,ROUND(E135*I135,2),ROUND(H135*E135,2))","v":0},{"$f":"ROUND(F135*I135,2)","v":1906.8},{"$f":"IF(H135=0,ROUND(ROUND(F135*I135,2)*G135,2),ROUND(G135*H135,2))","v":0},{"$f":"L135-ROUND(G135*I135,2)","v":0},null,{"$f":"J135+L135+N135","v":0},null,405.07,{"$f":"ROUND(Q135*E135,2)","v":0},{"$f":"ROUND(F135*Q135,2)","v":445.58},{"$f":"ROUND(S135*G135,2)","v":0},{"$f":"T135-ROUND(Q135*G135,2)","v":0},null,{"$f":"R135+T135+V135","v":0},null,null,null,null,null,null,null,null,null,null,null,{"$f":"IF($I135=AI$6,$E135,0)","v":0},0,{"$f":"IF($H135>0,AI135,0)","v":0},{"$f":"IF(AK135>0,1,0)","v":0},{"$f":"IF($H135>0,AJ135,0)","v":0},{"$f":"IF(AM135>0,1,0)","v":0},{"$f":"IF($I135=AO$6,$E135,0)","v":0},0,{"$f":"IF($H135>0,AO135,0)","v":0},{"$f":"IF(AQ135>0,1,0)","v":0},{"$f":"IF($H135>0,AP135,0)","v":0},{"$f":"IF(AS135>0,1,0)","v":0},{"$f":"IF($I135=AU$6,$E135,0)","v":0},0,{"$f":"IF($H135>0,AU135,0)","v":0},{"$f":"IF(AW135>0,1,0)","v":0},{"$f":"IF($H135>0,AV135,0)","v":0},{"$f":"IF(AY135>0,1,0)","v":0},{"$f":"IF($I135=BA$6,$E135,0)","v":0},0,{"$f":"IF($H135>0,BA135,0)","v":0},{"$f":"IF(BC135>0,1,0)","v":0},{"$f":"IF($H135>0,BB135,0)","v":0},{"$f":"IF(BE135>0,1,0)","v":0},null,0,null,null,null,0]
[{"$f":"IF(E136+G136>0,A134,\"\")","v":""},{"$f":"IF(E136+G136>0,B134,\"\")","v":""},{"$f":"C135","v":6},"03-4-23.442(333)",0,1.5,0,0,{"$f":"SUMIF(Y$14:BA$14,C136,Y$7:BA$7)","v":0},0,0,0,0,null,0,null,405.07,0,607.61,0,0,null,0,null,null,null,null,null,null,null,null,null,null,null,{"$f":"IF($I136=AI$7,$E136,0)","v":0},{"$f":"IF($K136=ROUND(AI$7*$F136,2),$G136,0)","v":0},0,0,0,0,{"$f":"IF($I136=AO$7,$E136,0)","v":0},{"$f":"IF($K136=ROUND(AO$7*$F136,2),$G136,0)","v":0},0,0,0,0,{"$f":"IF($I136=AU$7,$E136,0)","v":0},{"$f":"IF($K136=ROUND(AU$7*$F136,2),$G136,0)","v":0},0,0,0,0,{"$f":"IF($I136=BA$7,$E136,0)","v":0},{"$f":"IF($K136=ROUND(BA$7*$F136,2),$G136,0)","v":0},0,0,0,0,null,0,null,null,null,0]
[{"$f":"IF(E137+G137>0,A134,\"\")","v":""},{"$f":"IF(E137+G137>0,B134,\"\")","v":""},{"$f":"C135","v":6},"03-4-23.442(333)",0,1.1000000000000001,0,0,{"$f":"SUMIF(Y$14:BA$14,C137,Y$7:BA$7)","v":0},0,0,0,0,null,0,null,405.07,0,445.58,0,0,null,0,null,null,null,null,null,null,null,null,null,null,null,{"$f":"IF($I137=AI$7,$E137,0)","v":0},{"$f":"IF($K137=ROUND(AI$7*$F137,2),$G137,0)","v":0},0,0,0,0,{"$f":"IF($I137=AO$7,$E137,0)","v":0},{"$f":"IF($K137=ROUND(AO$7*$F137,2),$G137,0)","v":0},0,0,0,0,{"$f":"IF($I137=AU$7,$E137,0)","v":0},{"$f":"IF($K137=ROUND(AU$7*$F137,2),$G137,0)","v":0},0,0,0,0,{"$f":"IF($I137=BA$7,$E137,0)","v":0},{"$f":"IF($K137=ROUND(BA$7*$F137,2),$G137,0)","v":0},0,0,0,0,null,0,null,null,null,0]
["Вельское  ГОРПО","Вельск, ул.1 мая-4",{"$f":"C139","v":6},"03-4-23.461(333)",2.9209999999999998,1.5,0,2.9209999999999998,{"$f":"SUMIF(Y$14:BA$14,C138,Y$6:BA$6)","v":1733.45},{"$f":"IF(H138=0,ROUND(E138*I138,2),ROUND(H138*E138,2))","v":8.5299999999999994},{"$f":"ROUND(F138*I138,2)","v":2600.1799999999998},{"$f":"IF(H138=0,ROUND(ROUND(F138*I138,2)*G138,2),ROUND(G138*H138,2))","v":0},{"$f":"L138-ROUND(G138*I138,2)","v":0},null,{"$f":"J138+L138+N138","v":8.5299999999999994},null,405.07,{"$f":"ROUND(Q138*E138,2)","v":1183.21},{"$f":"ROUND(F138*Q138,2)","v":607.61},{"$f":"ROUND(S138*G138,2)","v":0},{"$f":"T138-ROUND(Q138*G138,2)","v":0},null,{"$f":"R138+T138+V138","v":1183.21},null,null,null,null,null,null,null,null,null,null,null,{"$f":"IF($I138=AI$6,$E138,0)","v":0},{"$f":"IF($K138=ROUND(AI$6*$F138,2),$G138,0)","v":0},{"$f":"IF($H138>0,AI138,0)","v":0},{"$f":"IF(AK138>0,1,0)","v":0},{"$f":"IF($H138>0,AJ138,0)","v":0},{"$f":"IF(AM138>0,1,0)","v":0},{"$f":"IF($I138=AO$6,$E138,0)","v":0},{"$f":"IF($K138=ROUND(AO$6*$F138,2),$G138,0)","v":0},{"$f":"IF($H138>0,AO138,0)","v":0},{"$f":"IF(AQ138>0,1,0)","v":0},{"$f":"IF($H138>0,AP138,0)","v":0},{"$f":"IF(AS138>0,1,0)","v":0},{"$f":"IF($I138=AU$6,$E138,0)","v":2.9209999999999998},{"$f":"IF($K138=ROUND(AU$6*$F138,2),$G138,0)","v":0},{"$f":"IF($H138>0,AU138,0)","v":2.9209999999999998},{"$f":"IF(AW138>0,1,0)","v":1},{"$f":"IF($H138>0,AV138,0)","v":0},{"$f":"IF(AY138>0,1,0)","v":0},{"$f":"IF($I138=BA$6,$E138,0)","v":0},{"$f":"IF($K138=ROUND(BA$6*$F138,2),$G138,0)","v":0},{"$f":"IF($H138>0,BA138,0)","v":0},{"$f":"IF(BC138>0,1,0)","v":0},{"$f":"IF($H138>0,BB138,0)","v":0},{"$f":"IF(BE138>0,1,0)","v":0},null,2.921E-3,3.2,null,null,0]
[{"$f":"IF(E139+G139>0,A138,\"\")","v":""},{"$f":"IF(E139+G139>0,B138,\"\")","v":""},6,"03-4-23.461(333)",0,1.1000000000000001,0,0,{"$f":"SUMIF(Y$14:BA$14,C139,Y$6:BA$6)","v":1733.45},{"$f":"IF(H139=0,ROUND(E139*I139,2),ROUND(H139*E139,2))","v":0},{"$f":"ROUND(F139*I139,2)","v":1906.8},{"$f":"IF(H139=0,ROUND(ROUND(F139*I139,2)*G139,2),ROUND(G139*H139,2))","v":0},{"$f":"L139-ROUND(G139*I139,2)","v":0},null,{"$f":"J139+L139+N139","v":0},null,405.07,{"$f":"ROUND(Q139*E139,2)","v":0},{"$f":"ROUND(F139*Q139,2)","v":445.58},{"$f":"ROUND(S139*G139,2)","v":0},{"$f":"T139-ROUND(Q139*G139,2)","v":0},null,{"$f":"R139+T139+V139","v":0},null,null,null,null,null,null,null,null,null,null,null,{"$f":"IF($I139=AI$6,$E139,0)","v":0},0,{"$f":"IF($H139>0,AI139,0)","v":0},{"$f":"IF(AK139>0,1,0)","v":0},{"$f":"IF($H139>0,AJ139,0)","v":0},{"$f":"IF(AM139>0,1,0)","v":0},{"$f":"IF($I139=AO$6,$E139,0)","v":0},0,{"$f":"IF($H139>0,AO139,0)","v":0},{"$f":"IF(AQ139>0,1,0)","v":0},{"$f":"IF($H139>0,AP139,0)","v":0},{"$f":"IF(AS139>0,1,0)","v":0},{"$f":"IF($I139=AU$6,$E139,0)","v":0},0,{"$f":"IF($H139>0,AU139,0)","v":0},{"$f":"IF(AW139>0,1,0)","v":0},{"$f":"IF($H139>0,AV139,0)","v":0},{"$f":"IF(AY139>0,1,0)","v":0},{"$f":"IF($I139=BA$6,$E139,0)","v":0},0,{"$f":"IF($H139>0,BA139,0)","v":0},{"$f":"IF(BC139>0,1,0)","v":0},{"$f":"IF($H139>0,BB139,0)","v":0},{"$f":"IF(BE139>0,1,0)","v":0},null,0,null,null,null,0]
[{"$f":"IF(E140+G140>0,A138,\"\")","v":""},{"$f":"IF(E140+G140>0,B138,\"\")","v":""},{"$f":"C139","v":6},"03-4-23.461(333)",0,1.5,0,0,{"$f":"SUMIF(Y$14:BA$14,C140,Y$7:BA$7)","v":0},0,0,0,0,null,0,null,405.07,0,607.61,0,0,null,0,null,null,null,null,null,null,null,null,null,null,null,{"$f":"IF($I140=AI$7,$E140,0)","v":0},{"$f":"IF($K140=ROUND(AI$7*$F140,2),$G140,0)","v":0},0,0,0,0,{"$f":"IF($I140=AO$7,$E140,0)","v":0},{"$f":"IF($K140=ROUND(AO$7*$F140,2),$G140,0)","v":0},0,0,0,0,{"$f":"IF($I140=AU$7,$E140,0)","v":0},{"$f":"IF($K140=ROUND(AU$7*$F140,2),$G140,0)","v":0},0,0,0,0,{"$f":"IF($I140=BA$7,$E140,0)","v":0},{"$f":"IF($K140=ROUND(BA$7*$F140,2),$G140,0)","v":0},0,0,0,0,null,0,null,null,null,0]
[{"$f":"IF(E141+G141>0,A138,\"\")","v":""},{"$f":"IF(E141+G141>0,B138,\"\")","v":""},{"$f":"C139","v":6},"03-4-23.461(333)",0,1.1000000000000001,0,0,{"$f":"SUMIF(Y$14:BA$14,C141,Y$7:BA$7)","v":0},0,0,0,0,null,0,null,405.07,0,445.58,0,0,null,0,null,null,null,null,null,null,null,null,null,null,null,{"$f":"IF($I141=AI$7,$E141,0)","v":0},{"$f":"IF($K141=ROUND(AI$7*$F141,2),$G141,0)","v":0},0,0,0,0,{"$f":"IF($I141=AO$7,$E141,0)","v":0},{"$f":"IF($K141=ROUND(AO$7*$F141,2),$G141,0)","v":0},0,0,0,0,{"$f":"IF($I141=AU$7,$E141,0)","v":0},{"$f":"IF($K141=ROUND(AU$7*$F141,2),$G141,0)","v":0},0,0,0,0,{"$f":"IF($I141=BA$7,$E141,0)","v":0},{"$f":"IF($K141=ROUND(BA$7*$F141,2),$G141,0)","v":0},0,0,0,0,null,0,null,null,null,0]
["Вельское  ГОРПО","Вельск, ул.Фефилова-66",{"$f":"C143","v":7},"03-4-23.461(333)",9.8000000000000004E-2,1.5,0,9.8000000000000004E-2,{"$f":"SUMIF(Y$14:BA$14,C142,Y$6:BA$6)","v":2166.8000000000002},{"$f":"IF(H142=0,ROUND(E142*I142,2),ROUND(H142*E142,2))","v":0.01},{"$f":"ROUND(F142*I142,2)","v":3250.2},{"$f":"IF(H142=0,ROUND(ROUND(F142*I142,2)*G142,2),ROUND(G142*H142,2))","v":0},{"$f":"L142-ROUND(G142*I142,2)","v":0},null,{"$f":"J142+L142+N142","v":0.01},null,405.07,{"$f":"ROUND(Q142*E142,2)","v":39.700000000000003},{"$f":"ROUND(F142*Q142,2)","v":607.61},{"$f":"ROUND(S142*G142,2)","v":0},{"$f":"T142-ROUND(Q142*G142,2)","v":0},null,{"$f":"R142+T142+V142","v":39.700000000000003},null,null,null,null,null,null,null,null,null,null,null,{"$f":"IF($I142=AI$6,$E142,0)","v":0},{"$f":"IF($K142=ROUND(AI$6*$F142,2),$G142,0)","v":0},{"$f":"IF($H142>0,AI142,0)","v":0},{"$f":"IF(AK142>0,1,0)","v":0},{"$f":"IF($H142>0,AJ142,0)","v":0},{"$f":"IF(AM142>0,1,0)","v":0},{"$f":"IF($I142=AO$6,$E142,0)","v":0},{"$f":"IF($K142=ROUND(AO$6*$F142,2),$G142,0)","v":0},{"$f":"IF($H142>0,AO142,0)","v":0},{"$f":"IF(AQ142>0,1,0)","v":0},{"$f":"IF($H142>0,AP142,0)","v":0},{"$f":"IF(AS142>0,1,0)","v":0},{"$f":"IF($I142=AU$6,$E142,0)","v":0},{"$f":"IF($K142=ROUND(AU$6*$F142,2),$G142,0)","v":0},{"$f":"IF($H142>0,AU142,0)","v":0},{"$f":"IF(AW142>0,1,0)","v":0},{"$f":"IF($H142>0,AV142,0)","v":0},{"$f":"IF(AY142>0,1,0)","v":0},{"$f":"IF($I142=BA$6,$E142,0)","v":9.8000000000000004E-2},{"$f":"IF($K142=ROUND(BA$6*$F142,2),$G142,0)","v":0},{"$f":"IF($H142>0,BA142,0)","v":9.8000000000000004E-2},{"$f":"IF(BC142>0,1,0)","v":1},{"$f":"IF($H142>0,BB142,0)","v":0},{"$f":"IF(BE142>0,1,0)","v":0},null,9.800000000000001E-5,0.8,null,null,0]
[{"$f":"IF(E143+G143>0,A142,\"\")","v":""},{"$f":"IF(E143+G143>0,B142,\"\")","v":""},7,"03-4-23.461(333)",0,1.1000000000000001,0,0,{"$f":"SUMIF(Y$14:BA$14,C143,Y$6:BA$6)","v":2166.8000000000002},{"$f":"IF(H143=0,ROUND(E143*I143,2),ROUND(H143*E143,2))","v":0},{"$f":"ROUND(F143*I143,2)","v":2383.48},{"$f":"IF(H143=0,ROUND(ROUND(F143*I143,2)*G143,2),ROUND(G143*H143,2))","v":0},{"$f":"L143-ROUND(G143*I143,2)","v":0},null,{"$f":"J143+L143+N143","v":0},null,405.07,{"$f":"ROUND(Q143*E143,2)","v":0},{"$f":"ROUND(F143*Q143,2)","v":445.58},{"$f":"ROUND(S143*G143,2)","v":0},{"$f":"T143-ROUND(Q143*G143,2)","v":0},null,{"$f":"R143+T143+V143","v":0},null,null,null,null,null,null,null,null,null,null,null,{"$f":"IF($I143=AI$6,$E143,0)","v":0},0,{"$f":"IF($H143>0,AI143,0)","v":0},{"$f":"IF(AK143>0,1,0)","v":0},{"$f":"IF($H143>0,AJ143,0)","v":0},{"$f":"IF(AM143>0,1,0)","v":0},{"$f":"IF($I143=AO$6,$E143,0)","v":0},0,{"$f":"IF($H143>0,AO143,0)","v":0},{"$f":"IF(AQ143>0,1,0)","v":0},{"$f":"IF($H143>0,AP143,0)","v":0},{"$f":"IF(AS143>0,1,0)","v":0},{"$f":"IF($I143=AU$6,$E143,0)","v":0},0,{"$f":"IF($H143>0,AU143,0)","v":0},{"$f":"IF(AW143>0,1,0)","v":0},{"$f":"IF($H143>0,AV143,0)","v":0},{"$f":"IF(AY143>0,1,0)","v":0},{"$f":"IF($I143=BA$6,$E143,0)","v":0},0,{"$f":"IF($H143>0,BA143,0)","v":0},{"$f":"IF(BC143>0,1,0)","v":0},{"$f":"IF($H143>0,BB143,0)","v":0},{"$f":"IF(BE143>0,1,0)","v":0},null,0,null,null,null,0]
[{"$f":"IF(E144+G144>0,A142,\"\")","v":""},{"$f":"IF(E144+G144>0,B142,\"\")","v":""},{"$f":"C143","v":7},"03-4-23.461(333)",0,1.5,0,0,{"$f":"SUMIF(Y$14:BA$14,C144,Y$7:BA$7)","v":0},0,0,0,0,null,0,null,{"$f":"IF(BI144>0,Q$6,Q$6)","v":405.07},0,607.61,0,0,null,0,null,null,null,null,null,null,null,null,null,null,null,{"$f":"IF($I144=AI$7,$E144,0)","v":0},{"$f":"IF($K144=ROUND(AI$7*$F144,2),$G144,0)","v":0},0,0,0,0,{"$f":"IF($I144=AO$7,$E144,0)","v":0},{"$f":"IF($K144=ROUND(AO$7*$F144,2),$G144,0)","v":0},0,0,0,0,{"$f":"IF($I144=AU$7,$E144,0)","v":0},{"$f":"IF($K144=ROUND(AU$7*$F144,2),$G144,0)","v":0},0,0,0,0,{"$f":"IF($I144=BA$7,$E144,0)","v":0},{"$f":"IF($K144=ROUND(BA$7*$F144,2),$G144,0)","v":0},0,0,0,0,null,0,null,null,null,0]
[{"$f":"IF(E145+G145>0,A142,\"\")","v":""},{"$f":"IF(E145+G145>0,B142,\"\")","v":""},{"$f":"C143","v":7},"03-4-23.461(333)",0,1.1000000000000001,0,{"$f":"E145+G145","v":0},{"$f":"SUMIF(Y$14:BA$14,C145,Y$7:BA$7)","v":0},0,0,0,0,null,0,null,405.07,0,445.58,0,0,null,0,null,null,null,null,null,null,null,null,null,null,null,{"$f":"IF($I145=AI$7,$E145,0)","v":0},{"$f":"IF($K145=ROUND(AI$7*$F145,2),$G145,0)","v":0},0,0,0,0,{"$f":"IF($I145=AO$7,$E145,0)","v":0},{"$f":"IF($K145=ROUND(AO$7*$F145,2),$G145,0)","v":0},0,0,0,0,{"$f":"IF($I145=AU$7,$E145,0)","v":0},{"$f":"IF($K145=ROUND(AU$7*$F145,2),$G145,0)","v":0},0,0,0,0,{"$f":"IF($I145=BA$7,$E145,0)","v":0},{"$f":"IF($K145=ROUND(BA$7*$F145,2),$G145,0)","v":0},0,0,0,0,null,{"$f":"H145/1000","v":0},null,null,null,{"$f":"E145-SUM(AI145,AO145,AU145,BA145)","v":0}]
["Вельское  ГОРПО","Вельск, ул.Ленина-42",{"$f":"C147","v":6},"03-4-23.461(333)",1.6140000000000001,1.5,0,1.6140000000000001,{"$f":"SUMIF(Y$14:BA$14,C146,Y$6:BA$6)","v":1733.45},{"$f":"IF(H146=0,ROUND(E146*I146,2),ROUND(H146*E146,2))","v":2.6},{"$f":"ROUND(F146*I146,2)","v":2600.1799999999998},{"$f":"IF(H146=0,ROUND(ROUND(F146*I146,2)*G146,2),ROUND(G146*H146,2))","v":0},{"$f":"L146-ROUND(G146*I146,2)","v":0},null,{"$f":"J146+L146+N146","v":2.6},null,405.07,{"$f":"ROUND(Q146*E146,2)","v":653.78},{"$f":"ROUND(F146*Q146,2)","v":607.61},{"$f":"ROUND(S146*G146,2)","v":0},{"$f":"T146-ROUND(Q146*G146,2)","v":0},null,{"$f":"R146+T146+V146","v":653.78},null,null,null,null,null,null,null,null,null,null,null,{"$f":"IF($I146=AI$6,$E146,0)","v":0},{"$f":"IF($K146=ROUND(AI$6*$F146,2),$G146,0)","v":0},{"$f":"IF($H146>0,AI146,0)","v":0},{"$f":"IF(AK146>0,1,0)","v":0},{"$f":"IF($H146>0,AJ146,0)","v":0},{"$f":"IF(AM146>0,1,0)","v":0},{"$f":"IF($I146=AO$6,$E146,0)","v":0},{"$f":"IF($K146=ROUND(AO$6*$F146,2),$G146,0)","v":0},{"$f":"IF($H146>0,AO146,0)","v":0},{"$f":"IF(AQ146>0,1,0)","v":0},{"$f":"IF($H146>0,AP146,0)","v":0},{"$f":"IF(AS146>0,1,0)","v":0},{"$f":"IF($I146=AU$6,$E146,0)","v":1.6140000000000001},{"$f":"IF($K146=ROUND(AU$6*$F146,2),$G146,0)","v":0},{"$f":"IF($H146>0,AU146,0)","v":1.6140000000000001},{"$f":"IF(AW146>0,1,0)","v":1},{"$f":"IF($H146>0,AV146,0)","v":0},{"$f":"IF(AY146>0,1,0)","v":0},{"$f":"IF($I146=BA$6,$E146,0)","v":0},{"$f":"IF($K146=ROUND(BA$6*$F146,2),$G146,0)","v":0},{"$f":"IF($H146>0,BA146,0)","v":0},{"$f":"IF(BC146>0,1,0)","v":0},{"$f":"IF($H146>0,BB146,0)","v":0},{"$f":"IF(BE146>0,1,0)","v":0},null,1.6140000000000002E-3,4,null,null,0]
[{"$f":"IF(E147+G147>0,A146,\"\")","v":""},{"$f":"IF(E147+G147>0,B146,\"\")","v":""},6,"03-4-23.461(333)",0,1.1000000000000001,0,0,{"$f":"SUMIF(Y$14:BA$14,C147,Y$6:BA$6)","v":1733.45},{"$f":"IF(H147=0,ROUND(E147*I147,2),ROUND(H147*E147,2))","v":0},{"$f":"ROUND(F147*I147,2)","v":1906.8},{"$f":"IF(H147=0,ROUND(ROUND(F147*I147,2)*G147,2),ROUND(G147*H147,2))","v":0},{"$f":"L147-ROUND(G147*I147,2)","v":0},null,{"$f":"J147+L147+N147","v":0},null,405.07,{"$f":"ROUND(Q147*E147,2)","v":0},{"$f":"ROUND(F147*Q147,2)","v":445.58},{"$f":"ROUND(S147*G147,2)","v":0},{"$f":"T147-ROUND(Q147*G147,2)","v":0},null,{"$f":"R147+T147+V147","v":0},null,null,null,null,null,null,null,null,null,null,null,{"$f":"IF($I147=AI$6,$E147,0)","v":0},0,{"$f":"IF($H147>0,AI147,0)","v":0},{"$f":"IF(AK147>0,1,0)","v":0},{"$f":"IF($H147>0,AJ147,0)","v":0},{"$f":"IF(AM147>0,1,0)","v":0},{"$f":"IF($I147=AO$6,$E147,0)","v":0},0,{"$f":"IF($H147>0,AO147,0)","v":0},{"$f":"IF(AQ147>0,1,0)","v":0},{"$f":"IF($H147>0,AP147,0)","v":0},{"$f":"IF(AS147>0,1,0)","v":0},{"$f":"IF($I147=AU$6,$E147,0)","v":0},0,{"$f":"IF($H147>0,AU147,0)","v":0},{"$f":"IF(AW147>0,1,0)","v":0},{"$f":"IF($H147>0,AV147,0)","v":0},{"$f":"IF(AY147>0,1,0)","v":0},{"$f":"IF($I147=BA$6,$E147,0)","v":0},0,{"$f":"IF($H147>0,BA147,0)","v":0},{"$f":"IF(BC147>0,1,0)","v":0},{"$f":"IF($H147>0,BB147,0)","v":0},{"$f":"IF(BE147>0,1,0)","v":0},null,0,null,null,null,0]
[{"$f":"IF(E148+G148>0,A146,\"\")","v":""},{"$f":"IF(E148+G148>0,B146,\"\")","v":""},{"$f":"C147","v":6},"03-4-23.461(333)",0,1.5,0,0,{"$f":"SUMIF(Y$14:BA$14,C148,Y$7:BA$7)","v":0},0,0,0,0,null,0,null,405.07,0,607.61,0,0,null,0,null,null,null,null,null,null,null,null,null,null,null,{"$f":"IF($I148=AI$7,$E148,0)","v":0},{"$f":"IF($K148=ROUND(AI$7*$F148,2),$G148,0)","v":0},0,0,0,0,{"$f":"IF($I148=AO$7,$E148,0)","v":0},{"$f":"IF($K148=ROUND(AO$7*$F148,2),$G148,0)","v":0},0,0,0,0,{"$f":"IF($I148=AU$7,$E148,0)","v":0},{"$f":"IF($K148=ROUND(AU$7*$F148,2),$G148,0)","v":0},0,0,0,0,{"$f":"IF($I148=BA$7,$E148,0)","v":0},{"$f":"IF($K148=ROUND(BA$7*$F148,2),$G148,0)","v":0},0,0,0,0,null,0,null,null,null,0]
[{"$f":"IF(E149+G149>0,A146,\"\")","v":""},{"$f":"IF(E149+G149>0,B146,\"\")","v":""},{"$f":"C147","v":6},"03-4-23.461(333)",0,1.1000000000000001,0,0,{"$f":"SUMIF(Y$14:BA$14,C149,Y$7:BA$7)","v":0},0,0,0,0,null,0,null,405.07,0,445.58,0,0,null,0,null,null,null,null,null,null,null,null,null,null,null,{"$f":"IF($I149=AI$7,$E149,0)","v":0},{"$f":"IF($K149=ROUND(AI$7*$F149,2),$G149,0)","v":0},0,0,0,0,{"$f":"IF($I149=AO$7,$E149,0)","v":0},{"$f":"IF($K149=ROUND(AO$7*$F149,2),$G149,0)","v":0},0,0,0,0,{"$f":"IF($I149=AU$7,$E149,0)","v":0},{"$f":"IF($K149=ROUND(AU$7*$F149,2),$G149,0)","v":0},0,0,0,0,{"$f":"IF($I149=BA$7,$E149,0)","v":0},{"$f":"IF($K149=ROUND(BA$7*$F149,2),$G149,0)","v":0},0,0,0,0,null,0,null,null,null,0]
["ООО         \"КМТС плюс\" ","Вельск, ул.Горького-20",{"$f":"C151","v":6},"03-4-23.470",1.32,1.5,0,1.32,{"$f":"SUMIF(Y$14:BA$14,C150,Y$6:BA$6)","v":1733.45},{"$f":"IF(H150=0,ROUND(E150*I150,2),ROUND(H150*E150,2))","v":1.74},{"$f":"ROUND(F150*I150,2)","v":2600.1799999999998},{"$f":"IF(H150=0,ROUND(ROUND(F150*I150,2)*G150,2),ROUND(G150*H150,2))","v":0},{"$f":"L150-ROUND(G150*I150,2)","v":0},null,{"$f":"J150+L150+N150","v":1.74},null,405.07,{"$f":"ROUND(Q150*E150,2)","v":534.69000000000005},{"$f":"ROUND(F150*Q150,2)","v":607.61},{"$f":"ROUND(S150*G150,2)","v":0},{"$f":"T150-ROUND(Q150*G150,2)","v":0},null,{"$f":"R150+T150+V150","v":534.69000000000005},null,null,null,null,null,null,null,null,null,null,null,{"$f":"IF($I150=AI$6,$E150,0)","v":0},{"$f":"IF($K150=ROUND(AI$6*$F150,2),$G150,0)","v":0},{"$f":"IF($H150>0,AI150,0)","v":0},{"$f":"IF(AK150>0,1,0)","v":0},{"$f":"IF($H150>0,AJ150,0)","v":0},{"$f":"IF(AM150>0,1,0)","v":0},{"$f":"IF($I150=AO$6,$E150,0)","v":0},{"$f":"IF($K150=ROUND(AO$6*$F150,2),$G150,0)","v":0},{"$f":"IF($H150>0,AO150,0)","v":0},{"$f":"IF(AQ150>0,1,0)","v":0},{"$f":"IF($H150>0,AP150,0)","v":0},{"$f":"IF(AS150>0,1,0)","v":0},{"$f":"IF($I150=AU$6,$E150,0)","v":1.32},{"$f":"IF($K150=ROUND(AU$6*$F150,2),$G150,0)","v":0},{"$f":"IF($H150>0,AU150,0)","v":1.32},{"$f":"IF(AW150>0,1,0)","v":1},{"$f":"IF($H150>0,AV150,0)","v":0},{"$f":"IF(AY150>0,1,0)","v":0},{"$f":"IF($I150=BA$6,$E150,0)","v":0},{"$f":"IF($K150=ROUND(BA$6*$F150,2),$G150,0)","v":0},{"$f":"IF($H150>0,BA150,0)","v":0},{"$f":"IF(BC150>0,1,0)","v":0},{"$f":"IF($H150>0,BB150,0)","v":0},{"$f":"IF(BE150>0,1,0)","v":0},null,1.32E-3,1.2,null,null,0]
[{"$f":"IF(E151+G151>0,A150,\"\")","v":""},{"$f":"IF(E151+G151>0,B150,\"\")","v":""},6,"03-4-23.470",0,1.1000000000000001,0,0,{"$f":"SUMIF(Y$14:BA$14,C151,Y$6:BA$6)","v":1733.45},{"$f":"IF(H151=0,ROUND(E151*I151,2),ROUND(H151*E151,2))","v":0},{"$f":"ROUND(F151*I151,2)","v":1906.8},{"$f":"IF(H151=0,ROUND(ROUND(F151*I151,2)*G151,2),ROUND(G151*H151,2))","v":0},{"$f":"L151-ROUND(G151*I151,2)","v":0},null,{"$f":"J151+L151+N151","v":0},null,405.07,{"$f":"ROUND(Q151*E151,2)","v":0},{"$f":"ROUND(F151*Q151,2)","v":445.58},{"$f":"ROUND(S151*G151,2)","v":0},{"$f":"T151-ROUND(Q151*G151,2)","v":0},null,{"$f":"R151+T151+V151","v":0},null,null,null,null,null,null,null,null,null,null,null,{"$f":"IF($I151=AI$6,$E151,0)","v":0},0,{"$f":"IF($H151>0,AI151,0)","v":0},{"$f":"IF(AK151>0,1,0)","v":0},{"$f":"IF($H151>0,AJ151,0)","v":0},{"$f":"IF(AM151>0,1,0)","v":0},{"$f":"IF($I151=AO$6,$E151,0)","v":0},0,{"$f":"IF($H151>0,AO151,0)","v":0},{"$f":"IF(AQ151>0,1,0)","v":0},{"$f":"IF($H151>0,AP151,0)","v":0},{"$f":"IF(AS151>0,1,0)","v":0},{"$f":"IF($I151=AU$6,$E151,0)","v":0},0,{"$f":"IF($H151>0,AU151,0)","v":0},{"$f":"IF(AW151>0,1,0)","v":0},{"$f":"IF($H151>0,AV151,0)","v":0},{"$f":"IF(AY151>0,1,0)","v":0},{"$f":"IF($I151=BA$6,$E151,0)","v":0},0,{"$f":"IF($H151>0,BA151,0)","v":0},{"$f":"IF(BC151>0,1,0)","v":0},{"$f":"IF($H151>0,BB151,0)","v":0},{"$f":"IF(BE151>0,1,0)","v":0},null,0,null,null,null,0]
[{"$f":"IF(E152+G152>0,A150,\"\")","v":""},{"$f":"IF(E152+G152>0,B150,\"\")","v":""},{"$f":"C151","v":6},"03-4-23.470",0,1.5,0,0,{"$f":"SUMIF(Y$14:BA$14,C152,Y$7:BA$7)","v":0},0,0,0,0,null,0,null,405.07,0,607.61,0,0,null,0,null,null,null,null,null,null,null,null,null,null,null,{"$f":"IF($I152=AI$7,$E152,0)","v":0},{"$f":"IF($K152=ROUND(AI$7*$F152,2),$G152,0)","v":0},0,0,0,0,{"$f":"IF($I152=AO$7,$E152,0)","v":0},{"$f":"IF($K152=ROUND(AO$7*$F152,2),$G152,0)","v":0},0,0,0,0,{"$f":"IF($I152=AU$7,$E152,0)","v":0},{"$f":"IF($K152=ROUND(AU$7*$F152,2),$G152,0)","v":0},0,0,0,0,{"$f":"IF($I152=BA$7,$E152,0)","v":0},{"$f":"IF($K152=ROUND(BA$7*$F152,2),$G152,0)","v":0},0,0,0,0,null,0,null,null,null,0]
[{"$f":"IF(E153+G153>0,A150,\"\")","v":""},{"$f":"IF(E153+G153>0,B150,\"\")","v":""},{"$f":"C151","v":6},"03-4-23.470",0,1.1000000000000001,0,0,{"$f":"SUMIF(Y$14:BA$14,C153,Y$7:BA$7)","v":0},0,0,0,0,null,0,null,405.07,0,445.58,0,0,null,0,null,null,null,null,null,null,null,null,null,null,null,{"$f":"IF($I153=AI$7,$E153,0)","v":0},{"$f":"IF($K153=ROUND(AI$7*$F153,2),$G153,0)","v":0},0,0,0,0,{"$f":"IF($I153=AO$7,$E153,0)","v":0},{"$f":"IF($K153=ROUND(AO$7*$F153,2),$G153,0)","v":0},0,0,0,0,{"$f":"IF($I153=AU$7,$E153,0)","v":0},{"$f":"IF($K153=ROUND(AU$7*$F153,2),$G153,0)","v":0},0,0,0,0,{"$f":"IF($I153=BA$7,$E153,0)","v":0},{"$f":"IF($K153=ROUND(BA$7*$F153,2),$G153,0)","v":0},0,0,0,0,null,0,null,null,null,0]
["ООО         \"КМТС плюс\" ","Вельск, ул.Горького-20",{"$f":"C155","v":6},"03-4-23.470(333)",0.14899999999999999,1.5,0,0.14899999999999999,{"$f":"SUMIF(Y$14:BA$14,C154,Y$6:BA$6)","v":1733.45},{"$f":"IF(H154=0,ROUND(E154*I154,2),ROUND(H154*E154,2))","v":0.02},{"$f":"ROUND(F154*I154,2)","v":2600.1799999999998},{"$f":"IF(H154=0,ROUND(ROUND(F154*I154,2)*G154,2),ROUND(G154*H154,2))","v":0},{"$f":"L154-ROUND(G154*I154,2)","v":0},null,{"$f":"J154+L154+N154","v":0.02},null,405.07,{"$f":"ROUND(Q154*E154,2)","v":60.36},{"$f":"ROUND(F154*Q154,2)","v":607.61},{"$f":"ROUND(S154*G154,2)","v":0},{"$f":"T154-ROUND(Q154*G154,2)","v":0},null,{"$f":"R154+T154+V154","v":60.36},null,null,null,null,null,null,null,null,null,null,null,{"$f":"IF($I154=AI$6,$E154,0)","v":0},{"$f":"IF($K154=ROUND(AI$6*$F154,2),$G154,0)","v":0},{"$f":"IF($H154>0,AI154,0)","v":0},{"$f":"IF(AK154>0,1,0)","v":0},{"$f":"IF($H154>0,AJ154,0)","v":0},{"$f":"IF(AM154>0,1,0)","v":0},{"$f":"IF($I154=AO$6,$E154,0)","v":0},{"$f":"IF($K154=ROUND(AO$6*$F154,2),$G154,0)","v":0},{"$f":"IF($H154>0,AO154,0)","v":0},{"$f":"IF(AQ154>0,1,0)","v":0},{"$f":"IF($H154>0,AP154,0)","v":0},{"$f":"IF(AS154>0,1,0)","v":0},{"$f":"IF($I154=AU$6,$E154,0)","v":0.14899999999999999},{"$f":"IF($K154=ROUND(AU$6*$F154,2),$G154,0)","v":0},{"$f":"IF($H154>0,AU154,0)","v":0.14899999999999999},{"$f":"IF(AW154>0,1,0)","v":1},{"$f":"IF($H154>0,AV154,0)","v":0},{"$f":"IF(AY154>0,1,0)","v":0},{"$f":"IF($I154=BA$6,$E154,0)","v":0},{"$f":"IF($K154=ROUND(BA$6*$F154,2),$G154,0)","v":0},{"$f":"IF($H154>0,BA154,0)","v":0},{"$f":"IF(BC154>0,1,0)","v":0},{"$f":"IF($H154>0,BB154,0)","v":0},{"$f":"IF(BE154>0,1,0)","v":0},null,1.4899999999999999E-4,0.4,null,null,0]
[{"$f":"IF(E155+G155>0,A154,\"\")","v":""},{"$f":"IF(E155+G155>0,B154,\"\")","v":""},6,"03-4-23.470(333)",0,1.1000000000000001,0,0,{"$f":"SUMIF(Y$14:BA$14,C155,Y$6:BA$6)","v":1733.45},{"$f":"IF(H155=0,ROUND(E155*I155,2),ROUND(H155*E155,2))","v":0},{"$f":"ROUND(F155*I155,2)","v":1906.8},{"$f":"IF(H155=0,ROUND(ROUND(F155*I155,2)*G155,2),ROUND(G155*H155,2))","v":0},{"$f":"L155-ROUND(G155*I155,2)","v":0},null,{"$f":"J155+L155+N155","v":0},null,405.07,{"$f":"ROUND(Q155*E155,2)","v":0},{"$f":"ROUND(F155*Q155,2)","v":445.58},{"$f":"ROUND(S155*G155,2)","v":0},{"$f":"T155-ROUND(Q155*G155,2)","v":0},null,{"$f":"R155+T155+V155","v":0},null,null,null,null,null,null,null,null,null,null,null,{"$f":"IF($I155=AI$6,$E155,0)","v":0},0,{"$f":"IF($H155>0,AI155,0)","v":0},{"$f":"IF(AK155>0,1,0)","v":0},{"$f":"IF($H155>0,AJ155,0)","v":0},{"$f":"IF(AM155>0,1,0)","v":0},{"$f":"IF($I155=AO$6,$E155,0)","v":0},0,{"$f":"IF($H155>0,AO155,0)","v":0},{"$f":"IF(AQ155>0,1,0)","v":0},{"$f":"IF($H155>0,AP155,0)","v":0},{"$f":"IF(AS155>0,1,0)","v":0},{"$f":"IF($I155=AU$6,$E155,0)","v":0},0,{"$f":"IF($H155>0,AU155,0)","v":0},{"$f":"IF(AW155>0,1,0)","v":0},{"$f":"IF($H155>0,AV155,0)","v":0},{"$f":"IF(AY155>0,1,0)","v":0},{"$f":"IF($I155=BA$6,$E155,0)","v":0},0,{"$f":"IF($H155>0,BA155,0)","v":0},{"$f":"IF(BC155>0,1,0)","v":0},{"$f":"IF($H155>0,BB155,0)","v":0},{"$f":"IF(BE155>0,1,0)","v":0},null,0,null,null,null,0]
[{"$f":"IF(E156+G156>0,A154,\"\")","v":""},{"$f":"IF(E156+G156>0,B154,\"\")","v":""},{"$f":"C155","v":6},"03-4-23.470(333)",0,1.5,0,0,{"$f":"SUMIF(Y$14:BA$14,C156,Y$7:BA$7)","v":0},0,0,0,0,null,0,null,405.07,0,607.61,0,0,null,0,null,null,null,null,null,null,null,null,null,null,null,{"$f":"IF($I156=AI$7,$E156,0)","v":0},{"$f":"IF($K156=ROUND(AI$7*$F156,2),$G156,0)","v":0},0,0,0,0,{"$f":"IF($I156=AO$7,$E156,0)","v":0},{"$f":"IF($K156=ROUND(AO$7*$F156,2),$G156,0)","v":0},0,0,0,0,{"$f":"IF($I156=AU$7,$E156,0)","v":0},{"$f":"IF($K156=ROUND(AU$7*$F156,2),$G156,0)","v":0},0,0,0,0,{"$f":"IF($I156=BA$7,$E156,0)","v":0},{"$f":"IF($K156=ROUND(BA$7*$F156,2),$G156,0)","v":0},0,0,0,0,null,0,null,null,null,0]
[{"$f":"IF(E157+G157>0,A154,\"\")","v":""},{"$f":"IF(E157+G157>0,B154,\"\")","v":""},{"$f":"C155","v":6},"03-4-23.470(333)",0,1.1000000000000001,0,0,{"$f":"SUMIF(Y$14:BA$14,C157,Y$7:BA$7)","v":0},0,0,0,0,null,0,null,405.07,0,445.58,0,0,null,0,null,null,null,null,null,null,null,null,null,null,null,{"$f":"IF($I157=AI$7,$E157,0)","v":0},{"$f":"IF($K157=ROUND(AI$7*$F157,2),$G157,0)","v":0},0,0,0,0,{"$f":"IF($I157=AO$7,$E157,0)","v":0},{"$f":"IF($K157=ROUND(AO$7*$F157,2),$G157,0)","v":0},0,0,0,0,{"$f":"IF($I157=AU$7,$E157,0)","v":0},{"$f":"IF($K157=ROUND(AU$7*$F157,2),$G157,0)","v":0},0,0,0,0,{"$f":"IF($I157=BA$7,$E157,0)","v":0},{"$f":"IF($K157=ROUND(BA$7*$F157,2),$G157,0)","v":0},0,0,0,0,null,0,null,null,null,0]
["ИП              Сащенко           Олег Леонидович         (до 01.07  -  ООО \"Вагаинвест\")","",{"$f":"C159","v":7},"03-4-23.1119(333)/03-4-23.489(333)",0.88,1.5,0.503,1.383,{"$f":"SUMIF(Y$14:BA$14,C158,Y$6:BA$6)","v":2166.8000000000002},{"$f":"IF(H158=0,ROUND(E158*I158,2),ROUND(H158*E158,2))","v":1.22},{"$f":"ROUND(F158*I158,2)","v":3250.2},{"$f":"IF(H158=0,ROUND(ROUND(F158*I158,2)*G158,2),ROUND(G158*H158,2))","v":0.7},{"$f":"L158-ROUND(G158*I158,2)","v":-1089.2},null,{"$f":"J158+L158+N158","v":1.92},null,405.07,{"$f":"ROUND(Q158*E158,2)","v":356.46},{"$f":"ROUND(F158*Q158,2)","v":607.61},{"$f":"ROUND(S158*G158,2)","v":305.63},{"$f":"T158-ROUND(Q158*G158,2)","v":101.88},null,{"$f":"R158+T158+V158","v":662.08999999999992},null,null,null,null,null,null,null,null,null,null,null,{"$f":"IF($I158=AI$6,$E158,0)","v":0},{"$f":"IF($K158=ROUND(AI$6*$F158,2),$G158,0)","v":0},{"$f":"IF($H158>0,AI158,0)","v":0},{"$f":"IF(AK158>0,1,0)","v":0},{"$f":"IF($H158>0,AJ158,0)","v":0},{"$f":"IF(AM158>0,1,0)","v":0},{"$f":"IF($I158=AO$6,$E158,0)","v":0},{"$f":"IF($K158=ROUND(AO$6*$F158,2),$G158,0)","v":0},{"$f":"IF($H158>0,AO158,0)","v":0},{"$f":"IF(AQ158>0,1,0)","v":0},{"$f":"IF($H158>0,AP158,0)","v":0},{"$f":"IF(AS158>0,1,0)","v":0},{"$f":"IF($I158=AU$6,$E158,0)","v":0},{"$f":"IF($K158=ROUND(AU$6*$F158,2),$G158,0)","v":0},{"$f":"IF($H158>0,AU158,0)","v":0},{"$f":"IF(AW158>0,1,0)","v":0},{"$f":"IF($H158>0,AV158,0)","v":0},{"$f":"IF(AY158>0,1,0)","v":0},{"$f":"IF($I158=BA$6,$E158,0)","v":0.88},{"$f":"IF($K158=ROUND(BA$6*$F158,2),$G158,0)","v":0.503},{"$f":"IF($H158>0,BA158,0)","v":0.88},{"$f":"IF(BC158>0,1,0)","v":1},{"$f":"IF($H158>0,BB158,0)","v":0.503},{"$f":"IF(BE158>0,1,0)","v":1},null,1.3830000000000001E-3,0.8,null,null,0]
[{"$f":"IF(E159+G159>0,A158,\"\")","v":""},{"$f":"IF(E159+G159>0,B158,\"\")","v":""},7,"03-4-23.1119(333)/03-4-23.489(333)",0,1.1000000000000001,0,0,{"$f":"SUMIF(Y$14:BA$14,C159,Y$6:BA$6)","v":2166.8000000000002},{"$f":"IF(H159=0,ROUND(E159*I159,2),ROUND(H159*E159,2))","v":0},{"$f":"ROUND(F159*I159,2)","v":2383.48},{"$f":"IF(H159=0,ROUND(ROUND(F159*I159,2)*G159,2),ROUND(G159*H159,2))","v":0},{"$f":"L159-ROUND(G159*I159,2)","v":0},null,{"$f":"J159+L159+N159","v":0},null,405.07,{"$f":"ROUND(Q159*E159,2)","v":0},{"$f":"ROUND(F159*Q159,2)","v":445.58},{"$f":"ROUND(S159*G159,2)","v":0},{"$f":"T159-ROUND(Q159*G159,2)","v":0},null,{"$f":"R159+T159+V159","v":0},null,null,null,null,null,null,null,null,null,null,null,{"$f":"IF($I159=AI$6,$E159,0)","v":0},0,{"$f":"IF($H159>0,AI159,0)","v":0},{"$f":"IF(AK159>0,1,0)","v":0},{"$f":"IF($H159>0,AJ159,0)","v":0},{"$f":"IF(AM159>0,1,0)","v":0},{"$f":"IF($I159=AO$6,$E159,0)","v":0},0,{"$f":"IF($H159>0,AO159,0)","v":0},{"$f":"IF(AQ159>0,1,0)","v":0},{"$f":"IF($H159>0,AP159,0)","v":0},{"$f":"IF(AS159>0,1,0)","v":0},{"$f":"IF($I159=AU$6,$E159,0)","v":0},0,{"$f":"IF($H159>0,AU159,0)","v":0},{"$f":"IF(AW159>0,1,0)","v":0},{"$f":"IF($H159>0,AV159,0)","v":0},{"$f":"IF(AY159>0,1,0)","v":0},{"$f":"IF($I159=BA$6,$E159,0)","v":0},0,{"$f":"IF($H159>0,BA159,0)","v":0},{"$f":"IF(BC159>0,1,0)","v":0},{"$f":"IF($H159>0,BB159,0)","v":0},{"$f":"IF(BE159>0,1,0)","v":0},null,0,null,null,null,0]
[{"$f":"IF(E160+G160>0,A158,\"\")","v":""},{"$f":"IF(E160+G160>0,B158,\"\")","v":""},{"$f":"C159","v":7},"03-4-23.1119(333)/03-4-23.489(333)",0,1.5,0,0,{"$f":"SUMIF(Y$14:BA$14,C160,Y$7:BA$7)","v":0},0,0,0,0,null,0,null,405.07,0,607.61,0,0,null,0,null,null,null,null,null,null,null,null,null,null,null,{"$f":"IF($I160=AI$7,$E160,0)","v":0},{"$f":"IF($K160=ROUND(AI$7*$F160,2),$G160,0)","v":0},0,0,0,0,{"$f":"IF($I160=AO$7,$E160,0)","v":0},{"$f":"IF($K160=ROUND(AO$7*$F160,2),$G160,0)","v":0},0,0,0,0,{"$f":"IF($I160=AU$7,$E160,0)","v":0},{"$f":"IF($K160=ROUND(AU$7*$F160,2),$G160,0)","v":0},0,0,0,0,{"$f":"IF($I160=BA$7,$E160,0)","v":0},{"$f":"IF($K160=ROUND(BA$7*$F160,2),$G160,0)","v":0},0,0,0,0,null,0,null,null,null,0]
[{"$f":"IF(E161+G161>0,A158,\"\")","v":""},{"$f":"IF(E161+G161>0,B158,\"\")","v":""},{"$f":"C159","v":7},"03-4-23.1119(333)/03-4-23.489(333)",0,1.1000000000000001,0,0,{"$f":"SUMIF(Y$14:BA$14,C161,Y$7:BA$7)","v":0},0,0,0,0,null,0,null,405.07,0,445.58,0,0,null,0,null,null,null,null,null,null,null,null,null,null,null,{"$f":"IF($I161=AI$7,$E161,0)","v":0},{"$f":"IF($K161=ROUND(AI$7*$F161,2),$G161,0)","v":0},0,0,0,0,{"$f":"IF($I161=AO$7,$E161,0)","v":0},{"$f":"IF($K161=ROUND(AO$7*$F161,2),$G161,0)","v":0},0,0,0,0,{"$f":"IF($I161=AU$7,$E161,0)","v":0},{"$f":"IF($K161=ROUND(AU$7*$F161,2),$G161,0)","v":0},0,0,0,0,{"$f":"IF($I161=BA$7,$E161,0)","v":0},{"$f":"IF($K161=ROUND(BA$7*$F161,2),$G161,0)","v":0},0,0,0,0,null,0,null,null,null,0]
["ГАУ АО ИД \"Вельские вести\"","",{"$f":"C163","v":7},"03-4-23.519(333)",0.5169999999999999,1.5,6.3E-2,0.57999999999999985,{"$f":"SUMIF(Y$14:BA$14,C162,Y$6:BA$6)","v":2166.8000000000002},{"$f":"IF(H162=0,ROUND(E162*I162,2),ROUND(H162*E162,2))","v":0.3},{"$f":"ROUND(F162*I162,2)","v":3250.2},{"$f":"IF(H162=0,ROUND(ROUND(F162*I162,2)*G162,2),ROUND(G162*H162,2))","v":0.04},{"$f":"L162-ROUND(G162*I162,2)","v":-136.47},null,{"$f":"J162+L162+N162","v":0.33999999999999997},null,405.07,{"$f":"ROUND(Q162*E162,2)","v":209.42},{"$f":"ROUND(F162*Q162,2)","v":607.61},{"$f":"ROUND(S162*G162,2)","v":38.28},{"$f":"T162-ROUND(Q162*G162,2)","v":12.760000000000002},null,{"$f":"R162+T162+V162","v":247.7},null,null,null,null,null,null,null,null,null,null,null,{"$f":"IF($I162=AI$6,$E162,0)","v":0},{"$f":"IF($K162=ROUND(AI$6*$F162,2),$G162,0)","v":0},{"$f":"IF($H162>0,AI162,0)","v":0},{"$f":"IF(AK162>0,1,0)","v":0},{"$f":"IF($H162>0,AJ162,0)","v":0},{"$f":"IF(AM162>0,1,0)","v":0},{"$f":"IF($I162=AO$6,$E162,0)","v":0},{"$f":"IF($K162=ROUND(AO$6*$F162,2),$G162,0)","v":0},{"$f":"IF($H162>0,AO162,0)","v":0},{"$f":"IF(AQ162>0,1,0)","v":0},{"$f":"IF($H162>0,AP162,0)","v":0},{"$f":"IF(AS162>0,1,0)","v":0},{"$f":"IF($I162=AU$6,$E162,0)","v":0},{"$f":"IF($K162=ROUND(AU$6*$F162,2),$G162,0)","v":0},{"$f":"IF($H162>0,AU162,0)","v":0},{"$f":"IF(AW162>0,1,0)","v":0},{"$f":"IF($H162>0,AV162,0)","v":0},{"$f":"IF(AY162>0,1,0)","v":0},{"$f":"IF($I162=BA$6,$E162,0)","v":0.5169999999999999},{"$f":"IF($K162=ROUND(BA$6*$F162,2),$G162,0)","v":6.3E-2},{"$f":"IF($H162>0,BA162,0)","v":0.5169999999999999},{"$f":"IF(BC162>0,1,0)","v":1},{"$f":"IF($H162>0,BB162,0)","v":6.3E-2},{"$f":"IF(BE162>0,1,0)","v":1},null,5.7999999999999989E-4,0.47,null,null,0]
[{"$f":"IF(E163+G163>0,A162,\"\")","v":""},{"$f":"IF(E163+G163>0,B162,\"\")","v":""},7,"03-4-23.519(333)",0,1.1000000000000001,0,0,{"$f":"SUMIF(Y$14:BA$14,C163,Y$6:BA$6)","v":2166.8000000000002},{"$f":"IF(H163=0,ROUND(E163*I163,2),ROUND(H163*E163,2))","v":0},{"$f":"ROUND(F163*I163,2)","v":2383.48},{"$f":"IF(H163=0,ROUND(ROUND(F163*I163,2)*G163,2),ROUND(G163*H163,2))","v":0},{"$f":"L163-ROUND(G163*I163,2)","v":0},null,{"$f":"J163+L163+N163","v":0},null,405.07,{"$f":"ROUND(Q163*E163,2)","v":0},{"$f":"ROUND(F163*Q163,2)","v":445.58},{"$f":"ROUND(S163*G163,2)","v":0},{"$f":"T163-ROUND(Q163*G163,2)","v":0},null,{"$f":"R163+T163+V163","v":0},null,null,null,null,null,null,null,null,null,null,null,{"$f":"IF($I163=AI$6,$E163,0)","v":0},0,{"$f":"IF($H163>0,AI163,0)","v":0},{"$f":"IF(AK163>0,1,0)","v":0},{"$f":"IF($H163>0,AJ163,0)","v":0},{"$f":"IF(AM163>0,1,0)","v":0},{"$f":"IF($I163=AO$6,$E163,0)","v":0},0,{"$f":"IF($H163>0,AO163,0)","v":0},{"$f":"IF(AQ163>0,1,0)","v":0},{"$f":"IF($H163>0,AP163,0)","v":0},{"$f":"IF(AS163>0,1,0)","v":0},{"$f":"IF($I163=AU$6,$E163,0)","v":0},0,{"$f":"IF($H163>0,AU163,0)","v":0},{"$f":"IF(AW163>0,1,0)","v":0},{"$f":"IF($H163>0,AV163,0)","v":0},{"$f":"IF(AY163>0,1,0)","v":0},{"$f":"IF($I163=BA$6,$E163,0)","v":0},0,{"$f":"IF($H163>0,BA163,0)","v":0},{"$f":"IF(BC163>0,1,0)","v":0},{"$f":"IF($H163>0,BB163,0)","v":0},{"$f":"IF(BE163>0,1,0)","v":0},null,0,null,null,null,0]
[{"$f":"IF(E164+G164>0,A162,\"\")","v":""},{"$f":"IF(E164+G164>0,B162,\"\")","v":""},{"$f":"C163","v":7},"03-4-23.519(333)",0,1.5,0,0,{"$f":"SUMIF(Y$14:BA$14,C164,Y$7:BA$7)","v":0},0,0,0,0,null,0,null,405.07,0,607.61,0,0,null,0,null,null,null,null,null,null,null,null,null,null,null,{"$f":"IF($I164=AI$7,$E164,0)","v":0},{"$f":"IF($K164=ROUND(AI$7*$F164,2),$G164,0)","v":0},0,0,0,0,{"$f":"IF($I164=AO$7,$E164,0)","v":0},{"$f":"IF($K164=ROUND(AO$7*$F164,2),$G164,0)","v":0},0,0,0,0,{"$f":"IF($I164=AU$7,$E164,0)","v":0},{"$f":"IF($K164=ROUND(AU$7*$F164,2),$G164,0)","v":0},0,0,0,0,{"$f":"IF($I164=BA$7,$E164,0)","v":0},{"$f":"IF($K164=ROUND(BA$7*$F164,2),$G164,0)","v":0},0,0,0,0,null,0,null,null,null,0]
[{"$f":"IF(E165+G165>0,A162,\"\")","v":""},{"$f":"IF(E165+G165>0,B162,\"\")","v":""},{"$f":"C163","v":7},"03-4-23.519(333)",0,1.1000000000000001,0,0,{"$f":"SUMIF(Y$14:BA$14,C165,Y$7:BA$7)","v":0},0,0,0,0,null,0,null,405.07,0,445.58,0,0,null,0,null,null,null,null,null,null,null,null,null,null,null,{"$f":"IF($I165=AI$7,$E165,0)","v":0},{"$f":"IF($K165=ROUND(AI$7*$F165,2),$G165,0)","v":0},0,0,0,0,{"$f":"IF($I165=AO$7,$E165,0)","v":0},{"$f":"IF($K165=ROUND(AO$7*$F165,2),$G165,0)","v":0},0,0,0,0,{"$f":"IF($I165=AU$7,$E165,0)","v":0},{"$f":"IF($K165=ROUND(AU$7*$F165,2),$G165,0)","v":0},0,0,0,0,{"$f":"IF($I165=BA$7,$E165,0)","v":0},{"$f":"IF($K165=ROUND(BA$7*$F165,2),$G165,0)","v":0},0,0,0,0,null,0,null,null,null,0]
["МБУ           \"Эксплуатационно-техническое предприятие\"","",{"$f":"C167","v":6},"03-4-23.522Б(333)",0,1.5,0,0,{"$f":"SUMIF(Y$14:BA$14,C166,Y$6:BA$6)","v":1733.45},{"$f":"IF(H166=0,ROUND(E166*I166,2),ROUND(H166*E166,2))","v":0},{"$f":"ROUND(F166*I166,2)","v":2600.1799999999998},{"$f":"IF(H166=0,ROUND(ROUND(F166*I166,2)*G166,2),ROUND(G166*H166,2))","v":0},{"$f":"L166-ROUND(G166*I166,2)","v":0},null,{"$f":"J166+L166+N166","v":0},null,405.07,{"$f":"ROUND(Q166*E166,2)","v":0},{"$f":"ROUND(F166*Q166,2)","v":607.61},{"$f":"ROUND(S166*G166,2)","v":0},{"$f":"T166-ROUND(Q166*G166,2)","v":0},null,{"$f":"R166+T166+V166","v":0},null,null,null,null,null,null,null,null,null,null,null,{"$f":"IF($I166=AI$6,$E166,0)","v":0},{"$f":"IF($K166=ROUND(AI$6*$F166,2),$G166,0)","v":0},{"$f":"IF($H166>0,AI166,0)","v":0},{"$f":"IF(AK166>0,1,0)","v":0},{"$f":"IF($H166>0,AJ166,0)","v":0},{"$f":"IF(AM166>0,1,0)","v":0},{"$f":"IF($I166=AO$6,$E166,0)","v":0},{"$f":"IF($K166=ROUND(AO$6*$F166,2),$G166,0)","v":0},{"$f":"IF($H166>0,AO166,0)","v":0},{"$f":"IF(AQ166>0,1,0)","v":0},{"$f":"IF($H166>0,AP166,0)","v":0},{"$f":"IF(AS166>0,1,0)","v":0},{"$f":"IF($I166=AU$6,$E166,0)","v":0},{"$f":"IF($K166=ROUND(AU$6*$F166,2),$G166,0)","v":0},{"$f":"IF($H166>0,AU166,0)","v":0},{"$f":"IF(AW166>0,1,0)","v":0},{"$f":"IF($H166>0,AV166,0)","v":0},{"$f":"IF(AY166>0,1,0)","v":0},{"$f":"IF($I166=BA$6,$E166,0)","v":0},{"$f":"IF($K166=ROUND(BA$6*$F166,2),$G166,0)","v":0},{"$f":"IF($H166>0,BA166,0)","v":0},{"$f":"IF(BC166>0,1,0)","v":0},{"$f":"IF($H166>0,BB166,0)","v":0},{"$f":"IF(BE166>0,1,0)","v":0},null,0,0,null,null,0]
[{"$f":"IF(E167+G167>0,A166,\"\")","v":""},{"$f":"IF(E167+G167>0,B166,\"\")","v":""},6,"03-4-23.522Б(333)",0,1.1000000000000001,0,0,{"$f":"SUMIF(Y$14:BA$14,C167,Y$6:BA$6)","v":1733.45},{"$f":"IF(H167=0,ROUND(E167*I167,2),ROUND(H167*E167,2))","v":0},{"$f":"ROUND(F167*I167,2)","v":1906.8},{"$f":"IF(H167=0,ROUND(ROUND(F167*I167,2)*G167,2),ROUND(G167*H167,2))","v":0},{"$f":"L167-ROUND(G167*I167,2)","v":0},null,{"$f":"J167+L167+N167","v":0},null,405.07,{"$f":"ROUND(Q167*E167,2)","v":0},{"$f":"ROUND(F167*Q167,2)","v":445.58},{"$f":"ROUND(S167*G167,2)","v":0},{"$f":"T167-ROUND(Q167*G167,2)","v":0},null,{"$f":"R167+T167+V167","v":0},null,null,null,null,null,null,null,null,null,null,null,{"$f":"IF($I167=AI$6,$E167,0)","v":0},0,{"$f":"IF($H167>0,AI167,0)","v":0},{"$f":"IF(AK167>0,1,0)","v":0},{"$f":"IF($H167>0,AJ167,0)","v":0},{"$f":"IF(AM167>0,1,0)","v":0},{"$f":"IF($I167=AO$6,$E167,0)","v":0},0,{"$f":"IF($H167>0,AO167,0)","v":0},{"$f":"IF(AQ167>0,1,0)","v":0},{"$f":"IF($H167>0,AP167,0)","v":0},{"$f":"IF(AS167>0,1,0)","v":0},{"$f":"IF($I167=AU$6,$E167,0)","v":0},0,{"$f":"IF($H167>0,AU167,0)","v":0},{"$f":"IF(AW167>0,1,0)","v":0},{"$f":"IF($H167>0,AV167,0)","v":0},{"$f":"IF(AY167>0,1,0)","v":0},{"$f":"IF($I167=BA$6,$E167,0)","v":0},0,{"$f":"IF($H167>0,BA167,0)","v":0},{"$f":"IF(BC167>0,1,0)","v":0},{"$f":"IF($H167>0,BB167,0)","v":0},{"$f":"IF(BE167>0,1,0)","v":0},null,0,null,null,null,0]
[{"$f":"IF(E168+G168>0,A166,\"\")","v":""},{"$f":"IF(E168+G168>0,B166,\"\")","v":""},{"$f":"C167","v":6},"03-4-23.522Б(333)",0,1.5,0,0,{"$f":"SUMIF(Y$14:BA$14,C168,Y$7:BA$7)","v":0},0,0,0,0,null,0,null,405.07,0,607.61,0,0,null,0,null,null,null,null,null,null,null,null,null,null,null,{"$f":"IF($I168=AI$7,$E168,0)","v":0},{"$f":"IF($K168=ROUND(AI$7*$F168,2),$G168,0)","v":0},0,0,0,0,{"$f":"IF($I168=AO$7,$E168,0)","v":0},{"$f":"IF($K168=ROUND(AO$7*$F168,2),$G168,0)","v":0},0,0,0,0,{"$f":"IF($I168=AU$7,$E168,0)","v":0},{"$f":"IF($K168=ROUND(AU$7*$F168,2),$G168,0)","v":0},0,0,0,0,{"$f":"IF($I168=BA$7,$E168,0)","v":0},{"$f":"IF($K168=ROUND(BA$7*$F168,2),$G168,0)","v":0},0,0,0,0,null,0,null,null,null,0]
[{"$f":"IF(E169+G169>0,A166,\"\")","v":""},{"$f":"IF(E169+G169>0,B166,\"\")","v":""},{"$f":"C167","v":6},"03-4-23.522Б(333)",0,1.1000000000000001,0,0,{"$f":"SUMIF(Y$14:BA$14,C169,Y$7:BA$7)","v":0},0,0,0,0,null,0,null,405.07,0,445.58,0,0,null,0,null,null,null,null,null,null,null,null,null,null,null,{"$f":"IF($I169=AI$7,$E169,0)","v":0},{"$f":"IF($K169=ROUND(AI$7*$F169,2),$G169,0)","v":0},0,0,0,0,{"$f":"IF($I169=AO$7,$E169,0)","v":0},{"$f":"IF($K169=ROUND(AO$7*$F169,2),$G169,0)","v":0},0,0,0,0,{"$f":"IF($I169=AU$7,$E169,0)","v":0},{"$f":"IF($K169=ROUND(AU$7*$F169,2),$G169,0)","v":0},0,0,0,0,{"$f":"IF($I169=BA$7,$E169,0)","v":0},{"$f":"IF($K169=ROUND(BA$7*$F169,2),$G169,0)","v":0},0,0,0,0,null,0,null,null,null,0]
["ООО          \"Торговый дом \"Устьялес\"","Вельск, ул.Советская-70",{"$f":"C171","v":6},"03-4-23.1099(333)",1.5009999999999999,1.5,0,1.5009999999999999,{"$f":"SUMIF(Y$14:BA$14,C170,Y$6:BA$6)","v":1733.45},{"$f":"IF(H170=0,ROUND(E170*I170,2),ROUND(H170*E170,2))","v":2.25},{"$f":"ROUND(F170*I170,2)","v":2600.1799999999998},{"$f":"IF(H170=0,ROUND(ROUND(F170*I170,2)*G170,2),ROUND(G170*H170,2))","v":0},{"$f":"L170-ROUND(G170*I170,2)","v":0},null,{"$f":"J170+L170+N170","v":2.25},null,405.07,{"$f":"ROUND(Q170*E170,2)","v":608.01},{"$f":"ROUND(F170*Q170,2)","v":607.61},{"$f":"ROUND(S170*G170,2)","v":0},{"$f":"T170-ROUND(Q170*G170,2)","v":0},null,{"$f":"R170+T170+V170","v":608.01},null,null,null,null,null,null,null,null,null,null,null,{"$f":"IF($I170=AI$6,$E170,0)","v":0},{"$f":"IF($K170=ROUND(AI$6*$F170,2),$G170,0)","v":0},{"$f":"IF($H170>0,AI170,0)","v":0},{"$f":"IF(AK170>0,1,0)","v":0},{"$f":"IF($H170>0,AJ170,0)","v":0},{"$f":"IF(AM170>0,1,0)","v":0},{"$f":"IF($I170=AO$6,$E170,0)","v":0},{"$f":"IF($K170=ROUND(AO$6*$F170,2),$G170,0)","v":0},{"$f":"IF($H170>0,AO170,0)","v":0},{"$f":"IF(AQ170>0,1,0)","v":0},{"$f":"IF($H170>0,AP170,0)","v":0},{"$f":"IF(AS170>0,1,0)","v":0},{"$f":"IF($I170=AU$6,$E170,0)","v":1.5009999999999999},{"$f":"IF($K170=ROUND(AU$6*$F170,2),$G170,0)","v":0},{"$f":"IF($H170>0,AU170,0)","v":1.5009999999999999},{"$f":"IF(AW170>0,1,0)","v":1},{"$f":"IF($H170>0,AV170,0)","v":0},{"$f":"IF(AY170>0,1,0)","v":0},{"$f":"IF($I170=BA$6,$E170,0)","v":0},{"$f":"IF($K170=ROUND(BA$6*$F170,2),$G170,0)","v":0},{"$f":"IF($H170>0,BA170,0)","v":0},{"$f":"IF(BC170>0,1,0)","v":0},{"$f":"IF($H170>0,BB170,0)","v":0},{"$f":"IF(BE170>0,1,0)","v":0},null,1.5009999999999999E-3,3,null,null,0]
[{"$f":"IF(E171+G171>0,A170,\"\")","v":""},{"$f":"IF(E171+G171>0,B170,\"\")","v":""},6,"03-4-23.1099(333)",0,1.1000000000000001,0,0,{"$f":"SUMIF(Y$14:BA$14,C171,Y$6:BA$6)","v":1733.45},{"$f":"IF(H171=0,ROUND(E171*I171,2),ROUND(H171*E171,2))","v":0},{"$f":"ROUND(F171*I171,2)","v":1906.8},{"$f":"IF(H171=0,ROUND(ROUND(F171*I171,2)*G171,2),ROUND(G171*H171,2))","v":0},{"$f":"L171-ROUND(G171*I171,2)","v":0},null,{"$f":"J171+L171+N171","v":0},null,405.07,{"$f":"ROUND(Q171*E171,2)","v":0},{"$f":"ROUND(F171*Q171,2)","v":445.58},{"$f":"ROUND(S171*G171,2)","v":0},{"$f":"T171-ROUND(Q171*G171,2)","v":0},null,{"$f":"R171+T171+V171","v":0},null,null,null,null,null,null,null,null,null,null,null,{"$f":"IF($I171=AI$6,$E171,0)","v":0},0,{"$f":"IF($H171>0,AI171,0)","v":0},{"$f":"IF(AK171>0,1,0)","v":0},{"$f":"IF($H171>0,AJ171,0)","v":0},{"$f":"IF(AM171>0,1,0)","v":0},{"$f":"IF($I171=AO$6,$E171,0)","v":0},0,{"$f":"IF($H171>0,AO171,0)","v":0},{"$f":"IF(AQ171>0,1,0)","v":0},{"$f":"IF($H171>0,AP171,0)","v":0},{"$f":"IF(AS171>0,1,0)","v":0},{"$f":"IF($I171=AU$6,$E171,0)","v":0},0,{"$f":"IF($H171>0,AU171,0)","v":0},{"$f":"IF(AW171>0,1,0)","v":0},{"$f":"IF($H171>0,AV171,0)","v":0},{"$f":"IF(AY171>0,1,0)","v":0},{"$f":"IF($I171=BA$6,$E171,0)","v":0},0,{"$f":"IF($H171>0,BA171,0)","v":0},{"$f":"IF(BC171>0,1,0)","v":0},{"$f":"IF($H171>0,BB171,0)","v":0},{"$f":"IF(BE171>0,1,0)","v":0},null,0,null,null,null,0]
[{"$f":"IF(E172+G172>0,A170,\"\")","v":""},{"$f":"IF(E172+G172>0,B170,\"\")","v":""},{"$f":"C171","v":6},"03-4-23.1099(333)",0,1.5,0,0,{"$f":"SUMIF(Y$14:BA$14,C172,Y$7:BA$7)","v":0},0,0,0,0,null,0,null,405.07,0,607.61,0,0,null,0,null,null,null,null,null,null,null,null,null,null,null,{"$f":"IF($I172=AI$7,$E172,0)","v":0},{"$f":"IF($K172=ROUND(AI$7*$F172,2),$G172,0)","v":0},0,0,0,0,{"$f":"IF($I172=AO$7,$E172,0)","v":0},{"$f":"IF($K172=ROUND(AO$7*$F172,2),$G172,0)","v":0},0,0,0,0,{"$f":"IF($I172=AU$7,$E172,0)","v":0},{"$f":"IF($K172=ROUND(AU$7*$F172,2),$G172,0)","v":0},0,0,0,0,{"$f":"IF($I172=BA$7,$E172,0)","v":0},{"$f":"IF($K172=ROUND(BA$7*$F172,2),$G172,0)","v":0},0,0,0,0,null,0,null,null,null,0]
[{"$f":"IF(E173+G173>0,A170,\"\")","v":""},{"$f":"IF(E173+G173>0,B170,\"\")","v":""},{"$f":"C171","v":6},"03-4-23.1099(333)",0,1.1000000000000001,0,0,{"$f":"SUMIF(Y$14:BA$14,C173,Y$7:BA$7)","v":0},0,0,0,0,null,0,null,405.07,0,445.58,0,0,null,0,null,null,null,null,null,null,null,null,null,null,null,{"$f":"IF($I173=AI$7,$E173,0)","v":0},{"$f":"IF($K173=ROUND(AI$7*$F173,2),$G173,0)","v":0},0,0,0,0,{"$f":"IF($I173=AO$7,$E173,0)","v":0},{"$f":"IF($K173=ROUND(AO$7*$F173,2),$G173,0)","v":0},0,0,0,0,{"$f":"IF($I173=AU$7,$E173,0)","v":0},{"$f":"IF($K173=ROUND(AU$7*$F173,2),$G173,0)","v":0},0,0,0,0,{"$f":"IF($I173=BA$7,$E173,0)","v":0},{"$f":"IF($K173=ROUND(BA$7*$F173,2),$G173,0)","v":0},0,0,0,0,null,0,null,null,null,0]
["АО             \"Тандер\" ","Вельск",{"$f":"C175","v":6},"03-4-23.525(333)",0.38200000000000001,1.5,0,0.38200000000000001,{"$f":"SUMIF(Y$14:BA$14,C174,Y$6:BA$6)","v":1733.45},{"$f":"IF(H174=0,ROUND(E174*I174,2),ROUND(H174*E174,2))","v":0.15},{"$f":"ROUND(F174*I174,2)","v":2600.1799999999998},{"$f":"IF(H174=0,ROUND(ROUND(F174*I174,2)*G174,2),ROUND(G174*H174,2))","v":0},{"$f":"L174-ROUND(G174*I174,2)","v":0},null,{"$f":"J174+L174+N174","v":0.15},null,405.07,{"$f":"ROUND(Q174*E174,2)","v":154.74},{"$f":"ROUND(F174*Q174,2)","v":607.61},{"$f":"ROUND(S174*G174,2)","v":0},{"$f":"T174-ROUND(Q174*G174,2)","v":0},null,{"$f":"R174+T174+V174","v":154.74},null,null,null,null,null,null,null,null,null,null,null,{"$f":"IF($I174=AI$6,$E174,0)","v":0},{"$f":"IF($K174=ROUND(AI$6*$F174,2),$G174,0)","v":0},{"$f":"IF($H174>0,AI174,0)","v":0},{"$f":"IF(AK174>0,1,0)","v":0},{"$f":"IF($H174>0,AJ174,0)","v":0},{"$f":"IF(AM174>0,1,0)","v":0},{"$f":"IF($I174=AO$6,$E174,0)","v":0},{"$f":"IF($K174=ROUND(AO$6*$F174,2),$G174,0)","v":0},{"$f":"IF($H174>0,AO174,0)","v":0},{"$f":"IF(AQ174>0,1,0)","v":0},{"$f":"IF($H174>0,AP174,0)","v":0},{"$f":"IF(AS174>0,1,0)","v":0},{"$f":"IF($I174=AU$6,$E174,0)","v":0.38200000000000001},{"$f":"IF($K174=ROUND(AU$6*$F174,2),$G174,0)","v":0},{"$f":"IF($H174>0,AU174,0)","v":0.38200000000000001},{"$f":"IF(AW174>0,1,0)","v":1},{"$f":"IF($H174>0,AV174,0)","v":0},{"$f":"IF(AY174>0,1,0)","v":0},{"$f":"IF($I174=BA$6,$E174,0)","v":0},{"$f":"IF($K174=ROUND(BA$6*$F174,2),$G174,0)","v":0},{"$f":"IF($H174>0,BA174,0)","v":0},{"$f":"IF(BC174>0,1,0)","v":0},{"$f":"IF($H174>0,BB174,0)","v":0},{"$f":"IF(BE174>0,1,0)","v":0},null,3.8200000000000002E-4,1.3,null,null,0]
[{"$f":"IF(E175+G175>0,A174,\"\")","v":""},{"$f":"IF(E175+G175>0,B174,\"\")","v":""},6,"03-4-23.525(333)",0,1.1000000000000001,0,0,{"$f":"SUMIF(Y$14:BA$14,C175,Y$6:BA$6)","v":1733.45},{"$f":"IF(H175=0,ROUND(E175*I175,2),ROUND(H175*E175,2))","v":0},{"$f":"ROUND(F175*I175,2)","v":1906.8},{"$f":"IF(H175=0,ROUND(ROUND(F175*I175,2)*G175,2),ROUND(G175*H175,2))","v":0},{"$f":"L175-ROUND(G175*I175,2)","v":0},null,{"$f":"J175+L175+N175","v":0},null,405.07,{"$f":"ROUND(Q175*E175,2)","v":0},{"$f":"ROUND(F175*Q175,2)","v":445.58},{"$f":"ROUND(S175*G175,2)","v":0},{"$f":"T175-ROUND(Q175*G175,2)","v":0},null,{"$f":"R175+T175+V175","v":0},null,null,null,null,null,null,null,null,null,null,null,{"$f":"IF($I175=AI$6,$E175,0)","v":0},0,{"$f":"IF($H175>0,AI175,0)","v":0},{"$f":"IF(AK175>0,1,0)","v":0},{"$f":"IF($H175>0,AJ175,0)","v":0},{"$f":"IF(AM175>0,1,0)","v":0},{"$f":"IF($I175=AO$6,$E175,0)","v":0},0,{"$f":"IF($H175>0,AO175,0)","v":0},{"$f":"IF(AQ175>0,1,0)","v":0},{"$f":"IF($H175>0,AP175,0)","v":0},{"$f":"IF(AS175>0,1,0)","v":0},{"$f":"IF($I175=AU$6,$E175,0)","v":0},0,{"$f":"IF($H175>0,AU175,0)","v":0},{"$f":"IF(AW175>0,1,0)","v":0},{"$f":"IF($H175>0,AV175,0)","v":0},{"$f":"IF(AY175>0,1,0)","v":0},{"$f":"IF($I175=BA$6,$E175,0)","v":0},0,{"$f":"IF($H175>0,BA175,0)","v":0},{"$f":"IF(BC175>0,1,0)","v":0},{"$f":"IF($H175>0,BB175,0)","v":0},{"$f":"IF(BE175>0,1,0)","v":0},null,0,null,null,null,0]
[{"$f":"IF(E176+G176>0,A174,\"\")","v":""},{"$f":"IF(E176+G176>0,B174,\"\")","v":""},{"$f":"C175","v":6},"03-4-23.525(333)",0,1.5,0,0,{"$f":"SUMIF(Y$14:BA$14,C176,Y$7:BA$7)","v":0},0,0,0,0,null,0,null,405.07,0,607.61,0,0,null,0,null,null,null,null,null,null,null,null,null,null,null,{"$f":"IF($I176=AI$7,$E176,0)","v":0},{"$f":"IF($K176=ROUND(AI$7*$F176,2),$G176,0)","v":0},0,0,0,0,{"$f":"IF($I176=AO$7,$E176,0)","v":0},{"$f":"IF($K176=ROUND(AO$7*$F176,2),$G176,0)","v":0},0,0,0,0,{"$f":"IF($I176=AU$7,$E176,0)","v":0},{"$f":"IF($K176=ROUND(AU$7*$F176,2),$G176,0)","v":0},0,0,0,0,{"$f":"IF($I176=BA$7,$E176,0)","v":0},{"$f":"IF($K176=ROUND(BA$7*$F176,2),$G176,0)","v":0},0,0,0,0,null,0,null,null,null,0]
[{"$f":"IF(E177+G177>0,A174,\"\")","v":""},{"$f":"IF(E177+G177>0,B174,\"\")","v":""},{"$f":"C175","v":6},"03-4-23.525(333)",0,1.1000000000000001,0,0,{"$f":"SUMIF(Y$14:BA$14,C177,Y$7:BA$7)","v":0},0,0,0,0,null,0,null,405.07,0,445.58,0,0,null,0,null,null,null,null,null,null,null,null,null,null,null,{"$f":"IF($I177=AI$7,$E177,0)","v":0},{"$f":"IF($K177=ROUND(AI$7*$F177,2),$G177,0)","v":0},0,0,0,0,{"$f":"IF($I177=AO$7,$E177,0)","v":0},{"$f":"IF($K177=ROUND(AO$7*$F177,2),$G177,0)","v":0},0,0,0,0,{"$f":"IF($I177=AU$7,$E177,0)","v":0},{"$f":"IF($K177=ROUND(AU$7*$F177,2),$G177,0)","v":0},0,0,0,0,{"$f":"IF($I177=BA$7,$E177,0)","v":0},{"$f":"IF($K177=ROUND(BA$7*$F177,2),$G177,0)","v":0},0,0,0,0,null,0,null,null,null,0]
["ИП               Евдокимова     Анастасия Алексеевна","Вельск, ул.Дзержинского-59",{"$f":"C179","v":6},"03-4-23.527(333)",2.0990000000000002,1.5,0,2.0990000000000002,{"$f":"SUMIF(Y$14:BA$14,C178,Y$6:BA$6)","v":1733.45},{"$f":"IF(H178=0,ROUND(E178*I178,2),ROUND(H178*E178,2))","v":4.41},{"$f":"ROUND(F178*I178,2)","v":2600.1799999999998},{"$f":"IF(H178=0,ROUND(ROUND(F178*I178,2)*G178,2),ROUND(G178*H178,2))","v":0},{"$f":"L178-ROUND(G178*I178,2)","v":0},null,{"$f":"J178+L178+N178","v":4.41},null,405.07,{"$f":"ROUND(Q178*E178,2)","v":850.24},{"$f":"ROUND(F178*Q178,2)","v":607.61},{"$f":"ROUND(S178*G178,2)","v":0},{"$f":"T178-ROUND(Q178*G178,2)","v":0},null,{"$f":"R178+T178+V178","v":850.24},null,null,null,null,null,null,null,null,null,null,null,{"$f":"IF($I178=AI$6,$E178,0)","v":0},{"$f":"IF($K178=ROUND(AI$6*$F178,2),$G178,0)","v":0},{"$f":"IF($H178>0,AI178,0)","v":0},{"$f":"IF(AK178>0,1,0)","v":0},{"$f":"IF($H178>0,AJ178,0)","v":0},{"$f":"IF(AM178>0,1,0)","v":0},{"$f":"IF($I178=AO$6,$E178,0)","v":0},{"$f":"IF($K178=ROUND(AO$6*$F178,2),$G178,0)","v":0},{"$f":"IF($H178>0,AO178,0)","v":0},{"$f":"IF(AQ178>0,1,0)","v":0},{"$f":"IF($H178>0,AP178,0)","v":0},{"$f":"IF(AS178>0,1,0)","v":0},{"$f":"IF($I178=AU$6,$E178,0)","v":2.0990000000000002},{"$f":"IF($K178=ROUND(AU$6*$F178,2),$G178,0)","v":0},{"$f":"IF($H178>0,AU178,0)","v":2.0990000000000002},{"$f":"IF(AW178>0,1,0)","v":1},{"$f":"IF($H178>0,AV178,0)","v":0},{"$f":"IF(AY178>0,1,0)","v":0},{"$f":"IF($I178=BA$6,$E178,0)","v":0},{"$f":"IF($K178=ROUND(BA$6*$F178,2),$G178,0)","v":0},{"$f":"IF($H178>0,BA178,0)","v":0},{"$f":"IF(BC178>0,1,0)","v":0},{"$f":"IF($H178>0,BB178,0)","v":0},{"$f":"IF(BE178>0,1,0)","v":0},null,2.0990000000000002E-3,2.2999999999999998,null,null,0]
[{"$f":"IF(E179+G179>0,A178,\"\")","v":""},{"$f":"IF(E179+G179>0,B178,\"\")","v":""},6,"03-4-23.527(333)",0,1.1000000000000001,0,0,{"$f":"SUMIF(Y$14:BA$14,C179,Y$6:BA$6)","v":1733.45},{"$f":"IF(H179=0,ROUND(E179*I179,2),ROUND(H179*E179,2))","v":0},{"$f":"ROUND(F179*I179,2)","v":1906.8},{"$f":"IF(H179=0,ROUND(ROUND(F179*I179,2)*G179,2),ROUND(G179*H179,2))","v":0},{"$f":"L179-ROUND(G179*I179,2)","v":0},null,{"$f":"J179+L179+N179","v":0},null,405.07,{"$f":"ROUND(Q179*E179,2)","v":0},{"$f":"ROUND(F179*Q179,2)","v":445.58},{"$f":"ROUND(S179*G179,2)","v":0},{"$f":"T179-ROUND(Q179*G179,2)","v":0},null,{"$f":"R179+T179+V179","v":0},null,null,null,null,null,null,null,null,null,null,null,{"$f":"IF($I179=AI$6,$E179,0)","v":0},0,{"$f":"IF($H179>0,AI179,0)","v":0},{"$f":"IF(AK179>0,1,0)","v":0},{"$f":"IF($H179>0,AJ179,0)","v":0},{"$f":"IF(AM179>0,1,0)","v":0},{"$f":"IF($I179=AO$6,$E179,0)","v":0},0,{"$f":"IF($H179>0,AO179,0)","v":0},{"$f":"IF(AQ179>0,1,0)","v":0},{"$f":"IF($H179>0,AP179,0)","v":0},{"$f":"IF(AS179>0,1,0)","v":0},{"$f":"IF($I179=AU$6,$E179,0)","v":0},0,{"$f":"IF($H179>0,AU179,0)","v":0},{"$f":"IF(AW179>0,1,0)","v":0},{"$f":"IF($H179>0,AV179,0)","v":0},{"$f":"IF(AY179>0,1,0)","v":0},{"$f":"IF($I179=BA$6,$E179,0)","v":0},0,{"$f":"IF($H179>0,BA179,0)","v":0},{"$f":"IF(BC179>0,1,0)","v":0},{"$f":"IF($H179>0,BB179,0)","v":0},{"$f":"IF(BE179>0,1,0)","v":0},null,0,null,null,null,0]
[{"$f":"IF(E180+G180>0,A178,\"\")","v":""},{"$f":"IF(E180+G180>0,B178,\"\")","v":""},{"$f":"C179","v":6},"03-4-23.527(333)",0,1.5,0,0,{"$f":"SUMIF(Y$14:BA$14,C180,Y$7:BA$7)","v":0},0,0,0,0,null,0,null,405.07,0,607.61,0,0,null,0,null,null,null,null,null,null,null,null,null,null,null,{"$f":"IF($I180=AI$7,$E180,0)","v":0},{"$f":"IF($K180=ROUND(AI$7*$F180,2),$G180,0)","v":0},0,0,0,0,{"$f":"IF($I180=AO$7,$E180,0)","v":0},{"$f":"IF($K180=ROUND(AO$7*$F180,2),$G180,0)","v":0},0,0,0,0,{"$f":"IF($I180=AU$7,$E180,0)","v":0},{"$f":"IF($K180=ROUND(AU$7*$F180,2),$G180,0)","v":0},0,0,0,0,{"$f":"IF($I180=BA$7,$E180,0)","v":0},{"$f":"IF($K180=ROUND(BA$7*$F180,2),$G180,0)","v":0},0,0,0,0,null,0,null,null,null,0]
[{"$f":"IF(E181+G181>0,A178,\"\")","v":""},{"$f":"IF(E181+G181>0,B178,\"\")","v":""},{"$f":"C179","v":6},"03-4-23.527(333)",0,1.1000000000000001,0,0,{"$f":"SUMIF(Y$14:BA$14,C181,Y$7:BA$7)","v":0},0,0,0,0,null,0,null,405.07,0,445.58,0,0,null,0,null,null,null,null,null,null,null,null,null,null,null,{"$f":"IF($I181=AI$7,$E181,0)","v":0},{"$f":"IF($K181=ROUND(AI$7*$F181,2),$G181,0)","v":0},0,0,0,0,{"$f":"IF($I181=AO$7,$E181,0)","v":0},{"$f":"IF($K181=ROUND(AO$7*$F181,2),$G181,0)","v":0},0,0,0,0,{"$f":"IF($I181=AU$7,$E181,0)","v":0},{"$f":"IF($K181=ROUND(AU$7*$F181,2),$G181,0)","v":0},0,0,0,0,{"$f":"IF($I181=BA$7,$E181,0)","v":0},{"$f":"IF($K181=ROUND(BA$7*$F181,2),$G181,0)","v":0},0,0,0,0,null,0,null,null,null,0]
["ИП               Евдокимова     Анастасия Алексеевна","Вельск, ул.Революционная-105",{"$f":"C183","v":7},"03-4-23.527(333)",0.34200000000000003,1.5,0,0.34200000000000003,{"$f":"SUMIF(Y$14:BA$14,C182,Y$6:BA$6)","v":2166.8000000000002},{"$f":"IF(H182=0,ROUND(E182*I182,2),ROUND(H182*E182,2))","v":0.12},{"$f":"ROUND(F182*I182,2)","v":3250.2},{"$f":"IF(H182=0,ROUND(ROUND(F182*I182,2)*G182,2),ROUND(G182*H182,2))","v":0},{"$f":"L182-ROUND(G182*I182,2)","v":0},null,{"$f":"J182+L182+N182","v":0.12},null,405.07,{"$f":"ROUND(Q182*E182,2)","v":138.53},{"$f":"ROUND(F182*Q182,2)","v":607.61},{"$f":"ROUND(S182*G182,2)","v":0},{"$f":"T182-ROUND(Q182*G182,2)","v":0},null,{"$f":"R182+T182+V182","v":138.53},null,null,null,null,null,null,null,null,null,null,null,{"$f":"IF($I182=AI$6,$E182,0)","v":0},{"$f":"IF($K182=ROUND(AI$6*$F182,2),$G182,0)","v":0},{"$f":"IF($H182>0,AI182,0)","v":0},{"$f":"IF(AK182>0,1,0)","v":0},{"$f":"IF($H182>0,AJ182,0)","v":0},{"$f":"IF(AM182>0,1,0)","v":0},{"$f":"IF($I182=AO$6,$E182,0)","v":0},{"$f":"IF($K182=ROUND(AO$6*$F182,2),$G182,0)","v":0},{"$f":"IF($H182>0,AO182,0)","v":0},{"$f":"IF(AQ182>0,1,0)","v":0},{"$f":"IF($H182>0,AP182,0)","v":0},{"$f":"IF(AS182>0,1,0)","v":0},{"$f":"IF($I182=AU$6,$E182,0)","v":0},{"$f":"IF($K182=ROUND(AU$6*$F182,2),$G182,0)","v":0},{"$f":"IF($H182>0,AU182,0)","v":0},{"$f":"IF(AW182>0,1,0)","v":0},{"$f":"IF($H182>0,AV182,0)","v":0},{"$f":"IF(AY182>0,1,0)","v":0},{"$f":"IF($I182=BA$6,$E182,0)","v":0.34200000000000003},{"$f":"IF($K182=ROUND(BA$6*$F182,2),$G182,0)","v":0},{"$f":"IF($H182>0,BA182,0)","v":0.34200000000000003},{"$f":"IF(BC182>0,1,0)","v":1},{"$f":"IF($H182>0,BB182,0)","v":0},{"$f":"IF(BE182>0,1,0)","v":0},null,3.4200000000000002E-4,1,null,null,0]
[{"$f":"IF(E183+G183>0,A182,\"\")","v":""},{"$f":"IF(E183+G183>0,B182,\"\")","v":""},7,"03-4-23.527(333)",0,1.1000000000000001,0,0,{"$f":"SUMIF(Y$14:BA$14,C183,Y$6:BA$6)","v":2166.8000000000002},{"$f":"IF(H183=0,ROUND(E183*I183,2),ROUND(H183*E183,2))","v":0},{"$f":"ROUND(F183*I183,2)","v":2383.48},{"$f":"IF(H183=0,ROUND(ROUND(F183*I183,2)*G183,2),ROUND(G183*H183,2))","v":0},{"$f":"L183-ROUND(G183*I183,2)","v":0},null,{"$f":"J183+L183+N183","v":0},null,405.07,{"$f":"ROUND(Q183*E183,2)","v":0},{"$f":"ROUND(F183*Q183,2)","v":445.58},{"$f":"ROUND(S183*G183,2)","v":0},{"$f":"T183-ROUND(Q183*G183,2)","v":0},null,{"$f":"R183+T183+V183","v":0},null,null,null,null,null,null,null,null,null,null,null,{"$f":"IF($I183=AI$6,$E183,0)","v":0},0,{"$f":"IF($H183>0,AI183,0)","v":0},{"$f":"IF(AK183>0,1,0)","v":0},{"$f":"IF($H183>0,AJ183,0)","v":0},{"$f":"IF(AM183>0,1,0)","v":0},{"$f":"IF($I183=AO$6,$E183,0)","v":0},0,{"$f":"IF($H183>0,AO183,0)","v":0},{"$f":"IF(AQ183>0,1,0)","v":0},{"$f":"IF($H183>0,AP183,0)","v":0},{"$f":"IF(AS183>0,1,0)","v":0},{"$f":"IF($I183=AU$6,$E183,0)","v":0},0,{"$f":"IF($H183>0,AU183,0)","v":0},{"$f":"IF(AW183>0,1,0)","v":0},{"$f":"IF($H183>0,AV183,0)","v":0},{"$f":"IF(AY183>0,1,0)","v":0},{"$f":"IF($I183=BA$6,$E183,0)","v":0},0,{"$f":"IF($H183>0,BA183,0)","v":0},{"$f":"IF(BC183>0,1,0)","v":0},{"$f":"IF($H183>0,BB183,0)","v":0},{"$f":"IF(BE183>0,1,0)","v":0},null,0,null,null,null,0]
[{"$f":"IF(E184+G184>0,A182,\"\")","v":""},{"$f":"IF(E184+G184>0,B182,\"\")","v":""},{"$f":"C183","v":7},"03-4-23.527(333)",0,1.5,0,0,{"$f":"SUMIF(Y$14:BA$14,C184,Y$7:BA$7)","v":0},0,0,0,0,null,0,null,405.07,0,607.61,0,0,null,0,null,null,null,null,null,null,null,null,null,null,null,{"$f":"IF($I184=AI$7,$E184,0)","v":0},{"$f":"IF($K184=ROUND(AI$7*$F184,2),$G184,0)","v":0},0,0,0,0,{"$f":"IF($I184=AO$7,$E184,0)","v":0},{"$f":"IF($K184=ROUND(AO$7*$F184,2),$G184,0)","v":0},0,0,0,0,{"$f":"IF($I184=AU$7,$E184,0)","v":0},{"$f":"IF($K184=ROUND(AU$7*$F184,2),$G184,0)","v":0},0,0,0,0,{"$f":"IF($I184=BA$7,$E184,0)","v":0},{"$f":"IF($K184=ROUND(BA$7*$F184,2),$G184,0)","v":0},0,0,0,0,null,0,null,null,null,0]
[{"$f":"IF(E185+G185>0,A182,\"\")","v":""},{"$f":"IF(E185+G185>0,B182,\"\")","v":""},{"$f":"C183","v":7},"03-4-23.527(333)",0,1.1000000000000001,0,0,{"$f":"SUMIF(Y$14:BA$14,C185,Y$7:BA$7)","v":0},0,0,0,0,null,0,null,405.07,0,445.58,0,0,null,0,null,null,null,null,null,null,null,null,null,null,null,{"$f":"IF($I185=AI$7,$E185,0)","v":0},{"$f":"IF($K185=ROUND(AI$7*$F185,2),$G185,0)","v":0},0,0,0,0,{"$f":"IF($I185=AO$7,$E185,0)","v":0},{"$f":"IF($K185=ROUND(AO$7*$F185,2),$G185,0)","v":0},0,0,0,0,{"$f":"IF($I185=AU$7,$E185,0)","v":0},{"$f":"IF($K185=ROUND(AU$7*$F185,2),$G185,0)","v":0},0,0,0,0,{"$f":"IF($I185=BA$7,$E185,0)","v":0},{"$f":"IF($K185=ROUND(BA$7*$F185,2),$G185,0)","v":0},0,0,0,0,null,0,null,null,null,0]
["ИП               Любарский      Юрий  Алексеевич","",{"$f":"C187","v":6},"03-4-23.528(333)",2.4300000000000002,1.5,0,2.4300000000000002,{"$f":"SUMIF(Y$14:BA$14,C186,Y$6:BA$6)","v":1733.45},{"$f":"IF(H186=0,ROUND(E186*I186,2),ROUND(H186*E186,2))","v":5.9},{"$f":"ROUND(F186*I186,2)","v":2600.1799999999998},{"$f":"IF(H186=0,ROUND(ROUND(F186*I186,2)*G186,2),ROUND(G186*H186,2))","v":0},{"$f":"L186-ROUND(G186*I186,2)","v":0},null,{"$f":"J186+L186+N186","v":5.9},null,405.07,{"$f":"ROUND(Q186*E186,2)","v":984.32},{"$f":"ROUND(F186*Q186,2)","v":607.61},{"$f":"ROUND(S186*G186,2)","v":0},{"$f":"T186-ROUND(Q186*G186,2)","v":0},null,{"$f":"R186+T186+V186","v":984.32},null,null,null,null,null,null,null,null,null,null,null,{"$f":"IF($I186=AI$6,$E186,0)","v":0},{"$f":"IF($K186=ROUND(AI$6*$F186,2),$G186,0)","v":0},{"$f":"IF($H186>0,AI186,0)","v":0},{"$f":"IF(AK186>0,1,0)","v":0},{"$f":"IF($H186>0,AJ186,0)","v":0},{"$f":"IF(AM186>0,1,0)","v":0},{"$f":"IF($I186=AO$6,$E186,0)","v":0},{"$f":"IF($K186=ROUND(AO$6*$F186,2),$G186,0)","v":0},{"$f":"IF($H186>0,AO186,0)","v":0},{"$f":"IF(AQ186>0,1,0)","v":0},{"$f":"IF($H186>0,AP186,0)","v":0},{"$f":"IF(AS186>0,1,0)","v":0},{"$f":"IF($I186=AU$6,$E186,0)","v":2.4300000000000002},{"$f":"IF($K186=ROUND(AU$6*$F186,2),$G186,0)","v":0},{"$f":"IF($H186>0,AU186,0)","v":2.4300000000000002},{"$f":"IF(AW186>0,1,0)","v":1},{"$f":"IF($H186>0,AV186,0)","v":0},{"$f":"IF(AY186>0,1,0)","v":0},{"$f":"IF($I186=BA$6,$E186,0)","v":0},{"$f":"IF($K186=ROUND(BA$6*$F186,2),$G186,0)","v":0},{"$f":"IF($H186>0,BA186,0)","v":0},{"$f":"IF(BC186>0,1,0)","v":0},{"$f":"IF($H186>0,BB186,0)","v":0},{"$f":"IF(BE186>0,1,0)","v":0},null,2.4300000000000003E-3,3.5,null,null,0]
[{"$f":"IF(E187+G187>0,A186,\"\")","v":""},{"$f":"IF(E187+G187>0,B186,\"\")","v":""},6,"03-4-23.528(333)",0,1.1000000000000001,0,0,{"$f":"SUMIF(Y$14:BA$14,C187,Y$6:BA$6)","v":1733.45},{"$f":"IF(H187=0,ROUND(E187*I187,2),ROUND(H187*E187,2))","v":0},{"$f":"ROUND(F187*I187,2)","v":1906.8},{"$f":"IF(H187=0,ROUND(ROUND(F187*I187,2)*G187,2),ROUND(G187*H187,2))","v":0},{"$f":"L187-ROUND(G187*I187,2)","v":0},null,{"$f":"J187+L187+N187","v":0},null,405.07,{"$f":"ROUND(Q187*E187,2)","v":0},{"$f":"ROUND(F187*Q187,2)","v":445.58},{"$f":"ROUND(S187*G187,2)","v":0},{"$f":"T187-ROUND(Q187*G187,2)","v":0},null,{"$f":"R187+T187+V187","v":0},null,null,null,null,null,null,null,null,null,null,null,{"$f":"IF($I187=AI$6,$E187,0)","v":0},0,{"$f":"IF($H187>0,AI187,0)","v":0},{"$f":"IF(AK187>0,1,0)","v":0},{"$f":"IF($H187>0,AJ187,0)","v":0},{"$f":"IF(AM187>0,1,0)","v":0},{"$f":"IF($I187=AO$6,$E187,0)","v":0},0,{"$f":"IF($H187>0,AO187,0)","v":0},{"$f":"IF(AQ187>0,1,0)","v":0},{"$f":"IF($H187>0,AP187,0)","v":0},{"$f":"IF(AS187>0,1,0)","v":0},{"$f":"IF($I187=AU$6,$E187,0)","v":0},0,{"$f":"IF($H187>0,AU187,0)","v":0},{"$f":"IF(AW187>0,1,0)","v":0},{"$f":"IF($H187>0,AV187,0)","v":0},{"$f":"IF(AY187>0,1,0)","v":0},{"$f":"IF($I187=BA$6,$E187,0)","v":0},0,{"$f":"IF($H187>0,BA187,0)","v":0},{"$f":"IF(BC187>0,1,0)","v":0},{"$f":"IF($H187>0,BB187,0)","v":0},{"$f":"IF(BE187>0,1,0)","v":0},null,0,null,null,null,0]
[{"$f":"IF(E188+G188>0,A186,\"\")","v":""},{"$f":"IF(E188+G188>0,B186,\"\")","v":""},{"$f":"C187","v":6},"03-4-23.528(333)",0,1.5,0,0,{"$f":"SUMIF(Y$14:BA$14,C188,Y$7:BA$7)","v":0},0,0,0,0,null,0,null,405.07,0,607.61,0,0,null,0,null,null,null,null,null,null,null,null,null,null,null,{"$f":"IF($I188=AI$7,$E188,0)","v":0},{"$f":"IF($K188=ROUND(AI$7*$F188,2),$G188,0)","v":0},0,0,0,0,{"$f":"IF($I188=AO$7,$E188,0)","v":0},{"$f":"IF($K188=ROUND(AO$7*$F188,2),$G188,0)","v":0},0,0,0,0,{"$f":"IF($I188=AU$7,$E188,0)","v":0},{"$f":"IF($K188=ROUND(AU$7*$F188,2),$G188,0)","v":0},0,0,0,0,{"$f":"IF($I188=BA$7,$E188,0)","v":0},{"$f":"IF($K188=ROUND(BA$7*$F188,2),$G188,0)","v":0},0,0,0,0,null,0,null,null,null,0]
[{"$f":"IF(E189+G189>0,A186,\"\")","v":""},{"$f":"IF(E189+G189>0,B186,\"\")","v":""},{"$f":"C187","v":6},"03-4-23.528(333)",0,1.1000000000000001,0,0,{"$f":"SUMIF(Y$14:BA$14,C189,Y$7:BA$7)","v":0},0,0,0,0,null,0,null,405.07,0,445.58,0,0,null,0,null,null,null,null,null,null,null,null,null,null,null,{"$f":"IF($I189=AI$7,$E189,0)","v":0},{"$f":"IF($K189=ROUND(AI$7*$F189,2),$G189,0)","v":0},0,0,0,0,{"$f":"IF($I189=AO$7,$E189,0)","v":0},{"$f":"IF($K189=ROUND(AO$7*$F189,2),$G189,0)","v":0},0,0,0,0,{"$f":"IF($I189=AU$7,$E189,0)","v":0},{"$f":"IF($K189=ROUND(AU$7*$F189,2),$G189,0)","v":0},0,0,0,0,{"$f":"IF($I189=BA$7,$E189,0)","v":0},{"$f":"IF($K189=ROUND(BA$7*$F189,2),$G189,0)","v":0},0,0,0,0,null,0,null,null,null,0]
["ООО          \"Наше Пиво\"","Вельск",{"$f":"C191","v":6},"03-4-23.529(333)",3.6909999999999998,1.5,0,3.6909999999999998,{"$f":"SUMIF(Y$14:BA$14,C190,Y$6:BA$6)","v":1733.45},{"$f":"IF(H190=0,ROUND(E190*I190,2),ROUND(H190*E190,2))","v":13.62},{"$f":"ROUND(F190*I190,2)","v":2600.1799999999998},{"$f":"IF(H190=0,ROUND(ROUND(F190*I190,2)*G190,2),ROUND(G190*H190,2))","v":0},{"$f":"L190-ROUND(G190*I190,2)","v":0},null,{"$f":"J190+L190+N190","v":13.62},null,405.07,{"$f":"ROUND(Q190*E190,2)","v":1495.11},{"$f":"ROUND(F190*Q190,2)","v":607.61},{"$f":"ROUND(S190*G190,2)","v":0},{"$f":"T190-ROUND(Q190*G190,2)","v":0},null,{"$f":"R190+T190+V190","v":1495.11},null,null,null,null,null,null,null,null,null,null,null,{"$f":"IF($I190=AI$6,$E190,0)","v":0},{"$f":"IF($K190=ROUND(AI$6*$F190,2),$G190,0)","v":0},{"$f":"IF($H190>0,AI190,0)","v":0},{"$f":"IF(AK190>0,1,0)","v":0},{"$f":"IF($H190>0,AJ190,0)","v":0},{"$f":"IF(AM190>0,1,0)","v":0},{"$f":"IF($I190=AO$6,$E190,0)","v":0},{"$f":"IF($K190=ROUND(AO$6*$F190,2),$G190,0)","v":0},{"$f":"IF($H190>0,AO190,0)","v":0},{"$f":"IF(AQ190>0,1,0)","v":0},{"$f":"IF($H190>0,AP190,0)","v":0},{"$f":"IF(AS190>0,1,0)","v":0},{"$f":"IF($I190=AU$6,$E190,0)","v":3.6909999999999998},{"$f":"IF($K190=ROUND(AU$6*$F190,2),$G190,0)","v":0},{"$f":"IF($H190>0,AU190,0)","v":3.6909999999999998},{"$f":"IF(AW190>0,1,0)","v":1},{"$f":"IF($H190>0,AV190,0)","v":0},{"$f":"IF(AY190>0,1,0)","v":0},{"$f":"IF($I190=BA$6,$E190,0)","v":0},{"$f":"IF($K190=ROUND(BA$6*$F190,2),$G190,0)","v":0},{"$f":"IF($H190>0,BA190,0)","v":0},{"$f":"IF(BC190>0,1,0)","v":0},{"$f":"IF($H190>0,BB190,0)","v":0},{"$f":"IF(BE190>0,1,0)","v":0},null,3.6909999999999998E-3,5.2,null,null,0]
[{"$f":"IF(E191+G191>0,A190,\"\")","v":""},{"$f":"IF(E191+G191>0,B190,\"\")","v":""},6,"03-4-23.529(333)",0,1.1000000000000001,0,0,{"$f":"SUMIF(Y$14:BA$14,C191,Y$6:BA$6)","v":1733.45},{"$f":"IF(H191=0,ROUND(E191*I191,2),ROUND(H191*E191,2))","v":0},{"$f":"ROUND(F191*I191,2)","v":1906.8},{"$f":"IF(H191=0,ROUND(ROUND(F191*I191,2)*G191,2),ROUND(G191*H191,2))","v":0},{"$f":"L191-ROUND(G191*I191,2)","v":0},null,{"$f":"J191+L191+N191","v":0},null,405.07,{"$f":"ROUND(Q191*E191,2)","v":0},{"$f":"ROUND(F191*Q191,2)","v":445.58},{"$f":"ROUND(S191*G191,2)","v":0},{"$f":"T191-ROUND(Q191*G191,2)","v":0},null,{"$f":"R191+T191+V191","v":0},null,null,null,null,null,null,null,null,null,null,null,{"$f":"IF($I191=AI$6,$E191,0)","v":0},0,{"$f":"IF($H191>0,AI191,0)","v":0},{"$f":"IF(AK191>0,1,0)","v":0},{"$f":"IF($H191>0,AJ191,0)","v":0},{"$f":"IF(AM191>0,1,0)","v":0},{"$f":"IF($I191=AO$6,$E191,0)","v":0},0,{"$f":"IF($H191>0,AO191,0)","v":0},{"$f":"IF(AQ191>0,1,0)","v":0},{"$f":"IF($H191>0,AP191,0)","v":0},{"$f":"IF(AS191>0,1,0)","v":0},{"$f":"IF($I191=AU$6,$E191,0)","v":0},0,{"$f":"IF($H191>0,AU191,0)","v":0},{"$f":"IF(AW191>0,1,0)","v":0},{"$f":"IF($H191>0,AV191,0)","v":0},{"$f":"IF(AY191>0,1,0)","v":0},{"$f":"IF($I191=BA$6,$E191,0)","v":0},0,{"$f":"IF($H191>0,BA191,0)","v":0},{"$f":"IF(BC191>0,1,0)","v":0},{"$f":"IF($H191>0,BB191,0)","v":0},{"$f":"IF(BE191>0,1,0)","v":0},null,0,null,null,null,0]
[{"$f":"IF(E192+G192>0,A190,\"\")","v":""},{"$f":"IF(E192+G192>0,B190,\"\")","v":""},{"$f":"C191","v":6},"03-4-23.529(333)",0,1.5,0,0,{"$f":"SUMIF(Y$14:BA$14,C192,Y$7:BA$7)","v":0},0,0,0,0,null,0,null,405.07,0,607.61,0,0,null,0,null,null,null,null,null,null,null,null,null,null,null,{"$f":"IF($I192=AI$7,$E192,0)","v":0},{"$f":"IF($K192=ROUND(AI$7*$F192,2),$G192,0)","v":0},0,0,0,0,{"$f":"IF($I192=AO$7,$E192,0)","v":0},{"$f":"IF($K192=ROUND(AO$7*$F192,2),$G192,0)","v":0},0,0,0,0,{"$f":"IF($I192=AU$7,$E192,0)","v":0},{"$f":"IF($K192=ROUND(AU$7*$F192,2),$G192,0)","v":0},0,0,0,0,{"$f":"IF($I192=BA$7,$E192,0)","v":0},{"$f":"IF($K192=ROUND(BA$7*$F192,2),$G192,0)","v":0},0,0,0,0,null,0,null,null,null,0]
[{"$f":"IF(E193+G193>0,A190,\"\")","v":""},{"$f":"IF(E193+G193>0,B190,\"\")","v":""},{"$f":"C191","v":6},"03-4-23.529(333)",0,1.1000000000000001,0,0,{"$f":"SUMIF(Y$14:BA$14,C193,Y$7:BA$7)","v":0},0,0,0,0,null,0,null,405.07,0,445.58,0,0,null,0,null,null,null,null,null,null,null,null,null,null,null,{"$f":"IF($I193=AI$7,$E193,0)","v":0},{"$f":"IF($K193=ROUND(AI$7*$F193,2),$G193,0)","v":0},0,0,0,0,{"$f":"IF($I193=AO$7,$E193,0)","v":0},{"$f":"IF($K193=ROUND(AO$7*$F193,2),$G193,0)","v":0},0,0,0,0,{"$f":"IF($I193=AU$7,$E193,0)","v":0},{"$f":"IF($K193=ROUND(AU$7*$F193,2),$G193,0)","v":0},0,0,0,0,{"$f":"IF($I193=BA$7,$E193,0)","v":0},{"$f":"IF($K193=ROUND(BA$7*$F193,2),$G193,0)","v":0},0,0,0,0,null,0,null,null,null,0]
["ООО          \"Фрегат\"  ","",{"$f":"C195","v":6},"03-4-23.531(333)",3.0139999999999998,1.5,0,3.0139999999999998,{"$f":"SUMIF(Y$14:BA$14,C194,Y$6:BA$6)","v":1733.45},{"$f":"IF(H194=0,ROUND(E194*I194,2),ROUND(H194*E194,2))","v":9.08},{"$f":"ROUND(F194*I194,2)","v":2600.1799999999998},{"$f":"IF(H194=0,ROUND(ROUND(F194*I194,2)*G194,2),ROUND(G194*H194,2))","v":0},{"$f":"L194-ROUND(G194*I194,2)","v":0},null,{"$f":"J194+L194+N194","v":9.08},null,405.07,{"$f":"ROUND(Q194*E194,2)","v":1220.8800000000001},{"$f":"ROUND(F194*Q194,2)","v":607.61},{"$f":"ROUND(S194*G194,2)","v":0},{"$f":"T194-ROUND(Q194*G194,2)","v":0},null,{"$f":"R194+T194+V194","v":1220.8800000000001},null,null,null,null,null,null,null,null,null,null,null,{"$f":"IF($I194=AI$6,$E194,0)","v":0},{"$f":"IF($K194=ROUND(AI$6*$F194,2),$G194,0)","v":0},{"$f":"IF($H194>0,AI194,0)","v":0},{"$f":"IF(AK194>0,1,0)","v":0},{"$f":"IF($H194>0,AJ194,0)","v":0},{"$f":"IF(AM194>0,1,0)","v":0},{"$f":"IF($I194=AO$6,$E194,0)","v":0},{"$f":"IF($K194=ROUND(AO$6*$F194,2),$G194,0)","v":0},{"$f":"IF($H194>0,AO194,0)","v":0},{"$f":"IF(AQ194>0,1,0)","v":0},{"$f":"IF($H194>0,AP194,0)","v":0},{"$f":"IF(AS194>0,1,0)","v":0},{"$f":"IF($I194=AU$6,$E194,0)","v":3.0139999999999998},{"$f":"IF($K194=ROUND(AU$6*$F194,2),$G194,0)","v":0},{"$f":"IF($H194>0,AU194,0)","v":3.0139999999999998},{"$f":"IF(AW194>0,1,0)","v":1},{"$f":"IF($H194>0,AV194,0)","v":0},{"$f":"IF(AY194>0,1,0)","v":0},{"$f":"IF($I194=BA$6,$E194,0)","v":0},{"$f":"IF($K194=ROUND(BA$6*$F194,2),$G194,0)","v":0},{"$f":"IF($H194>0,BA194,0)","v":0},{"$f":"IF(BC194>0,1,0)","v":0},{"$f":"IF($H194>0,BB194,0)","v":0},{"$f":"IF(BE194>0,1,0)","v":0},null,3.0139999999999998E-3,5.5,null,null,0]
[{"$f":"IF(E195+G195>0,A194,\"\")","v":""},{"$f":"IF(E195+G195>0,B194,\"\")","v":""},6,"03-4-23.531(333)",0,1.1000000000000001,0,0,{"$f":"SUMIF(Y$14:BA$14,C195,Y$6:BA$6)","v":1733.45},{"$f":"IF(H195=0,ROUND(E195*I195,2),ROUND(H195*E195,2))","v":0},{"$f":"ROUND(F195*I195,2)","v":1906.8},{"$f":"IF(H195=0,ROUND(ROUND(F195*I195,2)*G195,2),ROUND(G195*H195,2))","v":0},{"$f":"L195-ROUND(G195*I195,2)","v":0},null,{"$f":"J195+L195+N195","v":0},null,405.07,{"$f":"ROUND(Q195*E195,2)","v":0},{"$f":"ROUND(F195*Q195,2)","v":445.58},{"$f":"ROUND(S195*G195,2)","v":0},{"$f":"T195-ROUND(Q195*G195,2)","v":0},null,{"$f":"R195+T195+V195","v":0},null,null,null,null,null,null,null,null,null,null,null,{"$f":"IF($I195=AI$6,$E195,0)","v":0},0,{"$f":"IF($H195>0,AI195,0)","v":0},{"$f":"IF(AK195>0,1,0)","v":0},{"$f":"IF($H195>0,AJ195,0)","v":0},{"$f":"IF(AM195>0,1,0)","v":0},{"$f":"IF($I195=AO$6,$E195,0)","v":0},0,{"$f":"IF($H195>0,AO195,0)","v":0},{"$f":"IF(AQ195>0,1,0)","v":0},{"$f":"IF($H195>0,AP195,0)","v":0},{"$f":"IF(AS195>0,1,0)","v":0},{"$f":"IF($I195=AU$6,$E195,0)","v":0},0,{"$f":"IF($H195>0,AU195,0)","v":0},{"$f":"IF(AW195>0,1,0)","v":0},{"$f":"IF($H195>0,AV195,0)","v":0},{"$f":"IF(AY195>0,1,0)","v":0},{"$f":"IF($I195=BA$6,$E195,0)","v":0},0,{"$f":"IF($H195>0,BA195,0)","v":0},{"$f":"IF(BC195>0,1,0)","v":0},{"$f":"IF($H195>0,BB195,0)","v":0},{"$f":"IF(BE195>0,1,0)","v":0},null,0,null,null,null,0]
[{"$f":"IF(E196+G196>0,A194,\"\")","v":""},{"$f":"IF(E196+G196>0,B194,\"\")","v":""},{"$f":"C195","v":6},"03-4-23.531(333)",0,1.5,0,0,{"$f":"SUMIF(Y$14:BA$14,C196,Y$7:BA$7)","v":0},0,0,0,0,null,0,null,405.07,0,607.61,0,0,null,0,null,null,null,null,null,null,null,null,null,null,null,{"$f":"IF($I196=AI$7,$E196,0)","v":0},{"$f":"IF($K196=ROUND(AI$7*$F196,2),$G196,0)","v":0},0,0,0,0,{"$f":"IF($I196=AO$7,$E196,0)","v":0},{"$f":"IF($K196=ROUND(AO$7*$F196,2),$G196,0)","v":0},0,0,0,0,{"$f":"IF($I196=AU$7,$E196,0)","v":0},{"$f":"IF($K196=ROUND(AU$7*$F196,2),$G196,0)","v":0},0,0,0,0,{"$f":"IF($I196=BA$7,$E196,0)","v":0},{"$f":"IF($K196=ROUND(BA$7*$F196,2),$G196,0)","v":0},0,0,0,0,null,0,null,null,null,0]
[{"$f":"IF(E197+G197>0,A194,\"\")","v":""},{"$f":"IF(E197+G197>0,B194,\"\")","v":""},{"$f":"C195","v":6},"03-4-23.531(333)",0,1.1000000000000001,0,0,{"$f":"SUMIF(Y$14:BA$14,C197,Y$7:BA$7)","v":0},0,0,0,0,null,0,null,405.07,0,445.58,0,0,null,0,null,null,null,null,null,null,null,null,null,null,null,{"$f":"IF($I197=AI$7,$E197,0)","v":0},{"$f":"IF($K197=ROUND(AI$7*$F197,2),$G197,0)","v":0},0,0,0,0,{"$f":"IF($I197=AO$7,$E197,0)","v":0},{"$f":"IF($K197=ROUND(AO$7*$F197,2),$G197,0)","v":0},0,0,0,0,{"$f":"IF($I197=AU$7,$E197,0)","v":0},{"$f":"IF($K197=ROUND(AU$7*$F197,2),$G197,0)","v":0},0,0,0,0,{"$f":"IF($I197=BA$7,$E197,0)","v":0},{"$f":"IF($K197=ROUND(BA$7*$F197,2),$G197,0)","v":0},0,0,0,0,null,0,null,null,null,0]
["ИП               Онучин              Евгений   Борисович","",{"$f":"C199","v":6},"03-4-23.538(333)",1.603,1.5,0,1.603,{"$f":"SUMIF(Y$14:BA$14,C198,Y$6:BA$6)","v":1733.45},{"$f":"IF(H198=0,ROUND(E198*I198,2),ROUND(H198*E198,2))","v":2.57},{"$f":"ROUND(F198*I198,2)","v":2600.1799999999998},{"$f":"IF(H198=0,ROUND(ROUND(F198*I198,2)*G198,2),ROUND(G198*H198,2))","v":0},{"$f":"L198-ROUND(G198*I198,2)","v":0},null,{"$f":"J198+L198+N198","v":2.57},null,405.07,{"$f":"ROUND(Q198*E198,2)","v":649.33000000000004},{"$f":"ROUND(F198*Q198,2)","v":607.61},{"$f":"ROUND(S198*G198,2)","v":0},{"$f":"T198-ROUND(Q198*G198,2)","v":0},null,{"$f":"R198+T198+V198","v":649.33000000000004},null,null,null,null,null,null,null,null,null,null,null,{"$f":"IF($I198=AI$6,$E198,0)","v":0},{"$f":"IF($K198=ROUND(AI$6*$F198,2),$G198,0)","v":0},{"$f":"IF($H198>0,AI198,0)","v":0},{"$f":"IF(AK198>0,1,0)","v":0},{"$f":"IF($H198>0,AJ198,0)","v":0},{"$f":"IF(AM198>0,1,0)","v":0},{"$f":"IF($I198=AO$6,$E198,0)","v":0},{"$f":"IF($K198=ROUND(AO$6*$F198,2),$G198,0)","v":0},{"$f":"IF($H198>0,AO198,0)","v":0},{"$f":"IF(AQ198>0,1,0)","v":0},{"$f":"IF($H198>0,AP198,0)","v":0},{"$f":"IF(AS198>0,1,0)","v":0},{"$f":"IF($I198=AU$6,$E198,0)","v":1.603},{"$f":"IF($K198=ROUND(AU$6*$F198,2),$G198,0)","v":0},{"$f":"IF($H198>0,AU198,0)","v":1.603},{"$f":"IF(AW198>0,1,0)","v":1},{"$f":"IF($H198>0,AV198,0)","v":0},{"$f":"IF(AY198>0,1,0)","v":0},{"$f":"IF($I198=BA$6,$E198,0)","v":0},{"$f":"IF($K198=ROUND(BA$6*$F198,2),$G198,0)","v":0},{"$f":"IF($H198>0,BA198,0)","v":0},{"$f":"IF(BC198>0,1,0)","v":0},{"$f":"IF($H198>0,BB198,0)","v":0},{"$f":"IF(BE198>0,1,0)","v":0},null,1.603E-3,2.5,null,null,0]
[{"$f":"IF(E199+G199>0,A198,\"\")","v":""},{"$f":"IF(E199+G199>0,B198,\"\")","v":""},6,"03-4-23.538(333)",0,1.1000000000000001,0,0,{"$f":"SUMIF(Y$14:BA$14,C199,Y$6:BA$6)","v":1733.45},{"$f":"IF(H199=0,ROUND(E199*I199,2),ROUND(H199*E199,2))","v":0},{"$f":"ROUND(F199*I199,2)","v":1906.8},{"$f":"IF(H199=0,ROUND(ROUND(F199*I199,2)*G199,2),ROUND(G199*H199,2))","v":0},{"$f":"L199-ROUND(G199*I199,2)","v":0},null,{"$f":"J199+L199+N199","v":0},null,405.07,{"$f":"ROUND(Q199*E199,2)","v":0},{"$f":"ROUND(F199*Q199,2)","v":445.58},{"$f":"ROUND(S199*G199,2)","v":0},{"$f":"T199-ROUND(Q199*G199,2)","v":0},null,{"$f":"R199+T199+V199","v":0},null,null,null,null,null,null,null,null,null,null,null,{"$f":"IF($I199=AI$6,$E199,0)","v":0},0,{"$f":"IF($H199>0,AI199,0)","v":0},{"$f":"IF(AK199>0,1,0)","v":0},{"$f":"IF($H199>0,AJ199,0)","v":0},{"$f":"IF(AM199>0,1,0)","v":0},{"$f":"IF($I199=AO$6,$E199,0)","v":0},0,{"$f":"IF($H199>0,AO199,0)","v":0},{"$f":"IF(AQ199>0,1,0)","v":0},{"$f":"IF($H199>0,AP199,0)","v":0},{"$f":"IF(AS199>0,1,0)","v":0},{"$f":"IF($I199=AU$6,$E199,0)","v":0},0,{"$f":"IF($H199>0,AU199,0)","v":0},{"$f":"IF(AW199>0,1,0)","v":0},{"$f":"IF($H199>0,AV199,0)","v":0},{"$f":"IF(AY199>0,1,0)","v":0},{"$f":"IF($I199=BA$6,$E199,0)","v":0},0,{"$f":"IF($H199>0,BA199,0)","v":0},{"$f":"IF(BC199>0,1,0)","v":0},{"$f":"IF($H199>0,BB199,0)","v":0},{"$f":"IF(BE199>0,1,0)","v":0},null,0,null,null,null,0]
[{"$f":"IF(E200+G200>0,A198,\"\")","v":""},{"$f":"IF(E200+G200>0,B198,\"\")","v":""},{"$f":"C199","v":6},"03-4-23.538(333)",0,1.5,0,0,{"$f":"SUMIF(Y$14:BA$14,C200,Y$7:BA$7)","v":0},0,0,0,0,null,0,null,405.07,0,607.61,0,0,null,0,null,null,null,null,null,null,null,null,null,null,null,{"$f":"IF($I200=AI$7,$E200,0)","v":0},{"$f":"IF($K200=ROUND(AI$7*$F200,2),$G200,0)","v":0},0,0,0,0,{"$f":"IF($I200=AO$7,$E200,0)","v":0},{"$f":"IF($K200=ROUND(AO$7*$F200,2),$G200,0)","v":0},0,0,0,0,{"$f":"IF($I200=AU$7,$E200,0)","v":0},{"$f":"IF($K200=ROUND(AU$7*$F200,2),$G200,0)","v":0},0,0,0,0,{"$f":"IF($I200=BA$7,$E200,0)","v":0},{"$f":"IF($K200=ROUND(BA$7*$F200,2),$G200,0)","v":0},0,0,0,0,null,0,null,null,null,0]
[{"$f":"IF(E201+G201>0,A198,\"\")","v":""},{"$f":"IF(E201+G201>0,B198,\"\")","v":""},{"$f":"C199","v":6},"03-4-23.538(333)",0,1.1000000000000001,0,0,{"$f":"SUMIF(Y$14:BA$14,C201,Y$7:BA$7)","v":0},0,0,0,0,null,0,null,405.07,0,445.58,0,0,null,0,null,null,null,null,null,null,null,null,null,null,null,{"$f":"IF($I201=AI$7,$E201,0)","v":0},{"$f":"IF($K201=ROUND(AI$7*$F201,2),$G201,0)","v":0},0,0,0,0,{"$f":"IF($I201=AO$7,$E201,0)","v":0},{"$f":"IF($K201=ROUND(AO$7*$F201,2),$G201,0)","v":0},0,0,0,0,{"$f":"IF($I201=AU$7,$E201,0)","v":0},{"$f":"IF($K201=ROUND(AU$7*$F201,2),$G201,0)","v":0},0,0,0,0,{"$f":"IF($I201=BA$7,$E201,0)","v":0},{"$f":"IF($K201=ROUND(BA$7*$F201,2),$G201,0)","v":0},0,0,0,0,null,0,null,null,null,0]
["КУМИ Вельского муниципального района АО","",{"$f":"C203","v":7},"03-4-23.1116(333)",0,1.5,0,0,{"$f":"SUMIF(Y$14:BA$14,C202,Y$6:BA$6)","v":2166.8000000000002},{"$f":"IF(H202=0,ROUND(E202*I202,2),ROUND(H202*E202,2))","v":0},{"$f":"ROUND(F202*I202,2)","v":3250.2},{"$f":"IF(H202=0,ROUND(ROUND(F202*I202,2)*G202,2),ROUND(G202*H202,2))","v":0},{"$f":"L202-ROUND(G202*I202,2)","v":0},null,{"$f":"J202+L202+N202","v":0},null,405.07,{"$f":"ROUND(Q202*E202,2)","v":0},{"$f":"ROUND(F202*Q202,2)","v":607.61},{"$f":"ROUND(S202*G202,2)","v":0},{"$f":"T202-ROUND(Q202*G202,2)","v":0},null,{"$f":"R202+T202+V202","v":0},null,null,null,null,null,null,null,null,null,null,null,{"$f":"IF($I202=AI$6,$E202,0)","v":0},{"$f":"IF($K202=ROUND(AI$6*$F202,2),$G202,0)","v":0},{"$f":"IF($H202>0,AI202,0)","v":0},{"$f":"IF(AK202>0,1,0)","v":0},{"$f":"IF($H202>0,AJ202,0)","v":0},{"$f":"IF(AM202>0,1,0)","v":0},{"$f":"IF($I202=AO$6,$E202,0)","v":0},{"$f":"IF($K202=ROUND(AO$6*$F202,2),$G202,0)","v":0},{"$f":"IF($H202>0,AO202,0)","v":0},{"$f":"IF(AQ202>0,1,0)","v":0},{"$f":"IF($H202>0,AP202,0)","v":0},{"$f":"IF(AS202>0,1,0)","v":0},{"$f":"IF($I202=AU$6,$E202,0)","v":0},{"$f":"IF($K202=ROUND(AU$6*$F202,2),$G202,0)","v":0},{"$f":"IF($H202>0,AU202,0)","v":0},{"$f":"IF(AW202>0,1,0)","v":0},{"$f":"IF($H202>0,AV202,0)","v":0},{"$f":"IF(AY202>0,1,0)","v":0},{"$f":"IF($I202=BA$6,$E202,0)","v":0},{"$f":"IF($K202=ROUND(BA$6*$F202,2),$G202,0)","v":0},{"$f":"IF($H202>0,BA202,0)","v":0},{"$f":"IF(BC202>0,1,0)","v":0},{"$f":"IF($H202>0,BB202,0)","v":0},{"$f":"IF(BE202>0,1,0)","v":0},null,0,0,null,null,0]
[{"$f":"IF(E203+G203>0,A202,\"\")","v":""},{"$f":"IF(E203+G203>0,B202,\"\")","v":""},7,"03-4-23.1116(333)",0,1.1000000000000001,0,0,{"$f":"SUMIF(Y$14:BA$14,C203,Y$6:BA$6)","v":2166.8000000000002},{"$f":"IF(H203=0,ROUND(E203*I203,2),ROUND(H203*E203,2))","v":0},{"$f":"ROUND(F203*I203,2)","v":2383.48},{"$f":"IF(H203=0,ROUND(ROUND(F203*I203,2)*G203,2),ROUND(G203*H203,2))","v":0},{"$f":"L203-ROUND(G203*I203,2)","v":0},null,{"$f":"J203+L203+N203","v":0},null,405.07,{"$f":"ROUND(Q203*E203,2)","v":0},{"$f":"ROUND(F203*Q203,2)","v":445.58},{"$f":"ROUND(S203*G203,2)","v":0},{"$f":"T203-ROUND(Q203*G203,2)","v":0},null,{"$f":"R203+T203+V203","v":0},null,null,null,null,null,null,null,null,null,null,null,{"$f":"IF($I203=AI$6,$E203,0)","v":0},0,{"$f":"IF($H203>0,AI203,0)","v":0},{"$f":"IF(AK203>0,1,0)","v":0},{"$f":"IF($H203>0,AJ203,0)","v":0},{"$f":"IF(AM203>0,1,0)","v":0},{"$f":"IF($I203=AO$6,$E203,0)","v":0},0,{"$f":"IF($H203>0,AO203,0)","v":0},{"$f":"IF(AQ203>0,1,0)","v":0},{"$f":"IF($H203>0,AP203,0)","v":0},{"$f":"IF(AS203>0,1,0)","v":0},{"$f":"IF($I203=AU$6,$E203,0)","v":0},0,{"$f":"IF($H203>0,AU203,0)","v":0},{"$f":"IF(AW203>0,1,0)","v":0},{"$f":"IF($H203>0,AV203,0)","v":0},{"$f":"IF(AY203>0,1,0)","v":0},{"$f":"IF($I203=BA$6,$E203,0)","v":0},0,{"$f":"IF($H203>0,BA203,0)","v":0},{"$f":"IF(BC203>0,1,0)","v":0},{"$f":"IF($H203>0,BB203,0)","v":0},{"$f":"IF(BE203>0,1,0)","v":0},null,0,null,null,null,0]
[{"$f":"IF(E204+G204>0,A202,\"\")","v":""},{"$f":"IF(E204+G204>0,B202,\"\")","v":""},{"$f":"C203","v":7},"03-4-23.1116(333)",0,1.5,0,0,{"$f":"SUMIF(Y$14:BA$14,C204,Y$7:BA$7)","v":0},0,0,0,0,null,0,null,405.07,0,607.61,0,0,null,0,null,null,null,null,null,null,null,null,null,null,null,{"$f":"IF($I204=AI$7,$E204,0)","v":0},{"$f":"IF($K204=ROUND(AI$7*$F204,2),$G204,0)","v":0},0,0,0,0,{"$f":"IF($I204=AO$7,$E204,0)","v":0},{"$f":"IF($K204=ROUND(AO$7*$F204,2),$G204,0)","v":0},0,0,0,0,{"$f":"IF($I204=AU$7,$E204,0)","v":0},{"$f":"IF($K204=ROUND(AU$7*$F204,2),$G204,0)","v":0},0,0,0,0,{"$f":"IF($I204=BA$7,$E204,0)","v":0},{"$f":"IF($K204=ROUND(BA$7*$F204,2),$G204,0)","v":0},0,0,0,0,null,0,null,null,null,0]
[{"$f":"IF(E205+G205>0,A202,\"\")","v":""},{"$f":"IF(E205+G205>0,B202,\"\")","v":""},{"$f":"C203","v":7},"03-4-23.1116(333)",0,1.1000000000000001,0,0,{"$f":"SUMIF(Y$14:BA$14,C205,Y$7:BA$7)","v":0},0,0,0,0,null,0,null,405.07,0,445.58,0,0,null,0,null,null,null,null,null,null,null,null,null,null,null,{"$f":"IF($I205=AI$7,$E205,0)","v":0},{"$f":"IF($K205=ROUND(AI$7*$F205,2),$G205,0)","v":0},0,0,0,0,{"$f":"IF($I205=AO$7,$E205,0)","v":0},{"$f":"IF($K205=ROUND(AO$7*$F205,2),$G205,0)","v":0},0,0,0,0,{"$f":"IF($I205=AU$7,$E205,0)","v":0},{"$f":"IF($K205=ROUND(AU$7*$F205,2),$G205,0)","v":0},0,0,0,0,{"$f":"IF($I205=BA$7,$E205,0)","v":0},{"$f":"IF($K205=ROUND(BA$7*$F205,2),$G205,0)","v":0},0,0,0,0,null,0,null,null,null,0]
["Гр.               Онучина           Людмила  Владимировна","",{"$f":"C207","v":6},"03-4-23.548(333)",0.71899999999999997,1.5,0,0.71899999999999997,{"$f":"SUMIF(Y$14:BA$14,C206,Y$6:BA$6)","v":1733.45},{"$f":"IF(H206=0,ROUND(E206*I206,2),ROUND(H206*E206,2))","v":0.52},{"$f":"ROUND(F206*I206,2)","v":2600.1799999999998},{"$f":"IF(H206=0,ROUND(ROUND(F206*I206,2)*G206,2),ROUND(G206*H206,2))","v":0},{"$f":"L206-ROUND(G206*I206,2)","v":0},null,{"$f":"J206+L206+N206","v":0.52},null,405.07,{"$f":"ROUND(Q206*E206,2)","v":291.25},{"$f":"ROUND(F206*Q206,2)","v":607.61},{"$f":"ROUND(S206*G206,2)","v":0},{"$f":"T206-ROUND(Q206*G206,2)","v":0},null,{"$f":"R206+T206+V206","v":291.25},null,null,null,null,null,null,null,null,null,null,null,{"$f":"IF($I206=AI$6,$E206,0)","v":0},{"$f":"IF($K206=ROUND(AI$6*$F206,2),$G206,0)","v":0},{"$f":"IF($H206>0,AI206,0)","v":0},{"$f":"IF(AK206>0,1,0)","v":0},{"$f":"IF($H206>0,AJ206,0)","v":0},{"$f":"IF(AM206>0,1,0)","v":0},{"$f":"IF($I206=AO$6,$E206,0)","v":0},{"$f":"IF($K206=ROUND(AO$6*$F206,2),$G206,0)","v":0},{"$f":"IF($H206>0,AO206,0)","v":0},{"$f":"IF(AQ206>0,1,0)","v":0},{"$f":"IF($H206>0,AP206,0)","v":0},{"$f":"IF(AS206>0,1,0)","v":0},{"$f":"IF($I206=AU$6,$E206,0)","v":0.71899999999999997},{"$f":"IF($K206=ROUND(AU$6*$F206,2),$G206,0)","v":0},{"$f":"IF($H206>0,AU206,0)","v":0.71899999999999997},{"$f":"IF(AW206>0,1,0)","v":1},{"$f":"IF($H206>0,AV206,0)","v":0},{"$f":"IF(AY206>0,1,0)","v":0},{"$f":"IF($I206=BA$6,$E206,0)","v":0},{"$f":"IF($K206=ROUND(BA$6*$F206,2),$G206,0)","v":0},{"$f":"IF($H206>0,BA206,0)","v":0},{"$f":"IF(BC206>0,1,0)","v":0},{"$f":"IF($H206>0,BB206,0)","v":0},{"$f":"IF(BE206>0,1,0)","v":0},null,7.1900000000000002E-4,1,null,null,0]
[{"$f":"IF(E207+G207>0,A206,\"\")","v":""},{"$f":"IF(E207+G207>0,B206,\"\")","v":""},6,"03-4-23.548(333)",0,1.1000000000000001,0,0,{"$f":"SUMIF(Y$14:BA$14,C207,Y$6:BA$6)","v":1733.45},{"$f":"IF(H207=0,ROUND(E207*I207,2),ROUND(H207*E207,2))","v":0},{"$f":"ROUND(F207*I207,2)","v":1906.8},{"$f":"IF(H207=0,ROUND(ROUND(F207*I207,2)*G207,2),ROUND(G207*H207,2))","v":0},{"$f":"L207-ROUND(G207*I207,2)","v":0},null,{"$f":"J207+L207+N207","v":0},null,405.07,{"$f":"ROUND(Q207*E207,2)","v":0},{"$f":"ROUND(F207*Q207,2)","v":445.58},{"$f":"ROUND(S207*G207,2)","v":0},{"$f":"T207-ROUND(Q207*G207,2)","v":0},null,{"$f":"R207+T207+V207","v":0},null,null,null,null,null,null,null,null,null,null,null,{"$f":"IF($I207=AI$6,$E207,0)","v":0},0,{"$f":"IF($H207>0,AI207,0)","v":0},{"$f":"IF(AK207>0,1,0)","v":0},{"$f":"IF($H207>0,AJ207,0)","v":0},{"$f":"IF(AM207>0,1,0)","v":0},{"$f":"IF($I207=AO$6,$E207,0)","v":0},0,{"$f":"IF($H207>0,AO207,0)","v":0},{"$f":"IF(AQ207>0,1,0)","v":0},{"$f":"IF($H207>0,AP207,0)","v":0},{"$f":"IF(AS207>0,1,0)","v":0},{"$f":"IF($I207=AU$6,$E207,0)","v":0},0,{"$f":"IF($H207>0,AU207,0)","v":0},{"$f":"IF(AW207>0,1,0)","v":0},{"$f":"IF($H207>0,AV207,0)","v":0},{"$f":"IF(AY207>0,1,0)","v":0},{"$f":"IF($I207=BA$6,$E207,0)","v":0},0,{"$f":"IF($H207>0,BA207,0)","v":0},{"$f":"IF(BC207>0,1,0)","v":0},{"$f":"IF($H207>0,BB207,0)","v":0},{"$f":"IF(BE207>0,1,0)","v":0},null,0,null,null,null,0]
[{"$f":"IF(E208+G208>0,A206,\"\")","v":""},{"$f":"IF(E208+G208>0,B206,\"\")","v":""},{"$f":"C207","v":6},"03-4-23.548(333)",0,1.5,0,0,{"$f":"SUMIF(Y$14:BA$14,C208,Y$7:BA$7)","v":0},0,0,0,0,null,0,null,{"$f":"IF(BI208>0,Q$6,Q$6)","v":405.07},0,607.61,0,0,null,0,null,null,null,null,null,null,null,null,null,null,null,{"$f":"IF($I208=AI$7,$E208,0)","v":0},{"$f":"IF($K208=ROUND(AI$7*$F208,2),$G208,0)","v":0},0,0,0,0,{"$f":"IF($I208=AO$7,$E208,0)","v":0},{"$f":"IF($K208=ROUND(AO$7*$F208,2),$G208,0)","v":0},0,0,0,0,{"$f":"IF($I208=AU$7,$E208,0)","v":0},{"$f":"IF($K208=ROUND(AU$7*$F208,2),$G208,0)","v":0},0,0,0,0,{"$f":"IF($I208=BA$7,$E208,0)","v":0},{"$f":"IF($K208=ROUND(BA$7*$F208,2),$G208,0)","v":0},0,0,0,0,null,0,null,null,null,0]
[{"$f":"IF(E209+G209>0,A206,\"\")","v":""},{"$f":"IF(E209+G209>0,B206,\"\")","v":""},{"$f":"C207","v":6},"03-4-23.548(333)",0,1.1000000000000001,0,{"$f":"E209+G209","v":0},{"$f":"SUMIF(Y$14:BA$14,C209,Y$7:BA$7)","v":0},0,0,0,0,null,0,null,405.07,0,445.58,0,0,null,0,null,null,null,null,null,null,null,null,null,null,null,{"$f":"IF($I209=AI$7,$E209,0)","v":0},{"$f":"IF($K209=ROUND(AI$7*$F209,2),$G209,0)","v":0},0,0,0,0,{"$f":"IF($I209=AO$7,$E209,0)","v":0},{"$f":"IF($K209=ROUND(AO$7*$F209,2),$G209,0)","v":0},0,0,0,0,{"$f":"IF($I209=AU$7,$E209,0)","v":0},{"$f":"IF($K209=ROUND(AU$7*$F209,2),$G209,0)","v":0},0,0,0,0,{"$f":"IF($I209=BA$7,$E209,0)","v":0},{"$f":"IF($K209=ROUND(BA$7*$F209,2),$G209,0)","v":0},0,0,0,0,null,{"$f":"H209/1000","v":0},null,null,null,{"$f":"E209-SUM(AI209,AO209,AU209,BA209)","v":0}]
["Гр.               Блинова           Елена  Витальевна","",{"$f":"C211","v":6},"03-4-23.551",0.85599999999999998,1.5,0,0.85599999999999998,{"$f":"SUMIF(Y$14:BA$14,C210,Y$6:BA$6)","v":1733.45},{"$f":"IF(H210=0,ROUND(E210*I210,2),ROUND(H210*E210,2))","v":0.73},{"$f":"ROUND(F210*I210,2)","v":2600.1799999999998},{"$f":"IF(H210=0,ROUND(ROUND(F210*I210,2)*G210,2),ROUND(G210*H210,2))","v":0},{"$f":"L210-ROUND(G210*I210,2)","v":0},null,{"$f":"J210+L210+N210","v":0.73},null,405.07,{"$f":"ROUND(Q210*E210,2)","v":346.74},{"$f":"ROUND(F210*Q210,2)","v":607.61},{"$f":"ROUND(S210*G210,2)","v":0},{"$f":"T210-ROUND(Q210*G210,2)","v":0},null,{"$f":"R210+T210+V210","v":346.74},null,null,null,null,null,null,null,null,null,null,null,{"$f":"IF($I210=AI$6,$E210,0)","v":0},{"$f":"IF($K210=ROUND(AI$6*$F210,2),$G210,0)","v":0},{"$f":"IF($H210>0,AI210,0)","v":0},{"$f":"IF(AK210>0,1,0)","v":0},{"$f":"IF($H210>0,AJ210,0)","v":0},{"$f":"IF(AM210>0,1,0)","v":0},{"$f":"IF($I210=AO$6,$E210,0)","v":0},{"$f":"IF($K210=ROUND(AO$6*$F210,2),$G210,0)","v":0},{"$f":"IF($H210>0,AO210,0)","v":0},{"$f":"IF(AQ210>0,1,0)","v":0},{"$f":"IF($H210>0,AP210,0)","v":0},{"$f":"IF(AS210>0,1,0)","v":0},{"$f":"IF($I210=AU$6,$E210,0)","v":0.85599999999999998},{"$f":"IF($K210=ROUND(AU$6*$F210,2),$G210,0)","v":0},{"$f":"IF($H210>0,AU210,0)","v":0.85599999999999998},{"$f":"IF(AW210>0,1,0)","v":1},{"$f":"IF($H210>0,AV210,0)","v":0},{"$f":"IF(AY210>0,1,0)","v":0},{"$f":"IF($I210=BA$6,$E210,0)","v":0},{"$f":"IF($K210=ROUND(BA$6*$F210,2),$G210,0)","v":0},{"$f":"IF($H210>0,BA210,0)","v":0},{"$f":"IF(BC210>0,1,0)","v":0},{"$f":"IF($H210>0,BB210,0)","v":0},{"$f":"IF(BE210>0,1,0)","v":0},null,8.5599999999999999E-4,1.5,null,null,0]
[{"$f":"IF(E211+G211>0,A210,\"\")","v":""},{"$f":"IF(E211+G211>0,B210,\"\")","v":""},6,"03-4-23.551",0,1.1000000000000001,0,0,{"$f":"SUMIF(Y$14:BA$14,C211,Y$6:BA$6)","v":1733.45},{"$f":"IF(H211=0,ROUND(E211*I211,2),ROUND(H211*E211,2))","v":0},{"$f":"ROUND(F211*I211,2)","v":1906.8},{"$f":"IF(H211=0,ROUND(ROUND(F211*I211,2)*G211,2),ROUND(G211*H211,2))","v":0},{"$f":"L211-ROUND(G211*I211,2)","v":0},null,{"$f":"J211+L211+N211","v":0},null,405.07,{"$f":"ROUND(Q211*E211,2)","v":0},{"$f":"ROUND(F211*Q211,2)","v":445.58},{"$f":"ROUND(S211*G211,2)","v":0},{"$f":"T211-ROUND(Q211*G211,2)","v":0},null,{"$f":"R211+T211+V211","v":0},null,null,null,null,null,null,null,null,null,null,null,{"$f":"IF($I211=AI$6,$E211,0)","v":0},0,{"$f":"IF($H211>0,AI211,0)","v":0},{"$f":"IF(AK211>0,1,0)","v":0},{"$f":"IF($H211>0,AJ211,0)","v":0},{"$f":"IF(AM211>0,1,0)","v":0},{"$f":"IF($I211=AO$6,$E211,0)","v":0},0,{"$f":"IF($H211>0,AO211,0)","v":0},{"$f":"IF(AQ211>0,1,0)","v":0},{"$f":"IF($H211>0,AP211,0)","v":0},{"$f":"IF(AS211>0,1,0)","v":0},{"$f":"IF($I211=AU$6,$E211,0)","v":0},0,{"$f":"IF($H211>0,AU211,0)","v":0},{"$f":"IF(AW211>0,1,0)","v":0},{"$f":"IF($H211>0,AV211,0)","v":0},{"$f":"IF(AY211>0,1,0)","v":0},{"$f":"IF($I211=BA$6,$E211,0)","v":0},0,{"$f":"IF($H211>0,BA211,0)","v":0},{"$f":"IF(BC211>0,1,0)","v":0},{"$f":"IF($H211>0,BB211,0)","v":0},{"$f":"IF(BE211>0,1,0)","v":0},null,0,null,null,null,0]
[{"$f":"IF(E212+G212>0,A210,\"\")","v":""},{"$f":"IF(E212+G212>0,B210,\"\")","v":""},{"$f":"C211","v":6},"03-4-23.551",0,1.5,0,0,{"$f":"SUMIF(Y$14:BA$14,C212,Y$7:BA$7)","v":0},0,0,0,0,null,0,null,405.07,0,607.61,0,0,null,0,null,null,null,null,null,null,null,null,null,null,null,{"$f":"IF($I212=AI$7,$E212,0)","v":0},{"$f":"IF($K212=ROUND(AI$7*$F212,2),$G212,0)","v":0},0,0,0,0,{"$f":"IF($I212=AO$7,$E212,0)","v":0},{"$f":"IF($K212=ROUND(AO$7*$F212,2),$G212,0)","v":0},0,0,0,0,{"$f":"IF($I212=AU$7,$E212,0)","v":0},{"$f":"IF($K212=ROUND(AU$7*$F212,2),$G212,0)","v":0},0,0,0,0,{"$f":"IF($I212=BA$7,$E212,0)","v":0},{"$f":"IF($K212=ROUND(BA$7*$F212,2),$G212,0)","v":0},0,0,0,0,null,0,null,null,null,0]
[{"$f":"IF(E213+G213>0,A210,\"\")","v":""},{"$f":"IF(E213+G213>0,B210,\"\")","v":""},{"$f":"C211","v":6},"03-4-23.551",0,1.1000000000000001,0,0,{"$f":"SUMIF(Y$14:BA$14,C213,Y$7:BA$7)","v":0},0,0,0,0,null,0,null,405.07,0,445.58,0,0,null,0,null,null,null,null,null,null,null,null,null,null,null,{"$f":"IF($I213=AI$7,$E213,0)","v":0},{"$f":"IF($K213=ROUND(AI$7*$F213,2),$G213,0)","v":0},0,0,0,0,{"$f":"IF($I213=AO$7,$E213,0)","v":0},{"$f":"IF($K213=ROUND(AO$7*$F213,2),$G213,0)","v":0},0,0,0,0,{"$f":"IF($I213=AU$7,$E213,0)","v":0},{"$f":"IF($K213=ROUND(AU$7*$F213,2),$G213,0)","v":0},0,0,0,0,{"$f":"IF($I213=BA$7,$E213,0)","v":0},{"$f":"IF($K213=ROUND(BA$7*$F213,2),$G213,0)","v":0},0,0,0,0,null,0,null,null,null,0]
["ИП               Нивин               Сергей    Игоревич","",{"$f":"C215","v":6},"03-4-23.552(333)",1.38,1.5,0,1.38,{"$f":"SUMIF(Y$14:BA$14,C214,Y$6:BA$6)","v":1733.45},{"$f":"IF(H214=0,ROUND(E214*I214,2),ROUND(H214*E214,2))","v":1.9},{"$f":"ROUND(F214*I214,2)","v":2600.1799999999998},{"$f":"IF(H214=0,ROUND(ROUND(F214*I214,2)*G214,2),ROUND(G214*H214,2))","v":0},{"$f":"L214-ROUND(G214*I214,2)","v":0},null,{"$f":"J214+L214+N214","v":1.9},null,405.07,{"$f":"ROUND(Q214*E214,2)","v":559},{"$f":"ROUND(F214*Q214,2)","v":607.61},{"$f":"ROUND(S214*G214,2)","v":0},{"$f":"T214-ROUND(Q214*G214,2)","v":0},null,{"$f":"R214+T214+V214","v":559},null,null,null,null,null,null,null,null,null,null,null,{"$f":"IF($I214=AI$6,$E214,0)","v":0},{"$f":"IF($K214=ROUND(AI$6*$F214,2),$G214,0)","v":0},{"$f":"IF($H214>0,AI214,0)","v":0},{"$f":"IF(AK214>0,1,0)","v":0},{"$f":"IF($H214>0,AJ214,0)","v":0},{"$f":"IF(AM214>0,1,0)","v":0},{"$f":"IF($I214=AO$6,$E214,0)","v":0},{"$f":"IF($K214=ROUND(AO$6*$F214,2),$G214,0)","v":0},{"$f":"IF($H214>0,AO214,0)","v":0},{"$f":"IF(AQ214>0,1,0)","v":0},{"$f":"IF($H214>0,AP214,0)","v":0},{"$f":"IF(AS214>0,1,0)","v":0},{"$f":"IF($I214=AU$6,$E214,0)","v":1.38},{"$f":"IF($K214=ROUND(AU$6*$F214,2),$G214,0)","v":0},{"$f":"IF($H214>0,AU214,0)","v":1.38},{"$f":"IF(AW214>0,1,0)","v":1},{"$f":"IF($H214>0,AV214,0)","v":0},{"$f":"IF(AY214>0,1,0)","v":0},{"$f":"IF($I214=BA$6,$E214,0)","v":0},{"$f":"IF($K214=ROUND(BA$6*$F214,2),$G214,0)","v":0},{"$f":"IF($H214>0,BA214,0)","v":0},{"$f":"IF(BC214>0,1,0)","v":0},{"$f":"IF($H214>0,BB214,0)","v":0},{"$f":"IF(BE214>0,1,0)","v":0},null,1.3799999999999999E-3,2.6,null,null,0]
[{"$f":"IF(E215+G215>0,A214,\"\")","v":""},{"$f":"IF(E215+G215>0,B214,\"\")","v":""},6,"03-4-23.552(333)",0,1.1000000000000001,0,0,{"$f":"SUMIF(Y$14:BA$14,C215,Y$6:BA$6)","v":1733.45},{"$f":"IF(H215=0,ROUND(E215*I215,2),ROUND(H215*E215,2))","v":0},{"$f":"ROUND(F215*I215,2)","v":1906.8},{"$f":"IF(H215=0,ROUND(ROUND(F215*I215,2)*G215,2),ROUND(G215*H215,2))","v":0},{"$f":"L215-ROUND(G215*I215,2)","v":0},null,{"$f":"J215+L215+N215","v":0},null,405.07,{"$f":"ROUND(Q215*E215,2)","v":0},{"$f":"ROUND(F215*Q215,2)","v":445.58},{"$f":"ROUND(S215*G215,2)","v":0},{"$f":"T215-ROUND(Q215*G215,2)","v":0},null,{"$f":"R215+T215+V215","v":0},null,null,null,null,null,null,null,null,null,null,null,{"$f":"IF($I215=AI$6,$E215,0)","v":0},0,{"$f":"IF($H215>0,AI215,0)","v":0},{"$f":"IF(AK215>0,1,0)","v":0},{"$f":"IF($H215>0,AJ215,0)","v":0},{"$f":"IF(AM215>0,1,0)","v":0},{"$f":"IF($I215=AO$6,$E215,0)","v":0},0,{"$f":"IF($H215>0,AO215,0)","v":0},{"$f":"IF(AQ215>0,1,0)","v":0},{"$f":"IF($H215>0,AP215,0)","v":0},{"$f":"IF(AS215>0,1,0)","v":0},{"$f":"IF($I215=AU$6,$E215,0)","v":0},0,{"$f":"IF($H215>0,AU215,0)","v":0},{"$f":"IF(AW215>0,1,0)","v":0},{"$f":"IF($H215>0,AV215,0)","v":0},{"$f":"IF(AY215>0,1,0)","v":0},{"$f":"IF($I215=BA$6,$E215,0)","v":0},0,{"$f":"IF($H215>0,BA215,0)","v":0},{"$f":"IF(BC215>0,1,0)","v":0},{"$f":"IF($H215>0,BB215,0)","v":0},{"$f":"IF(BE215>0,1,0)","v":0},null,0,null,null,null,0]
[{"$f":"IF(E216+G216>0,A214,\"\")","v":""},{"$f":"IF(E216+G216>0,B214,\"\")","v":""},{"$f":"C215","v":6},"03-4-23.552(333)",0,1.5,0,0,{"$f":"SUMIF(Y$14:BA$14,C216,Y$7:BA$7)","v":0},0,0,0,0,null,0,null,405.07,0,607.61,0,0,null,0,null,null,null,null,null,null,null,null,null,null,null,{"$f":"IF($I216=AI$7,$E216,0)","v":0},{"$f":"IF($K216=ROUND(AI$7*$F216,2),$G216,0)","v":0},0,0,0,0,{"$f":"IF($I216=AO$7,$E216,0)","v":0},{"$f":"IF($K216=ROUND(AO$7*$F216,2),$G216,0)","v":0},0,0,0,0,{"$f":"IF($I216=AU$7,$E216,0)","v":0},{"$f":"IF($K216=ROUND(AU$7*$F216,2),$G216,0)","v":0},0,0,0,0,{"$f":"IF($I216=BA$7,$E216,0)","v":0},{"$f":"IF($K216=ROUND(BA$7*$F216,2),$G216,0)","v":0},0,0,0,0,null,0,null,null,null,0]
[{"$f":"IF(E217+G217>0,A214,\"\")","v":""},{"$f":"IF(E217+G217>0,B214,\"\")","v":""},{"$f":"C215","v":6},"03-4-23.552(333)",0,1.1000000000000001,0,0,{"$f":"SUMIF(Y$14:BA$14,C217,Y$7:BA$7)","v":0},0,0,0,0,null,0,null,405.07,0,445.58,0,0,null,0,null,null,null,null,null,null,null,null,null,null,null,{"$f":"IF($I217=AI$7,$E217,0)","v":0},{"$f":"IF($K217=ROUND(AI$7*$F217,2),$G217,0)","v":0},0,0,0,0,{"$f":"IF($I217=AO$7,$E217,0)","v":0},{"$f":"IF($K217=ROUND(AO$7*$F217,2),$G217,0)","v":0},0,0,0,0,{"$f":"IF($I217=AU$7,$E217,0)","v":0},{"$f":"IF($K217=ROUND(AU$7*$F217,2),$G217,0)","v":0},0,0,0,0,{"$f":"IF($I217=BA$7,$E217,0)","v":0},{"$f":"IF($K217=ROUND(BA$7*$F217,2),$G217,0)","v":0},0,0,0,0,null,0,null,null,null,0]
["ИП               Антоновская    Мария Александровна   (до 01.03  -  ИП Стоянович В.П.)","",{"$f":"C219","v":7},"03-4-23.1106(333)/03-4-23.554(333)",0.56000000000000005,1.5,0,0.56000000000000005,{"$f":"SUMIF(Y$14:BA$14,C218,Y$6:BA$6)","v":2166.8000000000002},{"$f":"IF(H218=0,ROUND(E218*I218,2),ROUND(H218*E218,2))","v":0.31},{"$f":"ROUND(F218*I218,2)","v":3250.2},{"$f":"IF(H218=0,ROUND(ROUND(F218*I218,2)*G218,2),ROUND(G218*H218,2))","v":0},{"$f":"L218-ROUND(G218*I218,2)","v":0},null,{"$f":"J218+L218+N218","v":0.31},null,405.07,{"$f":"ROUND(Q218*E218,2)","v":226.84},{"$f":"ROUND(F218*Q218,2)","v":607.61},{"$f":"ROUND(S218*G218,2)","v":0},{"$f":"T218-ROUND(Q218*G218,2)","v":0},null,{"$f":"R218+T218+V218","v":226.84},null,null,null,null,null,null,null,null,null,null,null,{"$f":"IF($I218=AI$6,$E218,0)","v":0},{"$f":"IF($K218=ROUND(AI$6*$F218,2),$G218,0)","v":0},{"$f":"IF($H218>0,AI218,0)","v":0},{"$f":"IF(AK218>0,1,0)","v":0},{"$f":"IF($H218>0,AJ218,0)","v":0},{"$f":"IF(AM218>0,1,0)","v":0},{"$f":"IF($I218=AO$6,$E218,0)","v":0},{"$f":"IF($K218=ROUND(AO$6*$F218,2),$G218,0)","v":0},{"$f":"IF($H218>0,AO218,0)","v":0},{"$f":"IF(AQ218>0,1,0)","v":0},{"$f":"IF($H218>0,AP218,0)","v":0},{"$f":"IF(AS218>0,1,0)","v":0},{"$f":"IF($I218=AU$6,$E218,0)","v":0},{"$f":"IF($K218=ROUND(AU$6*$F218,2),$G218,0)","v":0},{"$f":"IF($H218>0,AU218,0)","v":0},{"$f":"IF(AW218>0,1,0)","v":0},{"$f":"IF($H218>0,AV218,0)","v":0},{"$f":"IF(AY218>0,1,0)","v":0},{"$f":"IF($I218=BA$6,$E218,0)","v":0.56000000000000005},{"$f":"IF($K218=ROUND(BA$6*$F218,2),$G218,0)","v":0},{"$f":"IF($H218>0,BA218,0)","v":0.56000000000000005},{"$f":"IF(BC218>0,1,0)","v":1},{"$f":"IF($H218>0,BB218,0)","v":0},{"$f":"IF(BE218>0,1,0)","v":0},null,5.6000000000000006E-4,0.8,null,null,0]
[{"$f":"IF(E219+G219>0,A218,\"\")","v":""},{"$f":"IF(E219+G219>0,B218,\"\")","v":""},7,"03-4-23.1106(333)/03-4-23.554(333)",0,1.1000000000000001,0,0,{"$f":"SUMIF(Y$14:BA$14,C219,Y$6:BA$6)","v":2166.8000000000002},{"$f":"IF(H219=0,ROUND(E219*I219,2),ROUND(H219*E219,2))","v":0},{"$f":"ROUND(F219*I219,2)","v":2383.48},{"$f":"IF(H219=0,ROUND(ROUND(F219*I219,2)*G219,2),ROUND(G219*H219,2))","v":0},{"$f":"L219-ROUND(G219*I219,2)","v":0},null,{"$f":"J219+L219+N219","v":0},null,405.07,{"$f":"ROUND(Q219*E219,2)","v":0},{"$f":"ROUND(F219*Q219,2)","v":445.58},{"$f":"ROUND(S219*G219,2)","v":0},{"$f":"T219-ROUND(Q219*G219,2)","v":0},null,{"$f":"R219+T219+V219","v":0},null,null,null,null,null,null,null,null,null,null,null,{"$f":"IF($I219=AI$6,$E219,0)","v":0},0,{"$f":"IF($H219>0,AI219,0)","v":0},{"$f":"IF(AK219>0,1,0)","v":0},{"$f":"IF($H219>0,AJ219,0)","v":0},{"$f":"IF(AM219>0,1,0)","v":0},{"$f":"IF($I219=AO$6,$E219,0)","v":0},0,{"$f":"IF($H219>0,AO219,0)","v":0},{"$f":"IF(AQ219>0,1,0)","v":0},{"$f":"IF($H219>0,AP219,0)","v":0},{"$f":"IF(AS219>0,1,0)","v":0},{"$f":"IF($I219=AU$6,$E219,0)","v":0},0,{"$f":"IF($H219>0,AU219,0)","v":0},{"$f":"IF(AW219>0,1,0)","v":0},{"$f":"IF($H219>0,AV219,0)","v":0},{"$f":"IF(AY219>0,1,0)","v":0},{"$f":"IF($I219=BA$6,$E219,0)","v":0},0,{"$f":"IF($H219>0,BA219,0)","v":0},{"$f":"IF(BC219>0,1,0)","v":0},{"$f":"IF($H219>0,BB219,0)","v":0},{"$f":"IF(BE219>0,1,0)","v":0},null,0,null,null,null,0]
[{"$f":"IF(E220+G220>0,A218,\"\")","v":""},{"$f":"IF(E220+G220>0,B218,\"\")","v":""},{"$f":"C219","v":7},"03-4-23.1106(333)/03-4-23.554(333)",0,1.5,0,0,{"$f":"SUMIF(Y$14:BA$14,C220,Y$7:BA$7)","v":0},0,0,0,0,null,0,null,405.07,0,607.61,0,0,null,0,null,null,null,null,null,null,null,null,null,null,null,{"$f":"IF($I220=AI$7,$E220,0)","v":0},{"$f":"IF($K220=ROUND(AI$7*$F220,2),$G220,0)","v":0},0,0,0,0,{"$f":"IF($I220=AO$7,$E220,0)","v":0},{"$f":"IF($K220=ROUND(AO$7*$F220,2),$G220,0)","v":0},0,0,0,0,{"$f":"IF($I220=AU$7,$E220,0)","v":0},{"$f":"IF($K220=ROUND(AU$7*$F220,2),$G220,0)","v":0},0,0,0,0,{"$f":"IF($I220=BA$7,$E220,0)","v":0},{"$f":"IF($K220=ROUND(BA$7*$F220,2),$G220,0)","v":0},0,0,0,0,null,0,null,null,null,0]
[{"$f":"IF(E221+G221>0,A218,\"\")","v":""},{"$f":"IF(E221+G221>0,B218,\"\")","v":""},{"$f":"C219","v":7},"03-4-23.1106(333)/03-4-23.554(333)",0,1.1000000000000001,0,0,{"$f":"SUMIF(Y$14:BA$14,C221,Y$7:BA$7)","v":0},0,0,0,0,null,0,null,405.07,0,445.58,0,0,null,0,null,null,null,null,null,null,null,null,null,null,null,{"$f":"IF($I221=AI$7,$E221,0)","v":0},{"$f":"IF($K221=ROUND(AI$7*$F221,2),$G221,0)","v":0},0,0,0,0,{"$f":"IF($I221=AO$7,$E221,0)","v":0},{"$f":"IF($K221=ROUND(AO$7*$F221,2),$G221,0)","v":0},0,0,0,0,{"$f":"IF($I221=AU$7,$E221,0)","v":0},{"$f":"IF($K221=ROUND(AU$7*$F221,2),$G221,0)","v":0},0,0,0,0,{"$f":"IF($I221=BA$7,$E221,0)","v":0},{"$f":"IF($K221=ROUND(BA$7*$F221,2),$G221,0)","v":0},0,0,0,0,null,0,null,null,null,0]
["ИП               Колданов         Вячеслав Савватиевич","",{"$f":"C223","v":7},"03-4-23.556(333)",0.66600000000000004,1.5,0,0.66600000000000004,{"$f":"SUMIF(Y$14:BA$14,C222,Y$6:BA$6)","v":2166.8000000000002},{"$f":"IF(H222=0,ROUND(E222*I222,2),ROUND(H222*E222,2))","v":0.44},{"$f":"ROUND(F222*I222,2)","v":3250.2},{"$f":"IF(H222=0,ROUND(ROUND(F222*I222,2)*G222,2),ROUND(G222*H222,2))","v":0},{"$f":"L222-ROUND(G222*I222,2)","v":0},null,{"$f":"J222+L222+N222","v":0.44},null,405.07,{"$f":"ROUND(Q222*E222,2)","v":269.77999999999997},{"$f":"ROUND(F222*Q222,2)","v":607.61},{"$f":"ROUND(S222*G222,2)","v":0},{"$f":"T222-ROUND(Q222*G222,2)","v":0},null,{"$f":"R222+T222+V222","v":269.77999999999997},null,null,null,null,null,null,null,null,null,null,null,{"$f":"IF($I222=AI$6,$E222,0)","v":0},{"$f":"IF($K222=ROUND(AI$6*$F222,2),$G222,0)","v":0},{"$f":"IF($H222>0,AI222,0)","v":0},{"$f":"IF(AK222>0,1,0)","v":0},{"$f":"IF($H222>0,AJ222,0)","v":0},{"$f":"IF(AM222>0,1,0)","v":0},{"$f":"IF($I222=AO$6,$E222,0)","v":0},{"$f":"IF($K222=ROUND(AO$6*$F222,2),$G222,0)","v":0},{"$f":"IF($H222>0,AO222,0)","v":0},{"$f":"IF(AQ222>0,1,0)","v":0},{"$f":"IF($H222>0,AP222,0)","v":0},{"$f":"IF(AS222>0,1,0)","v":0},{"$f":"IF($I222=AU$6,$E222,0)","v":0},{"$f":"IF($K222=ROUND(AU$6*$F222,2),$G222,0)","v":0},{"$f":"IF($H222>0,AU222,0)","v":0},{"$f":"IF(AW222>0,1,0)","v":0},{"$f":"IF($H222>0,AV222,0)","v":0},{"$f":"IF(AY222>0,1,0)","v":0},{"$f":"IF($I222=BA$6,$E222,0)","v":0.66600000000000004},{"$f":"IF($K222=ROUND(BA$6*$F222,2),$G222,0)","v":0},{"$f":"IF($H222>0,BA222,0)","v":0.66600000000000004},{"$f":"IF(BC222>0,1,0)","v":1},{"$f":"IF($H222>0,BB222,0)","v":0},{"$f":"IF(BE222>0,1,0)","v":0},null,6.6600000000000003E-4,1,null,null,0]
[{"$f":"IF(E223+G223>0,A222,\"\")","v":""},{"$f":"IF(E223+G223>0,B222,\"\")","v":""},7,"03-4-23.556(333)",0,1.1000000000000001,0,0,{"$f":"SUMIF(Y$14:BA$14,C223,Y$6:BA$6)","v":2166.8000000000002},{"$f":"IF(H223=0,ROUND(E223*I223,2),ROUND(H223*E223,2))","v":0},{"$f":"ROUND(F223*I223,2)","v":2383.48},{"$f":"IF(H223=0,ROUND(ROUND(F223*I223,2)*G223,2),ROUND(G223*H223,2))","v":0},{"$f":"L223-ROUND(G223*I223,2)","v":0},null,{"$f":"J223+L223+N223","v":0},null,405.07,{"$f":"ROUND(Q223*E223,2)","v":0},{"$f":"ROUND(F223*Q223,2)","v":445.58},{"$f":"ROUND(S223*G223,2)","v":0},{"$f":"T223-ROUND(Q223*G223,2)","v":0},null,{"$f":"R223+T223+V223","v":0},null,null,null,null,null,null,null,null,null,null,null,{"$f":"IF($I223=AI$6,$E223,0)","v":0},0,{"$f":"IF($H223>0,AI223,0)","v":0},{"$f":"IF(AK223>0,1,0)","v":0},{"$f":"IF($H223>0,AJ223,0)","v":0},{"$f":"IF(AM223>0,1,0)","v":0},{"$f":"IF($I223=AO$6,$E223,0)","v":0},0,{"$f":"IF($H223>0,AO223,0)","v":0},{"$f":"IF(AQ223>0,1,0)","v":0},{"$f":"IF($H223>0,AP223,0)","v":0},{"$f":"IF(AS223>0,1,0)","v":0},{"$f":"IF($I223=AU$6,$E223,0)","v":0},0,{"$f":"IF($H223>0,AU223,0)","v":0},{"$f":"IF(AW223>0,1,0)","v":0},{"$f":"IF($H223>0,AV223,0)","v":0},{"$f":"IF(AY223>0,1,0)","v":0},{"$f":"IF($I223=BA$6,$E223,0)","v":0},0,{"$f":"IF($H223>0,BA223,0)","v":0},{"$f":"IF(BC223>0,1,0)","v":0},{"$f":"IF($H223>0,BB223,0)","v":0},{"$f":"IF(BE223>0,1,0)","v":0},null,0,null,null,null,0]
[{"$f":"IF(E224+G224>0,A222,\"\")","v":""},{"$f":"IF(E224+G224>0,B222,\"\")","v":""},{"$f":"C223","v":7},"03-4-23.556(333)",0,1.5,0,0,{"$f":"SUMIF(Y$14:BA$14,C224,Y$7:BA$7)","v":0},0,0,0,0,null,0,null,405.07,0,607.61,0,0,null,0,null,null,null,null,null,null,null,null,null,null,null,{"$f":"IF($I224=AI$7,$E224,0)","v":0},{"$f":"IF($K224=ROUND(AI$7*$F224,2),$G224,0)","v":0},0,0,0,0,{"$f":"IF($I224=AO$7,$E224,0)","v":0},{"$f":"IF($K224=ROUND(AO$7*$F224,2),$G224,0)","v":0},0,0,0,0,{"$f":"IF($I224=AU$7,$E224,0)","v":0},{"$f":"IF($K224=ROUND(AU$7*$F224,2),$G224,0)","v":0},0,0,0,0,{"$f":"IF($I224=BA$7,$E224,0)","v":0},{"$f":"IF($K224=ROUND(BA$7*$F224,2),$G224,0)","v":0},0,0,0,0,null,0,null,null,null,0]
[{"$f":"IF(E225+G225>0,A222,\"\")","v":""},{"$f":"IF(E225+G225>0,B222,\"\")","v":""},{"$f":"C223","v":7},"03-4-23.556(333)",0,1.1000000000000001,0,0,{"$f":"SUMIF(Y$14:BA$14,C225,Y$7:BA$7)","v":0},0,0,0,0,null,0,null,405.07,0,445.58,0,0,null,0,null,null,null,null,null,null,null,null,null,null,null,{"$f":"IF($I225=AI$7,$E225,0)","v":0},{"$f":"IF($K225=ROUND(AI$7*$F225,2),$G225,0)","v":0},0,0,0,0,{"$f":"IF($I225=AO$7,$E225,0)","v":0},{"$f":"IF($K225=ROUND(AO$7*$F225,2),$G225,0)","v":0},0,0,0,0,{"$f":"IF($I225=AU$7,$E225,0)","v":0},{"$f":"IF($K225=ROUND(AU$7*$F225,2),$G225,0)","v":0},0,0,0,0,{"$f":"IF($I225=BA$7,$E225,0)","v":0},{"$f":"IF($K225=ROUND(BA$7*$F225,2),$G225,0)","v":0},0,0,0,0,null,0,null,null,null,0]
["Гр.               Гневашева       Оксана Владимировна","",{"$f":"C227","v":7},"03-4-23.557(333)",0.1,1.5,0,0.1,{"$f":"SUMIF(Y$14:BA$14,C226,Y$6:BA$6)","v":2166.8000000000002},{"$f":"IF(H226=0,ROUND(E226*I226,2),ROUND(H226*E226,2))","v":0.01},{"$f":"ROUND(F226*I226,2)","v":3250.2},{"$f":"IF(H226=0,ROUND(ROUND(F226*I226,2)*G226,2),ROUND(G226*H226,2))","v":0},{"$f":"L226-ROUND(G226*I226,2)","v":0},null,{"$f":"J226+L226+N226","v":0.01},null,405.07,{"$f":"ROUND(Q226*E226,2)","v":40.51},{"$f":"ROUND(F226*Q226,2)","v":607.61},{"$f":"ROUND(S226*G226,2)","v":0},{"$f":"T226-ROUND(Q226*G226,2)","v":0},null,{"$f":"R226+T226+V226","v":40.51},null,null,null,null,null,null,null,null,null,null,null,{"$f":"IF($I226=AI$6,$E226,0)","v":0},{"$f":"IF($K226=ROUND(AI$6*$F226,2),$G226,0)","v":0},{"$f":"IF($H226>0,AI226,0)","v":0},{"$f":"IF(AK226>0,1,0)","v":0},{"$f":"IF($H226>0,AJ226,0)","v":0},{"$f":"IF(AM226>0,1,0)","v":0},{"$f":"IF($I226=AO$6,$E226,0)","v":0},{"$f":"IF($K226=ROUND(AO$6*$F226,2),$G226,0)","v":0},{"$f":"IF($H226>0,AO226,0)","v":0},{"$f":"IF(AQ226>0,1,0)","v":0},{"$f":"IF($H226>0,AP226,0)","v":0},{"$f":"IF(AS226>0,1,0)","v":0},{"$f":"IF($I226=AU$6,$E226,0)","v":0},{"$f":"IF($K226=ROUND(AU$6*$F226,2),$G226,0)","v":0},{"$f":"IF($H226>0,AU226,0)","v":0},{"$f":"IF(AW226>0,1,0)","v":0},{"$f":"IF($H226>0,AV226,0)","v":0},{"$f":"IF(AY226>0,1,0)","v":0},{"$f":"IF($I226=BA$6,$E226,0)","v":0.1},{"$f":"IF($K226=ROUND(BA$6*$F226,2),$G226,0)","v":0},{"$f":"IF($H226>0,BA226,0)","v":0.1},{"$f":"IF(BC226>0,1,0)","v":1},{"$f":"IF($H226>0,BB226,0)","v":0},{"$f":"IF(BE226>0,1,0)","v":0},null,1E-4,0.1,null,null,0]
[{"$f":"IF(E227+G227>0,A226,\"\")","v":""},{"$f":"IF(E227+G227>0,B226,\"\")","v":""},7,"03-4-23.557(333)",0,1.1000000000000001,0,0,{"$f":"SUMIF(Y$14:BA$14,C227,Y$6:BA$6)","v":2166.8000000000002},{"$f":"IF(H227=0,ROUND(E227*I227,2),ROUND(H227*E227,2))","v":0},{"$f":"ROUND(F227*I227,2)","v":2383.48},{"$f":"IF(H227=0,ROUND(ROUND(F227*I227,2)*G227,2),ROUND(G227*H227,2))","v":0},{"$f":"L227-ROUND(G227*I227,2)","v":0},null,{"$f":"J227+L227+N227","v":0},null,405.07,{"$f":"ROUND(Q227*E227,2)","v":0},{"$f":"ROUND(F227*Q227,2)","v":445.58},{"$f":"ROUND(S227*G227,2)","v":0},{"$f":"T227-ROUND(Q227*G227,2)","v":0},null,{"$f":"R227+T227+V227","v":0},null,null,null,null,null,null,null,null,null,null,null,{"$f":"IF($I227=AI$6,$E227,0)","v":0},0,{"$f":"IF($H227>0,AI227,0)","v":0},{"$f":"IF(AK227>0,1,0)","v":0},{"$f":"IF($H227>0,AJ227,0)","v":0},{"$f":"IF(AM227>0,1,0)","v":0},{"$f":"IF($I227=AO$6,$E227,0)","v":0},0,{"$f":"IF($H227>0,AO227,0)","v":0},{"$f":"IF(AQ227>0,1,0)","v":0},{"$f":"IF($H227>0,AP227,0)","v":0},{"$f":"IF(AS227>0,1,0)","v":0},{"$f":"IF($I227=AU$6,$E227,0)","v":0},0,{"$f":"IF($H227>0,AU227,0)","v":0},{"$f":"IF(AW227>0,1,0)","v":0},{"$f":"IF($H227>0,AV227,0)","v":0},{"$f":"IF(AY227>0,1,0)","v":0},{"$f":"IF($I227=BA$6,$E227,0)","v":0},0,{"$f":"IF($H227>0,BA227,0)","v":0},{"$f":"IF(BC227>0,1,0)","v":0},{"$f":"IF($H227>0,BB227,0)","v":0},{"$f":"IF(BE227>0,1,0)","v":0},null,0,null,null,null,0]
[{"$f":"IF(E228+G228>0,A226,\"\")","v":""},{"$f":"IF(E228+G228>0,B226,\"\")","v":""},{"$f":"C227","v":7},"03-4-23.557(333)",0,1.5,0,0,{"$f":"SUMIF(Y$14:BA$14,C228,Y$7:BA$7)","v":0},0,0,0,0,null,0,null,405.07,0,607.61,0,0,null,0,null,null,null,null,null,null,null,null,null,null,null,{"$f":"IF($I228=AI$7,$E228,0)","v":0},{"$f":"IF($K228=ROUND(AI$7*$F228,2),$G228,0)","v":0},0,0,0,0,{"$f":"IF($I228=AO$7,$E228,0)","v":0},{"$f":"IF($K228=ROUND(AO$7*$F228,2),$G228,0)","v":0},0,0,0,0,{"$f":"IF($I228=AU$7,$E228,0)","v":0},{"$f":"IF($K228=ROUND(AU$7*$F228,2),$G228,0)","v":0},0,0,0,0,{"$f":"IF($I228=BA$7,$E228,0)","v":0},{"$f":"IF($K228=ROUND(BA$7*$F228,2),$G228,0)","v":0},0,0,0,0,null,0,null,null,null,0]
[{"$f":"IF(E229+G229>0,A226,\"\")","v":""},{"$f":"IF(E229+G229>0,B226,\"\")","v":""},{"$f":"C227","v":7},"03-4-23.557(333)",0,1.1000000000000001,0,0,{"$f":"SUMIF(Y$14:BA$14,C229,Y$7:BA$7)","v":0},0,0,0,0,null,0,null,405.07,0,445.58,0,0,null,0,null,null,null,null,null,null,null,null,null,null,null,{"$f":"IF($I229=AI$7,$E229,0)","v":0},{"$f":"IF($K229=ROUND(AI$7*$F229,2),$G229,0)","v":0},0,0,0,0,{"$f":"IF($I229=AO$7,$E229,0)","v":0},{"$f":"IF($K229=ROUND(AO$7*$F229,2),$G229,0)","v":0},0,0,0,0,{"$f":"IF($I229=AU$7,$E229,0)","v":0},{"$f":"IF($K229=ROUND(AU$7*$F229,2),$G229,0)","v":0},0,0,0,0,{"$f":"IF($I229=BA$7,$E229,0)","v":0},{"$f":"IF($K229=ROUND(BA$7*$F229,2),$G229,0)","v":0},0,0,0,0,null,0,null,null,null,0]
["ИП               Бегунов            Андрей Владимирович","",{"$f":"C231","v":6},"03-4-23.558(333)",3.3340000000000001,1.5,0,3.3340000000000001,{"$f":"SUMIF(Y$14:BA$14,C230,Y$6:BA$6)","v":1733.45},{"$f":"IF(H230=0,ROUND(E230*I230,2),ROUND(H230*E230,2))","v":11.12},{"$f":"ROUND(F230*I230,2)","v":2600.1799999999998},{"$f":"IF(H230=0,ROUND(ROUND(F230*I230,2)*G230,2),ROUND(G230*H230,2))","v":0},{"$f":"L230-ROUND(G230*I230,2)","v":0},null,{"$f":"J230+L230+N230","v":11.12},null,405.07,{"$f":"ROUND(Q230*E230,2)","v":1350.5},{"$f":"ROUND(F230*Q230,2)","v":607.61},{"$f":"ROUND(S230*G230,2)","v":0},{"$f":"T230-ROUND(Q230*G230,2)","v":0},null,{"$f":"R230+T230+V230","v":1350.5},null,null,null,null,null,null,null,null,null,null,null,{"$f":"IF($I230=AI$6,$E230,0)","v":0},{"$f":"IF($K230=ROUND(AI$6*$F230,2),$G230,0)","v":0},{"$f":"IF($H230>0,AI230,0)","v":0},{"$f":"IF(AK230>0,1,0)","v":0},{"$f":"IF($H230>0,AJ230,0)","v":0},{"$f":"IF(AM230>0,1,0)","v":0},{"$f":"IF($I230=AO$6,$E230,0)","v":0},{"$f":"IF($K230=ROUND(AO$6*$F230,2),$G230,0)","v":0},{"$f":"IF($H230>0,AO230,0)","v":0},{"$f":"IF(AQ230>0,1,0)","v":0},{"$f":"IF($H230>0,AP230,0)","v":0},{"$f":"IF(AS230>0,1,0)","v":0},{"$f":"IF($I230=AU$6,$E230,0)","v":3.3340000000000001},{"$f":"IF($K230=ROUND(AU$6*$F230,2),$G230,0)","v":0},{"$f":"IF($H230>0,AU230,0)","v":3.3340000000000001},{"$f":"IF(AW230>0,1,0)","v":1},{"$f":"IF($H230>0,AV230,0)","v":0},{"$f":"IF(AY230>0,1,0)","v":0},{"$f":"IF($I230=BA$6,$E230,0)","v":0},{"$f":"IF($K230=ROUND(BA$6*$F230,2),$G230,0)","v":0},{"$f":"IF($H230>0,BA230,0)","v":0},{"$f":"IF(BC230>0,1,0)","v":0},{"$f":"IF($H230>0,BB230,0)","v":0},{"$f":"IF(BE230>0,1,0)","v":0},null,3.3340000000000002E-3,6.9,null,null,0]
[{"$f":"IF(E231+G231>0,A230,\"\")","v":""},{"$f":"IF(E231+G231>0,B230,\"\")","v":""},6,"03-4-23.558(333)",0,1.1000000000000001,0,0,{"$f":"SUMIF(Y$14:BA$14,C231,Y$6:BA$6)","v":1733.45},{"$f":"IF(H231=0,ROUND(E231*I231,2),ROUND(H231*E231,2))","v":0},{"$f":"ROUND(F231*I231,2)","v":1906.8},{"$f":"IF(H231=0,ROUND(ROUND(F231*I231,2)*G231,2),ROUND(G231*H231,2))","v":0},{"$f":"L231-ROUND(G231*I231,2)","v":0},null,{"$f":"J231+L231+N231","v":0},null,405.07,{"$f":"ROUND(Q231*E231,2)","v":0},{"$f":"ROUND(F231*Q231,2)","v":445.58},{"$f":"ROUND(S231*G231,2)","v":0},{"$f":"T231-ROUND(Q231*G231,2)","v":0},null,{"$f":"R231+T231+V231","v":0},null,null,null,null,null,null,null,null,null,null,null,{"$f":"IF($I231=AI$6,$E231,0)","v":0},0,{"$f":"IF($H231>0,AI231,0)","v":0},{"$f":"IF(AK231>0,1,0)","v":0},{"$f":"IF($H231>0,AJ231,0)","v":0},{"$f":"IF(AM231>0,1,0)","v":0},{"$f":"IF($I231=AO$6,$E231,0)","v":0},0,{"$f":"IF($H231>0,AO231,0)","v":0},{"$f":"IF(AQ231>0,1,0)","v":0},{"$f":"IF($H231>0,AP231,0)","v":0},{"$f":"IF(AS231>0,1,0)","v":0},{"$f":"IF($I231=AU$6,$E231,0)","v":0},0,{"$f":"IF($H231>0,AU231,0)","v":0},{"$f":"IF(AW231>0,1,0)","v":0},{"$f":"IF($H231>0,AV231,0)","v":0},{"$f":"IF(AY231>0,1,0)","v":0},{"$f":"IF($I231=BA$6,$E231,0)","v":0},0,{"$f":"IF($H231>0,BA231,0)","v":0},{"$f":"IF(BC231>0,1,0)","v":0},{"$f":"IF($H231>0,BB231,0)","v":0},{"$f":"IF(BE231>0,1,0)","v":0},null,0,null,null,null,0]
[{"$f":"IF(E232+G232>0,A230,\"\")","v":""},{"$f":"IF(E232+G232>0,B230,\"\")","v":""},{"$f":"C231","v":6},"03-4-23.558(333)",0,1.5,0,0,{"$f":"SUMIF(Y$14:BA$14,C232,Y$7:BA$7)","v":0},0,0,0,0,null,0,null,405.07,0,607.61,0,0,null,0,null,null,null,null,null,null,null,null,null,null,null,{"$f":"IF($I232=AI$7,$E232,0)","v":0},{"$f":"IF($K232=ROUND(AI$7*$F232,2),$G232,0)","v":0},0,0,0,0,{"$f":"IF($I232=AO$7,$E232,0)","v":0},{"$f":"IF($K232=ROUND(AO$7*$F232,2),$G232,0)","v":0},0,0,0,0,{"$f":"IF($I232=AU$7,$E232,0)","v":0},{"$f":"IF($K232=ROUND(AU$7*$F232,2),$G232,0)","v":0},0,0,0,0,{"$f":"IF($I232=BA$7,$E232,0)","v":0},{"$f":"IF($K232=ROUND(BA$7*$F232,2),$G232,0)","v":0},0,0,0,0,null,0,null,null,null,0]
[{"$f":"IF(E233+G233>0,A230,\"\")","v":""},{"$f":"IF(E233+G233>0,B230,\"\")","v":""},{"$f":"C231","v":6},"03-4-23.558(333)",0,1.1000000000000001,0,0,{"$f":"SUMIF(Y$14:BA$14,C233,Y$7:BA$7)","v":0},0,0,0,0,null,0,null,405.07,0,445.58,0,0,null,0,null,null,null,null,null,null,null,null,null,null,null,{"$f":"IF($I233=AI$7,$E233,0)","v":0},{"$f":"IF($K233=ROUND(AI$7*$F233,2),$G233,0)","v":0},0,0,0,0,{"$f":"IF($I233=AO$7,$E233,0)","v":0},{"$f":"IF($K233=ROUND(AO$7*$F233,2),$G233,0)","v":0},0,0,0,0,{"$f":"IF($I233=AU$7,$E233,0)","v":0},{"$f":"IF($K233=ROUND(AU$7*$F233,2),$G233,0)","v":0},0,0,0,0,{"$f":"IF($I233=BA$7,$E233,0)","v":0},{"$f":"IF($K233=ROUND(BA$7*$F233,2),$G233,0)","v":0},0,0,0,0,null,0,null,null,null,0]
["ИП               Шестаков          Михаил   Михайлович","",{"$f":"C235","v":6},"03-4-23.563(333)",0.93300000000000005,1.5,0,0.93300000000000005,{"$f":"SUMIF(Y$14:BA$14,C234,Y$6:BA$6)","v":1733.45},{"$f":"IF(H234=0,ROUND(E234*I234,2),ROUND(H234*E234,2))","v":0.87},{"$f":"ROUND(F234*I234,2)","v":2600.1799999999998},{"$f":"IF(H234=0,ROUND(ROUND(F234*I234,2)*G234,2),ROUND(G234*H234,2))","v":0},{"$f":"L234-ROUND(G234*I234,2)","v":0},null,{"$f":"J234+L234+N234","v":0.87},null,405.07,{"$f":"ROUND(Q234*E234,2)","v":377.93},{"$f":"ROUND(F234*Q234,2)","v":607.61},{"$f":"ROUND(S234*G234,2)","v":0},{"$f":"T234-ROUND(Q234*G234,2)","v":0},null,{"$f":"R234+T234+V234","v":377.93},null,null,null,null,null,null,null,null,null,null,null,{"$f":"IF($I234=AI$6,$E234,0)","v":0},{"$f":"IF($K234=ROUND(AI$6*$F234,2),$G234,0)","v":0},{"$f":"IF($H234>0,AI234,0)","v":0},{"$f":"IF(AK234>0,1,0)","v":0},{"$f":"IF($H234>0,AJ234,0)","v":0},{"$f":"IF(AM234>0,1,0)","v":0},{"$f":"IF($I234=AO$6,$E234,0)","v":0},{"$f":"IF($K234=ROUND(AO$6*$F234,2),$G234,0)","v":0},{"$f":"IF($H234>0,AO234,0)","v":0},{"$f":"IF(AQ234>0,1,0)","v":0},{"$f":"IF($H234>0,AP234,0)","v":0},{"$f":"IF(AS234>0,1,0)","v":0},{"$f":"IF($I234=AU$6,$E234,0)","v":0.93300000000000005},{"$f":"IF($K234=ROUND(AU$6*$F234,2),$G234,0)","v":0},{"$f":"IF($H234>0,AU234,0)","v":0.93300000000000005},{"$f":"IF(AW234>0,1,0)","v":1},{"$f":"IF($H234>0,AV234,0)","v":0},{"$f":"IF(AY234>0,1,0)","v":0},{"$f":"IF($I234=BA$6,$E234,0)","v":0},{"$f":"IF($K234=ROUND(BA$6*$F234,2),$G234,0)","v":0},{"$f":"IF($H234>0,BA234,0)","v":0},{"$f":"IF(BC234>0,1,0)","v":0},{"$f":"IF($H234>0,BB234,0)","v":0},{"$f":"IF(BE234>0,1,0)","v":0},null,9.3300000000000002E-4,2.2999999999999998,null,null,0]
[{"$f":"IF(E235+G235>0,A234,\"\")","v":""},{"$f":"IF(E235+G235>0,B234,\"\")","v":""},6,"03-4-23.563(333)",0,1.1000000000000001,0,0,{"$f":"SUMIF(Y$14:BA$14,C235,Y$6:BA$6)","v":1733.45},{"$f":"IF(H235=0,ROUND(E235*I235,2),ROUND(H235*E235,2))","v":0},{"$f":"ROUND(F235*I235,2)","v":1906.8},{"$f":"IF(H235=0,ROUND(ROUND(F235*I235,2)*G235,2),ROUND(G235*H235,2))","v":0},{"$f":"L235-ROUND(G235*I235,2)","v":0},null,{"$f":"J235+L235+N235","v":0},null,405.07,{"$f":"ROUND(Q235*E235,2)","v":0},{"$f":"ROUND(F235*Q235,2)","v":445.58},{"$f":"ROUND(S235*G235,2)","v":0},{"$f":"T235-ROUND(Q235*G235,2)","v":0},null,{"$f":"R235+T235+V235","v":0},null,null,null,null,null,null,null,null,null,null,null,{"$f":"IF($I235=AI$6,$E235,0)","v":0},0,{"$f":"IF($H235>0,AI235,0)","v":0},{"$f":"IF(AK235>0,1,0)","v":0},{"$f":"IF($H235>0,AJ235,0)","v":0},{"$f":"IF(AM235>0,1,0)","v":0},{"$f":"IF($I235=AO$6,$E235,0)","v":0},0,{"$f":"IF($H235>0,AO235,0)","v":0},{"$f":"IF(AQ235>0,1,0)","v":0},{"$f":"IF($H235>0,AP235,0)","v":0},{"$f":"IF(AS235>0,1,0)","v":0},{"$f":"IF($I235=AU$6,$E235,0)","v":0},0,{"$f":"IF($H235>0,AU235,0)","v":0},{"$f":"IF(AW235>0,1,0)","v":0},{"$f":"IF($H235>0,AV235,0)","v":0},{"$f":"IF(AY235>0,1,0)","v":0},{"$f":"IF($I235=BA$6,$E235,0)","v":0},0,{"$f":"IF($H235>0,BA235,0)","v":0},{"$f":"IF(BC235>0,1,0)","v":0},{"$f":"IF($H235>0,BB235,0)","v":0},{"$f":"IF(BE235>0,1,0)","v":0},null,0,null,null,null,0]
[{"$f":"IF(E236+G236>0,A234,\"\")","v":""},{"$f":"IF(E236+G236>0,B234,\"\")","v":""},{"$f":"C235","v":6},"03-4-23.563(333)",0,1.5,0,0,{"$f":"SUMIF(Y$14:BA$14,C236,Y$7:BA$7)","v":0},0,0,0,0,null,0,null,405.07,0,607.61,0,0,null,0,null,null,null,null,null,null,null,null,null,null,null,{"$f":"IF($I236=AI$7,$E236,0)","v":0},{"$f":"IF($K236=ROUND(AI$7*$F236,2),$G236,0)","v":0},0,0,0,0,{"$f":"IF($I236=AO$7,$E236,0)","v":0},{"$f":"IF($K236=ROUND(AO$7*$F236,2),$G236,0)","v":0},0,0,0,0,{"$f":"IF($I236=AU$7,$E236,0)","v":0},{"$f":"IF($K236=ROUND(AU$7*$F236,2),$G236,0)","v":0},0,0,0,0,{"$f":"IF($I236=BA$7,$E236,0)","v":0},{"$f":"IF($K236=ROUND(BA$7*$F236,2),$G236,0)","v":0},0,0,0,0,null,0,null,null,null,0]
[{"$f":"IF(E237+G237>0,A234,\"\")","v":""},{"$f":"IF(E237+G237>0,B234,\"\")","v":""},{"$f":"C235","v":6},"03-4-23.563(333)",0,1.1000000000000001,0,0,{"$f":"SUMIF(Y$14:BA$14,C237,Y$7:BA$7)","v":0},0,0,0,0,null,0,null,405.07,0,445.58,0,0,null,0,null,null,null,null,null,null,null,null,null,null,null,{"$f":"IF($I237=AI$7,$E237,0)","v":0},{"$f":"IF($K237=ROUND(AI$7*$F237,2),$G237,0)","v":0},0,0,0,0,{"$f":"IF($I237=AO$7,$E237,0)","v":0},{"$f":"IF($K237=ROUND(AO$7*$F237,2),$G237,0)","v":0},0,0,0,0,{"$f":"IF($I237=AU$7,$E237,0)","v":0},{"$f":"IF($K237=ROUND(AU$7*$F237,2),$G237,0)","v":0},0,0,0,0,{"$f":"IF($I237=BA$7,$E237,0)","v":0},{"$f":"IF($K237=ROUND(BA$7*$F237,2),$G237,0)","v":0},0,0,0,0,null,0,null,null,null,0]
["ООО          \"Вельская  типография\"","",{"$f":"C239","v":6},"03-4-23.568(333)",1.8160000000000001,1.5,0,1.8160000000000001,{"$f":"SUMIF(Y$14:BA$14,C238,Y$6:BA$6)","v":1733.45},{"$f":"IF(H238=0,ROUND(E238*I238,2),ROUND(H238*E238,2))","v":3.3},{"$f":"ROUND(F238*I238,2)","v":2600.1799999999998},{"$f":"IF(H238=0,ROUND(ROUND(F238*I238,2)*G238,2),ROUND(G238*H238,2))","v":0},{"$f":"L238-ROUND(G238*I238,2)","v":0},null,{"$f":"J238+L238+N238","v":3.3},null,405.07,{"$f":"ROUND(Q238*E238,2)","v":735.61},{"$f":"ROUND(F238*Q238,2)","v":607.61},{"$f":"ROUND(S238*G238,2)","v":0},{"$f":"T238-ROUND(Q238*G238,2)","v":0},null,{"$f":"R238+T238+V238","v":735.61},null,null,null,null,null,null,null,null,null,null,null,{"$f":"IF($I238=AI$6,$E238,0)","v":0},{"$f":"IF($K238=ROUND(AI$6*$F238,2),$G238,0)","v":0},{"$f":"IF($H238>0,AI238,0)","v":0},{"$f":"IF(AK238>0,1,0)","v":0},{"$f":"IF($H238>0,AJ238,0)","v":0},{"$f":"IF(AM238>0,1,0)","v":0},{"$f":"IF($I238=AO$6,$E238,0)","v":0},{"$f":"IF($K238=ROUND(AO$6*$F238,2),$G238,0)","v":0},{"$f":"IF($H238>0,AO238,0)","v":0},{"$f":"IF(AQ238>0,1,0)","v":0},{"$f":"IF($H238>0,AP238,0)","v":0},{"$f":"IF(AS238>0,1,0)","v":0},{"$f":"IF($I238=AU$6,$E238,0)","v":1.8160000000000001},{"$f":"IF($K238=ROUND(AU$6*$F238,2),$G238,0)","v":0},{"$f":"IF($H238>0,AU238,0)","v":1.8160000000000001},{"$f":"IF(AW238>0,1,0)","v":1},{"$f":"IF($H238>0,AV238,0)","v":0},{"$f":"IF(AY238>0,1,0)","v":0},{"$f":"IF($I238=BA$6,$E238,0)","v":0},{"$f":"IF($K238=ROUND(BA$6*$F238,2),$G238,0)","v":0},{"$f":"IF($H238>0,BA238,0)","v":0},{"$f":"IF(BC238>0,1,0)","v":0},{"$f":"IF($H238>0,BB238,0)","v":0},{"$f":"IF(BE238>0,1,0)","v":0},null,1.8160000000000001E-3,2.6,null,null,0]
[{"$f":"IF(E239+G239>0,A238,\"\")","v":""},{"$f":"IF(E239+G239>0,B238,\"\")","v":""},6,"03-4-23.568(333)",0,1.1000000000000001,0,0,{"$f":"SUMIF(Y$14:BA$14,C239,Y$6:BA$6)","v":1733.45},{"$f":"IF(H239=0,ROUND(E239*I239,2),ROUND(H239*E239,2))","v":0},{"$f":"ROUND(F239*I239,2)","v":1906.8},{"$f":"IF(H239=0,ROUND(ROUND(F239*I239,2)*G239,2),ROUND(G239*H239,2))","v":0},{"$f":"L239-ROUND(G239*I239,2)","v":0},null,{"$f":"J239+L239+N239","v":0},null,405.07,{"$f":"ROUND(Q239*E239,2)","v":0},{"$f":"ROUND(F239*Q239,2)","v":445.58},{"$f":"ROUND(S239*G239,2)","v":0},{"$f":"T239-ROUND(Q239*G239,2)","v":0},null,{"$f":"R239+T239+V239","v":0},null,null,null,null,null,null,null,null,null,null,null,{"$f":"IF($I239=AI$6,$E239,0)","v":0},0,{"$f":"IF($H239>0,AI239,0)","v":0},{"$f":"IF(AK239>0,1,0)","v":0},{"$f":"IF($H239>0,AJ239,0)","v":0},{"$f":"IF(AM239>0,1,0)","v":0},{"$f":"IF($I239=AO$6,$E239,0)","v":0},0,{"$f":"IF($H239>0,AO239,0)","v":0},{"$f":"IF(AQ239>0,1,0)","v":0},{"$f":"IF($H239>0,AP239,0)","v":0},{"$f":"IF(AS239>0,1,0)","v":0},{"$f":"IF($I239=AU$6,$E239,0)","v":0},0,{"$f":"IF($H239>0,AU239,0)","v":0},{"$f":"IF(AW239>0,1,0)","v":0},{"$f":"IF($H239>0,AV239,0)","v":0},{"$f":"IF(AY239>0,1,0)","v":0},{"$f":"IF($I239=BA$6,$E239,0)","v":0},0,{"$f":"IF($H239>0,BA239,0)","v":0},{"$f":"IF(BC239>0,1,0)","v":0},{"$f":"IF($H239>0,BB239,0)","v":0},{"$f":"IF(BE239>0,1,0)","v":0},null,0,null,null,null,0]
[{"$f":"IF(E240+G240>0,A238,\"\")","v":""},{"$f":"IF(E240+G240>0,B238,\"\")","v":""},{"$f":"C239","v":6},"03-4-23.568(333)",0,1.5,0,0,{"$f":"SUMIF(Y$14:BA$14,C240,Y$7:BA$7)","v":0},0,0,0,0,null,0,null,405.07,0,607.61,0,0,null,0,null,null,null,null,null,null,null,null,null,null,null,{"$f":"IF($I240=AI$7,$E240,0)","v":0},{"$f":"IF($K240=ROUND(AI$7*$F240,2),$G240,0)","v":0},0,0,0,0,{"$f":"IF($I240=AO$7,$E240,0)","v":0},{"$f":"IF($K240=ROUND(AO$7*$F240,2),$G240,0)","v":0},0,0,0,0,{"$f":"IF($I240=AU$7,$E240,0)","v":0},{"$f":"IF($K240=ROUND(AU$7*$F240,2),$G240,0)","v":0},0,0,0,0,{"$f":"IF($I240=BA$7,$E240,0)","v":0},{"$f":"IF($K240=ROUND(BA$7*$F240,2),$G240,0)","v":0},0,0,0,0,null,0,null,null,null,0]
[{"$f":"IF(E241+G241>0,A238,\"\")","v":""},{"$f":"IF(E241+G241>0,B238,\"\")","v":""},{"$f":"C239","v":6},"03-4-23.568(333)",0,1.1000000000000001,0,0,{"$f":"SUMIF(Y$14:BA$14,C241,Y$7:BA$7)","v":0},0,0,0,0,null,0,null,405.07,0,445.58,0,0,null,0,null,null,null,null,null,null,null,null,null,null,null,{"$f":"IF($I241=AI$7,$E241,0)","v":0},{"$f":"IF($K241=ROUND(AI$7*$F241,2),$G241,0)","v":0},0,0,0,0,{"$f":"IF($I241=AO$7,$E241,0)","v":0},{"$f":"IF($K241=ROUND(AO$7*$F241,2),$G241,0)","v":0},0,0,0,0,{"$f":"IF($I241=AU$7,$E241,0)","v":0},{"$f":"IF($K241=ROUND(AU$7*$F241,2),$G241,0)","v":0},0,0,0,0,{"$f":"IF($I241=BA$7,$E241,0)","v":0},{"$f":"IF($K241=ROUND(BA$7*$F241,2),$G241,0)","v":0},0,0,0,0,null,0,null,null,null,0]
["ИП               Семенов           Павел  Васильевич","",{"$f":"C243","v":7},"03-4-23.570(333)",0.13200000000000001,1.5,0,0.13200000000000001,{"$f":"SUMIF(Y$14:BA$14,C242,Y$6:BA$6)","v":2166.8000000000002},{"$f":"IF(H242=0,ROUND(E242*I242,2),ROUND(H242*E242,2))","v":0.02},{"$f":"ROUND(F242*I242,2)","v":3250.2},{"$f":"IF(H242=0,ROUND(ROUND(F242*I242,2)*G242,2),ROUND(G242*H242,2))","v":0},{"$f":"L242-ROUND(G242*I242,2)","v":0},null,{"$f":"J242+L242+N242","v":0.02},null,405.07,{"$f":"ROUND(Q242*E242,2)","v":53.47},{"$f":"ROUND(F242*Q242,2)","v":607.61},{"$f":"ROUND(S242*G242,2)","v":0},{"$f":"T242-ROUND(Q242*G242,2)","v":0},null,{"$f":"R242+T242+V242","v":53.47},null,null,null,null,null,null,null,null,null,null,null,{"$f":"IF($I242=AI$6,$E242,0)","v":0},{"$f":"IF($K242=ROUND(AI$6*$F242,2),$G242,0)","v":0},{"$f":"IF($H242>0,AI242,0)","v":0},{"$f":"IF(AK242>0,1,0)","v":0},{"$f":"IF($H242>0,AJ242,0)","v":0},{"$f":"IF(AM242>0,1,0)","v":0},{"$f":"IF($I242=AO$6,$E242,0)","v":0},{"$f":"IF($K242=ROUND(AO$6*$F242,2),$G242,0)","v":0},{"$f":"IF($H242>0,AO242,0)","v":0},{"$f":"IF(AQ242>0,1,0)","v":0},{"$f":"IF($H242>0,AP242,0)","v":0},{"$f":"IF(AS242>0,1,0)","v":0},{"$f":"IF($I242=AU$6,$E242,0)","v":0},{"$f":"IF($K242=ROUND(AU$6*$F242,2),$G242,0)","v":0},{"$f":"IF($H242>0,AU242,0)","v":0},{"$f":"IF(AW242>0,1,0)","v":0},{"$f":"IF($H242>0,AV242,0)","v":0},{"$f":"IF(AY242>0,1,0)","v":0},{"$f":"IF($I242=BA$6,$E242,0)","v":0.13200000000000001},{"$f":"IF($K242=ROUND(BA$6*$F242,2),$G242,0)","v":0},{"$f":"IF($H242>0,BA242,0)","v":0.13200000000000001},{"$f":"IF(BC242>0,1,0)","v":1},{"$f":"IF($H242>0,BB242,0)","v":0},{"$f":"IF(BE242>0,1,0)","v":0},null,1.3200000000000001E-4,0.3,null,null,0]
[{"$f":"IF(E243+G243>0,A242,\"\")","v":""},{"$f":"IF(E243+G243>0,B242,\"\")","v":""},7,"03-4-23.570(333)",0,1.1000000000000001,0,0,{"$f":"SUMIF(Y$14:BA$14,C243,Y$6:BA$6)","v":2166.8000000000002},{"$f":"IF(H243=0,ROUND(E243*I243,2),ROUND(H243*E243,2))","v":0},{"$f":"ROUND(F243*I243,2)","v":2383.48},{"$f":"IF(H243=0,ROUND(ROUND(F243*I243,2)*G243,2),ROUND(G243*H243,2))","v":0},{"$f":"L243-ROUND(G243*I243,2)","v":0},null,{"$f":"J243+L243+N243","v":0},null,405.07,{"$f":"ROUND(Q243*E243,2)","v":0},{"$f":"ROUND(F243*Q243,2)","v":445.58},{"$f":"ROUND(S243*G243,2)","v":0},{"$f":"T243-ROUND(Q243*G243,2)","v":0},null,{"$f":"R243+T243+V243","v":0},null,null,null,null,null,null,null,null,null,null,null,{"$f":"IF($I243=AI$6,$E243,0)","v":0},0,{"$f":"IF($H243>0,AI243,0)","v":0},{"$f":"IF(AK243>0,1,0)","v":0},{"$f":"IF($H243>0,AJ243,0)","v":0},{"$f":"IF(AM243>0,1,0)","v":0},{"$f":"IF($I243=AO$6,$E243,0)","v":0},0,{"$f":"IF($H243>0,AO243,0)","v":0},{"$f":"IF(AQ243>0,1,0)","v":0},{"$f":"IF($H243>0,AP243,0)","v":0},{"$f":"IF(AS243>0,1,0)","v":0},{"$f":"IF($I243=AU$6,$E243,0)","v":0},0,{"$f":"IF($H243>0,AU243,0)","v":0},{"$f":"IF(AW243>0,1,0)","v":0},{"$f":"IF($H243>0,AV243,0)","v":0},{"$f":"IF(AY243>0,1,0)","v":0},{"$f":"IF($I243=BA$6,$E243,0)","v":0},0,{"$f":"IF($H243>0,BA243,0)","v":0},{"$f":"IF(BC243>0,1,0)","v":0},{"$f":"IF($H243>0,BB243,0)","v":0},{"$f":"IF(BE243>0,1,0)","v":0},null,0,null,null,null,0]
[{"$f":"IF(E244+G244>0,A242,\"\")","v":""},{"$f":"IF(E244+G244>0,B242,\"\")","v":""},{"$f":"C243","v":7},"03-4-23.570(333)",0,1.5,0,0,{"$f":"SUMIF(Y$14:BA$14,C244,Y$7:BA$7)","v":0},0,0,0,0,null,0,null,405.07,0,607.61,0,0,null,0,null,null,null,null,null,null,null,null,null,null,null,{"$f":"IF($I244=AI$7,$E244,0)","v":0},{"$f":"IF($K244=ROUND(AI$7*$F244,2),$G244,0)","v":0},0,0,0,0,{"$f":"IF($I244=AO$7,$E244,0)","v":0},{"$f":"IF($K244=ROUND(AO$7*$F244,2),$G244,0)","v":0},0,0,0,0,{"$f":"IF($I244=AU$7,$E244,0)","v":0},{"$f":"IF($K244=ROUND(AU$7*$F244,2),$G244,0)","v":0},0,0,0,0,{"$f":"IF($I244=BA$7,$E244,0)","v":0},{"$f":"IF($K244=ROUND(BA$7*$F244,2),$G244,0)","v":0},0,0,0,0,null,0,null,null,null,0]
[{"$f":"IF(E245+G245>0,A242,\"\")","v":""},{"$f":"IF(E245+G245>0,B242,\"\")","v":""},{"$f":"C243","v":7},"03-4-23.570(333)",0,1.1000000000000001,0,0,{"$f":"SUMIF(Y$14:BA$14,C245,Y$7:BA$7)","v":0},0,0,0,0,null,0,null,405.07,0,445.58,0,0,null,0,null,null,null,null,null,null,null,null,null,null,null,{"$f":"IF($I245=AI$7,$E245,0)","v":0},{"$f":"IF($K245=ROUND(AI$7*$F245,2),$G245,0)","v":0},0,0,0,0,{"$f":"IF($I245=AO$7,$E245,0)","v":0},{"$f":"IF($K245=ROUND(AO$7*$F245,2),$G245,0)","v":0},0,0,0,0,{"$f":"IF($I245=AU$7,$E245,0)","v":0},{"$f":"IF($K245=ROUND(AU$7*$F245,2),$G245,0)","v":0},0,0,0,0,{"$f":"IF($I245=BA$7,$E245,0)","v":0},{"$f":"IF($K245=ROUND(BA$7*$F245,2),$G245,0)","v":0},0,0,0,0,null,0,null,null,null,0]
["ИП               Шишов               Виктор   Викторович","",{"$f":"C247","v":6},"03-4-23.572(333)",1.095,1.5,0,1.095,{"$f":"SUMIF(Y$14:BA$14,C246,Y$6:BA$6)","v":1733.45},{"$f":"IF(H246=0,ROUND(E246*I246,2),ROUND(H246*E246,2))","v":1.2},{"$f":"ROUND(F246*I246,2)","v":2600.1799999999998},{"$f":"IF(H246=0,ROUND(ROUND(F246*I246,2)*G246,2),ROUND(G246*H246,2))","v":0},{"$f":"L246-ROUND(G246*I246,2)","v":0},null,{"$f":"J246+L246+N246","v":1.2},null,405.07,{"$f":"ROUND(Q246*E246,2)","v":443.55},{"$f":"ROUND(F246*Q246,2)","v":607.61},{"$f":"ROUND(S246*G246,2)","v":0},{"$f":"T246-ROUND(Q246*G246,2)","v":0},null,{"$f":"R246+T246+V246","v":443.55},null,null,null,null,null,null,null,null,null,null,null,{"$f":"IF($I246=AI$6,$E246,0)","v":0},{"$f":"IF($K246=ROUND(AI$6*$F246,2),$G246,0)","v":0},{"$f":"IF($H246>0,AI246,0)","v":0},{"$f":"IF(AK246>0,1,0)","v":0},{"$f":"IF($H246>0,AJ246,0)","v":0},{"$f":"IF(AM246>0,1,0)","v":0},{"$f":"IF($I246=AO$6,$E246,0)","v":0},{"$f":"IF($K246=ROUND(AO$6*$F246,2),$G246,0)","v":0},{"$f":"IF($H246>0,AO246,0)","v":0},{"$f":"IF(AQ246>0,1,0)","v":0},{"$f":"IF($H246>0,AP246,0)","v":0},{"$f":"IF(AS246>0,1,0)","v":0},{"$f":"IF($I246=AU$6,$E246,0)","v":1.095},{"$f":"IF($K246=ROUND(AU$6*$F246,2),$G246,0)","v":0},{"$f":"IF($H246>0,AU246,0)","v":1.095},{"$f":"IF(AW246>0,1,0)","v":1},{"$f":"IF($H246>0,AV246,0)","v":0},{"$f":"IF(AY246>0,1,0)","v":0},{"$f":"IF($I246=BA$6,$E246,0)","v":0},{"$f":"IF($K246=ROUND(BA$6*$F246,2),$G246,0)","v":0},{"$f":"IF($H246>0,BA246,0)","v":0},{"$f":"IF(BC246>0,1,0)","v":0},{"$f":"IF($H246>0,BB246,0)","v":0},{"$f":"IF(BE246>0,1,0)","v":0},null,1.0950000000000001E-3,1.5,null,null,0]
[{"$f":"IF(E247+G247>0,A246,\"\")","v":""},{"$f":"IF(E247+G247>0,B246,\"\")","v":""},6,"03-4-23.572(333)",0,1.1000000000000001,0,0,{"$f":"SUMIF(Y$14:BA$14,C247,Y$6:BA$6)","v":1733.45},{"$f":"IF(H247=0,ROUND(E247*I247,2),ROUND(H247*E247,2))","v":0},{"$f":"ROUND(F247*I247,2)","v":1906.8},{"$f":"IF(H247=0,ROUND(ROUND(F247*I247,2)*G247,2),ROUND(G247*H247,2))","v":0},{"$f":"L247-ROUND(G247*I247,2)","v":0},null,{"$f":"J247+L247+N247","v":0},null,405.07,{"$f":"ROUND(Q247*E247,2)","v":0},{"$f":"ROUND(F247*Q247,2)","v":445.58},{"$f":"ROUND(S247*G247,2)","v":0},{"$f":"T247-ROUND(Q247*G247,2)","v":0},null,{"$f":"R247+T247+V247","v":0},null,null,null,null,null,null,null,null,null,null,null,{"$f":"IF($I247=AI$6,$E247,0)","v":0},0,{"$f":"IF($H247>0,AI247,0)","v":0},{"$f":"IF(AK247>0,1,0)","v":0},{"$f":"IF($H247>0,AJ247,0)","v":0},{"$f":"IF(AM247>0,1,0)","v":0},{"$f":"IF($I247=AO$6,$E247,0)","v":0},0,{"$f":"IF($H247>0,AO247,0)","v":0},{"$f":"IF(AQ247>0,1,0)","v":0},{"$f":"IF($H247>0,AP247,0)","v":0},{"$f":"IF(AS247>0,1,0)","v":0},{"$f":"IF($I247=AU$6,$E247,0)","v":0},0,{"$f":"IF($H247>0,AU247,0)","v":0},{"$f":"IF(AW247>0,1,0)","v":0},{"$f":"IF($H247>0,AV247,0)","v":0},{"$f":"IF(AY247>0,1,0)","v":0},{"$f":"IF($I247=BA$6,$E247,0)","v":0},0,{"$f":"IF($H247>0,BA247,0)","v":0},{"$f":"IF(BC247>0,1,0)","v":0},{"$f":"IF($H247>0,BB247,0)","v":0},{"$f":"IF(BE247>0,1,0)","v":0},null,0,null,null,null,0]
[{"$f":"IF(E248+G248>0,A246,\"\")","v":""},{"$f":"IF(E248+G248>0,B246,\"\")","v":""},{"$f":"C247","v":6},"03-4-23.572(333)",0,1.5,0,0,{"$f":"SUMIF(Y$14:BA$14,C248,Y$7:BA$7)","v":0},0,0,0,0,null,0,null,405.07,0,607.61,0,0,null,0,null,null,null,null,null,null,null,null,null,null,null,{"$f":"IF($I248=AI$7,$E248,0)","v":0},{"$f":"IF($K248=ROUND(AI$7*$F248,2),$G248,0)","v":0},0,0,0,0,{"$f":"IF($I248=AO$7,$E248,0)","v":0},{"$f":"IF($K248=ROUND(AO$7*$F248,2),$G248,0)","v":0},0,0,0,0,{"$f":"IF($I248=AU$7,$E248,0)","v":0},{"$f":"IF($K248=ROUND(AU$7*$F248,2),$G248,0)","v":0},0,0,0,0,{"$f":"IF($I248=BA$7,$E248,0)","v":0},{"$f":"IF($K248=ROUND(BA$7*$F248,2),$G248,0)","v":0},0,0,0,0,null,0,null,null,null,0]
[{"$f":"IF(E249+G249>0,A246,\"\")","v":""},{"$f":"IF(E249+G249>0,B246,\"\")","v":""},{"$f":"C247","v":6},"03-4-23.572(333)",0,1.1000000000000001,0,0,{"$f":"SUMIF(Y$14:BA$14,C249,Y$7:BA$7)","v":0},0,0,0,0,null,0,null,405.07,0,445.58,0,0,null,0,null,null,null,null,null,null,null,null,null,null,null,{"$f":"IF($I249=AI$7,$E249,0)","v":0},{"$f":"IF($K249=ROUND(AI$7*$F249,2),$G249,0)","v":0},0,0,0,0,{"$f":"IF($I249=AO$7,$E249,0)","v":0},{"$f":"IF($K249=ROUND(AO$7*$F249,2),$G249,0)","v":0},0,0,0,0,{"$f":"IF($I249=AU$7,$E249,0)","v":0},{"$f":"IF($K249=ROUND(AU$7*$F249,2),$G249,0)","v":0},0,0,0,0,{"$f":"IF($I249=BA$7,$E249,0)","v":0},{"$f":"IF($K249=ROUND(BA$7*$F249,2),$G249,0)","v":0},0,0,0,0,null,0,null,null,null,0]
["ИП               Угрюмов            Николай  Сергеевич","Вельск, ул.Комсомольская-4а",{"$f":"C251","v":7},"03-4-23.575(333)",0.08,1.5,0,0.08,{"$f":"SUMIF(Y$14:BA$14,C250,Y$6:BA$6)","v":2166.8000000000002},{"$f":"IF(H250=0,ROUND(E250*I250,2),ROUND(H250*E250,2))","v":0.01},{"$f":"ROUND(F250*I250,2)","v":3250.2},{"$f":"IF(H250=0,ROUND(ROUND(F250*I250,2)*G250,2),ROUND(G250*H250,2))","v":0},{"$f":"L250-ROUND(G250*I250,2)","v":0},null,{"$f":"J250+L250+N250","v":0.01},null,405.07,{"$f":"ROUND(Q250*E250,2)","v":32.409999999999997},{"$f":"ROUND(F250*Q250,2)","v":607.61},{"$f":"ROUND(S250*G250,2)","v":0},{"$f":"T250-ROUND(Q250*G250,2)","v":0},null,{"$f":"R250+T250+V250","v":32.409999999999997},null,null,null,null,null,null,null,null,null,null,null,{"$f":"IF($I250=AI$6,$E250,0)","v":0},{"$f":"IF($K250=ROUND(AI$6*$F250,2),$G250,0)","v":0},{"$f":"IF($H250>0,AI250,0)","v":0},{"$f":"IF(AK250>0,1,0)","v":0},{"$f":"IF($H250>0,AJ250,0)","v":0},{"$f":"IF(AM250>0,1,0)","v":0},{"$f":"IF($I250=AO$6,$E250,0)","v":0},{"$f":"IF($K250=ROUND(AO$6*$F250,2),$G250,0)","v":0},{"$f":"IF($H250>0,AO250,0)","v":0},{"$f":"IF(AQ250>0,1,0)","v":0},{"$f":"IF($H250>0,AP250,0)","v":0},{"$f":"IF(AS250>0,1,0)","v":0},{"$f":"IF($I250=AU$6,$E250,0)","v":0},{"$f":"IF($K250=ROUND(AU$6*$F250,2),$G250,0)","v":0},{"$f":"IF($H250>0,AU250,0)","v":0},{"$f":"IF(AW250>0,1,0)","v":0},{"$f":"IF($H250>0,AV250,0)","v":0},{"$f":"IF(AY250>0,1,0)","v":0},{"$f":"IF($I250=BA$6,$E250,0)","v":0.08},{"$f":"IF($K250=ROUND(BA$6*$F250,2),$G250,0)","v":0},{"$f":"IF($H250>0,BA250,0)","v":0.08},{"$f":"IF(BC250>0,1,0)","v":1},{"$f":"IF($H250>0,BB250,0)","v":0},{"$f":"IF(BE250>0,1,0)","v":0},null,8.0000000000000007E-5,0.6,null,null,0]
[{"$f":"IF(E251+G251>0,A250,\"\")","v":""},{"$f":"IF(E251+G251>0,B250,\"\")","v":""},7,"03-4-23.575(333)",0,1.1000000000000001,0,0,{"$f":"SUMIF(Y$14:BA$14,C251,Y$6:BA$6)","v":2166.8000000000002},{"$f":"IF(H251=0,ROUND(E251*I251,2),ROUND(H251*E251,2))","v":0},{"$f":"ROUND(F251*I251,2)","v":2383.48},{"$f":"IF(H251=0,ROUND(ROUND(F251*I251,2)*G251,2),ROUND(G251*H251,2))","v":0},{"$f":"L251-ROUND(G251*I251,2)","v":0},null,{"$f":"J251+L251+N251","v":0},null,405.07,{"$f":"ROUND(Q251*E251,2)","v":0},{"$f":"ROUND(F251*Q251,2)","v":445.58},{"$f":"ROUND(S251*G251,2)","v":0},{"$f":"T251-ROUND(Q251*G251,2)","v":0},null,{"$f":"R251+T251+V251","v":0},null,null,null,null,null,null,null,null,null,null,null,{"$f":"IF($I251=AI$6,$E251,0)","v":0},0,{"$f":"IF($H251>0,AI251,0)","v":0},{"$f":"IF(AK251>0,1,0)","v":0},{"$f":"IF($H251>0,AJ251,0)","v":0},{"$f":"IF(AM251>0,1,0)","v":0},{"$f":"IF($I251=AO$6,$E251,0)","v":0},0,{"$f":"IF($H251>0,AO251,0)","v":0},{"$f":"IF(AQ251>0,1,0)","v":0},{"$f":"IF($H251>0,AP251,0)","v":0},{"$f":"IF(AS251>0,1,0)","v":0},{"$f":"IF($I251=AU$6,$E251,0)","v":0},0,{"$f":"IF($H251>0,AU251,0)","v":0},{"$f":"IF(AW251>0,1,0)","v":0},{"$f":"IF($H251>0,AV251,0)","v":0},{"$f":"IF(AY251>0,1,0)","v":0},{"$f":"IF($I251=BA$6,$E251,0)","v":0},0,{"$f":"IF($H251>0,BA251,0)","v":0},{"$f":"IF(BC251>0,1,0)","v":0},{"$f":"IF($H251>0,BB251,0)","v":0},{"$f":"IF(BE251>0,1,0)","v":0},null,0,null,null,null,0]
[{"$f":"IF(E252+G252>0,A250,\"\")","v":""},{"$f":"IF(E252+G252>0,B250,\"\")","v":""},{"$f":"C251","v":7},"03-4-23.575(333)",0,1.5,0,0,{"$f":"SUMIF(Y$14:BA$14,C252,Y$7:BA$7)","v":0},0,0,0,0,null,0,null,405.07,0,607.61,0,0,null,0,null,null,null,null,null,null,null,null,null,null,null,{"$f":"IF($I252=AI$7,$E252,0)","v":0},{"$f":"IF($K252=ROUND(AI$7*$F252,2),$G252,0)","v":0},0,0,0,0,{"$f":"IF($I252=AO$7,$E252,0)","v":0},{"$f":"IF($K252=ROUND(AO$7*$F252,2),$G252,0)","v":0},0,0,0,0,{"$f":"IF($I252=AU$7,$E252,0)","v":0},{"$f":"IF($K252=ROUND(AU$7*$F252,2),$G252,0)","v":0},0,0,0,0,{"$f":"IF($I252=BA$7,$E252,0)","v":0},{"$f":"IF($K252=ROUND(BA$7*$F252,2),$G252,0)","v":0},0,0,0,0,null,0,null,null,null,0]
[{"$f":"IF(E253+G253>0,A250,\"\")","v":""},{"$f":"IF(E253+G253>0,B250,\"\")","v":""},{"$f":"C251","v":7},"03-4-23.575(333)",0,1.1000000000000001,0,0,{"$f":"SUMIF(Y$14:BA$14,C253,Y$7:BA$7)","v":0},0,0,0,0,null,0,null,405.07,0,445.58,0,0,null,0,null,null,null,null,null,null,null,null,null,null,null,{"$f":"IF($I253=AI$7,$E253,0)","v":0},{"$f":"IF($K253=ROUND(AI$7*$F253,2),$G253,0)","v":0},0,0,0,0,{"$f":"IF($I253=AO$7,$E253,0)","v":0},{"$f":"IF($K253=ROUND(AO$7*$F253,2),$G253,0)","v":0},0,0,0,0,{"$f":"IF($I253=AU$7,$E253,0)","v":0},{"$f":"IF($K253=ROUND(AU$7*$F253,2),$G253,0)","v":0},0,0,0,0,{"$f":"IF($I253=BA$7,$E253,0)","v":0},{"$f":"IF($K253=ROUND(BA$7*$F253,2),$G253,0)","v":0},0,0,0,0,null,0,null,null,null,0]
["ИП               Угрюмов            Николай  Сергеевич","Вельск, ул.Дзержинского-98в",{"$f":"C255","v":6},"03-4-23.575(333)",2.1,1.5,0,2.1,{"$f":"SUMIF(Y$14:BA$14,C254,Y$6:BA$6)","v":1733.45},{"$f":"IF(H254=0,ROUND(E254*I254,2),ROUND(H254*E254,2))","v":4.41},{"$f":"ROUND(F254*I254,2)","v":2600.1799999999998},{"$f":"IF(H254=0,ROUND(ROUND(F254*I254,2)*G254,2),ROUND(G254*H254,2))","v":0},{"$f":"L254-ROUND(G254*I254,2)","v":0},null,{"$f":"J254+L254+N254","v":4.41},null,405.07,{"$f":"ROUND(Q254*E254,2)","v":850.65},{"$f":"ROUND(F254*Q254,2)","v":607.61},{"$f":"ROUND(S254*G254,2)","v":0},{"$f":"T254-ROUND(Q254*G254,2)","v":0},null,{"$f":"R254+T254+V254","v":850.65},null,null,null,null,null,null,null,null,null,null,null,{"$f":"IF($I254=AI$6,$E254,0)","v":0},{"$f":"IF($K254=ROUND(AI$6*$F254,2),$G254,0)","v":0},{"$f":"IF($H254>0,AI254,0)","v":0},{"$f":"IF(AK254>0,1,0)","v":0},{"$f":"IF($H254>0,AJ254,0)","v":0},{"$f":"IF(AM254>0,1,0)","v":0},{"$f":"IF($I254=AO$6,$E254,0)","v":0},{"$f":"IF($K254=ROUND(AO$6*$F254,2),$G254,0)","v":0},{"$f":"IF($H254>0,AO254,0)","v":0},{"$f":"IF(AQ254>0,1,0)","v":0},{"$f":"IF($H254>0,AP254,0)","v":0},{"$f":"IF(AS254>0,1,0)","v":0},{"$f":"IF($I254=AU$6,$E254,0)","v":2.1},{"$f":"IF($K254=ROUND(AU$6*$F254,2),$G254,0)","v":0},{"$f":"IF($H254>0,AU254,0)","v":2.1},{"$f":"IF(AW254>0,1,0)","v":1},{"$f":"IF($H254>0,AV254,0)","v":0},{"$f":"IF(AY254>0,1,0)","v":0},{"$f":"IF($I254=BA$6,$E254,0)","v":0},{"$f":"IF($K254=ROUND(BA$6*$F254,2),$G254,0)","v":0},{"$f":"IF($H254>0,BA254,0)","v":0},{"$f":"IF(BC254>0,1,0)","v":0},{"$f":"IF($H254>0,BB254,0)","v":0},{"$f":"IF(BE254>0,1,0)","v":0},null,2.1000000000000003E-3,2.5,null,null,0]
[{"$f":"IF(E255+G255>0,A254,\"\")","v":""},{"$f":"IF(E255+G255>0,B254,\"\")","v":""},6,"03-4-23.575(333)",0,1.1000000000000001,0,0,{"$f":"SUMIF(Y$14:BA$14,C255,Y$6:BA$6)","v":1733.45},{"$f":"IF(H255=0,ROUND(E255*I255,2),ROUND(H255*E255,2))","v":0},{"$f":"ROUND(F255*I255,2)","v":1906.8},{"$f":"IF(H255=0,ROUND(ROUND(F255*I255,2)*G255,2),ROUND(G255*H255,2))","v":0},{"$f":"L255-ROUND(G255*I255,2)","v":0},null,{"$f":"J255+L255+N255","v":0},null,405.07,{"$f":"ROUND(Q255*E255,2)","v":0},{"$f":"ROUND(F255*Q255,2)","v":445.58},{"$f":"ROUND(S255*G255,2)","v":0},{"$f":"T255-ROUND(Q255*G255,2)","v":0},null,{"$f":"R255+T255+V255","v":0},null,null,null,null,null,null,null,null,null,null,null,{"$f":"IF($I255=AI$6,$E255,0)","v":0},0,{"$f":"IF($H255>0,AI255,0)","v":0},{"$f":"IF(AK255>0,1,0)","v":0},{"$f":"IF($H255>0,AJ255,0)","v":0},{"$f":"IF(AM255>0,1,0)","v":0},{"$f":"IF($I255=AO$6,$E255,0)","v":0},0,{"$f":"IF($H255>0,AO255,0)","v":0},{"$f":"IF(AQ255>0,1,0)","v":0},{"$f":"IF($H255>0,AP255,0)","v":0},{"$f":"IF(AS255>0,1,0)","v":0},{"$f":"IF($I255=AU$6,$E255,0)","v":0},0,{"$f":"IF($H255>0,AU255,0)","v":0},{"$f":"IF(AW255>0,1,0)","v":0},{"$f":"IF($H255>0,AV255,0)","v":0},{"$f":"IF(AY255>0,1,0)","v":0},{"$f":"IF($I255=BA$6,$E255,0)","v":0},0,{"$f":"IF($H255>0,BA255,0)","v":0},{"$f":"IF(BC255>0,1,0)","v":0},{"$f":"IF($H255>0,BB255,0)","v":0},{"$f":"IF(BE255>0,1,0)","v":0},null,0,null,null,null,0]
[{"$f":"IF(E256+G256>0,A254,\"\")","v":""},{"$f":"IF(E256+G256>0,B254,\"\")","v":""},{"$f":"C255","v":6},"03-4-23.575(333)",0,1.5,0,0,{"$f":"SUMIF(Y$14:BA$14,C256,Y$7:BA$7)","v":0},0,0,0,0,null,0,null,405.07,0,607.61,0,0,null,0,null,null,null,null,null,null,null,null,null,null,null,{"$f":"IF($I256=AI$7,$E256,0)","v":0},{"$f":"IF($K256=ROUND(AI$7*$F256,2),$G256,0)","v":0},0,0,0,0,{"$f":"IF($I256=AO$7,$E256,0)","v":0},{"$f":"IF($K256=ROUND(AO$7*$F256,2),$G256,0)","v":0},0,0,0,0,{"$f":"IF($I256=AU$7,$E256,0)","v":0},{"$f":"IF($K256=ROUND(AU$7*$F256,2),$G256,0)","v":0},0,0,0,0,{"$f":"IF($I256=BA$7,$E256,0)","v":0},{"$f":"IF($K256=ROUND(BA$7*$F256,2),$G256,0)","v":0},0,0,0,0,null,0,null,null,null,0]
[{"$f":"IF(E257+G257>0,A254,\"\")","v":""},{"$f":"IF(E257+G257>0,B254,\"\")","v":""},{"$f":"C255","v":6},"03-4-23.575(333)",0,1.1000000000000001,0,0,{"$f":"SUMIF(Y$14:BA$14,C257,Y$7:BA$7)","v":0},0,0,0,0,null,0,null,405.07,0,445.58,0,0,null,0,null,null,null,null,null,null,null,null,null,null,null,{"$f":"IF($I257=AI$7,$E257,0)","v":0},{"$f":"IF($K257=ROUND(AI$7*$F257,2),$G257,0)","v":0},0,0,0,0,{"$f":"IF($I257=AO$7,$E257,0)","v":0},{"$f":"IF($K257=ROUND(AO$7*$F257,2),$G257,0)","v":0},0,0,0,0,{"$f":"IF($I257=AU$7,$E257,0)","v":0},{"$f":"IF($K257=ROUND(AU$7*$F257,2),$G257,0)","v":0},0,0,0,0,{"$f":"IF($I257=BA$7,$E257,0)","v":0},{"$f":"IF($K257=ROUND(BA$7*$F257,2),$G257,0)","v":0},0,0,0,0,null,0,null,null,null,0]
["ИП               Угрюмов            Николай  Сергеевич","Вельск, ул.Красная-42а",{"$f":"C259","v":7},"03-4-23.575(333)",0.1,1.5,0,0.1,{"$f":"SUMIF(Y$14:BA$14,C258,Y$6:BA$6)","v":2166.8000000000002},{"$f":"IF(H258=0,ROUND(E258*I258,2),ROUND(H258*E258,2))","v":0.01},{"$f":"ROUND(F258*I258,2)","v":3250.2},{"$f":"IF(H258=0,ROUND(ROUND(F258*I258,2)*G258,2),ROUND(G258*H258,2))","v":0},{"$f":"L258-ROUND(G258*I258,2)","v":0},null,{"$f":"J258+L258+N258","v":0.01},null,405.07,{"$f":"ROUND(Q258*E258,2)","v":40.51},{"$f":"ROUND(F258*Q258,2)","v":607.61},{"$f":"ROUND(S258*G258,2)","v":0},{"$f":"T258-ROUND(Q258*G258,2)","v":0},null,{"$f":"R258+T258+V258","v":40.51},null,null,null,null,null,null,null,null,null,null,null,{"$f":"IF($I258=AI$6,$E258,0)","v":0},{"$f":"IF($K258=ROUND(AI$6*$F258,2),$G258,0)","v":0},{"$f":"IF($H258>0,AI258,0)","v":0},{"$f":"IF(AK258>0,1,0)","v":0},{"$f":"IF($H258>0,AJ258,0)","v":0},{"$f":"IF(AM258>0,1,0)","v":0},{"$f":"IF($I258=AO$6,$E258,0)","v":0},{"$f":"IF($K258=ROUND(AO$6*$F258,2),$G258,0)","v":0},{"$f":"IF($H258>0,AO258,0)","v":0},{"$f":"IF(AQ258>0,1,0)","v":0},{"$f":"IF($H258>0,AP258,0)","v":0},{"$f":"IF(AS258>0,1,0)","v":0},{"$f":"IF($I258=AU$6,$E258,0)","v":0},{"$f":"IF($K258=ROUND(AU$6*$F258,2),$G258,0)","v":0},{"$f":"IF($H258>0,AU258,0)","v":0},{"$f":"IF(AW258>0,1,0)","v":0},{"$f":"IF($H258>0,AV258,0)","v":0},{"$f":"IF(AY258>0,1,0)","v":0},{"$f":"IF($I258=BA$6,$E258,0)","v":0.1},{"$f":"IF($K258=ROUND(BA$6*$F258,2),$G258,0)","v":0},{"$f":"IF($H258>0,BA258,0)","v":0.1},{"$f":"IF(BC258>0,1,0)","v":1},{"$f":"IF($H258>0,BB258,0)","v":0},{"$f":"IF(BE258>0,1,0)","v":0},null,1E-4,0.7,null,null,0]
[{"$f":"IF(E259+G259>0,A258,\"\")","v":""},{"$f":"IF(E259+G259>0,B258,\"\")","v":""},7,"03-4-23.575(333)",0,1.1000000000000001,0,0,{"$f":"SUMIF(Y$14:BA$14,C259,Y$6:BA$6)","v":2166.8000000000002},{"$f":"IF(H259=0,ROUND(E259*I259,2),ROUND(H259*E259,2))","v":0},{"$f":"ROUND(F259*I259,2)","v":2383.48},{"$f":"IF(H259=0,ROUND(ROUND(F259*I259,2)*G259,2),ROUND(G259*H259,2))","v":0},{"$f":"L259-ROUND(G259*I259,2)","v":0},null,{"$f":"J259+L259+N259","v":0},null,405.07,{"$f":"ROUND(Q259*E259,2)","v":0},{"$f":"ROUND(F259*Q259,2)","v":445.58},{"$f":"ROUND(S259*G259,2)","v":0},{"$f":"T259-ROUND(Q259*G259,2)","v":0},null,{"$f":"R259+T259+V259","v":0},null,null,null,null,null,null,null,null,null,null,null,{"$f":"IF($I259=AI$6,$E259,0)","v":0},0,{"$f":"IF($H259>0,AI259,0)","v":0},{"$f":"IF(AK259>0,1,0)","v":0},{"$f":"IF($H259>0,AJ259,0)","v":0},{"$f":"IF(AM259>0,1,0)","v":0},{"$f":"IF($I259=AO$6,$E259,0)","v":0},0,{"$f":"IF($H259>0,AO259,0)","v":0},{"$f":"IF(AQ259>0,1,0)","v":0},{"$f":"IF($H259>0,AP259,0)","v":0},{"$f":"IF(AS259>0,1,0)","v":0},{"$f":"IF($I259=AU$6,$E259,0)","v":0},0,{"$f":"IF($H259>0,AU259,0)","v":0},{"$f":"IF(AW259>0,1,0)","v":0},{"$f":"IF($H259>0,AV259,0)","v":0},{"$f":"IF(AY259>0,1,0)","v":0},{"$f":"IF($I259=BA$6,$E259,0)","v":0},0,{"$f":"IF($H259>0,BA259,0)","v":0},{"$f":"IF(BC259>0,1,0)","v":0},{"$f":"IF($H259>0,BB259,0)","v":0},{"$f":"IF(BE259>0,1,0)","v":0},null,0,null,null,null,0]
[{"$f":"IF(E260+G260>0,A258,\"\")","v":""},{"$f":"IF(E260+G260>0,B258,\"\")","v":""},{"$f":"C259","v":7},"03-4-23.575(333)",0,1.5,0,0,{"$f":"SUMIF(Y$14:BA$14,C260,Y$7:BA$7)","v":0},0,0,0,0,null,0,null,405.07,0,607.61,0,0,null,0,null,null,null,null,null,null,null,null,null,null,null,{"$f":"IF($I260=AI$7,$E260,0)","v":0},{"$f":"IF($K260=ROUND(AI$7*$F260,2),$G260,0)","v":0},0,0,0,0,{"$f":"IF($I260=AO$7,$E260,0)","v":0},{"$f":"IF($K260=ROUND(AO$7*$F260,2),$G260,0)","v":0},0,0,0,0,{"$f":"IF($I260=AU$7,$E260,0)","v":0},{"$f":"IF($K260=ROUND(AU$7*$F260,2),$G260,0)","v":0},0,0,0,0,{"$f":"IF($I260=BA$7,$E260,0)","v":0},{"$f":"IF($K260=ROUND(BA$7*$F260,2),$G260,0)","v":0},0,0,0,0,null,0,null,null,null,0]
[{"$f":"IF(E261+G261>0,A258,\"\")","v":""},{"$f":"IF(E261+G261>0,B258,\"\")","v":""},{"$f":"C259","v":7},"03-4-23.575(333)",0,1.1000000000000001,0,0,{"$f":"SUMIF(Y$14:BA$14,C261,Y$7:BA$7)","v":0},0,0,0,0,null,0,null,405.07,0,445.58,0,0,null,0,null,null,null,null,null,null,null,null,null,null,null,{"$f":"IF($I261=AI$7,$E261,0)","v":0},{"$f":"IF($K261=ROUND(AI$7*$F261,2),$G261,0)","v":0},0,0,0,0,{"$f":"IF($I261=AO$7,$E261,0)","v":0},{"$f":"IF($K261=ROUND(AO$7*$F261,2),$G261,0)","v":0},0,0,0,0,{"$f":"IF($I261=AU$7,$E261,0)","v":0},{"$f":"IF($K261=ROUND(AU$7*$F261,2),$G261,0)","v":0},0,0,0,0,{"$f":"IF($I261=BA$7,$E261,0)","v":0},{"$f":"IF($K261=ROUND(BA$7*$F261,2),$G261,0)","v":0},0,0,0,0,null,0,null,null,null,0]
["ИП               Фомин               Сергей   Сергеевич ","Вельск, ул.Ломоносова-5",{"$f":"C263","v":7},"03-4-23.576(333)",0.5,1.5,0,0.5,{"$f":"SUMIF(Y$14:BA$14,C262,Y$6:BA$6)","v":2166.8000000000002},{"$f":"IF(H262=0,ROUND(E262*I262,2),ROUND(H262*E262,2))","v":0.25},{"$f":"ROUND(F262*I262,2)","v":3250.2},{"$f":"IF(H262=0,ROUND(ROUND(F262*I262,2)*G262,2),ROUND(G262*H262,2))","v":0},{"$f":"L262-ROUND(G262*I262,2)","v":0},null,{"$f":"J262+L262+N262","v":0.25},null,405.07,{"$f":"ROUND(Q262*E262,2)","v":202.54},{"$f":"ROUND(F262*Q262,2)","v":607.61},{"$f":"ROUND(S262*G262,2)","v":0},{"$f":"T262-ROUND(Q262*G262,2)","v":0},null,{"$f":"R262+T262+V262","v":202.54},null,null,null,null,null,null,null,null,null,null,null,{"$f":"IF($I262=AI$6,$E262,0)","v":0},{"$f":"IF($K262=ROUND(AI$6*$F262,2),$G262,0)","v":0},{"$f":"IF($H262>0,AI262,0)","v":0},{"$f":"IF(AK262>0,1,0)","v":0},{"$f":"IF($H262>0,AJ262,0)","v":0},{"$f":"IF(AM262>0,1,0)","v":0},{"$f":"IF($I262=AO$6,$E262,0)","v":0},{"$f":"IF($K262=ROUND(AO$6*$F262,2),$G262,0)","v":0},{"$f":"IF($H262>0,AO262,0)","v":0},{"$f":"IF(AQ262>0,1,0)","v":0},{"$f":"IF($H262>0,AP262,0)","v":0},{"$f":"IF(AS262>0,1,0)","v":0},{"$f":"IF($I262=AU$6,$E262,0)","v":0},{"$f":"IF($K262=ROUND(AU$6*$F262,2),$G262,0)","v":0},{"$f":"IF($H262>0,AU262,0)","v":0},{"$f":"IF(AW262>0,1,0)","v":0},{"$f":"IF($H262>0,AV262,0)","v":0},{"$f":"IF(AY262>0,1,0)","v":0},{"$f":"IF($I262=BA$6,$E262,0)","v":0.5},{"$f":"IF($K262=ROUND(BA$6*$F262,2),$G262,0)","v":0},{"$f":"IF($H262>0,BA262,0)","v":0.5},{"$f":"IF(BC262>0,1,0)","v":1},{"$f":"IF($H262>0,BB262,0)","v":0},{"$f":"IF(BE262>0,1,0)","v":0},null,5.0000000000000001E-4,2,null,null,0]
[{"$f":"IF(E263+G263>0,A262,\"\")","v":""},{"$f":"IF(E263+G263>0,B262,\"\")","v":""},7,"03-4-23.576(333)",0,1.1000000000000001,0,0,{"$f":"SUMIF(Y$14:BA$14,C263,Y$6:BA$6)","v":2166.8000000000002},{"$f":"IF(H263=0,ROUND(E263*I263,2),ROUND(H263*E263,2))","v":0},{"$f":"ROUND(F263*I263,2)","v":2383.48},{"$f":"IF(H263=0,ROUND(ROUND(F263*I263,2)*G263,2),ROUND(G263*H263,2))","v":0},{"$f":"L263-ROUND(G263*I263,2)","v":0},null,{"$f":"J263+L263+N263","v":0},null,405.07,{"$f":"ROUND(Q263*E263,2)","v":0},{"$f":"ROUND(F263*Q263,2)","v":445.58},{"$f":"ROUND(S263*G263,2)","v":0},{"$f":"T263-ROUND(Q263*G263,2)","v":0},null,{"$f":"R263+T263+V263","v":0},null,null,null,null,null,null,null,null,null,null,null,{"$f":"IF($I263=AI$6,$E263,0)","v":0},0,{"$f":"IF($H263>0,AI263,0)","v":0},{"$f":"IF(AK263>0,1,0)","v":0},{"$f":"IF($H263>0,AJ263,0)","v":0},{"$f":"IF(AM263>0,1,0)","v":0},{"$f":"IF($I263=AO$6,$E263,0)","v":0},0,{"$f":"IF($H263>0,AO263,0)","v":0},{"$f":"IF(AQ263>0,1,0)","v":0},{"$f":"IF($H263>0,AP263,0)","v":0},{"$f":"IF(AS263>0,1,0)","v":0},{"$f":"IF($I263=AU$6,$E263,0)","v":0},0,{"$f":"IF($H263>0,AU263,0)","v":0},{"$f":"IF(AW263>0,1,0)","v":0},{"$f":"IF($H263>0,AV263,0)","v":0},{"$f":"IF(AY263>0,1,0)","v":0},{"$f":"IF($I263=BA$6,$E263,0)","v":0},0,{"$f":"IF($H263>0,BA263,0)","v":0},{"$f":"IF(BC263>0,1,0)","v":0},{"$f":"IF($H263>0,BB263,0)","v":0},{"$f":"IF(BE263>0,1,0)","v":0},null,0,null,null,null,0]
[{"$f":"IF(E264+G264>0,A262,\"\")","v":""},{"$f":"IF(E264+G264>0,B262,\"\")","v":""},{"$f":"C263","v":7},"03-4-23.576(333)",0,1.5,0,0,{"$f":"SUMIF(Y$14:BA$14,C264,Y$7:BA$7)","v":0},0,0,0,0,null,0,null,405.07,0,607.61,0,0,null,0,null,null,null,null,null,null,null,null,null,null,null,{"$f":"IF($I264=AI$7,$E264,0)","v":0},{"$f":"IF($K264=ROUND(AI$7*$F264,2),$G264,0)","v":0},0,0,0,0,{"$f":"IF($I264=AO$7,$E264,0)","v":0},{"$f":"IF($K264=ROUND(AO$7*$F264,2),$G264,0)","v":0},0,0,0,0,{"$f":"IF($I264=AU$7,$E264,0)","v":0},{"$f":"IF($K264=ROUND(AU$7*$F264,2),$G264,0)","v":0},0,0,0,0,{"$f":"IF($I264=BA$7,$E264,0)","v":0},{"$f":"IF($K264=ROUND(BA$7*$F264,2),$G264,0)","v":0},0,0,0,0,null,0,null,null,null,0]
[{"$f":"IF(E265+G265>0,A262,\"\")","v":""},{"$f":"IF(E265+G265>0,B262,\"\")","v":""},{"$f":"C263","v":7},"03-4-23.576(333)",0,1.1000000000000001,0,0,{"$f":"SUMIF(Y$14:BA$14,C265,Y$7:BA$7)","v":0},0,0,0,0,null,0,null,405.07,0,445.58,0,0,null,0,null,null,null,null,null,null,null,null,null,null,null,{"$f":"IF($I265=AI$7,$E265,0)","v":0},{"$f":"IF($K265=ROUND(AI$7*$F265,2),$G265,0)","v":0},0,0,0,0,{"$f":"IF($I265=AO$7,$E265,0)","v":0},{"$f":"IF($K265=ROUND(AO$7*$F265,2),$G265,0)","v":0},0,0,0,0,{"$f":"IF($I265=AU$7,$E265,0)","v":0},{"$f":"IF($K265=ROUND(AU$7*$F265,2),$G265,0)","v":0},0,0,0,0,{"$f":"IF($I265=BA$7,$E265,0)","v":0},{"$f":"IF($K265=ROUND(BA$7*$F265,2),$G265,0)","v":0},0,0,0,0,null,0,null,null,null,0]
["ИП               Фомин               Сергей   Сергеевич ","Вельск, ул.Пушкина-100",{"$f":"C267","v":7},"03-4-23.576(333)",0.6,1.5,0,0.6,{"$f":"SUMIF(Y$14:BA$14,C266,Y$6:BA$6)","v":2166.8000000000002},{"$f":"IF(H266=0,ROUND(E266*I266,2),ROUND(H266*E266,2))","v":0.36},{"$f":"ROUND(F266*I266,2)","v":3250.2},{"$f":"IF(H266=0,ROUND(ROUND(F266*I266,2)*G266,2),ROUND(G266*H266,2))","v":0},{"$f":"L266-ROUND(G266*I266,2)","v":0},null,{"$f":"J266+L266+N266","v":0.36},null,405.07,{"$f":"ROUND(Q266*E266,2)","v":243.04},{"$f":"ROUND(F266*Q266,2)","v":607.61},{"$f":"ROUND(S266*G266,2)","v":0},{"$f":"T266-ROUND(Q266*G266,2)","v":0},null,{"$f":"R266+T266+V266","v":243.04},null,null,null,null,null,null,null,null,null,null,null,{"$f":"IF($I266=AI$6,$E266,0)","v":0},{"$f":"IF($K266=ROUND(AI$6*$F266,2),$G266,0)","v":0},{"$f":"IF($H266>0,AI266,0)","v":0},{"$f":"IF(AK266>0,1,0)","v":0},{"$f":"IF($H266>0,AJ266,0)","v":0},{"$f":"IF(AM266>0,1,0)","v":0},{"$f":"IF($I266=AO$6,$E266,0)","v":0},{"$f":"IF($K266=ROUND(AO$6*$F266,2),$G266,0)","v":0},{"$f":"IF($H266>0,AO266,0)","v":0},{"$f":"IF(AQ266>0,1,0)","v":0},{"$f":"IF($H266>0,AP266,0)","v":0},{"$f":"IF(AS266>0,1,0)","v":0},{"$f":"IF($I266=AU$6,$E266,0)","v":0},{"$f":"IF($K266=ROUND(AU$6*$F266,2),$G266,0)","v":0},{"$f":"IF($H266>0,AU266,0)","v":0},{"$f":"IF(AW266>0,1,0)","v":0},{"$f":"IF($H266>0,AV266,0)","v":0},{"$f":"IF(AY266>0,1,0)","v":0},{"$f":"IF($I266=BA$6,$E266,0)","v":0.6},{"$f":"IF($K266=ROUND(BA$6*$F266,2),$G266,0)","v":0},{"$f":"IF($H266>0,BA266,0)","v":0.6},{"$f":"IF(BC266>0,1,0)","v":1},{"$f":"IF($H266>0,BB266,0)","v":0},{"$f":"IF(BE266>0,1,0)","v":0},null,5.9999999999999995E-4,2,null,null,0]
[{"$f":"IF(E267+G267>0,A266,\"\")","v":""},{"$f":"IF(E267+G267>0,B266,\"\")","v":""},7,"03-4-23.576(333)",0,1.1000000000000001,0,0,{"$f":"SUMIF(Y$14:BA$14,C267,Y$6:BA$6)","v":2166.8000000000002},{"$f":"IF(H267=0,ROUND(E267*I267,2),ROUND(H267*E267,2))","v":0},{"$f":"ROUND(F267*I267,2)","v":2383.48},{"$f":"IF(H267=0,ROUND(ROUND(F267*I267,2)*G267,2),ROUND(G267*H267,2))","v":0},{"$f":"L267-ROUND(G267*I267,2)","v":0},null,{"$f":"J267+L267+N267","v":0},null,405.07,{"$f":"ROUND(Q267*E267,2)","v":0},{"$f":"ROUND(F267*Q267,2)","v":445.58},{"$f":"ROUND(S267*G267,2)","v":0},{"$f":"T267-ROUND(Q267*G267,2)","v":0},null,{"$f":"R267+T267+V267","v":0},null,null,null,null,null,null,null,null,null,null,null,{"$f":"IF($I267=AI$6,$E267,0)","v":0},0,{"$f":"IF($H267>0,AI267,0)","v":0},{"$f":"IF(AK267>0,1,0)","v":0},{"$f":"IF($H267>0,AJ267,0)","v":0},{"$f":"IF(AM267>0,1,0)","v":0},{"$f":"IF($I267=AO$6,$E267,0)","v":0},0,{"$f":"IF($H267>0,AO267,0)","v":0},{"$f":"IF(AQ267>0,1,0)","v":0},{"$f":"IF($H267>0,AP267,0)","v":0},{"$f":"IF(AS267>0,1,0)","v":0},{"$f":"IF($I267=AU$6,$E267,0)","v":0},0,{"$f":"IF($H267>0,AU267,0)","v":0},{"$f":"IF(AW267>0,1,0)","v":0},{"$f":"IF($H267>0,AV267,0)","v":0},{"$f":"IF(AY267>0,1,0)","v":0},{"$f":"IF($I267=BA$6,$E267,0)","v":0},0,{"$f":"IF($H267>0,BA267,0)","v":0},{"$f":"IF(BC267>0,1,0)","v":0},{"$f":"IF($H267>0,BB267,0)","v":0},{"$f":"IF(BE267>0,1,0)","v":0},null,0,null,null,null,0]
[{"$f":"IF(E268+G268>0,A266,\"\")","v":""},{"$f":"IF(E268+G268>0,B266,\"\")","v":""},{"$f":"C267","v":7},"03-4-23.576(333)",0,1.5,0,0,{"$f":"SUMIF(Y$14:BA$14,C268,Y$7:BA$7)","v":0},0,0,0,0,null,0,null,405.07,0,607.61,0,0,null,0,null,null,null,null,null,null,null,null,null,null,null,{"$f":"IF($I268=AI$7,$E268,0)","v":0},{"$f":"IF($K268=ROUND(AI$7*$F268,2),$G268,0)","v":0},0,0,0,0,{"$f":"IF($I268=AO$7,$E268,0)","v":0},{"$f":"IF($K268=ROUND(AO$7*$F268,2),$G268,0)","v":0},0,0,0,0,{"$f":"IF($I268=AU$7,$E268,0)","v":0},{"$f":"IF($K268=ROUND(AU$7*$F268,2),$G268,0)","v":0},0,0,0,0,{"$f":"IF($I268=BA$7,$E268,0)","v":0},{"$f":"IF($K268=ROUND(BA$7*$F268,2),$G268,0)","v":0},0,0,0,0,null,0,null,null,null,0]
[{"$f":"IF(E269+G269>0,A266,\"\")","v":""},{"$f":"IF(E269+G269>0,B266,\"\")","v":""},{"$f":"C267","v":7},"03-4-23.576(333)",0,1.1000000000000001,0,0,{"$f":"SUMIF(Y$14:BA$14,C269,Y$7:BA$7)","v":0},0,0,0,0,null,0,null,405.07,0,445.58,0,0,null,0,null,null,null,null,null,null,null,null,null,null,null,{"$f":"IF($I269=AI$7,$E269,0)","v":0},{"$f":"IF($K269=ROUND(AI$7*$F269,2),$G269,0)","v":0},0,0,0,0,{"$f":"IF($I269=AO$7,$E269,0)","v":0},{"$f":"IF($K269=ROUND(AO$7*$F269,2),$G269,0)","v":0},0,0,0,0,{"$f":"IF($I269=AU$7,$E269,0)","v":0},{"$f":"IF($K269=ROUND(AU$7*$F269,2),$G269,0)","v":0},0,0,0,0,{"$f":"IF($I269=BA$7,$E269,0)","v":0},{"$f":"IF($K269=ROUND(BA$7*$F269,2),$G269,0)","v":0},0,0,0,0,null,0,null,null,null,0]
["ИП               Лопаткин         Николай  Витальевич","",{"$f":"C271","v":7},"03-4-23.577(333)",0.55000000000000004,1.5,0.20200000000000001,0.752,{"$f":"SUMIF(Y$14:BA$14,C270,Y$6:BA$6)","v":2166.8000000000002},{"$f":"IF(H270=0,ROUND(E270*I270,2),ROUND(H270*E270,2))","v":0.41},{"$f":"ROUND(F270*I270,2)","v":3250.2},{"$f":"IF(H270=0,ROUND(ROUND(F270*I270,2)*G270,2),ROUND(G270*H270,2))","v":0.15},{"$f":"L270-ROUND(G270*I270,2)","v":-437.54},null,{"$f":"J270+L270+N270","v":0.55999999999999994},null,405.07,{"$f":"ROUND(Q270*E270,2)","v":222.79},{"$f":"ROUND(F270*Q270,2)","v":607.61},{"$f":"ROUND(S270*G270,2)","v":122.74},{"$f":"T270-ROUND(Q270*G270,2)","v":40.92},null,{"$f":"R270+T270+V270","v":345.53},null,null,null,null,null,null,null,null,null,null,null,{"$f":"IF($I270=AI$6,$E270,0)","v":0},{"$f":"IF($K270=ROUND(AI$6*$F270,2),$G270,0)","v":0},{"$f":"IF($H270>0,AI270,0)","v":0},{"$f":"IF(AK270>0,1,0)","v":0},{"$f":"IF($H270>0,AJ270,0)","v":0},{"$f":"IF(AM270>0,1,0)","v":0},{"$f":"IF($I270=AO$6,$E270,0)","v":0},{"$f":"IF($K270=ROUND(AO$6*$F270,2),$G270,0)","v":0},{"$f":"IF($H270>0,AO270,0)","v":0},{"$f":"IF(AQ270>0,1,0)","v":0},{"$f":"IF($H270>0,AP270,0)","v":0},{"$f":"IF(AS270>0,1,0)","v":0},{"$f":"IF($I270=AU$6,$E270,0)","v":0},{"$f":"IF($K270=ROUND(AU$6*$F270,2),$G270,0)","v":0},{"$f":"IF($H270>0,AU270,0)","v":0},{"$f":"IF(AW270>0,1,0)","v":0},{"$f":"IF($H270>0,AV270,0)","v":0},{"$f":"IF(AY270>0,1,0)","v":0},{"$f":"IF($I270=BA$6,$E270,0)","v":0.55000000000000004},{"$f":"IF($K270=ROUND(BA$6*$F270,2),$G270,0)","v":0.20200000000000001},{"$f":"IF($H270>0,BA270,0)","v":0.55000000000000004},{"$f":"IF(BC270>0,1,0)","v":1},{"$f":"IF($H270>0,BB270,0)","v":0.20200000000000001},{"$f":"IF(BE270>0,1,0)","v":1},null,7.5199999999999996E-4,0.5,null,null,0]
[{"$f":"IF(E271+G271>0,A270,\"\")","v":""},{"$f":"IF(E271+G271>0,B270,\"\")","v":""},7,"03-4-23.577(333)",0,1.1000000000000001,0,0,{"$f":"SUMIF(Y$14:BA$14,C271,Y$6:BA$6)","v":2166.8000000000002},{"$f":"IF(H271=0,ROUND(E271*I271,2),ROUND(H271*E271,2))","v":0},{"$f":"ROUND(F271*I271,2)","v":2383.48},{"$f":"IF(H271=0,ROUND(ROUND(F271*I271,2)*G271,2),ROUND(G271*H271,2))","v":0},{"$f":"L271-ROUND(G271*I271,2)","v":0},null,{"$f":"J271+L271+N271","v":0},null,405.07,{"$f":"ROUND(Q271*E271,2)","v":0},{"$f":"ROUND(F271*Q271,2)","v":445.58},{"$f":"ROUND(S271*G271,2)","v":0},{"$f":"T271-ROUND(Q271*G271,2)","v":0},null,{"$f":"R271+T271+V271","v":0},null,null,null,null,null,null,null,null,null,null,null,{"$f":"IF($I271=AI$6,$E271,0)","v":0},0,{"$f":"IF($H271>0,AI271,0)","v":0},{"$f":"IF(AK271>0,1,0)","v":0},{"$f":"IF($H271>0,AJ271,0)","v":0},{"$f":"IF(AM271>0,1,0)","v":0},{"$f":"IF($I271=AO$6,$E271,0)","v":0},0,{"$f":"IF($H271>0,AO271,0)","v":0},{"$f":"IF(AQ271>0,1,0)","v":0},{"$f":"IF($H271>0,AP271,0)","v":0},{"$f":"IF(AS271>0,1,0)","v":0},{"$f":"IF($I271=AU$6,$E271,0)","v":0},0,{"$f":"IF($H271>0,AU271,0)","v":0},{"$f":"IF(AW271>0,1,0)","v":0},{"$f":"IF($H271>0,AV271,0)","v":0},{"$f":"IF(AY271>0,1,0)","v":0},{"$f":"IF($I271=BA$6,$E271,0)","v":0},0,{"$f":"IF($H271>0,BA271,0)","v":0},{"$f":"IF(BC271>0,1,0)","v":0},{"$f":"IF($H271>0,BB271,0)","v":0},{"$f":"IF(BE271>0,1,0)","v":0},null,0,null,null,null,0]
[{"$f":"IF(E272+G272>0,A270,\"\")","v":""},{"$f":"IF(E272+G272>0,B270,\"\")","v":""},{"$f":"C271","v":7},"03-4-23.577(333)",0,1.5,0,0,{"$f":"SUMIF(Y$14:BA$14,C272,Y$7:BA$7)","v":0},0,0,0,0,null,0,null,{"$f":"IF(BI272>0,Q$6,Q$6)","v":405.07},0,607.61,0,0,null,0,null,null,null,null,null,null,null,null,null,null,null,{"$f":"IF($I272=AI$7,$E272,0)","v":0},{"$f":"IF($K272=ROUND(AI$7*$F272,2),$G272,0)","v":0},0,0,0,0,{"$f":"IF($I272=AO$7,$E272,0)","v":0},{"$f":"IF($K272=ROUND(AO$7*$F272,2),$G272,0)","v":0},0,0,0,0,{"$f":"IF($I272=AU$7,$E272,0)","v":0},{"$f":"IF($K272=ROUND(AU$7*$F272,2),$G272,0)","v":0},0,0,0,0,{"$f":"IF($I272=BA$7,$E272,0)","v":0},{"$f":"IF($K272=ROUND(BA$7*$F272,2),$G272,0)","v":0},0,0,0,0,null,0,null,null,null,0]
[{"$f":"IF(E273+G273>0,A270,\"\")","v":""},{"$f":"IF(E273+G273>0,B270,\"\")","v":""},{"$f":"C271","v":7},"03-4-23.577(333)",0,1.1000000000000001,0,{"$f":"E273+G273","v":0},{"$f":"SUMIF(Y$14:BA$14,C273,Y$7:BA$7)","v":0},0,0,0,0,null,0,null,405.07,0,445.58,0,0,null,0,null,null,null,null,null,null,null,null,null,null,null,{"$f":"IF($I273=AI$7,$E273,0)","v":0},{"$f":"IF($K273=ROUND(AI$7*$F273,2),$G273,0)","v":0},0,0,0,0,{"$f":"IF($I273=AO$7,$E273,0)","v":0},{"$f":"IF($K273=ROUND(AO$7*$F273,2),$G273,0)","v":0},0,0,0,0,{"$f":"IF($I273=AU$7,$E273,0)","v":0},{"$f":"IF($K273=ROUND(AU$7*$F273,2),$G273,0)","v":0},0,0,0,0,{"$f":"IF($I273=BA$7,$E273,0)","v":0},{"$f":"IF($K273=ROUND(BA$7*$F273,2),$G273,0)","v":0},0,0,0,0,null,{"$f":"H273/1000","v":0},null,null,null,{"$f":"E273-SUM(AI273,AO273,AU273,BA273)","v":0}]
["Гр.              Фоминский        Александр Алексеевич","",{"$f":"C275","v":7},"03-4-23.581(333)",0.9,1.5,0,0.9,{"$f":"SUMIF(Y$14:BA$14,C274,Y$6:BA$6)","v":2166.8000000000002},{"$f":"IF(H274=0,ROUND(E274*I274,2),ROUND(H274*E274,2))","v":0.81},{"$f":"ROUND(F274*I274,2)","v":3250.2},{"$f":"IF(H274=0,ROUND(ROUND(F274*I274,2)*G274,2),ROUND(G274*H274,2))","v":0},{"$f":"L274-ROUND(G274*I274,2)","v":0},null,{"$f":"J274+L274+N274","v":0.81},null,405.07,{"$f":"ROUND(Q274*E274,2)","v":364.56},{"$f":"ROUND(F274*Q274,2)","v":607.61},{"$f":"ROUND(S274*G274,2)","v":0},{"$f":"T274-ROUND(Q274*G274,2)","v":0},null,{"$f":"R274+T274+V274","v":364.56},null,null,null,null,null,null,null,null,null,null,null,{"$f":"IF($I274=AI$6,$E274,0)","v":0},{"$f":"IF($K274=ROUND(AI$6*$F274,2),$G274,0)","v":0},{"$f":"IF($H274>0,AI274,0)","v":0},{"$f":"IF(AK274>0,1,0)","v":0},{"$f":"IF($H274>0,AJ274,0)","v":0},{"$f":"IF(AM274>0,1,0)","v":0},{"$f":"IF($I274=AO$6,$E274,0)","v":0},{"$f":"IF($K274=ROUND(AO$6*$F274,2),$G274,0)","v":0},{"$f":"IF($H274>0,AO274,0)","v":0},{"$f":"IF(AQ274>0,1,0)","v":0},{"$f":"IF($H274>0,AP274,0)","v":0},{"$f":"IF(AS274>0,1,0)","v":0},{"$f":"IF($I274=AU$6,$E274,0)","v":0},{"$f":"IF($K274=ROUND(AU$6*$F274,2),$G274,0)","v":0},{"$f":"IF($H274>0,AU274,0)","v":0},{"$f":"IF(AW274>0,1,0)","v":0},{"$f":"IF($H274>0,AV274,0)","v":0},{"$f":"IF(AY274>0,1,0)","v":0},{"$f":"IF($I274=BA$6,$E274,0)","v":0.9},{"$f":"IF($K274=ROUND(BA$6*$F274,2),$G274,0)","v":0},{"$f":"IF($H274>0,BA274,0)","v":0.9},{"$f":"IF(BC274>0,1,0)","v":1},{"$f":"IF($H274>0,BB274,0)","v":0},{"$f":"IF(BE274>0,1,0)","v":0},null,8.9999999999999998E-4,1.1000000000000001,null,null,0]
[{"$f":"IF(E275+G275>0,A274,\"\")","v":""},{"$f":"IF(E275+G275>0,B274,\"\")","v":""},7,"03-4-23.581(333)",0,1.1000000000000001,0,0,{"$f":"SUMIF(Y$14:BA$14,C275,Y$6:BA$6)","v":2166.8000000000002},{"$f":"IF(H275=0,ROUND(E275*I275,2),ROUND(H275*E275,2))","v":0},{"$f":"ROUND(F275*I275,2)","v":2383.48},{"$f":"IF(H275=0,ROUND(ROUND(F275*I275,2)*G275,2),ROUND(G275*H275,2))","v":0},{"$f":"L275-ROUND(G275*I275,2)","v":0},null,{"$f":"J275+L275+N275","v":0},null,405.07,{"$f":"ROUND(Q275*E275,2)","v":0},{"$f":"ROUND(F275*Q275,2)","v":445.58},{"$f":"ROUND(S275*G275,2)","v":0},{"$f":"T275-ROUND(Q275*G275,2)","v":0},null,{"$f":"R275+T275+V275","v":0},null,null,null,null,null,null,null,null,null,null,null,{"$f":"IF($I275=AI$6,$E275,0)","v":0},0,{"$f":"IF($H275>0,AI275,0)","v":0},{"$f":"IF(AK275>0,1,0)","v":0},{"$f":"IF($H275>0,AJ275,0)","v":0},{"$f":"IF(AM275>0,1,0)","v":0},{"$f":"IF($I275=AO$6,$E275,0)","v":0},0,{"$f":"IF($H275>0,AO275,0)","v":0},{"$f":"IF(AQ275>0,1,0)","v":0},{"$f":"IF($H275>0,AP275,0)","v":0},{"$f":"IF(AS275>0,1,0)","v":0},{"$f":"IF($I275=AU$6,$E275,0)","v":0},0,{"$f":"IF($H275>0,AU275,0)","v":0},{"$f":"IF(AW275>0,1,0)","v":0},{"$f":"IF($H275>0,AV275,0)","v":0},{"$f":"IF(AY275>0,1,0)","v":0},{"$f":"IF($I275=BA$6,$E275,0)","v":0},0,{"$f":"IF($H275>0,BA275,0)","v":0},{"$f":"IF(BC275>0,1,0)","v":0},{"$f":"IF($H275>0,BB275,0)","v":0},{"$f":"IF(BE275>0,1,0)","v":0},null,0,null,null,null,0]
[{"$f":"IF(E276+G276>0,A274,\"\")","v":""},{"$f":"IF(E276+G276>0,B274,\"\")","v":""},{"$f":"C275","v":7},"03-4-23.581(333)",0,1.5,0,0,{"$f":"SUMIF(Y$14:BA$14,C276,Y$7:BA$7)","v":0},0,0,0,0,null,0,null,405.07,0,607.61,0,0,null,0,null,null,null,null,null,null,null,null,null,null,null,{"$f":"IF($I276=AI$7,$E276,0)","v":0},{"$f":"IF($K276=ROUND(AI$7*$F276,2),$G276,0)","v":0},0,0,0,0,{"$f":"IF($I276=AO$7,$E276,0)","v":0},{"$f":"IF($K276=ROUND(AO$7*$F276,2),$G276,0)","v":0},0,0,0,0,{"$f":"IF($I276=AU$7,$E276,0)","v":0},{"$f":"IF($K276=ROUND(AU$7*$F276,2),$G276,0)","v":0},0,0,0,0,{"$f":"IF($I276=BA$7,$E276,0)","v":0},{"$f":"IF($K276=ROUND(BA$7*$F276,2),$G276,0)","v":0},0,0,0,0,null,0,null,null,null,0]
[{"$f":"IF(E277+G277>0,A274,\"\")","v":""},{"$f":"IF(E277+G277>0,B274,\"\")","v":""},{"$f":"C275","v":7},"03-4-23.581(333)",0,1.1000000000000001,0,0,{"$f":"SUMIF(Y$14:BA$14,C277,Y$7:BA$7)","v":0},0,0,0,0,null,0,null,405.07,0,445.58,0,0,null,0,null,null,null,null,null,null,null,null,null,null,null,{"$f":"IF($I277=AI$7,$E277,0)","v":0},{"$f":"IF($K277=ROUND(AI$7*$F277,2),$G277,0)","v":0},0,0,0,0,{"$f":"IF($I277=AO$7,$E277,0)","v":0},{"$f":"IF($K277=ROUND(AO$7*$F277,2),$G277,0)","v":0},0,0,0,0,{"$f":"IF($I277=AU$7,$E277,0)","v":0},{"$f":"IF($K277=ROUND(AU$7*$F277,2),$G277,0)","v":0},0,0,0,0,{"$f":"IF($I277=BA$7,$E277,0)","v":0},{"$f":"IF($K277=ROUND(BA$7*$F277,2),$G277,0)","v":0},0,0,0,0,null,0,null,null,null,0]
["ИП              Соболев            Владимир Иванович","",{"$f":"C279","v":7},"03-4-23.582(333)",0.41299999999999998,1.5,0,0.41299999999999998,{"$f":"SUMIF(Y$14:BA$14,C278,Y$6:BA$6)","v":2166.8000000000002},{"$f":"IF(H278=0,ROUND(E278*I278,2),ROUND(H278*E278,2))","v":0.17},{"$f":"ROUND(F278*I278,2)","v":3250.2},{"$f":"IF(H278=0,ROUND(ROUND(F278*I278,2)*G278,2),ROUND(G278*H278,2))","v":0},{"$f":"L278-ROUND(G278*I278,2)","v":0},null,{"$f":"J278+L278+N278","v":0.17},null,405.07,{"$f":"ROUND(Q278*E278,2)","v":167.29},{"$f":"ROUND(F278*Q278,2)","v":607.61},{"$f":"ROUND(S278*G278,2)","v":0},{"$f":"T278-ROUND(Q278*G278,2)","v":0},null,{"$f":"R278+T278+V278","v":167.29},null,null,null,null,null,null,null,null,null,null,null,{"$f":"IF($I278=AI$6,$E278,0)","v":0},{"$f":"IF($K278=ROUND(AI$6*$F278,2),$G278,0)","v":0},{"$f":"IF($H278>0,AI278,0)","v":0},{"$f":"IF(AK278>0,1,0)","v":0},{"$f":"IF($H278>0,AJ278,0)","v":0},{"$f":"IF(AM278>0,1,0)","v":0},{"$f":"IF($I278=AO$6,$E278,0)","v":0},{"$f":"IF($K278=ROUND(AO$6*$F278,2),$G278,0)","v":0},{"$f":"IF($H278>0,AO278,0)","v":0},{"$f":"IF(AQ278>0,1,0)","v":0},{"$f":"IF($H278>0,AP278,0)","v":0},{"$f":"IF(AS278>0,1,0)","v":0},{"$f":"IF($I278=AU$6,$E278,0)","v":0},{"$f":"IF($K278=ROUND(AU$6*$F278,2),$G278,0)","v":0},{"$f":"IF($H278>0,AU278,0)","v":0},{"$f":"IF(AW278>0,1,0)","v":0},{"$f":"IF($H278>0,AV278,0)","v":0},{"$f":"IF(AY278>0,1,0)","v":0},{"$f":"IF($I278=BA$6,$E278,0)","v":0.41299999999999998},{"$f":"IF($K278=ROUND(BA$6*$F278,2),$G278,0)","v":0},{"$f":"IF($H278>0,BA278,0)","v":0.41299999999999998},{"$f":"IF(BC278>0,1,0)","v":1},{"$f":"IF($H278>0,BB278,0)","v":0},{"$f":"IF(BE278>0,1,0)","v":0},null,4.1299999999999996E-4,0.85,null,null,0]
[{"$f":"IF(E279+G279>0,A278,\"\")","v":""},{"$f":"IF(E279+G279>0,B278,\"\")","v":""},7,"03-4-23.582(333)",0,1.1000000000000001,0,0,{"$f":"SUMIF(Y$14:BA$14,C279,Y$6:BA$6)","v":2166.8000000000002},{"$f":"IF(H279=0,ROUND(E279*I279,2),ROUND(H279*E279,2))","v":0},{"$f":"ROUND(F279*I279,2)","v":2383.48},{"$f":"IF(H279=0,ROUND(ROUND(F279*I279,2)*G279,2),ROUND(G279*H279,2))","v":0},{"$f":"L279-ROUND(G279*I279,2)","v":0},null,{"$f":"J279+L279+N279","v":0},null,405.07,{"$f":"ROUND(Q279*E279,2)","v":0},{"$f":"ROUND(F279*Q279,2)","v":445.58},{"$f":"ROUND(S279*G279,2)","v":0},{"$f":"T279-ROUND(Q279*G279,2)","v":0},null,{"$f":"R279+T279+V279","v":0},null,null,null,null,null,null,null,null,null,null,null,{"$f":"IF($I279=AI$6,$E279,0)","v":0},0,{"$f":"IF($H279>0,AI279,0)","v":0},{"$f":"IF(AK279>0,1,0)","v":0},{"$f":"IF($H279>0,AJ279,0)","v":0},{"$f":"IF(AM279>0,1,0)","v":0},{"$f":"IF($I279=AO$6,$E279,0)","v":0},0,{"$f":"IF($H279>0,AO279,0)","v":0},{"$f":"IF(AQ279>0,1,0)","v":0},{"$f":"IF($H279>0,AP279,0)","v":0},{"$f":"IF(AS279>0,1,0)","v":0},{"$f":"IF($I279=AU$6,$E279,0)","v":0},0,{"$f":"IF($H279>0,AU279,0)","v":0},{"$f":"IF(AW279>0,1,0)","v":0},{"$f":"IF($H279>0,AV279,0)","v":0},{"$f":"IF(AY279>0,1,0)","v":0},{"$f":"IF($I279=BA$6,$E279,0)","v":0},0,{"$f":"IF($H279>0,BA279,0)","v":0},{"$f":"IF(BC279>0,1,0)","v":0},{"$f":"IF($H279>0,BB279,0)","v":0},{"$f":"IF(BE279>0,1,0)","v":0},null,0,null,null,null,0]
[{"$f":"IF(E280+G280>0,A278,\"\")","v":""},{"$f":"IF(E280+G280>0,B278,\"\")","v":""},{"$f":"C279","v":7},"03-4-23.582(333)",0,1.5,0,0,{"$f":"SUMIF(Y$14:BA$14,C280,Y$7:BA$7)","v":0},0,0,0,0,null,0,null,405.07,0,607.61,0,0,null,0,null,null,null,null,null,null,null,null,null,null,null,{"$f":"IF($I280=AI$7,$E280,0)","v":0},{"$f":"IF($K280=ROUND(AI$7*$F280,2),$G280,0)","v":0},0,0,0,0,{"$f":"IF($I280=AO$7,$E280,0)","v":0},{"$f":"IF($K280=ROUND(AO$7*$F280,2),$G280,0)","v":0},0,0,0,0,{"$f":"IF($I280=AU$7,$E280,0)","v":0},{"$f":"IF($K280=ROUND(AU$7*$F280,2),$G280,0)","v":0},0,0,0,0,{"$f":"IF($I280=BA$7,$E280,0)","v":0},{"$f":"IF($K280=ROUND(BA$7*$F280,2),$G280,0)","v":0},0,0,0,0,null,0,null,null,null,0]
[{"$f":"IF(E281+G281>0,A278,\"\")","v":""},{"$f":"IF(E281+G281>0,B278,\"\")","v":""},{"$f":"C279","v":7},"03-4-23.582(333)",0,1.1000000000000001,0,0,{"$f":"SUMIF(Y$14:BA$14,C281,Y$7:BA$7)","v":0},0,0,0,0,null,0,null,405.07,0,445.58,0,0,null,0,null,null,null,null,null,null,null,null,null,null,null,{"$f":"IF($I281=AI$7,$E281,0)","v":0},{"$f":"IF($K281=ROUND(AI$7*$F281,2),$G281,0)","v":0},0,0,0,0,{"$f":"IF($I281=AO$7,$E281,0)","v":0},{"$f":"IF($K281=ROUND(AO$7*$F281,2),$G281,0)","v":0},0,0,0,0,{"$f":"IF($I281=AU$7,$E281,0)","v":0},{"$f":"IF($K281=ROUND(AU$7*$F281,2),$G281,0)","v":0},0,0,0,0,{"$f":"IF($I281=BA$7,$E281,0)","v":0},{"$f":"IF($K281=ROUND(BA$7*$F281,2),$G281,0)","v":0},0,0,0,0,null,0,null,null,null,0]
["ООО          \"ПАРТНЕР\"","Вельск, ул.К.Маркса-1а, стр.5",{"$f":"C283","v":6},"03-4-23.583(333)",1.1870000000000001,1.5,0,1.1870000000000001,{"$f":"SUMIF(Y$14:BA$14,C282,Y$6:BA$6)","v":1733.45},{"$f":"IF(H282=0,ROUND(E282*I282,2),ROUND(H282*E282,2))","v":1.41},{"$f":"ROUND(F282*I282,2)","v":2600.1799999999998},{"$f":"IF(H282=0,ROUND(ROUND(F282*I282,2)*G282,2),ROUND(G282*H282,2))","v":0},{"$f":"L282-ROUND(G282*I282,2)","v":0},null,{"$f":"J282+L282+N282","v":1.41},null,405.07,{"$f":"ROUND(Q282*E282,2)","v":480.82},{"$f":"ROUND(F282*Q282,2)","v":607.61},{"$f":"ROUND(S282*G282,2)","v":0},{"$f":"T282-ROUND(Q282*G282,2)","v":0},null,{"$f":"R282+T282+V282","v":480.82},null,null,null,null,null,null,null,null,null,null,null,{"$f":"IF($I282=AI$6,$E282,0)","v":0},{"$f":"IF($K282=ROUND(AI$6*$F282,2),$G282,0)","v":0},{"$f":"IF($H282>0,AI282,0)","v":0},{"$f":"IF(AK282>0,1,0)","v":0},{"$f":"IF($H282>0,AJ282,0)","v":0},{"$f":"IF(AM282>0,1,0)","v":0},{"$f":"IF($I282=AO$6,$E282,0)","v":0},{"$f":"IF($K282=ROUND(AO$6*$F282,2),$G282,0)","v":0},{"$f":"IF($H282>0,AO282,0)","v":0},{"$f":"IF(AQ282>0,1,0)","v":0},{"$f":"IF($H282>0,AP282,0)","v":0},{"$f":"IF(AS282>0,1,0)","v":0},{"$f":"IF($I282=AU$6,$E282,0)","v":1.1870000000000001},{"$f":"IF($K282=ROUND(AU$6*$F282,2),$G282,0)","v":0},{"$f":"IF($H282>0,AU282,0)","v":1.1870000000000001},{"$f":"IF(AW282>0,1,0)","v":1},{"$f":"IF($H282>0,AV282,0)","v":0},{"$f":"IF(AY282>0,1,0)","v":0},{"$f":"IF($I282=BA$6,$E282,0)","v":0},{"$f":"IF($K282=ROUND(BA$6*$F282,2),$G282,0)","v":0},{"$f":"IF($H282>0,BA282,0)","v":0},{"$f":"IF(BC282>0,1,0)","v":0},{"$f":"IF($H282>0,BB282,0)","v":0},{"$f":"IF(BE282>0,1,0)","v":0},null,1.1870000000000001E-3,1.3,null,null,0]
[{"$f":"IF(E283+G283>0,A282,\"\")","v":""},{"$f":"IF(E283+G283>0,B282,\"\")","v":""},6,"03-4-23.583(333)",0,1.1000000000000001,0,0,{"$f":"SUMIF(Y$14:BA$14,C283,Y$6:BA$6)","v":1733.45},{"$f":"IF(H283=0,ROUND(E283*I283,2),ROUND(H283*E283,2))","v":0},{"$f":"ROUND(F283*I283,2)","v":1906.8},{"$f":"IF(H283=0,ROUND(ROUND(F283*I283,2)*G283,2),ROUND(G283*H283,2))","v":0},{"$f":"L283-ROUND(G283*I283,2)","v":0},null,{"$f":"J283+L283+N283","v":0},null,405.07,{"$f":"ROUND(Q283*E283,2)","v":0},{"$f":"ROUND(F283*Q283,2)","v":445.58},{"$f":"ROUND(S283*G283,2)","v":0},{"$f":"T283-ROUND(Q283*G283,2)","v":0},null,{"$f":"R283+T283+V283","v":0},null,null,null,null,null,null,null,null,null,null,null,{"$f":"IF($I283=AI$6,$E283,0)","v":0},0,{"$f":"IF($H283>0,AI283,0)","v":0},{"$f":"IF(AK283>0,1,0)","v":0},{"$f":"IF($H283>0,AJ283,0)","v":0},{"$f":"IF(AM283>0,1,0)","v":0},{"$f":"IF($I283=AO$6,$E283,0)","v":0},0,{"$f":"IF($H283>0,AO283,0)","v":0},{"$f":"IF(AQ283>0,1,0)","v":0},{"$f":"IF($H283>0,AP283,0)","v":0},{"$f":"IF(AS283>0,1,0)","v":0},{"$f":"IF($I283=AU$6,$E283,0)","v":0},0,{"$f":"IF($H283>0,AU283,0)","v":0},{"$f":"IF(AW283>0,1,0)","v":0},{"$f":"IF($H283>0,AV283,0)","v":0},{"$f":"IF(AY283>0,1,0)","v":0},{"$f":"IF($I283=BA$6,$E283,0)","v":0},0,{"$f":"IF($H283>0,BA283,0)","v":0},{"$f":"IF(BC283>0,1,0)","v":0},{"$f":"IF($H283>0,BB283,0)","v":0},{"$f":"IF(BE283>0,1,0)","v":0},null,0,null,null,null,0]
[{"$f":"IF(E284+G284>0,A282,\"\")","v":""},{"$f":"IF(E284+G284>0,B282,\"\")","v":""},{"$f":"C283","v":6},"03-4-23.583(333)",0,1.5,0,0,{"$f":"SUMIF(Y$14:BA$14,C284,Y$7:BA$7)","v":0},0,0,0,0,null,0,null,405.07,0,607.61,0,0,null,0,null,null,null,null,null,null,null,null,null,null,null,{"$f":"IF($I284=AI$7,$E284,0)","v":0},{"$f":"IF($K284=ROUND(AI$7*$F284,2),$G284,0)","v":0},0,0,0,0,{"$f":"IF($I284=AO$7,$E284,0)","v":0},{"$f":"IF($K284=ROUND(AO$7*$F284,2),$G284,0)","v":0},0,0,0,0,{"$f":"IF($I284=AU$7,$E284,0)","v":0},{"$f":"IF($K284=ROUND(AU$7*$F284,2),$G284,0)","v":0},0,0,0,0,{"$f":"IF($I284=BA$7,$E284,0)","v":0},{"$f":"IF($K284=ROUND(BA$7*$F284,2),$G284,0)","v":0},0,0,0,0,null,0,null,null,null,0]
[{"$f":"IF(E285+G285>0,A282,\"\")","v":""},{"$f":"IF(E285+G285>0,B282,\"\")","v":""},{"$f":"C283","v":6},"03-4-23.583(333)",0,1.1000000000000001,0,0,{"$f":"SUMIF(Y$14:BA$14,C285,Y$7:BA$7)","v":0},0,0,0,0,null,0,null,405.07,0,445.58,0,0,null,0,null,null,null,null,null,null,null,null,null,null,null,{"$f":"IF($I285=AI$7,$E285,0)","v":0},{"$f":"IF($K285=ROUND(AI$7*$F285,2),$G285,0)","v":0},0,0,0,0,{"$f":"IF($I285=AO$7,$E285,0)","v":0},{"$f":"IF($K285=ROUND(AO$7*$F285,2),$G285,0)","v":0},0,0,0,0,{"$f":"IF($I285=AU$7,$E285,0)","v":0},{"$f":"IF($K285=ROUND(AU$7*$F285,2),$G285,0)","v":0},0,0,0,0,{"$f":"IF($I285=BA$7,$E285,0)","v":0},{"$f":"IF($K285=ROUND(BA$7*$F285,2),$G285,0)","v":0},0,0,0,0,null,0,null,null,null,0]
["ООО          \"ПАРТНЕР\"","Вельск, ул.К.Маркса-1а, стр.7",{"$f":"C287","v":7},"03-4-23.583(333)",0.64500000000000002,1.5,0,0.64500000000000002,{"$f":"SUMIF(Y$14:BA$14,C286,Y$6:BA$6)","v":2166.8000000000002},{"$f":"IF(H286=0,ROUND(E286*I286,2),ROUND(H286*E286,2))","v":0.42},{"$f":"ROUND(F286*I286,2)","v":3250.2},{"$f":"IF(H286=0,ROUND(ROUND(F286*I286,2)*G286,2),ROUND(G286*H286,2))","v":0},{"$f":"L286-ROUND(G286*I286,2)","v":0},null,{"$f":"J286+L286+N286","v":0.42},null,405.07,{"$f":"ROUND(Q286*E286,2)","v":261.27},{"$f":"ROUND(F286*Q286,2)","v":607.61},{"$f":"ROUND(S286*G286,2)","v":0},{"$f":"T286-ROUND(Q286*G286,2)","v":0},null,{"$f":"R286+T286+V286","v":261.27},null,null,null,null,null,null,null,null,null,null,null,{"$f":"IF($I286=AI$6,$E286,0)","v":0},{"$f":"IF($K286=ROUND(AI$6*$F286,2),$G286,0)","v":0},{"$f":"IF($H286>0,AI286,0)","v":0},{"$f":"IF(AK286>0,1,0)","v":0},{"$f":"IF($H286>0,AJ286,0)","v":0},{"$f":"IF(AM286>0,1,0)","v":0},{"$f":"IF($I286=AO$6,$E286,0)","v":0},{"$f":"IF($K286=ROUND(AO$6*$F286,2),$G286,0)","v":0},{"$f":"IF($H286>0,AO286,0)","v":0},{"$f":"IF(AQ286>0,1,0)","v":0},{"$f":"IF($H286>0,AP286,0)","v":0},{"$f":"IF(AS286>0,1,0)","v":0},{"$f":"IF($I286=AU$6,$E286,0)","v":0},{"$f":"IF($K286=ROUND(AU$6*$F286,2),$G286,0)","v":0},{"$f":"IF($H286>0,AU286,0)","v":0},{"$f":"IF(AW286>0,1,0)","v":0},{"$f":"IF($H286>0,AV286,0)","v":0},{"$f":"IF(AY286>0,1,0)","v":0},{"$f":"IF($I286=BA$6,$E286,0)","v":0.64500000000000002},{"$f":"IF($K286=ROUND(BA$6*$F286,2),$G286,0)","v":0},{"$f":"IF($H286>0,BA286,0)","v":0.64500000000000002},{"$f":"IF(BC286>0,1,0)","v":1},{"$f":"IF($H286>0,BB286,0)","v":0},{"$f":"IF(BE286>0,1,0)","v":0},null,6.4500000000000007E-4,0.8,null,null,0]
[{"$f":"IF(E287+G287>0,A286,\"\")","v":""},{"$f":"IF(E287+G287>0,B286,\"\")","v":""},7,"03-4-23.583(333)",0,1.1000000000000001,0,0,{"$f":"SUMIF(Y$14:BA$14,C287,Y$6:BA$6)","v":2166.8000000000002},{"$f":"IF(H287=0,ROUND(E287*I287,2),ROUND(H287*E287,2))","v":0},{"$f":"ROUND(F287*I287,2)","v":2383.48},{"$f":"IF(H287=0,ROUND(ROUND(F287*I287,2)*G287,2),ROUND(G287*H287,2))","v":0},{"$f":"L287-ROUND(G287*I287,2)","v":0},null,{"$f":"J287+L287+N287","v":0},null,405.07,{"$f":"ROUND(Q287*E287,2)","v":0},{"$f":"ROUND(F287*Q287,2)","v":445.58},{"$f":"ROUND(S287*G287,2)","v":0},{"$f":"T287-ROUND(Q287*G287,2)","v":0},null,{"$f":"R287+T287+V287","v":0},null,null,null,null,null,null,null,null,null,null,null,{"$f":"IF($I287=AI$6,$E287,0)","v":0},0,{"$f":"IF($H287>0,AI287,0)","v":0},{"$f":"IF(AK287>0,1,0)","v":0},{"$f":"IF($H287>0,AJ287,0)","v":0},{"$f":"IF(AM287>0,1,0)","v":0},{"$f":"IF($I287=AO$6,$E287,0)","v":0},0,{"$f":"IF($H287>0,AO287,0)","v":0},{"$f":"IF(AQ287>0,1,0)","v":0},{"$f":"IF($H287>0,AP287,0)","v":0},{"$f":"IF(AS287>0,1,0)","v":0},{"$f":"IF($I287=AU$6,$E287,0)","v":0},0,{"$f":"IF($H287>0,AU287,0)","v":0},{"$f":"IF(AW287>0,1,0)","v":0},{"$f":"IF($H287>0,AV287,0)","v":0},{"$f":"IF(AY287>0,1,0)","v":0},{"$f":"IF($I287=BA$6,$E287,0)","v":0},0,{"$f":"IF($H287>0,BA287,0)","v":0},{"$f":"IF(BC287>0,1,0)","v":0},{"$f":"IF($H287>0,BB287,0)","v":0},{"$f":"IF(BE287>0,1,0)","v":0},null,0,null,null,null,0]
[{"$f":"IF(E288+G288>0,A286,\"\")","v":""},{"$f":"IF(E288+G288>0,B286,\"\")","v":""},{"$f":"C287","v":7},"03-4-23.583(333)",0,1.5,0,0,{"$f":"SUMIF(Y$14:BA$14,C288,Y$7:BA$7)","v":0},0,0,0,0,null,0,null,405.07,0,607.61,0,0,null,0,null,null,null,null,null,null,null,null,null,null,null,{"$f":"IF($I288=AI$7,$E288,0)","v":0},{"$f":"IF($K288=ROUND(AI$7*$F288,2),$G288,0)","v":0},0,0,0,0,{"$f":"IF($I288=AO$7,$E288,0)","v":0},{"$f":"IF($K288=ROUND(AO$7*$F288,2),$G288,0)","v":0},0,0,0,0,{"$f":"IF($I288=AU$7,$E288,0)","v":0},{"$f":"IF($K288=ROUND(AU$7*$F288,2),$G288,0)","v":0},0,0,0,0,{"$f":"IF($I288=BA$7,$E288,0)","v":0},{"$f":"IF($K288=ROUND(BA$7*$F288,2),$G288,0)","v":0},0,0,0,0,null,0,null,null,null,0]
[{"$f":"IF(E289+G289>0,A286,\"\")","v":""},{"$f":"IF(E289+G289>0,B286,\"\")","v":""},{"$f":"C287","v":7},"03-4-23.583(333)",0,1.1000000000000001,0,0,{"$f":"SUMIF(Y$14:BA$14,C289,Y$7:BA$7)","v":0},0,0,0,0,null,0,null,405.07,0,445.58,0,0,null,0,null,null,null,null,null,null,null,null,null,null,null,{"$f":"IF($I289=AI$7,$E289,0)","v":0},{"$f":"IF($K289=ROUND(AI$7*$F289,2),$G289,0)","v":0},0,0,0,0,{"$f":"IF($I289=AO$7,$E289,0)","v":0},{"$f":"IF($K289=ROUND(AO$7*$F289,2),$G289,0)","v":0},0,0,0,0,{"$f":"IF($I289=AU$7,$E289,0)","v":0},{"$f":"IF($K289=ROUND(AU$7*$F289,2),$G289,0)","v":0},0,0,0,0,{"$f":"IF($I289=BA$7,$E289,0)","v":0},{"$f":"IF($K289=ROUND(BA$7*$F289,2),$G289,0)","v":0},0,0,0,0,null,0,null,null,null,0]
["ООО          \"ПАРТНЕР\"","Вельск, ул.1 Мая-9",{"$f":"C291","v":6},"03-4-23.583(333)",0.97,1.5,0,0.97,{"$f":"SUMIF(Y$14:BA$14,C290,Y$6:BA$6)","v":1733.45},{"$f":"IF(H290=0,ROUND(E290*I290,2),ROUND(H290*E290,2))","v":0.94},{"$f":"ROUND(F290*I290,2)","v":2600.1799999999998},{"$f":"IF(H290=0,ROUND(ROUND(F290*I290,2)*G290,2),ROUND(G290*H290,2))","v":0},{"$f":"L290-ROUND(G290*I290,2)","v":0},null,{"$f":"J290+L290+N290","v":0.94},null,405.07,{"$f":"ROUND(Q290*E290,2)","v":392.92},{"$f":"ROUND(F290*Q290,2)","v":607.61},{"$f":"ROUND(S290*G290,2)","v":0},{"$f":"T290-ROUND(Q290*G290,2)","v":0},null,{"$f":"R290+T290+V290","v":392.92},null,null,null,null,null,null,null,null,null,null,null,{"$f":"IF($I290=AI$6,$E290,0)","v":0},{"$f":"IF($K290=ROUND(AI$6*$F290,2),$G290,0)","v":0},{"$f":"IF($H290>0,AI290,0)","v":0},{"$f":"IF(AK290>0,1,0)","v":0},{"$f":"IF($H290>0,AJ290,0)","v":0},{"$f":"IF(AM290>0,1,0)","v":0},{"$f":"IF($I290=AO$6,$E290,0)","v":0},{"$f":"IF($K290=ROUND(AO$6*$F290,2),$G290,0)","v":0},{"$f":"IF($H290>0,AO290,0)","v":0},{"$f":"IF(AQ290>0,1,0)","v":0},{"$f":"IF($H290>0,AP290,0)","v":0},{"$f":"IF(AS290>0,1,0)","v":0},{"$f":"IF($I290=AU$6,$E290,0)","v":0.97},{"$f":"IF($K290=ROUND(AU$6*$F290,2),$G290,0)","v":0},{"$f":"IF($H290>0,AU290,0)","v":0.97},{"$f":"IF(AW290>0,1,0)","v":1},{"$f":"IF($H290>0,AV290,0)","v":0},{"$f":"IF(AY290>0,1,0)","v":0},{"$f":"IF($I290=BA$6,$E290,0)","v":0},{"$f":"IF($K290=ROUND(BA$6*$F290,2),$G290,0)","v":0},{"$f":"IF($H290>0,BA290,0)","v":0},{"$f":"IF(BC290>0,1,0)","v":0},{"$f":"IF($H290>0,BB290,0)","v":0},{"$f":"IF(BE290>0,1,0)","v":0},null,9.6999999999999994E-4,2.2999999999999998,null,null,0]
[{"$f":"IF(E291+G291>0,A290,\"\")","v":""},{"$f":"IF(E291+G291>0,B290,\"\")","v":""},6,"03-4-23.583(333)",0,1.1000000000000001,0,0,{"$f":"SUMIF(Y$14:BA$14,C291,Y$6:BA$6)","v":1733.45},{"$f":"IF(H291=0,ROUND(E291*I291,2),ROUND(H291*E291,2))","v":0},{"$f":"ROUND(F291*I291,2)","v":1906.8},{"$f":"IF(H291=0,ROUND(ROUND(F291*I291,2)*G291,2),ROUND(G291*H291,2))","v":0},{"$f":"L291-ROUND(G291*I291,2)","v":0},null,{"$f":"J291+L291+N291","v":0},null,405.07,{"$f":"ROUND(Q291*E291,2)","v":0},{"$f":"ROUND(F291*Q291,2)","v":445.58},{"$f":"ROUND(S291*G291,2)","v":0},{"$f":"T291-ROUND(Q291*G291,2)","v":0},null,{"$f":"R291+T291+V291","v":0},null,null,null,null,null,null,null,null,null,null,null,{"$f":"IF($I291=AI$6,$E291,0)","v":0},0,{"$f":"IF($H291>0,AI291,0)","v":0},{"$f":"IF(AK291>0,1,0)","v":0},{"$f":"IF($H291>0,AJ291,0)","v":0},{"$f":"IF(AM291>0,1,0)","v":0},{"$f":"IF($I291=AO$6,$E291,0)","v":0},0,{"$f":"IF($H291>0,AO291,0)","v":0},{"$f":"IF(AQ291>0,1,0)","v":0},{"$f":"IF($H291>0,AP291,0)","v":0},{"$f":"IF(AS291>0,1,0)","v":0},{"$f":"IF($I291=AU$6,$E291,0)","v":0},0,{"$f":"IF($H291>0,AU291,0)","v":0},{"$f":"IF(AW291>0,1,0)","v":0},{"$f":"IF($H291>0,AV291,0)","v":0},{"$f":"IF(AY291>0,1,0)","v":0},{"$f":"IF($I291=BA$6,$E291,0)","v":0},0,{"$f":"IF($H291>0,BA291,0)","v":0},{"$f":"IF(BC291>0,1,0)","v":0},{"$f":"IF($H291>0,BB291,0)","v":0},{"$f":"IF(BE291>0,1,0)","v":0},null,0,null,null,null,0]
[{"$f":"IF(E292+G292>0,A290,\"\")","v":""},{"$f":"IF(E292+G292>0,B290,\"\")","v":""},{"$f":"C291","v":6},"03-4-23.583(333)",0,1.5,0,0,{"$f":"SUMIF(Y$14:BA$14,C292,Y$7:BA$7)","v":0},0,0,0,0,null,0,null,405.07,0,607.61,0,0,null,0,null,null,null,null,null,null,null,null,null,null,null,{"$f":"IF($I292=AI$7,$E292,0)","v":0},{"$f":"IF($K292=ROUND(AI$7*$F292,2),$G292,0)","v":0},0,0,0,0,{"$f":"IF($I292=AO$7,$E292,0)","v":0},{"$f":"IF($K292=ROUND(AO$7*$F292,2),$G292,0)","v":0},0,0,0,0,{"$f":"IF($I292=AU$7,$E292,0)","v":0},{"$f":"IF($K292=ROUND(AU$7*$F292,2),$G292,0)","v":0},0,0,0,0,{"$f":"IF($I292=BA$7,$E292,0)","v":0},{"$f":"IF($K292=ROUND(BA$7*$F292,2),$G292,0)","v":0},0,0,0,0,null,0,null,null,null,0]
[{"$f":"IF(E293+G293>0,A290,\"\")","v":""},{"$f":"IF(E293+G293>0,B290,\"\")","v":""},{"$f":"C291","v":6},"03-4-23.583(333)",0,1.1000000000000001,0,0,{"$f":"SUMIF(Y$14:BA$14,C293,Y$7:BA$7)","v":0},0,0,0,0,null,0,null,405.07,0,445.58,0,0,null,0,null,null,null,null,null,null,null,null,null,null,null,{"$f":"IF($I293=AI$7,$E293,0)","v":0},{"$f":"IF($K293=ROUND(AI$7*$F293,2),$G293,0)","v":0},0,0,0,0,{"$f":"IF($I293=AO$7,$E293,0)","v":0},{"$f":"IF($K293=ROUND(AO$7*$F293,2),$G293,0)","v":0},0,0,0,0,{"$f":"IF($I293=AU$7,$E293,0)","v":0},{"$f":"IF($K293=ROUND(AU$7*$F293,2),$G293,0)","v":0},0,0,0,0,{"$f":"IF($I293=BA$7,$E293,0)","v":0},{"$f":"IF($K293=ROUND(BA$7*$F293,2),$G293,0)","v":0},0,0,0,0,null,0,null,null,null,0]
["ООО          \"ПАРТНЕР\"","Вельск, ул.Гагарина-50а",{"$f":"C295","v":6},"03-4-23.583(333)",1.825,1.5,0,1.825,{"$f":"SUMIF(Y$14:BA$14,C294,Y$6:BA$6)","v":1733.45},{"$f":"IF(H294=0,ROUND(E294*I294,2),ROUND(H294*E294,2))","v":3.33},{"$f":"ROUND(F294*I294,2)","v":2600.1799999999998},{"$f":"IF(H294=0,ROUND(ROUND(F294*I294,2)*G294,2),ROUND(G294*H294,2))","v":0},{"$f":"L294-ROUND(G294*I294,2)","v":0},null,{"$f":"J294+L294+N294","v":3.33},null,405.07,{"$f":"ROUND(Q294*E294,2)","v":739.25},{"$f":"ROUND(F294*Q294,2)","v":607.61},{"$f":"ROUND(S294*G294,2)","v":0},{"$f":"T294-ROUND(Q294*G294,2)","v":0},null,{"$f":"R294+T294+V294","v":739.25},null,null,null,null,null,null,null,null,null,null,null,{"$f":"IF($I294=AI$6,$E294,0)","v":0},{"$f":"IF($K294=ROUND(AI$6*$F294,2),$G294,0)","v":0},{"$f":"IF($H294>0,AI294,0)","v":0},{"$f":"IF(AK294>0,1,0)","v":0},{"$f":"IF($H294>0,AJ294,0)","v":0},{"$f":"IF(AM294>0,1,0)","v":0},{"$f":"IF($I294=AO$6,$E294,0)","v":0},{"$f":"IF($K294=ROUND(AO$6*$F294,2),$G294,0)","v":0},{"$f":"IF($H294>0,AO294,0)","v":0},{"$f":"IF(AQ294>0,1,0)","v":0},{"$f":"IF($H294>0,AP294,0)","v":0},{"$f":"IF(AS294>0,1,0)","v":0},{"$f":"IF($I294=AU$6,$E294,0)","v":1.825},{"$f":"IF($K294=ROUND(AU$6*$F294,2),$G294,0)","v":0},{"$f":"IF($H294>0,AU294,0)","v":1.825},{"$f":"IF(AW294>0,1,0)","v":1},{"$f":"IF($H294>0,AV294,0)","v":0},{"$f":"IF(AY294>0,1,0)","v":0},{"$f":"IF($I294=BA$6,$E294,0)","v":0},{"$f":"IF($K294=ROUND(BA$6*$F294,2),$G294,0)","v":0},{"$f":"IF($H294>0,BA294,0)","v":0},{"$f":"IF(BC294>0,1,0)","v":0},{"$f":"IF($H294>0,BB294,0)","v":0},{"$f":"IF(BE294>0,1,0)","v":0},null,1.825E-3,0.5,null,null,0]
[{"$f":"IF(E295+G295>0,A294,\"\")","v":""},{"$f":"IF(E295+G295>0,B294,\"\")","v":""},6,"03-4-23.583(333)",0,1.1000000000000001,0,0,{"$f":"SUMIF(Y$14:BA$14,C295,Y$6:BA$6)","v":1733.45},{"$f":"IF(H295=0,ROUND(E295*I295,2),ROUND(H295*E295,2))","v":0},{"$f":"ROUND(F295*I295,2)","v":1906.8},{"$f":"IF(H295=0,ROUND(ROUND(F295*I295,2)*G295,2),ROUND(G295*H295,2))","v":0},{"$f":"L295-ROUND(G295*I295,2)","v":0},null,{"$f":"J295+L295+N295","v":0},null,405.07,{"$f":"ROUND(Q295*E295,2)","v":0},{"$f":"ROUND(F295*Q295,2)","v":445.58},{"$f":"ROUND(S295*G295,2)","v":0},{"$f":"T295-ROUND(Q295*G295,2)","v":0},null,{"$f":"R295+T295+V295","v":0},null,null,null,null,null,null,null,null,null,null,null,{"$f":"IF($I295=AI$6,$E295,0)","v":0},0,{"$f":"IF($H295>0,AI295,0)","v":0},{"$f":"IF(AK295>0,1,0)","v":0},{"$f":"IF($H295>0,AJ295,0)","v":0},{"$f":"IF(AM295>0,1,0)","v":0},{"$f":"IF($I295=AO$6,$E295,0)","v":0},0,{"$f":"IF($H295>0,AO295,0)","v":0},{"$f":"IF(AQ295>0,1,0)","v":0},{"$f":"IF($H295>0,AP295,0)","v":0},{"$f":"IF(AS295>0,1,0)","v":0},{"$f":"IF($I295=AU$6,$E295,0)","v":0},0,{"$f":"IF($H295>0,AU295,0)","v":0},{"$f":"IF(AW295>0,1,0)","v":0},{"$f":"IF($H295>0,AV295,0)","v":0},{"$f":"IF(AY295>0,1,0)","v":0},{"$f":"IF($I295=BA$6,$E295,0)","v":0},0,{"$f":"IF($H295>0,BA295,0)","v":0},{"$f":"IF(BC295>0,1,0)","v":0},{"$f":"IF($H295>0,BB295,0)","v":0},{"$f":"IF(BE295>0,1,0)","v":0},null,0,null,null,null,0]
[{"$f":"IF(E296+G296>0,A294,\"\")","v":""},{"$f":"IF(E296+G296>0,B294,\"\")","v":""},{"$f":"C295","v":6},"03-4-23.583(333)",0,1.5,0,0,{"$f":"SUMIF(Y$14:BA$14,C296,Y$7:BA$7)","v":0},0,0,0,0,null,0,null,405.07,0,607.61,0,0,null,0,null,null,null,null,null,null,null,null,null,null,null,{"$f":"IF($I296=AI$7,$E296,0)","v":0},{"$f":"IF($K296=ROUND(AI$7*$F296,2),$G296,0)","v":0},0,0,0,0,{"$f":"IF($I296=AO$7,$E296,0)","v":0},{"$f":"IF($K296=ROUND(AO$7*$F296,2),$G296,0)","v":0},0,0,0,0,{"$f":"IF($I296=AU$7,$E296,0)","v":0},{"$f":"IF($K296=ROUND(AU$7*$F296,2),$G296,0)","v":0},0,0,0,0,{"$f":"IF($I296=BA$7,$E296,0)","v":0},{"$f":"IF($K296=ROUND(BA$7*$F296,2),$G296,0)","v":0},0,0,0,0,null,0,null,null,null,0]
[{"$f":"IF(E297+G297>0,A294,\"\")","v":""},{"$f":"IF(E297+G297>0,B294,\"\")","v":""},{"$f":"C295","v":6},"03-4-23.583(333)",0,1.1000000000000001,0,0,{"$f":"SUMIF(Y$14:BA$14,C297,Y$7:BA$7)","v":0},0,0,0,0,null,0,null,405.07,0,445.58,0,0,null,0,null,null,null,null,null,null,null,null,null,null,null,{"$f":"IF($I297=AI$7,$E297,0)","v":0},{"$f":"IF($K297=ROUND(AI$7*$F297,2),$G297,0)","v":0},0,0,0,0,{"$f":"IF($I297=AO$7,$E297,0)","v":0},{"$f":"IF($K297=ROUND(AO$7*$F297,2),$G297,0)","v":0},0,0,0,0,{"$f":"IF($I297=AU$7,$E297,0)","v":0},{"$f":"IF($K297=ROUND(AU$7*$F297,2),$G297,0)","v":0},0,0,0,0,{"$f":"IF($I297=BA$7,$E297,0)","v":0},{"$f":"IF($K297=ROUND(BA$7*$F297,2),$G297,0)","v":0},0,0,0,0,null,0,null,null,null,0]
["ООО          \"ПАРТНЕР\"","Вельск, ул.Дзержинского-67",{"$f":"C299","v":6},"03-4-23.583(333)",1.306,1.5,0,1.306,{"$f":"SUMIF(Y$14:BA$14,C298,Y$6:BA$6)","v":1733.45},{"$f":"IF(H298=0,ROUND(E298*I298,2),ROUND(H298*E298,2))","v":1.71},{"$f":"ROUND(F298*I298,2)","v":2600.1799999999998},{"$f":"IF(H298=0,ROUND(ROUND(F298*I298,2)*G298,2),ROUND(G298*H298,2))","v":0},{"$f":"L298-ROUND(G298*I298,2)","v":0},null,{"$f":"J298+L298+N298","v":1.71},null,405.07,{"$f":"ROUND(Q298*E298,2)","v":529.02},{"$f":"ROUND(F298*Q298,2)","v":607.61},{"$f":"ROUND(S298*G298,2)","v":0},{"$f":"T298-ROUND(Q298*G298,2)","v":0},null,{"$f":"R298+T298+V298","v":529.02},null,null,null,null,null,null,null,null,null,null,null,{"$f":"IF($I298=AI$6,$E298,0)","v":0},{"$f":"IF($K298=ROUND(AI$6*$F298,2),$G298,0)","v":0},{"$f":"IF($H298>0,AI298,0)","v":0},{"$f":"IF(AK298>0,1,0)","v":0},{"$f":"IF($H298>0,AJ298,0)","v":0},{"$f":"IF(AM298>0,1,0)","v":0},{"$f":"IF($I298=AO$6,$E298,0)","v":0},{"$f":"IF($K298=ROUND(AO$6*$F298,2),$G298,0)","v":0},{"$f":"IF($H298>0,AO298,0)","v":0},{"$f":"IF(AQ298>0,1,0)","v":0},{"$f":"IF($H298>0,AP298,0)","v":0},{"$f":"IF(AS298>0,1,0)","v":0},{"$f":"IF($I298=AU$6,$E298,0)","v":1.306},{"$f":"IF($K298=ROUND(AU$6*$F298,2),$G298,0)","v":0},{"$f":"IF($H298>0,AU298,0)","v":1.306},{"$f":"IF(AW298>0,1,0)","v":1},{"$f":"IF($H298>0,AV298,0)","v":0},{"$f":"IF(AY298>0,1,0)","v":0},{"$f":"IF($I298=BA$6,$E298,0)","v":0},{"$f":"IF($K298=ROUND(BA$6*$F298,2),$G298,0)","v":0},{"$f":"IF($H298>0,BA298,0)","v":0},{"$f":"IF(BC298>0,1,0)","v":0},{"$f":"IF($H298>0,BB298,0)","v":0},{"$f":"IF(BE298>0,1,0)","v":0},null,1.3060000000000001E-3,6,null,null,0]
[{"$f":"IF(E299+G299>0,A298,\"\")","v":""},{"$f":"IF(E299+G299>0,B298,\"\")","v":""},6,"03-4-23.583(333)",0,1.1000000000000001,0,0,{"$f":"SUMIF(Y$14:BA$14,C299,Y$6:BA$6)","v":1733.45},{"$f":"IF(H299=0,ROUND(E299*I299,2),ROUND(H299*E299,2))","v":0},{"$f":"ROUND(F299*I299,2)","v":1906.8},{"$f":"IF(H299=0,ROUND(ROUND(F299*I299,2)*G299,2),ROUND(G299*H299,2))","v":0},{"$f":"L299-ROUND(G299*I299,2)","v":0},null,{"$f":"J299+L299+N299","v":0},null,405.07,{"$f":"ROUND(Q299*E299,2)","v":0},{"$f":"ROUND(F299*Q299,2)","v":445.58},{"$f":"ROUND(S299*G299,2)","v":0},{"$f":"T299-ROUND(Q299*G299,2)","v":0},null,{"$f":"R299+T299+V299","v":0},null,null,null,null,null,null,null,null,null,null,null,{"$f":"IF($I299=AI$6,$E299,0)","v":0},0,{"$f":"IF($H299>0,AI299,0)","v":0},{"$f":"IF(AK299>0,1,0)","v":0},{"$f":"IF($H299>0,AJ299,0)","v":0},{"$f":"IF(AM299>0,1,0)","v":0},{"$f":"IF($I299=AO$6,$E299,0)","v":0},0,{"$f":"IF($H299>0,AO299,0)","v":0},{"$f":"IF(AQ299>0,1,0)","v":0},{"$f":"IF($H299>0,AP299,0)","v":0},{"$f":"IF(AS299>0,1,0)","v":0},{"$f":"IF($I299=AU$6,$E299,0)","v":0},0,{"$f":"IF($H299>0,AU299,0)","v":0},{"$f":"IF(AW299>0,1,0)","v":0},{"$f":"IF($H299>0,AV299,0)","v":0},{"$f":"IF(AY299>0,1,0)","v":0},{"$f":"IF($I299=BA$6,$E299,0)","v":0},0,{"$f":"IF($H299>0,BA299,0)","v":0},{"$f":"IF(BC299>0,1,0)","v":0},{"$f":"IF($H299>0,BB299,0)","v":0},{"$f":"IF(BE299>0,1,0)","v":0},null,0,null,null,null,0]
[{"$f":"IF(E300+G300>0,A298,\"\")","v":""},{"$f":"IF(E300+G300>0,B298,\"\")","v":""},{"$f":"C299","v":6},"03-4-23.583(333)",0,1.5,0,0,{"$f":"SUMIF(Y$14:BA$14,C300,Y$7:BA$7)","v":0},0,0,0,0,null,0,null,405.07,0,607.61,0,0,null,0,null,null,null,null,null,null,null,null,null,null,null,{"$f":"IF($I300=AI$7,$E300,0)","v":0},{"$f":"IF($K300=ROUND(AI$7*$F300,2),$G300,0)","v":0},0,0,0,0,{"$f":"IF($I300=AO$7,$E300,0)","v":0},{"$f":"IF($K300=ROUND(AO$7*$F300,2),$G300,0)","v":0},0,0,0,0,{"$f":"IF($I300=AU$7,$E300,0)","v":0},{"$f":"IF($K300=ROUND(AU$7*$F300,2),$G300,0)","v":0},0,0,0,0,{"$f":"IF($I300=BA$7,$E300,0)","v":0},{"$f":"IF($K300=ROUND(BA$7*$F300,2),$G300,0)","v":0},0,0,0,0,null,0,null,null,null,0]
[{"$f":"IF(E301+G301>0,A298,\"\")","v":""},{"$f":"IF(E301+G301>0,B298,\"\")","v":""},{"$f":"C299","v":6},"03-4-23.583(333)",0,1.1000000000000001,0,0,{"$f":"SUMIF(Y$14:BA$14,C301,Y$7:BA$7)","v":0},0,0,0,0,null,0,null,405.07,0,445.58,0,0,null,0,null,null,null,null,null,null,null,null,null,null,null,{"$f":"IF($I301=AI$7,$E301,0)","v":0},{"$f":"IF($K301=ROUND(AI$7*$F301,2),$G301,0)","v":0},0,0,0,0,{"$f":"IF($I301=AO$7,$E301,0)","v":0},{"$f":"IF($K301=ROUND(AO$7*$F301,2),$G301,0)","v":0},0,0,0,0,{"$f":"IF($I301=AU$7,$E301,0)","v":0},{"$f":"IF($K301=ROUND(AU$7*$F301,2),$G301,0)","v":0},0,0,0,0,{"$f":"IF($I301=BA$7,$E301,0)","v":0},{"$f":"IF($K301=ROUND(BA$7*$F301,2),$G301,0)","v":0},0,0,0,0,null,0,null,null,null,0]
["ГБУ АО      \"Вельская районная СББЖ\"","Вельск, ул.Южная Слободка, стр.2",{"$f":"C303","v":7},"03-4-23.590Б(333)",0.70599999999999996,1.5,0,0.70599999999999996,{"$f":"SUMIF(Y$14:BA$14,C302,Y$6:BA$6)","v":2166.8000000000002},{"$f":"IF(H302=0,ROUND(E302*I302,2),ROUND(H302*E302,2))","v":0.5},{"$f":"ROUND(F302*I302,2)","v":3250.2},{"$f":"IF(H302=0,ROUND(ROUND(F302*I302,2)*G302,2),ROUND(G302*H302,2))","v":0},{"$f":"L302-ROUND(G302*I302,2)","v":0},null,{"$f":"J302+L302+N302","v":0.5},null,405.07,{"$f":"ROUND(Q302*E302,2)","v":285.98},{"$f":"ROUND(F302*Q302,2)","v":607.61},{"$f":"ROUND(S302*G302,2)","v":0},{"$f":"T302-ROUND(Q302*G302,2)","v":0},null,{"$f":"R302+T302+V302","v":285.98},null,null,null,null,null,null,null,null,null,null,null,{"$f":"IF($I302=AI$6,$E302,0)","v":0},{"$f":"IF($K302=ROUND(AI$6*$F302,2),$G302,0)","v":0},{"$f":"IF($H302>0,AI302,0)","v":0},{"$f":"IF(AK302>0,1,0)","v":0},{"$f":"IF($H302>0,AJ302,0)","v":0},{"$f":"IF(AM302>0,1,0)","v":0},{"$f":"IF($I302=AO$6,$E302,0)","v":0},{"$f":"IF($K302=ROUND(AO$6*$F302,2),$G302,0)","v":0},{"$f":"IF($H302>0,AO302,0)","v":0},{"$f":"IF(AQ302>0,1,0)","v":0},{"$f":"IF($H302>0,AP302,0)","v":0},{"$f":"IF(AS302>0,1,0)","v":0},{"$f":"IF($I302=AU$6,$E302,0)","v":0},{"$f":"IF($K302=ROUND(AU$6*$F302,2),$G302,0)","v":0},{"$f":"IF($H302>0,AU302,0)","v":0},{"$f":"IF(AW302>0,1,0)","v":0},{"$f":"IF($H302>0,AV302,0)","v":0},{"$f":"IF(AY302>0,1,0)","v":0},{"$f":"IF($I302=BA$6,$E302,0)","v":0.70599999999999996},{"$f":"IF($K302=ROUND(BA$6*$F302,2),$G302,0)","v":0},{"$f":"IF($H302>0,BA302,0)","v":0.70599999999999996},{"$f":"IF(BC302>0,1,0)","v":1},{"$f":"IF($H302>0,BB302,0)","v":0},{"$f":"IF(BE302>0,1,0)","v":0},null,7.0599999999999992E-4,0.7,null,null,0]
[{"$f":"IF(E303+G303>0,A302,\"\")","v":""},{"$f":"IF(E303+G303>0,B302,\"\")","v":""},7,"03-4-23.590Б(333)",0,1.1000000000000001,0,0,{"$f":"SUMIF(Y$14:BA$14,C303,Y$6:BA$6)","v":2166.8000000000002},{"$f":"IF(H303=0,ROUND(E303*I303,2),ROUND(H303*E303,2))","v":0},{"$f":"ROUND(F303*I303,2)","v":2383.48},{"$f":"IF(H303=0,ROUND(ROUND(F303*I303,2)*G303,2),ROUND(G303*H303,2))","v":0},{"$f":"L303-ROUND(G303*I303,2)","v":0},null,{"$f":"J303+L303+N303","v":0},null,405.07,{"$f":"ROUND(Q303*E303,2)","v":0},{"$f":"ROUND(F303*Q303,2)","v":445.58},{"$f":"ROUND(S303*G303,2)","v":0},{"$f":"T303-ROUND(Q303*G303,2)","v":0},null,{"$f":"R303+T303+V303","v":0},null,null,null,null,null,null,null,null,null,null,null,{"$f":"IF($I303=AI$6,$E303,0)","v":0},0,{"$f":"IF($H303>0,AI303,0)","v":0},{"$f":"IF(AK303>0,1,0)","v":0},{"$f":"IF($H303>0,AJ303,0)","v":0},{"$f":"IF(AM303>0,1,0)","v":0},{"$f":"IF($I303=AO$6,$E303,0)","v":0},0,{"$f":"IF($H303>0,AO303,0)","v":0},{"$f":"IF(AQ303>0,1,0)","v":0},{"$f":"IF($H303>0,AP303,0)","v":0},{"$f":"IF(AS303>0,1,0)","v":0},{"$f":"IF($I303=AU$6,$E303,0)","v":0},0,{"$f":"IF($H303>0,AU303,0)","v":0},{"$f":"IF(AW303>0,1,0)","v":0},{"$f":"IF($H303>0,AV303,0)","v":0},{"$f":"IF(AY303>0,1,0)","v":0},{"$f":"IF($I303=BA$6,$E303,0)","v":0},0,{"$f":"IF($H303>0,BA303,0)","v":0},{"$f":"IF(BC303>0,1,0)","v":0},{"$f":"IF($H303>0,BB303,0)","v":0},{"$f":"IF(BE303>0,1,0)","v":0},null,0,null,null,null,0]
[{"$f":"IF(E304+G304>0,A302,\"\")","v":""},{"$f":"IF(E304+G304>0,B302,\"\")","v":""},{"$f":"C303","v":7},"03-4-23.590Б(333)",0,1.5,0,0,{"$f":"SUMIF(Y$14:BA$14,C304,Y$7:BA$7)","v":0},0,0,0,0,null,0,null,405.07,0,607.61,0,0,null,0,null,null,null,null,null,null,null,null,null,null,null,{"$f":"IF($I304=AI$7,$E304,0)","v":0},{"$f":"IF($K304=ROUND(AI$7*$F304,2),$G304,0)","v":0},0,0,0,0,{"$f":"IF($I304=AO$7,$E304,0)","v":0},{"$f":"IF($K304=ROUND(AO$7*$F304,2),$G304,0)","v":0},0,0,0,0,{"$f":"IF($I304=AU$7,$E304,0)","v":0},{"$f":"IF($K304=ROUND(AU$7*$F304,2),$G304,0)","v":0},0,0,0,0,{"$f":"IF($I304=BA$7,$E304,0)","v":0},{"$f":"IF($K304=ROUND(BA$7*$F304,2),$G304,0)","v":0},0,0,0,0,null,0,null,null,null,0]
[{"$f":"IF(E305+G305>0,A302,\"\")","v":""},{"$f":"IF(E305+G305>0,B302,\"\")","v":""},{"$f":"C303","v":7},"03-4-23.590Б(333)",0,1.1000000000000001,0,0,{"$f":"SUMIF(Y$14:BA$14,C305,Y$7:BA$7)","v":0},0,0,0,0,null,0,null,405.07,0,445.58,0,0,null,0,null,null,null,null,null,null,null,null,null,null,null,{"$f":"IF($I305=AI$7,$E305,0)","v":0},{"$f":"IF($K305=ROUND(AI$7*$F305,2),$G305,0)","v":0},0,0,0,0,{"$f":"IF($I305=AO$7,$E305,0)","v":0},{"$f":"IF($K305=ROUND(AO$7*$F305,2),$G305,0)","v":0},0,0,0,0,{"$f":"IF($I305=AU$7,$E305,0)","v":0},{"$f":"IF($K305=ROUND(AU$7*$F305,2),$G305,0)","v":0},0,0,0,0,{"$f":"IF($I305=BA$7,$E305,0)","v":0},{"$f":"IF($K305=ROUND(BA$7*$F305,2),$G305,0)","v":0},0,0,0,0,null,0,null,null,null,0]
["ГБУ АО      \"Вельская районная СББЖ\"","Вельск, ул.Некрасова-12А, стр.2",{"$f":"C307","v":6},"03-4-23.590Б(333)",3.4420000000000002,1.5,0,3.4420000000000002,{"$f":"SUMIF(Y$14:BA$14,C306,Y$6:BA$6)","v":1733.45},{"$f":"IF(H306=0,ROUND(E306*I306,2),ROUND(H306*E306,2))","v":11.85},{"$f":"ROUND(F306*I306,2)","v":2600.1799999999998},{"$f":"IF(H306=0,ROUND(ROUND(F306*I306,2)*G306,2),ROUND(G306*H306,2))","v":0},{"$f":"L306-ROUND(G306*I306,2)","v":0},null,{"$f":"J306+L306+N306","v":11.85},null,405.07,{"$f":"ROUND(Q306*E306,2)","v":1394.25},{"$f":"ROUND(F306*Q306,2)","v":607.61},{"$f":"ROUND(S306*G306,2)","v":0},{"$f":"T306-ROUND(Q306*G306,2)","v":0},null,{"$f":"R306+T306+V306","v":1394.25},null,null,null,null,null,null,null,null,null,null,null,{"$f":"IF($I306=AI$6,$E306,0)","v":0},{"$f":"IF($K306=ROUND(AI$6*$F306,2),$G306,0)","v":0},{"$f":"IF($H306>0,AI306,0)","v":0},{"$f":"IF(AK306>0,1,0)","v":0},{"$f":"IF($H306>0,AJ306,0)","v":0},{"$f":"IF(AM306>0,1,0)","v":0},{"$f":"IF($I306=AO$6,$E306,0)","v":0},{"$f":"IF($K306=ROUND(AO$6*$F306,2),$G306,0)","v":0},{"$f":"IF($H306>0,AO306,0)","v":0},{"$f":"IF(AQ306>0,1,0)","v":0},{"$f":"IF($H306>0,AP306,0)","v":0},{"$f":"IF(AS306>0,1,0)","v":0},{"$f":"IF($I306=AU$6,$E306,0)","v":3.4420000000000002},{"$f":"IF($K306=ROUND(AU$6*$F306,2),$G306,0)","v":0},{"$f":"IF($H306>0,AU306,0)","v":3.4420000000000002},{"$f":"IF(AW306>0,1,0)","v":1},{"$f":"IF($H306>0,AV306,0)","v":0},{"$f":"IF(AY306>0,1,0)","v":0},{"$f":"IF($I306=BA$6,$E306,0)","v":0},{"$f":"IF($K306=ROUND(BA$6*$F306,2),$G306,0)","v":0},{"$f":"IF($H306>0,BA306,0)","v":0},{"$f":"IF(BC306>0,1,0)","v":0},{"$f":"IF($H306>0,BB306,0)","v":0},{"$f":"IF(BE306>0,1,0)","v":0},null,3.4420000000000002E-3,3.5,null,null,0]
[{"$f":"IF(E307+G307>0,A306,\"\")","v":""},{"$f":"IF(E307+G307>0,B306,\"\")","v":""},6,"03-4-23.590Б(333)",0,1.1000000000000001,0,0,{"$f":"SUMIF(Y$14:BA$14,C307,Y$6:BA$6)","v":1733.45},{"$f":"IF(H307=0,ROUND(E307*I307,2),ROUND(H307*E307,2))","v":0},{"$f":"ROUND(F307*I307,2)","v":1906.8},{"$f":"IF(H307=0,ROUND(ROUND(F307*I307,2)*G307,2),ROUND(G307*H307,2))","v":0},{"$f":"L307-ROUND(G307*I307,2)","v":0},null,{"$f":"J307+L307+N307","v":0},null,405.07,{"$f":"ROUND(Q307*E307,2)","v":0},{"$f":"ROUND(F307*Q307,2)","v":445.58},{"$f":"ROUND(S307*G307,2)","v":0},{"$f":"T307-ROUND(Q307*G307,2)","v":0},null,{"$f":"R307+T307+V307","v":0},null,null,null,null,null,null,null,null,null,null,null,{"$f":"IF($I307=AI$6,$E307,0)","v":0},0,{"$f":"IF($H307>0,AI307,0)","v":0},{"$f":"IF(AK307>0,1,0)","v":0},{"$f":"IF($H307>0,AJ307,0)","v":0},{"$f":"IF(AM307>0,1,0)","v":0},{"$f":"IF($I307=AO$6,$E307,0)","v":0},0,{"$f":"IF($H307>0,AO307,0)","v":0},{"$f":"IF(AQ307>0,1,0)","v":0},{"$f":"IF($H307>0,AP307,0)","v":0},{"$f":"IF(AS307>0,1,0)","v":0},{"$f":"IF($I307=AU$6,$E307,0)","v":0},0,{"$f":"IF($H307>0,AU307,0)","v":0},{"$f":"IF(AW307>0,1,0)","v":0},{"$f":"IF($H307>0,AV307,0)","v":0},{"$f":"IF(AY307>0,1,0)","v":0},{"$f":"IF($I307=BA$6,$E307,0)","v":0},0,{"$f":"IF($H307>0,BA307,0)","v":0},{"$f":"IF(BC307>0,1,0)","v":0},{"$f":"IF($H307>0,BB307,0)","v":0},{"$f":"IF(BE307>0,1,0)","v":0},null,0,null,null,null,0]
[{"$f":"IF(E308+G308>0,A306,\"\")","v":""},{"$f":"IF(E308+G308>0,B306,\"\")","v":""},{"$f":"C307","v":6},"03-4-23.590Б(333)",0,1.5,0,0,{"$f":"SUMIF(Y$14:BA$14,C308,Y$7:BA$7)","v":0},0,0,0,0,null,0,null,405.07,0,607.61,0,0,null,0,null,null,null,null,null,null,null,null,null,null,null,{"$f":"IF($I308=AI$7,$E308,0)","v":0},{"$f":"IF($K308=ROUND(AI$7*$F308,2),$G308,0)","v":0},0,0,0,0,{"$f":"IF($I308=AO$7,$E308,0)","v":0},{"$f":"IF($K308=ROUND(AO$7*$F308,2),$G308,0)","v":0},0,0,0,0,{"$f":"IF($I308=AU$7,$E308,0)","v":0},{"$f":"IF($K308=ROUND(AU$7*$F308,2),$G308,0)","v":0},0,0,0,0,{"$f":"IF($I308=BA$7,$E308,0)","v":0},{"$f":"IF($K308=ROUND(BA$7*$F308,2),$G308,0)","v":0},0,0,0,0,null,0,null,null,null,0]
[{"$f":"IF(E309+G309>0,A306,\"\")","v":""},{"$f":"IF(E309+G309>0,B306,\"\")","v":""},{"$f":"C307","v":6},"03-4-23.590Б(333)",0,1.1000000000000001,0,0,{"$f":"SUMIF(Y$14:BA$14,C309,Y$7:BA$7)","v":0},0,0,0,0,null,0,null,405.07,0,445.58,0,0,null,0,null,null,null,null,null,null,null,null,null,null,null,{"$f":"IF($I309=AI$7,$E309,0)","v":0},{"$f":"IF($K309=ROUND(AI$7*$F309,2),$G309,0)","v":0},0,0,0,0,{"$f":"IF($I309=AO$7,$E309,0)","v":0},{"$f":"IF($K309=ROUND(AO$7*$F309,2),$G309,0)","v":0},0,0,0,0,{"$f":"IF($I309=AU$7,$E309,0)","v":0},{"$f":"IF($K309=ROUND(AU$7*$F309,2),$G309,0)","v":0},0,0,0,0,{"$f":"IF($I309=BA$7,$E309,0)","v":0},{"$f":"IF($K309=ROUND(BA$7*$F309,2),$G309,0)","v":0},0,0,0,0,null,0,null,null,null,0]
["ООО ЧОО  \"Аргусъ\"","",{"$f":"C311","v":7},"03-4-23.597(333)",0.33600000000000002,1.5,0,0.33600000000000002,{"$f":"SUMIF(Y$14:BA$14,C310,Y$6:BA$6)","v":2166.8000000000002},{"$f":"IF(H310=0,ROUND(E310*I310,2),ROUND(H310*E310,2))","v":0.11},{"$f":"ROUND(F310*I310,2)","v":3250.2},{"$f":"IF(H310=0,ROUND(ROUND(F310*I310,2)*G310,2),ROUND(G310*H310,2))","v":0},{"$f":"L310-ROUND(G310*I310,2)","v":0},null,{"$f":"J310+L310+N310","v":0.11},null,405.07,{"$f":"ROUND(Q310*E310,2)","v":136.1},{"$f":"ROUND(F310*Q310,2)","v":607.61},{"$f":"ROUND(S310*G310,2)","v":0},{"$f":"T310-ROUND(Q310*G310,2)","v":0},null,{"$f":"R310+T310+V310","v":136.1},null,null,null,null,null,null,null,null,null,null,null,{"$f":"IF($I310=AI$6,$E310,0)","v":0},{"$f":"IF($K310=ROUND(AI$6*$F310,2),$G310,0)","v":0},{"$f":"IF($H310>0,AI310,0)","v":0},{"$f":"IF(AK310>0,1,0)","v":0},{"$f":"IF($H310>0,AJ310,0)","v":0},{"$f":"IF(AM310>0,1,0)","v":0},{"$f":"IF($I310=AO$6,$E310,0)","v":0},{"$f":"IF($K310=ROUND(AO$6*$F310,2),$G310,0)","v":0},{"$f":"IF($H310>0,AO310,0)","v":0},{"$f":"IF(AQ310>0,1,0)","v":0},{"$f":"IF($H310>0,AP310,0)","v":0},{"$f":"IF(AS310>0,1,0)","v":0},{"$f":"IF($I310=AU$6,$E310,0)","v":0},{"$f":"IF($K310=ROUND(AU$6*$F310,2),$G310,0)","v":0},{"$f":"IF($H310>0,AU310,0)","v":0},{"$f":"IF(AW310>0,1,0)","v":0},{"$f":"IF($H310>0,AV310,0)","v":0},{"$f":"IF(AY310>0,1,0)","v":0},{"$f":"IF($I310=BA$6,$E310,0)","v":0.33600000000000002},{"$f":"IF($K310=ROUND(BA$6*$F310,2),$G310,0)","v":0},{"$f":"IF($H310>0,BA310,0)","v":0.33600000000000002},{"$f":"IF(BC310>0,1,0)","v":1},{"$f":"IF($H310>0,BB310,0)","v":0},{"$f":"IF(BE310>0,1,0)","v":0},null,3.3600000000000004E-4,0.5,null,null,0]
[{"$f":"IF(E311+G311>0,A310,\"\")","v":""},{"$f":"IF(E311+G311>0,B310,\"\")","v":""},7,"03-4-23.597(333)",0,1.1000000000000001,0,0,{"$f":"SUMIF(Y$14:BA$14,C311,Y$6:BA$6)","v":2166.8000000000002},{"$f":"IF(H311=0,ROUND(E311*I311,2),ROUND(H311*E311,2))","v":0},{"$f":"ROUND(F311*I311,2)","v":2383.48},{"$f":"IF(H311=0,ROUND(ROUND(F311*I311,2)*G311,2),ROUND(G311*H311,2))","v":0},{"$f":"L311-ROUND(G311*I311,2)","v":0},null,{"$f":"J311+L311+N311","v":0},null,405.07,{"$f":"ROUND(Q311*E311,2)","v":0},{"$f":"ROUND(F311*Q311,2)","v":445.58},{"$f":"ROUND(S311*G311,2)","v":0},{"$f":"T311-ROUND(Q311*G311,2)","v":0},null,{"$f":"R311+T311+V311","v":0},null,null,null,null,null,null,null,null,null,null,null,{"$f":"IF($I311=AI$6,$E311,0)","v":0},0,{"$f":"IF($H311>0,AI311,0)","v":0},{"$f":"IF(AK311>0,1,0)","v":0},{"$f":"IF($H311>0,AJ311,0)","v":0},{"$f":"IF(AM311>0,1,0)","v":0},{"$f":"IF($I311=AO$6,$E311,0)","v":0},0,{"$f":"IF($H311>0,AO311,0)","v":0},{"$f":"IF(AQ311>0,1,0)","v":0},{"$f":"IF($H311>0,AP311,0)","v":0},{"$f":"IF(AS311>0,1,0)","v":0},{"$f":"IF($I311=AU$6,$E311,0)","v":0},0,{"$f":"IF($H311>0,AU311,0)","v":0},{"$f":"IF(AW311>0,1,0)","v":0},{"$f":"IF($H311>0,AV311,0)","v":0},{"$f":"IF(AY311>0,1,0)","v":0},{"$f":"IF($I311=BA$6,$E311,0)","v":0},0,{"$f":"IF($H311>0,BA311,0)","v":0},{"$f":"IF(BC311>0,1,0)","v":0},{"$f":"IF($H311>0,BB311,0)","v":0},{"$f":"IF(BE311>0,1,0)","v":0},null,0,null,null,null,0]
[{"$f":"IF(E312+G312>0,A310,\"\")","v":""},{"$f":"IF(E312+G312>0,B310,\"\")","v":""},{"$f":"C311","v":7},"03-4-23.597(333)",0,1.5,0,0,{"$f":"SUMIF(Y$14:BA$14,C312,Y$7:BA$7)","v":0},0,0,0,0,null,0,null,405.07,0,607.61,0,0,null,0,null,null,null,null,null,null,null,null,null,null,null,{"$f":"IF($I312=AI$7,$E312,0)","v":0},{"$f":"IF($K312=ROUND(AI$7*$F312,2),$G312,0)","v":0},0,0,0,0,{"$f":"IF($I312=AO$7,$E312,0)","v":0},{"$f":"IF($K312=ROUND(AO$7*$F312,2),$G312,0)","v":0},0,0,0,0,{"$f":"IF($I312=AU$7,$E312,0)","v":0},{"$f":"IF($K312=ROUND(AU$7*$F312,2),$G312,0)","v":0},0,0,0,0,{"$f":"IF($I312=BA$7,$E312,0)","v":0},{"$f":"IF($K312=ROUND(BA$7*$F312,2),$G312,0)","v":0},0,0,0,0,null,0,null,null,null,0]
[{"$f":"IF(E313+G313>0,A310,\"\")","v":""},{"$f":"IF(E313+G313>0,B310,\"\")","v":""},{"$f":"C311","v":7},"03-4-23.597(333)",0,1.1000000000000001,0,0,{"$f":"SUMIF(Y$14:BA$14,C313,Y$7:BA$7)","v":0},0,0,0,0,null,0,null,405.07,0,445.58,0,0,null,0,null,null,null,null,null,null,null,null,null,null,null,{"$f":"IF($I313=AI$7,$E313,0)","v":0},{"$f":"IF($K313=ROUND(AI$7*$F313,2),$G313,0)","v":0},0,0,0,0,{"$f":"IF($I313=AO$7,$E313,0)","v":0},{"$f":"IF($K313=ROUND(AO$7*$F313,2),$G313,0)","v":0},0,0,0,0,{"$f":"IF($I313=AU$7,$E313,0)","v":0},{"$f":"IF($K313=ROUND(AU$7*$F313,2),$G313,0)","v":0},0,0,0,0,{"$f":"IF($I313=BA$7,$E313,0)","v":0},{"$f":"IF($K313=ROUND(BA$7*$F313,2),$G313,0)","v":0},0,0,0,0,null,0,null,null,null,0]
["ИП                Завьялов           Евгений Александрович","д.Горка Муравьевская, ул.70 лет Октября-12а",{"$f":"C315","v":7},"03-4-23.598(333)",6.5000000000000002E-2,1.5,0,6.5000000000000002E-2,{"$f":"SUMIF(Y$14:BA$14,C314,Y$6:BA$6)","v":2166.8000000000002},{"$f":"IF(H314=0,ROUND(E314*I314,2),ROUND(H314*E314,2))","v":0},{"$f":"ROUND(F314*I314,2)","v":3250.2},{"$f":"IF(H314=0,ROUND(ROUND(F314*I314,2)*G314,2),ROUND(G314*H314,2))","v":0},{"$f":"L314-ROUND(G314*I314,2)","v":0},null,{"$f":"J314+L314+N314","v":0},null,405.07,{"$f":"ROUND(Q314*E314,2)","v":26.33},{"$f":"ROUND(F314*Q314,2)","v":607.61},{"$f":"ROUND(S314*G314,2)","v":0},{"$f":"T314-ROUND(Q314*G314,2)","v":0},null,{"$f":"R314+T314+V314","v":26.33},null,null,null,null,null,null,null,null,null,null,null,{"$f":"IF($I314=AI$6,$E314,0)","v":0},{"$f":"IF($K314=ROUND(AI$6*$F314,2),$G314,0)","v":0},{"$f":"IF($H314>0,AI314,0)","v":0},{"$f":"IF(AK314>0,1,0)","v":0},{"$f":"IF($H314>0,AJ314,0)","v":0},{"$f":"IF(AM314>0,1,0)","v":0},{"$f":"IF($I314=AO$6,$E314,0)","v":0},{"$f":"IF($K314=ROUND(AO$6*$F314,2),$G314,0)","v":0},{"$f":"IF($H314>0,AO314,0)","v":0},{"$f":"IF(AQ314>0,1,0)","v":0},{"$f":"IF($H314>0,AP314,0)","v":0},{"$f":"IF(AS314>0,1,0)","v":0},{"$f":"IF($I314=AU$6,$E314,0)","v":0},{"$f":"IF($K314=ROUND(AU$6*$F314,2),$G314,0)","v":0},{"$f":"IF($H314>0,AU314,0)","v":0},{"$f":"IF(AW314>0,1,0)","v":0},{"$f":"IF($H314>0,AV314,0)","v":0},{"$f":"IF(AY314>0,1,0)","v":0},{"$f":"IF($I314=BA$6,$E314,0)","v":6.5000000000000002E-2},{"$f":"IF($K314=ROUND(BA$6*$F314,2),$G314,0)","v":0},{"$f":"IF($H314>0,BA314,0)","v":6.5000000000000002E-2},{"$f":"IF(BC314>0,1,0)","v":1},{"$f":"IF($H314>0,BB314,0)","v":0},{"$f":"IF(BE314>0,1,0)","v":0},null,6.5000000000000008E-5,1,null,null,0]
[{"$f":"IF(E315+G315>0,A314,\"\")","v":""},{"$f":"IF(E315+G315>0,B314,\"\")","v":""},7,"03-4-23.598(333)",0,1.1000000000000001,0,0,{"$f":"SUMIF(Y$14:BA$14,C315,Y$6:BA$6)","v":2166.8000000000002},{"$f":"IF(H315=0,ROUND(E315*I315,2),ROUND(H315*E315,2))","v":0},{"$f":"ROUND(F315*I315,2)","v":2383.48},{"$f":"IF(H315=0,ROUND(ROUND(F315*I315,2)*G315,2),ROUND(G315*H315,2))","v":0},{"$f":"L315-ROUND(G315*I315,2)","v":0},null,{"$f":"J315+L315+N315","v":0},null,405.07,{"$f":"ROUND(Q315*E315,2)","v":0},{"$f":"ROUND(F315*Q315,2)","v":445.58},{"$f":"ROUND(S315*G315,2)","v":0},{"$f":"T315-ROUND(Q315*G315,2)","v":0},null,{"$f":"R315+T315+V315","v":0},null,null,null,null,null,null,null,null,null,null,null,{"$f":"IF($I315=AI$6,$E315,0)","v":0},0,{"$f":"IF($H315>0,AI315,0)","v":0},{"$f":"IF(AK315>0,1,0)","v":0},{"$f":"IF($H315>0,AJ315,0)","v":0},{"$f":"IF(AM315>0,1,0)","v":0},{"$f":"IF($I315=AO$6,$E315,0)","v":0},0,{"$f":"IF($H315>0,AO315,0)","v":0},{"$f":"IF(AQ315>0,1,0)","v":0},{"$f":"IF($H315>0,AP315,0)","v":0},{"$f":"IF(AS315>0,1,0)","v":0},{"$f":"IF($I315=AU$6,$E315,0)","v":0},0,{"$f":"IF($H315>0,AU315,0)","v":0},{"$f":"IF(AW315>0,1,0)","v":0},{"$f":"IF($H315>0,AV315,0)","v":0},{"$f":"IF(AY315>0,1,0)","v":0},{"$f":"IF($I315=BA$6,$E315,0)","v":0},0,{"$f":"IF($H315>0,BA315,0)","v":0},{"$f":"IF(BC315>0,1,0)","v":0},{"$f":"IF($H315>0,BB315,0)","v":0},{"$f":"IF(BE315>0,1,0)","v":0},null,0,null,null,null,0]
[{"$f":"IF(E316+G316>0,A314,\"\")","v":""},{"$f":"IF(E316+G316>0,B314,\"\")","v":""},{"$f":"C315","v":7},"03-4-23.598(333)",0,1.5,0,0,{"$f":"SUMIF(Y$14:BA$14,C316,Y$7:BA$7)","v":0},0,0,0,0,null,0,null,405.07,0,607.61,0,0,null,0,null,null,null,null,null,null,null,null,null,null,null,{"$f":"IF($I316=AI$7,$E316,0)","v":0},{"$f":"IF($K316=ROUND(AI$7*$F316,2),$G316,0)","v":0},0,0,0,0,{"$f":"IF($I316=AO$7,$E316,0)","v":0},{"$f":"IF($K316=ROUND(AO$7*$F316,2),$G316,0)","v":0},0,0,0,0,{"$f":"IF($I316=AU$7,$E316,0)","v":0},{"$f":"IF($K316=ROUND(AU$7*$F316,2),$G316,0)","v":0},0,0,0,0,{"$f":"IF($I316=BA$7,$E316,0)","v":0},{"$f":"IF($K316=ROUND(BA$7*$F316,2),$G316,0)","v":0},0,0,0,0,null,0,null,null,null,0]
[{"$f":"IF(E317+G317>0,A314,\"\")","v":""},{"$f":"IF(E317+G317>0,B314,\"\")","v":""},{"$f":"C315","v":7},"03-4-23.598(333)",0,1.1000000000000001,0,0,{"$f":"SUMIF(Y$14:BA$14,C317,Y$7:BA$7)","v":0},0,0,0,0,null,0,null,405.07,0,445.58,0,0,null,0,null,null,null,null,null,null,null,null,null,null,null,{"$f":"IF($I317=AI$7,$E317,0)","v":0},{"$f":"IF($K317=ROUND(AI$7*$F317,2),$G317,0)","v":0},0,0,0,0,{"$f":"IF($I317=AO$7,$E317,0)","v":0},{"$f":"IF($K317=ROUND(AO$7*$F317,2),$G317,0)","v":0},0,0,0,0,{"$f":"IF($I317=AU$7,$E317,0)","v":0},{"$f":"IF($K317=ROUND(AU$7*$F317,2),$G317,0)","v":0},0,0,0,0,{"$f":"IF($I317=BA$7,$E317,0)","v":0},{"$f":"IF($K317=ROUND(BA$7*$F317,2),$G317,0)","v":0},0,0,0,0,null,0,null,null,null,0]
["ИП                Завьялов           Евгений Александрович","Вельск, ул.Горького-20, стр.3",{"$f":"C319","v":7},"03-4-23.598(333)",0,1.5,0,0,{"$f":"SUMIF(Y$14:BA$14,C318,Y$6:BA$6)","v":2166.8000000000002},{"$f":"IF(H318=0,ROUND(E318*I318,2),ROUND(H318*E318,2))","v":0},{"$f":"ROUND(F318*I318,2)","v":3250.2},{"$f":"IF(H318=0,ROUND(ROUND(F318*I318,2)*G318,2),ROUND(G318*H318,2))","v":0},{"$f":"L318-ROUND(G318*I318,2)","v":0},null,{"$f":"J318+L318+N318","v":0},null,405.07,{"$f":"ROUND(Q318*E318,2)","v":0},{"$f":"ROUND(F318*Q318,2)","v":607.61},{"$f":"ROUND(S318*G318,2)","v":0},{"$f":"T318-ROUND(Q318*G318,2)","v":0},null,{"$f":"R318+T318+V318","v":0},null,null,null,null,null,null,null,null,null,null,null,{"$f":"IF($I318=AI$6,$E318,0)","v":0},{"$f":"IF($K318=ROUND(AI$6*$F318,2),$G318,0)","v":0},{"$f":"IF($H318>0,AI318,0)","v":0},{"$f":"IF(AK318>0,1,0)","v":0},{"$f":"IF($H318>0,AJ318,0)","v":0},{"$f":"IF(AM318>0,1,0)","v":0},{"$f":"IF($I318=AO$6,$E318,0)","v":0},{"$f":"IF($K318=ROUND(AO$6*$F318,2),$G318,0)","v":0},{"$f":"IF($H318>0,AO318,0)","v":0},{"$f":"IF(AQ318>0,1,0)","v":0},{"$f":"IF($H318>0,AP318,0)","v":0},{"$f":"IF(AS318>0,1,0)","v":0},{"$f":"IF($I318=AU$6,$E318,0)","v":0},{"$f":"IF($K318=ROUND(AU$6*$F318,2),$G318,0)","v":0},{"$f":"IF($H318>0,AU318,0)","v":0},{"$f":"IF(AW318>0,1,0)","v":0},{"$f":"IF($H318>0,AV318,0)","v":0},{"$f":"IF(AY318>0,1,0)","v":0},{"$f":"IF($I318=BA$6,$E318,0)","v":0},{"$f":"IF($K318=ROUND(BA$6*$F318,2),$G318,0)","v":0},{"$f":"IF($H318>0,BA318,0)","v":0},{"$f":"IF(BC318>0,1,0)","v":0},{"$f":"IF($H318>0,BB318,0)","v":0},{"$f":"IF(BE318>0,1,0)","v":0},null,0,0.6,null,null,0]
[{"$f":"IF(E319+G319>0,A318,\"\")","v":""},{"$f":"IF(E319+G319>0,B318,\"\")","v":""},7,"03-4-23.598(333)",0,1.1000000000000001,0,0,{"$f":"SUMIF(Y$14:BA$14,C319,Y$6:BA$6)","v":2166.8000000000002},{"$f":"IF(H319=0,ROUND(E319*I319,2),ROUND(H319*E319,2))","v":0},{"$f":"ROUND(F319*I319,2)","v":2383.48},{"$f":"IF(H319=0,ROUND(ROUND(F319*I319,2)*G319,2),ROUND(G319*H319,2))","v":0},{"$f":"L319-ROUND(G319*I319,2)","v":0},null,{"$f":"J319+L319+N319","v":0},null,405.07,{"$f":"ROUND(Q319*E319,2)","v":0},{"$f":"ROUND(F319*Q319,2)","v":445.58},{"$f":"ROUND(S319*G319,2)","v":0},{"$f":"T319-ROUND(Q319*G319,2)","v":0},null,{"$f":"R319+T319+V319","v":0},null,null,null,null,null,null,null,null,null,null,null,{"$f":"IF($I319=AI$6,$E319,0)","v":0},0,{"$f":"IF($H319>0,AI319,0)","v":0},{"$f":"IF(AK319>0,1,0)","v":0},{"$f":"IF($H319>0,AJ319,0)","v":0},{"$f":"IF(AM319>0,1,0)","v":0},{"$f":"IF($I319=AO$6,$E319,0)","v":0},0,{"$f":"IF($H319>0,AO319,0)","v":0},{"$f":"IF(AQ319>0,1,0)","v":0},{"$f":"IF($H319>0,AP319,0)","v":0},{"$f":"IF(AS319>0,1,0)","v":0},{"$f":"IF($I319=AU$6,$E319,0)","v":0},0,{"$f":"IF($H319>0,AU319,0)","v":0},{"$f":"IF(AW319>0,1,0)","v":0},{"$f":"IF($H319>0,AV319,0)","v":0},{"$f":"IF(AY319>0,1,0)","v":0},{"$f":"IF($I319=BA$6,$E319,0)","v":0},0,{"$f":"IF($H319>0,BA319,0)","v":0},{"$f":"IF(BC319>0,1,0)","v":0},{"$f":"IF($H319>0,BB319,0)","v":0},{"$f":"IF(BE319>0,1,0)","v":0},null,0,null,null,null,0]
[{"$f":"IF(E320+G320>0,A318,\"\")","v":""},{"$f":"IF(E320+G320>0,B318,\"\")","v":""},{"$f":"C319","v":7},"03-4-23.598(333)",0,1.5,0,0,{"$f":"SUMIF(Y$14:BA$14,C320,Y$7:BA$7)","v":0},0,0,0,0,null,0,null,405.07,0,607.61,0,0,null,0,null,null,null,null,null,null,null,null,null,null,null,{"$f":"IF($I320=AI$7,$E320,0)","v":0},{"$f":"IF($K320=ROUND(AI$7*$F320,2),$G320,0)","v":0},0,0,0,0,{"$f":"IF($I320=AO$7,$E320,0)","v":0},{"$f":"IF($K320=ROUND(AO$7*$F320,2),$G320,0)","v":0},0,0,0,0,{"$f":"IF($I320=AU$7,$E320,0)","v":0},{"$f":"IF($K320=ROUND(AU$7*$F320,2),$G320,0)","v":0},0,0,0,0,{"$f":"IF($I320=BA$7,$E320,0)","v":0},{"$f":"IF($K320=ROUND(BA$7*$F320,2),$G320,0)","v":0},0,0,0,0,null,0,null,null,null,0]
[{"$f":"IF(E321+G321>0,A318,\"\")","v":""},{"$f":"IF(E321+G321>0,B318,\"\")","v":""},{"$f":"C319","v":7},"03-4-23.598(333)",0,1.1000000000000001,0,0,{"$f":"SUMIF(Y$14:BA$14,C321,Y$7:BA$7)","v":0},0,0,0,0,null,0,null,405.07,0,445.58,0,0,null,0,null,null,null,null,null,null,null,null,null,null,null,{"$f":"IF($I321=AI$7,$E321,0)","v":0},{"$f":"IF($K321=ROUND(AI$7*$F321,2),$G321,0)","v":0},0,0,0,0,{"$f":"IF($I321=AO$7,$E321,0)","v":0},{"$f":"IF($K321=ROUND(AO$7*$F321,2),$G321,0)","v":0},0,0,0,0,{"$f":"IF($I321=AU$7,$E321,0)","v":0},{"$f":"IF($K321=ROUND(AU$7*$F321,2),$G321,0)","v":0},0,0,0,0,{"$f":"IF($I321=BA$7,$E321,0)","v":0},{"$f":"IF($K321=ROUND(BA$7*$F321,2),$G321,0)","v":0},0,0,0,0,null,0,null,null,null,0]
["МКУ           \"Вельск-Авто\" ","Вельск, ул.Революционная-3, стр.1",{"$f":"C323","v":7},"03-4-23.601(333)",0.96699999999999997,1.5,0,0.96699999999999997,{"$f":"SUMIF(Y$14:BA$14,C322,Y$6:BA$6)","v":2166.8000000000002},{"$f":"IF(H322=0,ROUND(E322*I322,2),ROUND(H322*E322,2))","v":0.94},{"$f":"ROUND(F322*I322,2)","v":3250.2},{"$f":"IF(H322=0,ROUND(ROUND(F322*I322,2)*G322,2),ROUND(G322*H322,2))","v":0},{"$f":"L322-ROUND(G322*I322,2)","v":0},null,{"$f":"J322+L322+N322","v":0.94},null,405.07,{"$f":"ROUND(Q322*E322,2)","v":391.7},{"$f":"ROUND(F322*Q322,2)","v":607.61},{"$f":"ROUND(S322*G322,2)","v":0},{"$f":"T322-ROUND(Q322*G322,2)","v":0},null,{"$f":"R322+T322+V322","v":391.7},null,null,null,null,null,null,null,null,null,null,null,{"$f":"IF($I322=AI$6,$E322,0)","v":0},{"$f":"IF($K322=ROUND(AI$6*$F322,2),$G322,0)","v":0},{"$f":"IF($H322>0,AI322,0)","v":0},{"$f":"IF(AK322>0,1,0)","v":0},{"$f":"IF($H322>0,AJ322,0)","v":0},{"$f":"IF(AM322>0,1,0)","v":0},{"$f":"IF($I322=AO$6,$E322,0)","v":0},{"$f":"IF($K322=ROUND(AO$6*$F322,2),$G322,0)","v":0},{"$f":"IF($H322>0,AO322,0)","v":0},{"$f":"IF(AQ322>0,1,0)","v":0},{"$f":"IF($H322>0,AP322,0)","v":0},{"$f":"IF(AS322>0,1,0)","v":0},{"$f":"IF($I322=AU$6,$E322,0)","v":0},{"$f":"IF($K322=ROUND(AU$6*$F322,2),$G322,0)","v":0},{"$f":"IF($H322>0,AU322,0)","v":0},{"$f":"IF(AW322>0,1,0)","v":0},{"$f":"IF($H322>0,AV322,0)","v":0},{"$f":"IF(AY322>0,1,0)","v":0},{"$f":"IF($I322=BA$6,$E322,0)","v":0.96699999999999997},{"$f":"IF($K322=ROUND(BA$6*$F322,2),$G322,0)","v":0},{"$f":"IF($H322>0,BA322,0)","v":0.96699999999999997},{"$f":"IF(BC322>0,1,0)","v":1},{"$f":"IF($H322>0,BB322,0)","v":0},{"$f":"IF(BE322>0,1,0)","v":0},null,9.6699999999999998E-4,0.96699999999999997,null,null,0]
[{"$f":"IF(E323+G323>0,A322,\"\")","v":""},{"$f":"IF(E323+G323>0,B322,\"\")","v":""},7,"03-4-23.601(333)",0,1.1000000000000001,0,0,{"$f":"SUMIF(Y$14:BA$14,C323,Y$6:BA$6)","v":2166.8000000000002},{"$f":"IF(H323=0,ROUND(E323*I323,2),ROUND(H323*E323,2))","v":0},{"$f":"ROUND(F323*I323,2)","v":2383.48},{"$f":"IF(H323=0,ROUND(ROUND(F323*I323,2)*G323,2),ROUND(G323*H323,2))","v":0},{"$f":"L323-ROUND(G323*I323,2)","v":0},null,{"$f":"J323+L323+N323","v":0},null,405.07,{"$f":"ROUND(Q323*E323,2)","v":0},{"$f":"ROUND(F323*Q323,2)","v":445.58},{"$f":"ROUND(S323*G323,2)","v":0},{"$f":"T323-ROUND(Q323*G323,2)","v":0},null,{"$f":"R323+T323+V323","v":0},null,null,null,null,null,null,null,null,null,null,null,{"$f":"IF($I323=AI$6,$E323,0)","v":0},0,{"$f":"IF($H323>0,AI323,0)","v":0},{"$f":"IF(AK323>0,1,0)","v":0},{"$f":"IF($H323>0,AJ323,0)","v":0},{"$f":"IF(AM323>0,1,0)","v":0},{"$f":"IF($I323=AO$6,$E323,0)","v":0},0,{"$f":"IF($H323>0,AO323,0)","v":0},{"$f":"IF(AQ323>0,1,0)","v":0},{"$f":"IF($H323>0,AP323,0)","v":0},{"$f":"IF(AS323>0,1,0)","v":0},{"$f":"IF($I323=AU$6,$E323,0)","v":0},0,{"$f":"IF($H323>0,AU323,0)","v":0},{"$f":"IF(AW323>0,1,0)","v":0},{"$f":"IF($H323>0,AV323,0)","v":0},{"$f":"IF(AY323>0,1,0)","v":0},{"$f":"IF($I323=BA$6,$E323,0)","v":0},0,{"$f":"IF($H323>0,BA323,0)","v":0},{"$f":"IF(BC323>0,1,0)","v":0},{"$f":"IF($H323>0,BB323,0)","v":0},{"$f":"IF(BE323>0,1,0)","v":0},null,0,null,null,null,0]
[{"$f":"IF(E324+G324>0,A322,\"\")","v":""},{"$f":"IF(E324+G324>0,B322,\"\")","v":""},{"$f":"C323","v":7},"03-4-23.601(333)",0,1.5,0,0,{"$f":"SUMIF(Y$14:BA$14,C324,Y$7:BA$7)","v":0},0,0,0,0,null,0,null,405.07,0,607.61,0,0,null,0,null,null,null,null,null,null,null,null,null,null,null,{"$f":"IF($I324=AI$7,$E324,0)","v":0},{"$f":"IF($K324=ROUND(AI$7*$F324,2),$G324,0)","v":0},0,0,0,0,{"$f":"IF($I324=AO$7,$E324,0)","v":0},{"$f":"IF($K324=ROUND(AO$7*$F324,2),$G324,0)","v":0},0,0,0,0,{"$f":"IF($I324=AU$7,$E324,0)","v":0},{"$f":"IF($K324=ROUND(AU$7*$F324,2),$G324,0)","v":0},0,0,0,0,{"$f":"IF($I324=BA$7,$E324,0)","v":0},{"$f":"IF($K324=ROUND(BA$7*$F324,2),$G324,0)","v":0},0,0,0,0,null,0,null,null,null,0]
[{"$f":"IF(E325+G325>0,A322,\"\")","v":""},{"$f":"IF(E325+G325>0,B322,\"\")","v":""},{"$f":"C323","v":7},"03-4-23.601(333)",0,1.1000000000000001,0,0,{"$f":"SUMIF(Y$14:BA$14,C325,Y$7:BA$7)","v":0},0,0,0,0,null,0,null,405.07,0,445.58,0,0,null,0,null,null,null,null,null,null,null,null,null,null,null,{"$f":"IF($I325=AI$7,$E325,0)","v":0},{"$f":"IF($K325=ROUND(AI$7*$F325,2),$G325,0)","v":0},0,0,0,0,{"$f":"IF($I325=AO$7,$E325,0)","v":0},{"$f":"IF($K325=ROUND(AO$7*$F325,2),$G325,0)","v":0},0,0,0,0,{"$f":"IF($I325=AU$7,$E325,0)","v":0},{"$f":"IF($K325=ROUND(AU$7*$F325,2),$G325,0)","v":0},0,0,0,0,{"$f":"IF($I325=BA$7,$E325,0)","v":0},{"$f":"IF($K325=ROUND(BA$7*$F325,2),$G325,0)","v":0},0,0,0,0,null,0,null,null,null,0]
["МКУ           \"Вельск-Авто\" ","Вельск, ул.Революционная-3, стр.2",{"$f":"C327","v":7},"03-4-23.601(333)",0.64900000000000002,1.5,0,0.64900000000000002,{"$f":"SUMIF(Y$14:BA$14,C326,Y$6:BA$6)","v":2166.8000000000002},{"$f":"IF(H326=0,ROUND(E326*I326,2),ROUND(H326*E326,2))","v":0.42},{"$f":"ROUND(F326*I326,2)","v":3250.2},{"$f":"IF(H326=0,ROUND(ROUND(F326*I326,2)*G326,2),ROUND(G326*H326,2))","v":0},{"$f":"L326-ROUND(G326*I326,2)","v":0},null,{"$f":"J326+L326+N326","v":0.42},null,405.07,{"$f":"ROUND(Q326*E326,2)","v":262.89},{"$f":"ROUND(F326*Q326,2)","v":607.61},{"$f":"ROUND(S326*G326,2)","v":0},{"$f":"T326-ROUND(Q326*G326,2)","v":0},null,{"$f":"R326+T326+V326","v":262.89},null,null,null,null,null,null,null,null,null,null,null,{"$f":"IF($I326=AI$6,$E326,0)","v":0},{"$f":"IF($K326=ROUND(AI$6*$F326,2),$G326,0)","v":0},{"$f":"IF($H326>0,AI326,0)","v":0},{"$f":"IF(AK326>0,1,0)","v":0},{"$f":"IF($H326>0,AJ326,0)","v":0},{"$f":"IF(AM326>0,1,0)","v":0},{"$f":"IF($I326=AO$6,$E326,0)","v":0},{"$f":"IF($K326=ROUND(AO$6*$F326,2),$G326,0)","v":0},{"$f":"IF($H326>0,AO326,0)","v":0},{"$f":"IF(AQ326>0,1,0)","v":0},{"$f":"IF($H326>0,AP326,0)","v":0},{"$f":"IF(AS326>0,1,0)","v":0},{"$f":"IF($I326=AU$6,$E326,0)","v":0},{"$f":"IF($K326=ROUND(AU$6*$F326,2),$G326,0)","v":0},{"$f":"IF($H326>0,AU326,0)","v":0},{"$f":"IF(AW326>0,1,0)","v":0},{"$f":"IF($H326>0,AV326,0)","v":0},{"$f":"IF(AY326>0,1,0)","v":0},{"$f":"IF($I326=BA$6,$E326,0)","v":0.64900000000000002},{"$f":"IF($K326=ROUND(BA$6*$F326,2),$G326,0)","v":0},{"$f":"IF($H326>0,BA326,0)","v":0.64900000000000002},{"$f":"IF(BC326>0,1,0)","v":1},{"$f":"IF($H326>0,BB326,0)","v":0},{"$f":"IF(BE326>0,1,0)","v":0},null,6.4900000000000005E-4,0.96699999999999997,null,null,0]
[{"$f":"IF(E327+G327>0,A326,\"\")","v":""},{"$f":"IF(E327+G327>0,B326,\"\")","v":""},7,"03-4-23.601(333)",0,1.1000000000000001,0,0,{"$f":"SUMIF(Y$14:BA$14,C327,Y$6:BA$6)","v":2166.8000000000002},{"$f":"IF(H327=0,ROUND(E327*I327,2),ROUND(H327*E327,2))","v":0},{"$f":"ROUND(F327*I327,2)","v":2383.48},{"$f":"IF(H327=0,ROUND(ROUND(F327*I327,2)*G327,2),ROUND(G327*H327,2))","v":0},{"$f":"L327-ROUND(G327*I327,2)","v":0},null,{"$f":"J327+L327+N327","v":0},null,405.07,{"$f":"ROUND(Q327*E327,2)","v":0},{"$f":"ROUND(F327*Q327,2)","v":445.58},{"$f":"ROUND(S327*G327,2)","v":0},{"$f":"T327-ROUND(Q327*G327,2)","v":0},null,{"$f":"R327+T327+V327","v":0},null,null,null,null,null,null,null,null,null,null,null,{"$f":"IF($I327=AI$6,$E327,0)","v":0},0,{"$f":"IF($H327>0,AI327,0)","v":0},{"$f":"IF(AK327>0,1,0)","v":0},{"$f":"IF($H327>0,AJ327,0)","v":0},{"$f":"IF(AM327>0,1,0)","v":0},{"$f":"IF($I327=AO$6,$E327,0)","v":0},0,{"$f":"IF($H327>0,AO327,0)","v":0},{"$f":"IF(AQ327>0,1,0)","v":0},{"$f":"IF($H327>0,AP327,0)","v":0},{"$f":"IF(AS327>0,1,0)","v":0},{"$f":"IF($I327=AU$6,$E327,0)","v":0},0,{"$f":"IF($H327>0,AU327,0)","v":0},{"$f":"IF(AW327>0,1,0)","v":0},{"$f":"IF($H327>0,AV327,0)","v":0},{"$f":"IF(AY327>0,1,0)","v":0},{"$f":"IF($I327=BA$6,$E327,0)","v":0},0,{"$f":"IF($H327>0,BA327,0)","v":0},{"$f":"IF(BC327>0,1,0)","v":0},{"$f":"IF($H327>0,BB327,0)","v":0},{"$f":"IF(BE327>0,1,0)","v":0},null,0,null,null,null,0]
[{"$f":"IF(E328+G328>0,A326,\"\")","v":""},{"$f":"IF(E328+G328>0,B326,\"\")","v":""},{"$f":"C327","v":7},"03-4-23.601(333)",0,1.5,0,0,{"$f":"SUMIF(Y$14:BA$14,C328,Y$7:BA$7)","v":0},0,0,0,0,null,0,null,405.07,0,607.61,0,0,null,0,null,null,null,null,null,null,null,null,null,null,null,{"$f":"IF($I328=AI$7,$E328,0)","v":0},{"$f":"IF($K328=ROUND(AI$7*$F328,2),$G328,0)","v":0},0,0,0,0,{"$f":"IF($I328=AO$7,$E328,0)","v":0},{"$f":"IF($K328=ROUND(AO$7*$F328,2),$G328,0)","v":0},0,0,0,0,{"$f":"IF($I328=AU$7,$E328,0)","v":0},{"$f":"IF($K328=ROUND(AU$7*$F328,2),$G328,0)","v":0},0,0,0,0,{"$f":"IF($I328=BA$7,$E328,0)","v":0},{"$f":"IF($K328=ROUND(BA$7*$F328,2),$G328,0)","v":0},0,0,0,0,null,0,null,null,null,0]
[{"$f":"IF(E329+G329>0,A326,\"\")","v":""},{"$f":"IF(E329+G329>0,B326,\"\")","v":""},{"$f":"C327","v":7},"03-4-23.601(333)",0,1.1000000000000001,0,0,{"$f":"SUMIF(Y$14:BA$14,C329,Y$7:BA$7)","v":0},0,0,0,0,null,0,null,405.07,0,445.58,0,0,null,0,null,null,null,null,null,null,null,null,null,null,null,{"$f":"IF($I329=AI$7,$E329,0)","v":0},{"$f":"IF($K329=ROUND(AI$7*$F329,2),$G329,0)","v":0},0,0,0,0,{"$f":"IF($I329=AO$7,$E329,0)","v":0},{"$f":"IF($K329=ROUND(AO$7*$F329,2),$G329,0)","v":0},0,0,0,0,{"$f":"IF($I329=AU$7,$E329,0)","v":0},{"$f":"IF($K329=ROUND(AU$7*$F329,2),$G329,0)","v":0},0,0,0,0,{"$f":"IF($I329=BA$7,$E329,0)","v":0},{"$f":"IF($K329=ROUND(BA$7*$F329,2),$G329,0)","v":0},0,0,0,0,null,0,null,null,null,0]
["МКУ           \"Вельск-Авто\" ","Вельск, ул.Революционная-3, стр.3",{"$f":"C331","v":7},"03-4-23.601(333)",0.91900000000000004,1.5,0,0.91900000000000004,{"$f":"SUMIF(Y$14:BA$14,C330,Y$6:BA$6)","v":2166.8000000000002},{"$f":"IF(H330=0,ROUND(E330*I330,2),ROUND(H330*E330,2))","v":0.84},{"$f":"ROUND(F330*I330,2)","v":3250.2},{"$f":"IF(H330=0,ROUND(ROUND(F330*I330,2)*G330,2),ROUND(G330*H330,2))","v":0},{"$f":"L330-ROUND(G330*I330,2)","v":0},null,{"$f":"J330+L330+N330","v":0.84},null,405.07,{"$f":"ROUND(Q330*E330,2)","v":372.26},{"$f":"ROUND(F330*Q330,2)","v":607.61},{"$f":"ROUND(S330*G330,2)","v":0},{"$f":"T330-ROUND(Q330*G330,2)","v":0},null,{"$f":"R330+T330+V330","v":372.26},null,null,null,null,null,null,null,null,null,null,null,{"$f":"IF($I330=AI$6,$E330,0)","v":0},{"$f":"IF($K330=ROUND(AI$6*$F330,2),$G330,0)","v":0},{"$f":"IF($H330>0,AI330,0)","v":0},{"$f":"IF(AK330>0,1,0)","v":0},{"$f":"IF($H330>0,AJ330,0)","v":0},{"$f":"IF(AM330>0,1,0)","v":0},{"$f":"IF($I330=AO$6,$E330,0)","v":0},{"$f":"IF($K330=ROUND(AO$6*$F330,2),$G330,0)","v":0},{"$f":"IF($H330>0,AO330,0)","v":0},{"$f":"IF(AQ330>0,1,0)","v":0},{"$f":"IF($H330>0,AP330,0)","v":0},{"$f":"IF(AS330>0,1,0)","v":0},{"$f":"IF($I330=AU$6,$E330,0)","v":0},{"$f":"IF($K330=ROUND(AU$6*$F330,2),$G330,0)","v":0},{"$f":"IF($H330>0,AU330,0)","v":0},{"$f":"IF(AW330>0,1,0)","v":0},{"$f":"IF($H330>0,AV330,0)","v":0},{"$f":"IF(AY330>0,1,0)","v":0},{"$f":"IF($I330=BA$6,$E330,0)","v":0.91900000000000004},{"$f":"IF($K330=ROUND(BA$6*$F330,2),$G330,0)","v":0},{"$f":"IF($H330>0,BA330,0)","v":0.91900000000000004},{"$f":"IF(BC330>0,1,0)","v":1},{"$f":"IF($H330>0,BB330,0)","v":0},{"$f":"IF(BE330>0,1,0)","v":0},null,9.19E-4,0.96699999999999997,null,null,0]
[{"$f":"IF(E331+G331>0,A330,\"\")","v":""},{"$f":"IF(E331+G331>0,B330,\"\")","v":""},7,"03-4-23.601(333)",0,1.1000000000000001,0,0,{"$f":"SUMIF(Y$14:BA$14,C331,Y$6:BA$6)","v":2166.8000000000002},{"$f":"IF(H331=0,ROUND(E331*I331,2),ROUND(H331*E331,2))","v":0},{"$f":"ROUND(F331*I331,2)","v":2383.48},{"$f":"IF(H331=0,ROUND(ROUND(F331*I331,2)*G331,2),ROUND(G331*H331,2))","v":0},{"$f":"L331-ROUND(G331*I331,2)","v":0},null,{"$f":"J331+L331+N331","v":0},null,405.07,{"$f":"ROUND(Q331*E331,2)","v":0},{"$f":"ROUND(F331*Q331,2)","v":445.58},{"$f":"ROUND(S331*G331,2)","v":0},{"$f":"T331-ROUND(Q331*G331,2)","v":0},null,{"$f":"R331+T331+V331","v":0},null,null,null,null,null,null,null,null,null,null,null,{"$f":"IF($I331=AI$6,$E331,0)","v":0},0,{"$f":"IF($H331>0,AI331,0)","v":0},{"$f":"IF(AK331>0,1,0)","v":0},{"$f":"IF($H331>0,AJ331,0)","v":0},{"$f":"IF(AM331>0,1,0)","v":0},{"$f":"IF($I331=AO$6,$E331,0)","v":0},0,{"$f":"IF($H331>0,AO331,0)","v":0},{"$f":"IF(AQ331>0,1,0)","v":0},{"$f":"IF($H331>0,AP331,0)","v":0},{"$f":"IF(AS331>0,1,0)","v":0},{"$f":"IF($I331=AU$6,$E331,0)","v":0},0,{"$f":"IF($H331>0,AU331,0)","v":0},{"$f":"IF(AW331>0,1,0)","v":0},{"$f":"IF($H331>0,AV331,0)","v":0},{"$f":"IF(AY331>0,1,0)","v":0},{"$f":"IF($I331=BA$6,$E331,0)","v":0},0,{"$f":"IF($H331>0,BA331,0)","v":0},{"$f":"IF(BC331>0,1,0)","v":0},{"$f":"IF($H331>0,BB331,0)","v":0},{"$f":"IF(BE331>0,1,0)","v":0},null,0,null,null,null,0]
[{"$f":"IF(E332+G332>0,A330,\"\")","v":""},{"$f":"IF(E332+G332>0,B330,\"\")","v":""},{"$f":"C331","v":7},"03-4-23.601(333)",0,1.5,0,0,{"$f":"SUMIF(Y$14:BA$14,C332,Y$7:BA$7)","v":0},0,0,0,0,null,0,null,405.07,0,607.61,0,0,null,0,null,null,null,null,null,null,null,null,null,null,null,{"$f":"IF($I332=AI$7,$E332,0)","v":0},{"$f":"IF($K332=ROUND(AI$7*$F332,2),$G332,0)","v":0},0,0,0,0,{"$f":"IF($I332=AO$7,$E332,0)","v":0},{"$f":"IF($K332=ROUND(AO$7*$F332,2),$G332,0)","v":0},0,0,0,0,{"$f":"IF($I332=AU$7,$E332,0)","v":0},{"$f":"IF($K332=ROUND(AU$7*$F332,2),$G332,0)","v":0},0,0,0,0,{"$f":"IF($I332=BA$7,$E332,0)","v":0},{"$f":"IF($K332=ROUND(BA$7*$F332,2),$G332,0)","v":0},0,0,0,0,null,0,null,null,null,0]
[{"$f":"IF(E333+G333>0,A330,\"\")","v":""},{"$f":"IF(E333+G333>0,B330,\"\")","v":""},{"$f":"C331","v":7},"03-4-23.601(333)",0,1.1000000000000001,0,0,{"$f":"SUMIF(Y$14:BA$14,C333,Y$7:BA$7)","v":0},0,0,0,0,null,0,null,405.07,0,445.58,0,0,null,0,null,null,null,null,null,null,null,null,null,null,null,{"$f":"IF($I333=AI$7,$E333,0)","v":0},{"$f":"IF($K333=ROUND(AI$7*$F333,2),$G333,0)","v":0},0,0,0,0,{"$f":"IF($I333=AO$7,$E333,0)","v":0},{"$f":"IF($K333=ROUND(AO$7*$F333,2),$G333,0)","v":0},0,0,0,0,{"$f":"IF($I333=AU$7,$E333,0)","v":0},{"$f":"IF($K333=ROUND(AU$7*$F333,2),$G333,0)","v":0},0,0,0,0,{"$f":"IF($I333=BA$7,$E333,0)","v":0},{"$f":"IF($K333=ROUND(BA$7*$F333,2),$G333,0)","v":0},0,0,0,0,null,0,null,null,null,0]
["МКУ           \"Вельск-Авто\" ","Вельск, ул.Революционная-3Б, стр.4",{"$f":"C335","v":7},"03-4-23.601(333)",0.26500000000000001,1.5,0,0.26500000000000001,{"$f":"SUMIF(Y$14:BA$14,C334,Y$6:BA$6)","v":2166.8000000000002},{"$f":"IF(H334=0,ROUND(E334*I334,2),ROUND(H334*E334,2))","v":7.0000000000000007E-2},{"$f":"ROUND(F334*I334,2)","v":3250.2},{"$f":"IF(H334=0,ROUND(ROUND(F334*I334,2)*G334,2),ROUND(G334*H334,2))","v":0},{"$f":"L334-ROUND(G334*I334,2)","v":0},null,{"$f":"J334+L334+N334","v":7.0000000000000007E-2},null,405.07,{"$f":"ROUND(Q334*E334,2)","v":107.34},{"$f":"ROUND(F334*Q334,2)","v":607.61},{"$f":"ROUND(S334*G334,2)","v":0},{"$f":"T334-ROUND(Q334*G334,2)","v":0},null,{"$f":"R334+T334+V334","v":107.34},null,null,null,null,null,null,null,null,null,null,null,{"$f":"IF($I334=AI$6,$E334,0)","v":0},{"$f":"IF($K334=ROUND(AI$6*$F334,2),$G334,0)","v":0},{"$f":"IF($H334>0,AI334,0)","v":0},{"$f":"IF(AK334>0,1,0)","v":0},{"$f":"IF($H334>0,AJ334,0)","v":0},{"$f":"IF(AM334>0,1,0)","v":0},{"$f":"IF($I334=AO$6,$E334,0)","v":0},{"$f":"IF($K334=ROUND(AO$6*$F334,2),$G334,0)","v":0},{"$f":"IF($H334>0,AO334,0)","v":0},{"$f":"IF(AQ334>0,1,0)","v":0},{"$f":"IF($H334>0,AP334,0)","v":0},{"$f":"IF(AS334>0,1,0)","v":0},{"$f":"IF($I334=AU$6,$E334,0)","v":0},{"$f":"IF($K334=ROUND(AU$6*$F334,2),$G334,0)","v":0},{"$f":"IF($H334>0,AU334,0)","v":0},{"$f":"IF(AW334>0,1,0)","v":0},{"$f":"IF($H334>0,AV334,0)","v":0},{"$f":"IF(AY334>0,1,0)","v":0},{"$f":"IF($I334=BA$6,$E334,0)","v":0.26500000000000001},{"$f":"IF($K334=ROUND(BA$6*$F334,2),$G334,0)","v":0},{"$f":"IF($H334>0,BA334,0)","v":0.26500000000000001},{"$f":"IF(BC334>0,1,0)","v":1},{"$f":"IF($H334>0,BB334,0)","v":0},{"$f":"IF(BE334>0,1,0)","v":0},null,2.6499999999999999E-4,0.6,null,null,0]
[{"$f":"IF(E335+G335>0,A334,\"\")","v":""},{"$f":"IF(E335+G335>0,B334,\"\")","v":""},7,"03-4-23.601(333)",0,1.1000000000000001,0,0,{"$f":"SUMIF(Y$14:BA$14,C335,Y$6:BA$6)","v":2166.8000000000002},{"$f":"IF(H335=0,ROUND(E335*I335,2),ROUND(H335*E335,2))","v":0},{"$f":"ROUND(F335*I335,2)","v":2383.48},{"$f":"IF(H335=0,ROUND(ROUND(F335*I335,2)*G335,2),ROUND(G335*H335,2))","v":0},{"$f":"L335-ROUND(G335*I335,2)","v":0},null,{"$f":"J335+L335+N335","v":0},null,405.07,{"$f":"ROUND(Q335*E335,2)","v":0},{"$f":"ROUND(F335*Q335,2)","v":445.58},{"$f":"ROUND(S335*G335,2)","v":0},{"$f":"T335-ROUND(Q335*G335,2)","v":0},null,{"$f":"R335+T335+V335","v":0},null,null,null,null,null,null,null,null,null,null,null,{"$f":"IF($I335=AI$6,$E335,0)","v":0},0,{"$f":"IF($H335>0,AI335,0)","v":0},{"$f":"IF(AK335>0,1,0)","v":0},{"$f":"IF($H335>0,AJ335,0)","v":0},{"$f":"IF(AM335>0,1,0)","v":0},{"$f":"IF($I335=AO$6,$E335,0)","v":0},0,{"$f":"IF($H335>0,AO335,0)","v":0},{"$f":"IF(AQ335>0,1,0)","v":0},{"$f":"IF($H335>0,AP335,0)","v":0},{"$f":"IF(AS335>0,1,0)","v":0},{"$f":"IF($I335=AU$6,$E335,0)","v":0},0,{"$f":"IF($H335>0,AU335,0)","v":0},{"$f":"IF(AW335>0,1,0)","v":0},{"$f":"IF($H335>0,AV335,0)","v":0},{"$f":"IF(AY335>0,1,0)","v":0},{"$f":"IF($I335=BA$6,$E335,0)","v":0},0,{"$f":"IF($H335>0,BA335,0)","v":0},{"$f":"IF(BC335>0,1,0)","v":0},{"$f":"IF($H335>0,BB335,0)","v":0},{"$f":"IF(BE335>0,1,0)","v":0},null,0,null,null,null,0]
[{"$f":"IF(E336+G336>0,A334,\"\")","v":""},{"$f":"IF(E336+G336>0,B334,\"\")","v":""},{"$f":"C335","v":7},"03-4-23.601(333)",0,1.5,0,0,{"$f":"SUMIF(Y$14:BA$14,C336,Y$7:BA$7)","v":0},0,0,0,0,null,0,null,{"$f":"IF(BI336>0,Q$6,Q$6)","v":405.07},0,607.61,0,0,null,0,null,null,null,null,null,null,null,null,null,null,null,{"$f":"IF($I336=AI$7,$E336,0)","v":0},{"$f":"IF($K336=ROUND(AI$7*$F336,2),$G336,0)","v":0},0,0,0,0,{"$f":"IF($I336=AO$7,$E336,0)","v":0},{"$f":"IF($K336=ROUND(AO$7*$F336,2),$G336,0)","v":0},0,0,0,0,{"$f":"IF($I336=AU$7,$E336,0)","v":0},{"$f":"IF($K336=ROUND(AU$7*$F336,2),$G336,0)","v":0},0,0,0,0,{"$f":"IF($I336=BA$7,$E336,0)","v":0},{"$f":"IF($K336=ROUND(BA$7*$F336,2),$G336,0)","v":0},0,0,0,0,null,0,null,null,null,0]
[{"$f":"IF(E337+G337>0,A334,\"\")","v":""},{"$f":"IF(E337+G337>0,B334,\"\")","v":""},{"$f":"C335","v":7},"03-4-23.601(333)",0,1.1000000000000001,0,{"$f":"E337+G337","v":0},{"$f":"SUMIF(Y$14:BA$14,C337,Y$7:BA$7)","v":0},0,0,0,0,null,0,null,405.07,0,445.58,0,0,null,0,null,null,null,null,null,null,null,null,null,null,null,{"$f":"IF($I337=AI$7,$E337,0)","v":0},{"$f":"IF($K337=ROUND(AI$7*$F337,2),$G337,0)","v":0},0,0,0,0,{"$f":"IF($I337=AO$7,$E337,0)","v":0},{"$f":"IF($K337=ROUND(AO$7*$F337,2),$G337,0)","v":0},0,0,0,0,{"$f":"IF($I337=AU$7,$E337,0)","v":0},{"$f":"IF($K337=ROUND(AU$7*$F337,2),$G337,0)","v":0},0,0,0,0,{"$f":"IF($I337=BA$7,$E337,0)","v":0},{"$f":"IF($K337=ROUND(BA$7*$F337,2),$G337,0)","v":0},0,0,0,0,null,{"$f":"H337/1000","v":0},null,null,null,{"$f":"E337-SUM(AI337,AO337,AU337,BA337)","v":0}]
["Верхне-Устькулойское СПО","",{"$f":"C339","v":7},"03-4-23.604(333)",0.55000000000000004,1.5,0.22500000000000001,0.77500000000000002,{"$f":"SUMIF(Y$14:BA$14,C338,Y$6:BA$6)","v":2166.8000000000002},{"$f":"IF(H338=0,ROUND(E338*I338,2),ROUND(H338*E338,2))","v":0.43},{"$f":"ROUND(F338*I338,2)","v":3250.2},{"$f":"IF(H338=0,ROUND(ROUND(F338*I338,2)*G338,2),ROUND(G338*H338,2))","v":0.17},{"$f":"L338-ROUND(G338*I338,2)","v":-487.35999999999996},null,{"$f":"J338+L338+N338","v":0.6},null,405.07,{"$f":"ROUND(Q338*E338,2)","v":222.79},{"$f":"ROUND(F338*Q338,2)","v":607.61},{"$f":"ROUND(S338*G338,2)","v":136.71},{"$f":"T338-ROUND(Q338*G338,2)","v":45.570000000000007},null,{"$f":"R338+T338+V338","v":359.5},null,null,null,null,null,null,null,null,null,null,null,{"$f":"IF($I338=AI$6,$E338,0)","v":0},{"$f":"IF($K338=ROUND(AI$6*$F338,2),$G338,0)","v":0},{"$f":"IF($H338>0,AI338,0)","v":0},{"$f":"IF(AK338>0,1,0)","v":0},{"$f":"IF($H338>0,AJ338,0)","v":0},{"$f":"IF(AM338>0,1,0)","v":0},{"$f":"IF($I338=AO$6,$E338,0)","v":0},{"$f":"IF($K338=ROUND(AO$6*$F338,2),$G338,0)","v":0},{"$f":"IF($H338>0,AO338,0)","v":0},{"$f":"IF(AQ338>0,1,0)","v":0},{"$f":"IF($H338>0,AP338,0)","v":0},{"$f":"IF(AS338>0,1,0)","v":0},{"$f":"IF($I338=AU$6,$E338,0)","v":0},{"$f":"IF($K338=ROUND(AU$6*$F338,2),$G338,0)","v":0},{"$f":"IF($H338>0,AU338,0)","v":0},{"$f":"IF(AW338>0,1,0)","v":0},{"$f":"IF($H338>0,AV338,0)","v":0},{"$f":"IF(AY338>0,1,0)","v":0},{"$f":"IF($I338=BA$6,$E338,0)","v":0.55000000000000004},{"$f":"IF($K338=ROUND(BA$6*$F338,2),$G338,0)","v":0.22500000000000001},{"$f":"IF($H338>0,BA338,0)","v":0.55000000000000004},{"$f":"IF(BC338>0,1,0)","v":1},{"$f":"IF($H338>0,BB338,0)","v":0.22500000000000001},{"$f":"IF(BE338>0,1,0)","v":1},null,7.7499999999999997E-4,0.5,null,null,0]
[{"$f":"IF(E339+G339>0,A338,\"\")","v":""},{"$f":"IF(E339+G339>0,B338,\"\")","v":""},7,"03-4-23.604(333)",0,1.1000000000000001,0,0,{"$f":"SUMIF(Y$14:BA$14,C339,Y$6:BA$6)","v":2166.8000000000002},{"$f":"IF(H339=0,ROUND(E339*I339,2),ROUND(H339*E339,2))","v":0},{"$f":"ROUND(F339*I339,2)","v":2383.48},{"$f":"IF(H339=0,ROUND(ROUND(F339*I339,2)*G339,2),ROUND(G339*H339,2))","v":0},{"$f":"L339-ROUND(G339*I339,2)","v":0},null,{"$f":"J339+L339+N339","v":0},null,405.07,{"$f":"ROUND(Q339*E339,2)","v":0},{"$f":"ROUND(F339*Q339,2)","v":445.58},{"$f":"ROUND(S339*G339,2)","v":0},{"$f":"T339-ROUND(Q339*G339,2)","v":0},null,{"$f":"R339+T339+V339","v":0},null,null,null,null,null,null,null,null,null,null,null,{"$f":"IF($I339=AI$6,$E339,0)","v":0},0,{"$f":"IF($H339>0,AI339,0)","v":0},{"$f":"IF(AK339>0,1,0)","v":0},{"$f":"IF($H339>0,AJ339,0)","v":0},{"$f":"IF(AM339>0,1,0)","v":0},{"$f":"IF($I339=AO$6,$E339,0)","v":0},0,{"$f":"IF($H339>0,AO339,0)","v":0},{"$f":"IF(AQ339>0,1,0)","v":0},{"$f":"IF($H339>0,AP339,0)","v":0},{"$f":"IF(AS339>0,1,0)","v":0},{"$f":"IF($I339=AU$6,$E339,0)","v":0},0,{"$f":"IF($H339>0,AU339,0)","v":0},{"$f":"IF(AW339>0,1,0)","v":0},{"$f":"IF($H339>0,AV339,0)","v":0},{"$f":"IF(AY339>0,1,0)","v":0},{"$f":"IF($I339=BA$6,$E339,0)","v":0},0,{"$f":"IF($H339>0,BA339,0)","v":0},{"$f":"IF(BC339>0,1,0)","v":0},{"$f":"IF($H339>0,BB339,0)","v":0},{"$f":"IF(BE339>0,1,0)","v":0},null,0,null,null,null,0]
[{"$f":"IF(E340+G340>0,A338,\"\")","v":""},{"$f":"IF(E340+G340>0,B338,\"\")","v":""},{"$f":"C339","v":7},"03-4-23.604(333)",0,1.5,0,0,{"$f":"SUMIF(Y$14:BA$14,C340,Y$7:BA$7)","v":0},0,0,0,0,null,0,null,405.07,0,607.61,0,0,null,0,null,null,null,null,null,null,null,null,null,null,null,{"$f":"IF($I340=AI$7,$E340,0)","v":0},{"$f":"IF($K340=ROUND(AI$7*$F340,2),$G340,0)","v":0},0,0,0,0,{"$f":"IF($I340=AO$7,$E340,0)","v":0},{"$f":"IF($K340=ROUND(AO$7*$F340,2),$G340,0)","v":0},0,0,0,0,{"$f":"IF($I340=AU$7,$E340,0)","v":0},{"$f":"IF($K340=ROUND(AU$7*$F340,2),$G340,0)","v":0},0,0,0,0,{"$f":"IF($I340=BA$7,$E340,0)","v":0},{"$f":"IF($K340=ROUND(BA$7*$F340,2),$G340,0)","v":0},0,0,0,0,null,0,null,null,null,0]
[{"$f":"IF(E341+G341>0,A338,\"\")","v":""},{"$f":"IF(E341+G341>0,B338,\"\")","v":""},{"$f":"C339","v":7},"03-4-23.604(333)",0,1.1000000000000001,0,0,{"$f":"SUMIF(Y$14:BA$14,C341,Y$7:BA$7)","v":0},0,0,0,0,null,0,null,405.07,0,445.58,0,0,null,0,null,null,null,null,null,null,null,null,null,null,null,{"$f":"IF($I341=AI$7,$E341,0)","v":0},{"$f":"IF($K341=ROUND(AI$7*$F341,2),$G341,0)","v":0},0,0,0,0,{"$f":"IF($I341=AO$7,$E341,0)","v":0},{"$f":"IF($K341=ROUND(AO$7*$F341,2),$G341,0)","v":0},0,0,0,0,{"$f":"IF($I341=AU$7,$E341,0)","v":0},{"$f":"IF($K341=ROUND(AU$7*$F341,2),$G341,0)","v":0},0,0,0,0,{"$f":"IF($I341=BA$7,$E341,0)","v":0},{"$f":"IF($K341=ROUND(BA$7*$F341,2),$G341,0)","v":0},0,0,0,0,null,0,null,null,null,0]
["Гр.               Шипицын           Илья Николаевич","пст.Аргуновский, ул.60 лет Октября-6",{"$f":"C343","v":7},"03-4-23.605(333)",0.24299999999999999,1.5,0,0.24299999999999999,{"$f":"SUMIF(Y$14:BA$14,C342,Y$6:BA$6)","v":2166.8000000000002},{"$f":"IF(H342=0,ROUND(E342*I342,2),ROUND(H342*E342,2))","v":0.06},{"$f":"ROUND(F342*I342,2)","v":3250.2},{"$f":"IF(H342=0,ROUND(ROUND(F342*I342,2)*G342,2),ROUND(G342*H342,2))","v":0},{"$f":"L342-ROUND(G342*I342,2)","v":0},null,{"$f":"J342+L342+N342","v":0.06},null,405.07,{"$f":"ROUND(Q342*E342,2)","v":98.43},{"$f":"ROUND(F342*Q342,2)","v":607.61},{"$f":"ROUND(S342*G342,2)","v":0},{"$f":"T342-ROUND(Q342*G342,2)","v":0},null,{"$f":"R342+T342+V342","v":98.43},null,null,null,null,null,null,null,null,null,null,null,{"$f":"IF($I342=AI$6,$E342,0)","v":0},{"$f":"IF($K342=ROUND(AI$6*$F342,2),$G342,0)","v":0},{"$f":"IF($H342>0,AI342,0)","v":0},{"$f":"IF(AK342>0,1,0)","v":0},{"$f":"IF($H342>0,AJ342,0)","v":0},{"$f":"IF(AM342>0,1,0)","v":0},{"$f":"IF($I342=AO$6,$E342,0)","v":0},{"$f":"IF($K342=ROUND(AO$6*$F342,2),$G342,0)","v":0},{"$f":"IF($H342>0,AO342,0)","v":0},{"$f":"IF(AQ342>0,1,0)","v":0},{"$f":"IF($H342>0,AP342,0)","v":0},{"$f":"IF(AS342>0,1,0)","v":0},{"$f":"IF($I342=AU$6,$E342,0)","v":0},{"$f":"IF($K342=ROUND(AU$6*$F342,2),$G342,0)","v":0},{"$f":"IF($H342>0,AU342,0)","v":0},{"$f":"IF(AW342>0,1,0)","v":0},{"$f":"IF($H342>0,AV342,0)","v":0},{"$f":"IF(AY342>0,1,0)","v":0},{"$f":"IF($I342=BA$6,$E342,0)","v":0.24299999999999999},{"$f":"IF($K342=ROUND(BA$6*$F342,2),$G342,0)","v":0},{"$f":"IF($H342>0,BA342,0)","v":0.24299999999999999},{"$f":"IF(BC342>0,1,0)","v":1},{"$f":"IF($H342>0,BB342,0)","v":0},{"$f":"IF(BE342>0,1,0)","v":0},null,2.43E-4,0.5,null,null,0]
[{"$f":"IF(E343+G343>0,A342,\"\")","v":""},{"$f":"IF(E343+G343>0,B342,\"\")","v":""},7,"03-4-23.605(333)",0,1.1000000000000001,0,0,{"$f":"SUMIF(Y$14:BA$14,C343,Y$6:BA$6)","v":2166.8000000000002},{"$f":"IF(H343=0,ROUND(E343*I343,2),ROUND(H343*E343,2))","v":0},{"$f":"ROUND(F343*I343,2)","v":2383.48},{"$f":"IF(H343=0,ROUND(ROUND(F343*I343,2)*G343,2),ROUND(G343*H343,2))","v":0},{"$f":"L343-ROUND(G343*I343,2)","v":0},null,{"$f":"J343+L343+N343","v":0},null,405.07,{"$f":"ROUND(Q343*E343,2)","v":0},{"$f":"ROUND(F343*Q343,2)","v":445.58},{"$f":"ROUND(S343*G343,2)","v":0},{"$f":"T343-ROUND(Q343*G343,2)","v":0},null,{"$f":"R343+T343+V343","v":0},null,null,null,null,null,null,null,null,null,null,null,{"$f":"IF($I343=AI$6,$E343,0)","v":0},0,{"$f":"IF($H343>0,AI343,0)","v":0},{"$f":"IF(AK343>0,1,0)","v":0},{"$f":"IF($H343>0,AJ343,0)","v":0},{"$f":"IF(AM343>0,1,0)","v":0},{"$f":"IF($I343=AO$6,$E343,0)","v":0},0,{"$f":"IF($H343>0,AO343,0)","v":0},{"$f":"IF(AQ343>0,1,0)","v":0},{"$f":"IF($H343>0,AP343,0)","v":0},{"$f":"IF(AS343>0,1,0)","v":0},{"$f":"IF($I343=AU$6,$E343,0)","v":0},0,{"$f":"IF($H343>0,AU343,0)","v":0},{"$f":"IF(AW343>0,1,0)","v":0},{"$f":"IF($H343>0,AV343,0)","v":0},{"$f":"IF(AY343>0,1,0)","v":0},{"$f":"IF($I343=BA$6,$E343,0)","v":0},0,{"$f":"IF($H343>0,BA343,0)","v":0},{"$f":"IF(BC343>0,1,0)","v":0},{"$f":"IF($H343>0,BB343,0)","v":0},{"$f":"IF(BE343>0,1,0)","v":0},null,0,null,null,null,0]
[{"$f":"IF(E344+G344>0,A342,\"\")","v":""},{"$f":"IF(E344+G344>0,B342,\"\")","v":""},{"$f":"C343","v":7},"03-4-23.605(333)",0,1.5,0,0,{"$f":"SUMIF(Y$14:BA$14,C344,Y$7:BA$7)","v":0},0,0,0,0,null,0,null,405.07,0,607.61,0,0,null,0,null,null,null,null,null,null,null,null,null,null,null,{"$f":"IF($I344=AI$7,$E344,0)","v":0},{"$f":"IF($K344=ROUND(AI$7*$F344,2),$G344,0)","v":0},0,0,0,0,{"$f":"IF($I344=AO$7,$E344,0)","v":0},{"$f":"IF($K344=ROUND(AO$7*$F344,2),$G344,0)","v":0},0,0,0,0,{"$f":"IF($I344=AU$7,$E344,0)","v":0},{"$f":"IF($K344=ROUND(AU$7*$F344,2),$G344,0)","v":0},0,0,0,0,{"$f":"IF($I344=BA$7,$E344,0)","v":0},{"$f":"IF($K344=ROUND(BA$7*$F344,2),$G344,0)","v":0},0,0,0,0,null,0,null,null,null,0]
[{"$f":"IF(E345+G345>0,A342,\"\")","v":""},{"$f":"IF(E345+G345>0,B342,\"\")","v":""},{"$f":"C343","v":7},"03-4-23.605(333)",0,1.1000000000000001,0,0,{"$f":"SUMIF(Y$14:BA$14,C345,Y$7:BA$7)","v":0},0,0,0,0,null,0,null,405.07,0,445.58,0,0,null,0,null,null,null,null,null,null,null,null,null,null,null,{"$f":"IF($I345=AI$7,$E345,0)","v":0},{"$f":"IF($K345=ROUND(AI$7*$F345,2),$G345,0)","v":0},0,0,0,0,{"$f":"IF($I345=AO$7,$E345,0)","v":0},{"$f":"IF($K345=ROUND(AO$7*$F345,2),$G345,0)","v":0},0,0,0,0,{"$f":"IF($I345=AU$7,$E345,0)","v":0},{"$f":"IF($K345=ROUND(AU$7*$F345,2),$G345,0)","v":0},0,0,0,0,{"$f":"IF($I345=BA$7,$E345,0)","v":0},{"$f":"IF($K345=ROUND(BA$7*$F345,2),$G345,0)","v":0},0,0,0,0,null,0,null,null,null,0]
["Гр.               Шипицын           Илья Николаевич","Вельск, ул.50 лет Октября-41",{"$f":"C347","v":7},"03-4-23.605(333)",0.08,1.5,0,0.08,{"$f":"SUMIF(Y$14:BA$14,C346,Y$6:BA$6)","v":2166.8000000000002},{"$f":"IF(H346=0,ROUND(E346*I346,2),ROUND(H346*E346,2))","v":0.01},{"$f":"ROUND(F346*I346,2)","v":3250.2},{"$f":"IF(H346=0,ROUND(ROUND(F346*I346,2)*G346,2),ROUND(G346*H346,2))","v":0},{"$f":"L346-ROUND(G346*I346,2)","v":0},null,{"$f":"J346+L346+N346","v":0.01},null,405.07,{"$f":"ROUND(Q346*E346,2)","v":32.409999999999997},{"$f":"ROUND(F346*Q346,2)","v":607.61},{"$f":"ROUND(S346*G346,2)","v":0},{"$f":"T346-ROUND(Q346*G346,2)","v":0},null,{"$f":"R346+T346+V346","v":32.409999999999997},null,null,null,null,null,null,null,null,null,null,null,{"$f":"IF($I346=AI$6,$E346,0)","v":0},{"$f":"IF($K346=ROUND(AI$6*$F346,2),$G346,0)","v":0},{"$f":"IF($H346>0,AI346,0)","v":0},{"$f":"IF(AK346>0,1,0)","v":0},{"$f":"IF($H346>0,AJ346,0)","v":0},{"$f":"IF(AM346>0,1,0)","v":0},{"$f":"IF($I346=AO$6,$E346,0)","v":0},{"$f":"IF($K346=ROUND(AO$6*$F346,2),$G346,0)","v":0},{"$f":"IF($H346>0,AO346,0)","v":0},{"$f":"IF(AQ346>0,1,0)","v":0},{"$f":"IF($H346>0,AP346,0)","v":0},{"$f":"IF(AS346>0,1,0)","v":0},{"$f":"IF($I346=AU$6,$E346,0)","v":0},{"$f":"IF($K346=ROUND(AU$6*$F346,2),$G346,0)","v":0},{"$f":"IF($H346>0,AU346,0)","v":0},{"$f":"IF(AW346>0,1,0)","v":0},{"$f":"IF($H346>0,AV346,0)","v":0},{"$f":"IF(AY346>0,1,0)","v":0},{"$f":"IF($I346=BA$6,$E346,0)","v":0.08},{"$f":"IF($K346=ROUND(BA$6*$F346,2),$G346,0)","v":0},{"$f":"IF($H346>0,BA346,0)","v":0.08},{"$f":"IF(BC346>0,1,0)","v":1},{"$f":"IF($H346>0,BB346,0)","v":0},{"$f":"IF(BE346>0,1,0)","v":0},null,8.0000000000000007E-5,0.4,null,null,0]
[{"$f":"IF(E347+G347>0,A346,\"\")","v":""},{"$f":"IF(E347+G347>0,B346,\"\")","v":""},7,"03-4-23.605(333)",0,1.1000000000000001,0,0,{"$f":"SUMIF(Y$14:BA$14,C347,Y$6:BA$6)","v":2166.8000000000002},{"$f":"IF(H347=0,ROUND(E347*I347,2),ROUND(H347*E347,2))","v":0},{"$f":"ROUND(F347*I347,2)","v":2383.48},{"$f":"IF(H347=0,ROUND(ROUND(F347*I347,2)*G347,2),ROUND(G347*H347,2))","v":0},{"$f":"L347-ROUND(G347*I347,2)","v":0},null,{"$f":"J347+L347+N347","v":0},null,405.07,{"$f":"ROUND(Q347*E347,2)","v":0},{"$f":"ROUND(F347*Q347,2)","v":445.58},{"$f":"ROUND(S347*G347,2)","v":0},{"$f":"T347-ROUND(Q347*G347,2)","v":0},null,{"$f":"R347+T347+V347","v":0},null,null,null,null,null,null,null,null,null,null,null,{"$f":"IF($I347=AI$6,$E347,0)","v":0},0,{"$f":"IF($H347>0,AI347,0)","v":0},{"$f":"IF(AK347>0,1,0)","v":0},{"$f":"IF($H347>0,AJ347,0)","v":0},{"$f":"IF(AM347>0,1,0)","v":0},{"$f":"IF($I347=AO$6,$E347,0)","v":0},0,{"$f":"IF($H347>0,AO347,0)","v":0},{"$f":"IF(AQ347>0,1,0)","v":0},{"$f":"IF($H347>0,AP347,0)","v":0},{"$f":"IF(AS347>0,1,0)","v":0},{"$f":"IF($I347=AU$6,$E347,0)","v":0},0,{"$f":"IF($H347>0,AU347,0)","v":0},{"$f":"IF(AW347>0,1,0)","v":0},{"$f":"IF($H347>0,AV347,0)","v":0},{"$f":"IF(AY347>0,1,0)","v":0},{"$f":"IF($I347=BA$6,$E347,0)","v":0},0,{"$f":"IF($H347>0,BA347,0)","v":0},{"$f":"IF(BC347>0,1,0)","v":0},{"$f":"IF($H347>0,BB347,0)","v":0},{"$f":"IF(BE347>0,1,0)","v":0},null,0,null,null,null,0]
[{"$f":"IF(E348+G348>0,A346,\"\")","v":""},{"$f":"IF(E348+G348>0,B346,\"\")","v":""},{"$f":"C347","v":7},"03-4-23.605(333)",0,1.5,0,0,{"$f":"SUMIF(Y$14:BA$14,C348,Y$7:BA$7)","v":0},0,0,0,0,null,0,null,405.07,0,607.61,0,0,null,0,null,null,null,null,null,null,null,null,null,null,null,{"$f":"IF($I348=AI$7,$E348,0)","v":0},{"$f":"IF($K348=ROUND(AI$7*$F348,2),$G348,0)","v":0},0,0,0,0,{"$f":"IF($I348=AO$7,$E348,0)","v":0},{"$f":"IF($K348=ROUND(AO$7*$F348,2),$G348,0)","v":0},0,0,0,0,{"$f":"IF($I348=AU$7,$E348,0)","v":0},{"$f":"IF($K348=ROUND(AU$7*$F348,2),$G348,0)","v":0},0,0,0,0,{"$f":"IF($I348=BA$7,$E348,0)","v":0},{"$f":"IF($K348=ROUND(BA$7*$F348,2),$G348,0)","v":0},0,0,0,0,null,0,null,null,null,0]
[{"$f":"IF(E349+G349>0,A346,\"\")","v":""},{"$f":"IF(E349+G349>0,B346,\"\")","v":""},{"$f":"C347","v":7},"03-4-23.605(333)",0,1.1000000000000001,0,0,{"$f":"SUMIF(Y$14:BA$14,C349,Y$7:BA$7)","v":0},0,0,0,0,null,0,null,405.07,0,445.58,0,0,null,0,null,null,null,null,null,null,null,null,null,null,null,{"$f":"IF($I349=AI$7,$E349,0)","v":0},{"$f":"IF($K349=ROUND(AI$7*$F349,2),$G349,0)","v":0},0,0,0,0,{"$f":"IF($I349=AO$7,$E349,0)","v":0},{"$f":"IF($K349=ROUND(AO$7*$F349,2),$G349,0)","v":0},0,0,0,0,{"$f":"IF($I349=AU$7,$E349,0)","v":0},{"$f":"IF($K349=ROUND(AU$7*$F349,2),$G349,0)","v":0},0,0,0,0,{"$f":"IF($I349=BA$7,$E349,0)","v":0},{"$f":"IF($K349=ROUND(BA$7*$F349,2),$G349,0)","v":0},0,0,0,0,null,0,null,null,null,0]
["Гр.               Шипицын           Илья Николаевич","Вельск, (ул.Чехова-3а + ул.Тракторная-39Г)",{"$f":"C351","v":7},"03-4-23.605(333)",0.17,1.5,0,0.17,{"$f":"SUMIF(Y$14:BA$14,C350,Y$6:BA$6)","v":2166.8000000000002},{"$f":"IF(H350=0,ROUND(E350*I350,2),ROUND(H350*E350,2))","v":0.03},{"$f":"ROUND(F350*I350,2)","v":3250.2},{"$f":"IF(H350=0,ROUND(ROUND(F350*I350,2)*G350,2),ROUND(G350*H350,2))","v":0},{"$f":"L350-ROUND(G350*I350,2)","v":0},null,{"$f":"J350+L350+N350","v":0.03},null,405.07,{"$f":"ROUND(Q350*E350,2)","v":68.86},{"$f":"ROUND(F350*Q350,2)","v":607.61},{"$f":"ROUND(S350*G350,2)","v":0},{"$f":"T350-ROUND(Q350*G350,2)","v":0},null,{"$f":"R350+T350+V350","v":68.86},null,null,null,null,null,null,null,null,null,null,null,{"$f":"IF($I350=AI$6,$E350,0)","v":0},{"$f":"IF($K350=ROUND(AI$6*$F350,2),$G350,0)","v":0},{"$f":"IF($H350>0,AI350,0)","v":0},{"$f":"IF(AK350>0,1,0)","v":0},{"$f":"IF($H350>0,AJ350,0)","v":0},{"$f":"IF(AM350>0,1,0)","v":0},{"$f":"IF($I350=AO$6,$E350,0)","v":0},{"$f":"IF($K350=ROUND(AO$6*$F350,2),$G350,0)","v":0},{"$f":"IF($H350>0,AO350,0)","v":0},{"$f":"IF(AQ350>0,1,0)","v":0},{"$f":"IF($H350>0,AP350,0)","v":0},{"$f":"IF(AS350>0,1,0)","v":0},{"$f":"IF($I350=AU$6,$E350,0)","v":0},{"$f":"IF($K350=ROUND(AU$6*$F350,2),$G350,0)","v":0},{"$f":"IF($H350>0,AU350,0)","v":0},{"$f":"IF(AW350>0,1,0)","v":0},{"$f":"IF($H350>0,AV350,0)","v":0},{"$f":"IF(AY350>0,1,0)","v":0},{"$f":"IF($I350=BA$6,$E350,0)","v":0.17},{"$f":"IF($K350=ROUND(BA$6*$F350,2),$G350,0)","v":0},{"$f":"IF($H350>0,BA350,0)","v":0.17},{"$f":"IF(BC350>0,1,0)","v":1},{"$f":"IF($H350>0,BB350,0)","v":0},{"$f":"IF(BE350>0,1,0)","v":0},null,1.7000000000000001E-4,0.8,null,null,0]
[{"$f":"IF(E351+G351>0,A350,\"\")","v":""},{"$f":"IF(E351+G351>0,B350,\"\")","v":""},7,"03-4-23.605(333)",0,1.1000000000000001,0,0,{"$f":"SUMIF(Y$14:BA$14,C351,Y$6:BA$6)","v":2166.8000000000002},{"$f":"IF(H351=0,ROUND(E351*I351,2),ROUND(H351*E351,2))","v":0},{"$f":"ROUND(F351*I351,2)","v":2383.48},{"$f":"IF(H351=0,ROUND(ROUND(F351*I351,2)*G351,2),ROUND(G351*H351,2))","v":0},{"$f":"L351-ROUND(G351*I351,2)","v":0},null,{"$f":"J351+L351+N351","v":0},null,405.07,{"$f":"ROUND(Q351*E351,2)","v":0},{"$f":"ROUND(F351*Q351,2)","v":445.58},{"$f":"ROUND(S351*G351,2)","v":0},{"$f":"T351-ROUND(Q351*G351,2)","v":0},null,{"$f":"R351+T351+V351","v":0},null,null,null,null,null,null,null,null,null,null,null,{"$f":"IF($I351=AI$6,$E351,0)","v":0},0,{"$f":"IF($H351>0,AI351,0)","v":0},{"$f":"IF(AK351>0,1,0)","v":0},{"$f":"IF($H351>0,AJ351,0)","v":0},{"$f":"IF(AM351>0,1,0)","v":0},{"$f":"IF($I351=AO$6,$E351,0)","v":0},0,{"$f":"IF($H351>0,AO351,0)","v":0},{"$f":"IF(AQ351>0,1,0)","v":0},{"$f":"IF($H351>0,AP351,0)","v":0},{"$f":"IF(AS351>0,1,0)","v":0},{"$f":"IF($I351=AU$6,$E351,0)","v":0},0,{"$f":"IF($H351>0,AU351,0)","v":0},{"$f":"IF(AW351>0,1,0)","v":0},{"$f":"IF($H351>0,AV351,0)","v":0},{"$f":"IF(AY351>0,1,0)","v":0},{"$f":"IF($I351=BA$6,$E351,0)","v":0},0,{"$f":"IF($H351>0,BA351,0)","v":0},{"$f":"IF(BC351>0,1,0)","v":0},{"$f":"IF($H351>0,BB351,0)","v":0},{"$f":"IF(BE351>0,1,0)","v":0},null,0,null,null,null,0]
[{"$f":"IF(E352+G352>0,A350,\"\")","v":""},{"$f":"IF(E352+G352>0,B350,\"\")","v":""},{"$f":"C351","v":7},"03-4-23.605(333)",0,1.5,0,0,{"$f":"SUMIF(Y$14:BA$14,C352,Y$7:BA$7)","v":0},0,0,0,0,null,0,null,405.07,0,607.61,0,0,null,0,null,null,null,null,null,null,null,null,null,null,null,{"$f":"IF($I352=AI$7,$E352,0)","v":0},{"$f":"IF($K352=ROUND(AI$7*$F352,2),$G352,0)","v":0},0,0,0,0,{"$f":"IF($I352=AO$7,$E352,0)","v":0},{"$f":"IF($K352=ROUND(AO$7*$F352,2),$G352,0)","v":0},0,0,0,0,{"$f":"IF($I352=AU$7,$E352,0)","v":0},{"$f":"IF($K352=ROUND(AU$7*$F352,2),$G352,0)","v":0},0,0,0,0,{"$f":"IF($I352=BA$7,$E352,0)","v":0},{"$f":"IF($K352=ROUND(BA$7*$F352,2),$G352,0)","v":0},0,0,0,0,null,0,null,null,null,0]
[{"$f":"IF(E353+G353>0,A350,\"\")","v":""},{"$f":"IF(E353+G353>0,B350,\"\")","v":""},{"$f":"C351","v":7},"03-4-23.605(333)",0,1.1000000000000001,0,0,{"$f":"SUMIF(Y$14:BA$14,C353,Y$7:BA$7)","v":0},0,0,0,0,null,0,null,405.07,0,445.58,0,0,null,0,null,null,null,null,null,null,null,null,null,null,null,{"$f":"IF($I353=AI$7,$E353,0)","v":0},{"$f":"IF($K353=ROUND(AI$7*$F353,2),$G353,0)","v":0},0,0,0,0,{"$f":"IF($I353=AO$7,$E353,0)","v":0},{"$f":"IF($K353=ROUND(AO$7*$F353,2),$G353,0)","v":0},0,0,0,0,{"$f":"IF($I353=AU$7,$E353,0)","v":0},{"$f":"IF($K353=ROUND(AU$7*$F353,2),$G353,0)","v":0},0,0,0,0,{"$f":"IF($I353=BA$7,$E353,0)","v":0},{"$f":"IF($K353=ROUND(BA$7*$F353,2),$G353,0)","v":0},0,0,0,0,null,0,null,null,null,0]
["ИП               Меньшиков       Юрий  Николаевич","",{"$f":"C355","v":7},"03-4-23.612(333)",0.64800000000000002,1.5,0,0.64800000000000002,{"$f":"SUMIF(Y$14:BA$14,C354,Y$6:BA$6)","v":2166.8000000000002},{"$f":"IF(H354=0,ROUND(E354*I354,2),ROUND(H354*E354,2))","v":0.42},{"$f":"ROUND(F354*I354,2)","v":3250.2},{"$f":"IF(H354=0,ROUND(ROUND(F354*I354,2)*G354,2),ROUND(G354*H354,2))","v":0},{"$f":"L354-ROUND(G354*I354,2)","v":0},null,{"$f":"J354+L354+N354","v":0.42},null,405.07,{"$f":"ROUND(Q354*E354,2)","v":262.49},{"$f":"ROUND(F354*Q354,2)","v":607.61},{"$f":"ROUND(S354*G354,2)","v":0},{"$f":"T354-ROUND(Q354*G354,2)","v":0},null,{"$f":"R354+T354+V354","v":262.49},null,null,null,null,null,null,null,null,null,null,null,{"$f":"IF($I354=AI$6,$E354,0)","v":0},{"$f":"IF($K354=ROUND(AI$6*$F354,2),$G354,0)","v":0},{"$f":"IF($H354>0,AI354,0)","v":0},{"$f":"IF(AK354>0,1,0)","v":0},{"$f":"IF($H354>0,AJ354,0)","v":0},{"$f":"IF(AM354>0,1,0)","v":0},{"$f":"IF($I354=AO$6,$E354,0)","v":0},{"$f":"IF($K354=ROUND(AO$6*$F354,2),$G354,0)","v":0},{"$f":"IF($H354>0,AO354,0)","v":0},{"$f":"IF(AQ354>0,1,0)","v":0},{"$f":"IF($H354>0,AP354,0)","v":0},{"$f":"IF(AS354>0,1,0)","v":0},{"$f":"IF($I354=AU$6,$E354,0)","v":0},{"$f":"IF($K354=ROUND(AU$6*$F354,2),$G354,0)","v":0},{"$f":"IF($H354>0,AU354,0)","v":0},{"$f":"IF(AW354>0,1,0)","v":0},{"$f":"IF($H354>0,AV354,0)","v":0},{"$f":"IF(AY354>0,1,0)","v":0},{"$f":"IF($I354=BA$6,$E354,0)","v":0.64800000000000002},{"$f":"IF($K354=ROUND(BA$6*$F354,2),$G354,0)","v":0},{"$f":"IF($H354>0,BA354,0)","v":0.64800000000000002},{"$f":"IF(BC354>0,1,0)","v":1},{"$f":"IF($H354>0,BB354,0)","v":0},{"$f":"IF(BE354>0,1,0)","v":0},null,6.4800000000000003E-4,0.9,null,null,0]
[{"$f":"IF(E355+G355>0,A354,\"\")","v":""},{"$f":"IF(E355+G355>0,B354,\"\")","v":""},7,"03-4-23.612(333)",0,1.1000000000000001,0,0,{"$f":"SUMIF(Y$14:BA$14,C355,Y$6:BA$6)","v":2166.8000000000002},{"$f":"IF(H355=0,ROUND(E355*I355,2),ROUND(H355*E355,2))","v":0},{"$f":"ROUND(F355*I355,2)","v":2383.48},{"$f":"IF(H355=0,ROUND(ROUND(F355*I355,2)*G355,2),ROUND(G355*H355,2))","v":0},{"$f":"L355-ROUND(G355*I355,2)","v":0},null,{"$f":"J355+L355+N355","v":0},null,405.07,{"$f":"ROUND(Q355*E355,2)","v":0},{"$f":"ROUND(F355*Q355,2)","v":445.58},{"$f":"ROUND(S355*G355,2)","v":0},{"$f":"T355-ROUND(Q355*G355,2)","v":0},null,{"$f":"R355+T355+V355","v":0},null,null,null,null,null,null,null,null,null,null,null,{"$f":"IF($I355=AI$6,$E355,0)","v":0},0,{"$f":"IF($H355>0,AI355,0)","v":0},{"$f":"IF(AK355>0,1,0)","v":0},{"$f":"IF($H355>0,AJ355,0)","v":0},{"$f":"IF(AM355>0,1,0)","v":0},{"$f":"IF($I355=AO$6,$E355,0)","v":0},0,{"$f":"IF($H355>0,AO355,0)","v":0},{"$f":"IF(AQ355>0,1,0)","v":0},{"$f":"IF($H355>0,AP355,0)","v":0},{"$f":"IF(AS355>0,1,0)","v":0},{"$f":"IF($I355=AU$6,$E355,0)","v":0},0,{"$f":"IF($H355>0,AU355,0)","v":0},{"$f":"IF(AW355>0,1,0)","v":0},{"$f":"IF($H355>0,AV355,0)","v":0},{"$f":"IF(AY355>0,1,0)","v":0},{"$f":"IF($I355=BA$6,$E355,0)","v":0},0,{"$f":"IF($H355>0,BA355,0)","v":0},{"$f":"IF(BC355>0,1,0)","v":0},{"$f":"IF($H355>0,BB355,0)","v":0},{"$f":"IF(BE355>0,1,0)","v":0},null,0,null,null,null,0]
[{"$f":"IF(E356+G356>0,A354,\"\")","v":""},{"$f":"IF(E356+G356>0,B354,\"\")","v":""},{"$f":"C355","v":7},"03-4-23.612(333)",0,1.5,0,0,{"$f":"SUMIF(Y$14:BA$14,C356,Y$7:BA$7)","v":0},0,0,0,0,null,0,null,405.07,0,607.61,0,0,null,0,null,null,null,null,null,null,null,null,null,null,null,{"$f":"IF($I356=AI$7,$E356,0)","v":0},{"$f":"IF($K356=ROUND(AI$7*$F356,2),$G356,0)","v":0},0,0,0,0,{"$f":"IF($I356=AO$7,$E356,0)","v":0},{"$f":"IF($K356=ROUND(AO$7*$F356,2),$G356,0)","v":0},0,0,0,0,{"$f":"IF($I356=AU$7,$E356,0)","v":0},{"$f":"IF($K356=ROUND(AU$7*$F356,2),$G356,0)","v":0},0,0,0,0,{"$f":"IF($I356=BA$7,$E356,0)","v":0},{"$f":"IF($K356=ROUND(BA$7*$F356,2),$G356,0)","v":0},0,0,0,0,null,0,null,null,null,0]
[{"$f":"IF(E357+G357>0,A354,\"\")","v":""},{"$f":"IF(E357+G357>0,B354,\"\")","v":""},{"$f":"C355","v":7},"03-4-23.612(333)",0,1.1000000000000001,0,0,{"$f":"SUMIF(Y$14:BA$14,C357,Y$7:BA$7)","v":0},0,0,0,0,null,0,null,405.07,0,445.58,0,0,null,0,null,null,null,null,null,null,null,null,null,null,null,{"$f":"IF($I357=AI$7,$E357,0)","v":0},{"$f":"IF($K357=ROUND(AI$7*$F357,2),$G357,0)","v":0},0,0,0,0,{"$f":"IF($I357=AO$7,$E357,0)","v":0},{"$f":"IF($K357=ROUND(AO$7*$F357,2),$G357,0)","v":0},0,0,0,0,{"$f":"IF($I357=AU$7,$E357,0)","v":0},{"$f":"IF($K357=ROUND(AU$7*$F357,2),$G357,0)","v":0},0,0,0,0,{"$f":"IF($I357=BA$7,$E357,0)","v":0},{"$f":"IF($K357=ROUND(BA$7*$F357,2),$G357,0)","v":0},0,0,0,0,null,0,null,null,null,0]
["ООО СПК  \"Регион\"","Вельск, ул.Горького-1, стр.7",{"$f":"C359","v":7},"03-4-23.614(333)",0.29200000000000004,1.5,0.21799999999999997,0.51,{"$f":"SUMIF(Y$14:BA$14,C358,Y$6:BA$6)","v":2166.8000000000002},{"$f":"IF(H358=0,ROUND(E358*I358,2),ROUND(H358*E358,2))","v":0.15},{"$f":"ROUND(F358*I358,2)","v":3250.2},{"$f":"IF(H358=0,ROUND(ROUND(F358*I358,2)*G358,2),ROUND(G358*H358,2))","v":0.11},{"$f":"L358-ROUND(G358*I358,2)","v":-472.25},null,{"$f":"J358+L358+N358","v":0.26},null,405.07,{"$f":"ROUND(Q358*E358,2)","v":118.28},{"$f":"ROUND(F358*Q358,2)","v":607.61},{"$f":"ROUND(S358*G358,2)","v":132.46},{"$f":"T358-ROUND(Q358*G358,2)","v":44.150000000000006},null,{"$f":"R358+T358+V358","v":250.74},null,null,null,null,null,null,null,null,null,null,null,{"$f":"IF($I358=AI$6,$E358,0)","v":0},{"$f":"IF($K358=ROUND(AI$6*$F358,2),$G358,0)","v":0},{"$f":"IF($H358>0,AI358,0)","v":0},{"$f":"IF(AK358>0,1,0)","v":0},{"$f":"IF($H358>0,AJ358,0)","v":0},{"$f":"IF(AM358>0,1,0)","v":0},{"$f":"IF($I358=AO$6,$E358,0)","v":0},{"$f":"IF($K358=ROUND(AO$6*$F358,2),$G358,0)","v":0},{"$f":"IF($H358>0,AO358,0)","v":0},{"$f":"IF(AQ358>0,1,0)","v":0},{"$f":"IF($H358>0,AP358,0)","v":0},{"$f":"IF(AS358>0,1,0)","v":0},{"$f":"IF($I358=AU$6,$E358,0)","v":0},{"$f":"IF($K358=ROUND(AU$6*$F358,2),$G358,0)","v":0},{"$f":"IF($H358>0,AU358,0)","v":0},{"$f":"IF(AW358>0,1,0)","v":0},{"$f":"IF($H358>0,AV358,0)","v":0},{"$f":"IF(AY358>0,1,0)","v":0},{"$f":"IF($I358=BA$6,$E358,0)","v":0.29200000000000004},{"$f":"IF($K358=ROUND(BA$6*$F358,2),$G358,0)","v":0.21799999999999997},{"$f":"IF($H358>0,BA358,0)","v":0.29200000000000004},{"$f":"IF(BC358>0,1,0)","v":1},{"$f":"IF($H358>0,BB358,0)","v":0.21799999999999997},{"$f":"IF(BE358>0,1,0)","v":1},null,5.1000000000000004E-4,0.6,null,null,0]
[{"$f":"IF(E359+G359>0,A358,\"\")","v":""},{"$f":"IF(E359+G359>0,B358,\"\")","v":""},7,"03-4-23.614(333)",0,1.1000000000000001,0,0,{"$f":"SUMIF(Y$14:BA$14,C359,Y$6:BA$6)","v":2166.8000000000002},{"$f":"IF(H359=0,ROUND(E359*I359,2),ROUND(H359*E359,2))","v":0},{"$f":"ROUND(F359*I359,2)","v":2383.48},{"$f":"IF(H359=0,ROUND(ROUND(F359*I359,2)*G359,2),ROUND(G359*H359,2))","v":0},{"$f":"L359-ROUND(G359*I359,2)","v":0},null,{"$f":"J359+L359+N359","v":0},null,405.07,{"$f":"ROUND(Q359*E359,2)","v":0},{"$f":"ROUND(F359*Q359,2)","v":445.58},{"$f":"ROUND(S359*G359,2)","v":0},{"$f":"T359-ROUND(Q359*G359,2)","v":0},null,{"$f":"R359+T359+V359","v":0},null,null,null,null,null,null,null,null,null,null,null,{"$f":"IF($I359=AI$6,$E359,0)","v":0},0,{"$f":"IF($H359>0,AI359,0)","v":0},{"$f":"IF(AK359>0,1,0)","v":0},{"$f":"IF($H359>0,AJ359,0)","v":0},{"$f":"IF(AM359>0,1,0)","v":0},{"$f":"IF($I359=AO$6,$E359,0)","v":0},0,{"$f":"IF($H359>0,AO359,0)","v":0},{"$f":"IF(AQ359>0,1,0)","v":0},{"$f":"IF($H359>0,AP359,0)","v":0},{"$f":"IF(AS359>0,1,0)","v":0},{"$f":"IF($I359=AU$6,$E359,0)","v":0},0,{"$f":"IF($H359>0,AU359,0)","v":0},{"$f":"IF(AW359>0,1,0)","v":0},{"$f":"IF($H359>0,AV359,0)","v":0},{"$f":"IF(AY359>0,1,0)","v":0},{"$f":"IF($I359=BA$6,$E359,0)","v":0},0,{"$f":"IF($H359>0,BA359,0)","v":0},{"$f":"IF(BC359>0,1,0)","v":0},{"$f":"IF($H359>0,BB359,0)","v":0},{"$f":"IF(BE359>0,1,0)","v":0},null,0,null,null,null,0]
[{"$f":"IF(E360+G360>0,A358,\"\")","v":""},{"$f":"IF(E360+G360>0,B358,\"\")","v":""},{"$f":"C359","v":7},"03-4-23.614(333)",0,1.5,0,0,{"$f":"SUMIF(Y$14:BA$14,C360,Y$7:BA$7)","v":0},0,0,0,0,null,0,null,405.07,0,607.61,0,0,null,0,null,null,null,null,null,null,null,null,null,null,null,{"$f":"IF($I360=AI$7,$E360,0)","v":0},{"$f":"IF($K360=ROUND(AI$7*$F360,2),$G360,0)","v":0},0,0,0,0,{"$f":"IF($I360=AO$7,$E360,0)","v":0},{"$f":"IF($K360=ROUND(AO$7*$F360,2),$G360,0)","v":0},0,0,0,0,{"$f":"IF($I360=AU$7,$E360,0)","v":0},{"$f":"IF($K360=ROUND(AU$7*$F360,2),$G360,0)","v":0},0,0,0,0,{"$f":"IF($I360=BA$7,$E360,0)","v":0},{"$f":"IF($K360=ROUND(BA$7*$F360,2),$G360,0)","v":0},0,0,0,0,null,0,null,null,null,0]
[{"$f":"IF(E361+G361>0,A358,\"\")","v":""},{"$f":"IF(E361+G361>0,B358,\"\")","v":""},{"$f":"C359","v":7},"03-4-23.614(333)",0,1.1000000000000001,0,0,{"$f":"SUMIF(Y$14:BA$14,C361,Y$7:BA$7)","v":0},0,0,0,0,null,0,null,405.07,0,445.58,0,0,null,0,null,null,null,null,null,null,null,null,null,null,null,{"$f":"IF($I361=AI$7,$E361,0)","v":0},{"$f":"IF($K361=ROUND(AI$7*$F361,2),$G361,0)","v":0},0,0,0,0,{"$f":"IF($I361=AO$7,$E361,0)","v":0},{"$f":"IF($K361=ROUND(AO$7*$F361,2),$G361,0)","v":0},0,0,0,0,{"$f":"IF($I361=AU$7,$E361,0)","v":0},{"$f":"IF($K361=ROUND(AU$7*$F361,2),$G361,0)","v":0},0,0,0,0,{"$f":"IF($I361=BA$7,$E361,0)","v":0},{"$f":"IF($K361=ROUND(BA$7*$F361,2),$G361,0)","v":0},0,0,0,0,null,0,null,null,null,0]
["ООО СПК  \"Регион\"","Вельск, ул.Горького-1, стр.19",{"$f":"C363","v":6},"03-4-23.614(333)",2.6779999999999995,1.5,2.0070000000000001,4.6849999999999996,{"$f":"SUMIF(Y$14:BA$14,C362,Y$6:BA$6)","v":1733.45},{"$f":"IF(H362=0,ROUND(E362*I362,2),ROUND(H362*E362,2))","v":12.55},{"$f":"ROUND(F362*I362,2)","v":2600.1799999999998},{"$f":"IF(H362=0,ROUND(ROUND(F362*I362,2)*G362,2),ROUND(G362*H362,2))","v":9.4},{"$f":"L362-ROUND(G362*I362,2)","v":-3469.63},null,{"$f":"J362+L362+N362","v":21.950000000000003},null,405.07,{"$f":"ROUND(Q362*E362,2)","v":1084.78},{"$f":"ROUND(F362*Q362,2)","v":607.61},{"$f":"ROUND(S362*G362,2)","v":1219.47},{"$f":"T362-ROUND(Q362*G362,2)","v":406.49},null,{"$f":"R362+T362+V362","v":2304.25},null,null,null,null,null,null,null,null,null,null,null,{"$f":"IF($I362=AI$6,$E362,0)","v":0},{"$f":"IF($K362=ROUND(AI$6*$F362,2),$G362,0)","v":0},{"$f":"IF($H362>0,AI362,0)","v":0},{"$f":"IF(AK362>0,1,0)","v":0},{"$f":"IF($H362>0,AJ362,0)","v":0},{"$f":"IF(AM362>0,1,0)","v":0},{"$f":"IF($I362=AO$6,$E362,0)","v":0},{"$f":"IF($K362=ROUND(AO$6*$F362,2),$G362,0)","v":0},{"$f":"IF($H362>0,AO362,0)","v":0},{"$f":"IF(AQ362>0,1,0)","v":0},{"$f":"IF($H362>0,AP362,0)","v":0},{"$f":"IF(AS362>0,1,0)","v":0},{"$f":"IF($I362=AU$6,$E362,0)","v":2.6779999999999995},{"$f":"IF($K362=ROUND(AU$6*$F362,2),$G362,0)","v":2.0070000000000001},{"$f":"IF($H362>0,AU362,0)","v":2.6779999999999995},{"$f":"IF(AW362>0,1,0)","v":1},{"$f":"IF($H362>0,AV362,0)","v":2.0070000000000001},{"$f":"IF(AY362>0,1,0)","v":1},{"$f":"IF($I362=BA$6,$E362,0)","v":0},{"$f":"IF($K362=ROUND(BA$6*$F362,2),$G362,0)","v":0},{"$f":"IF($H362>0,BA362,0)","v":0},{"$f":"IF(BC362>0,1,0)","v":0},{"$f":"IF($H362>0,BB362,0)","v":0},{"$f":"IF(BE362>0,1,0)","v":0},null,4.6849999999999999E-3,2.1,null,null,0]
[{"$f":"IF(E363+G363>0,A362,\"\")","v":""},{"$f":"IF(E363+G363>0,B362,\"\")","v":""},6,"03-4-23.614(333)",0,1.1000000000000001,0,0,{"$f":"SUMIF(Y$14:BA$14,C363,Y$6:BA$6)","v":1733.45},{"$f":"IF(H363=0,ROUND(E363*I363,2),ROUND(H363*E363,2))","v":0},{"$f":"ROUND(F363*I363,2)","v":1906.8},{"$f":"IF(H363=0,ROUND(ROUND(F363*I363,2)*G363,2),ROUND(G363*H363,2))","v":0},{"$f":"L363-ROUND(G363*I363,2)","v":0},null,{"$f":"J363+L363+N363","v":0},null,405.07,{"$f":"ROUND(Q363*E363,2)","v":0},{"$f":"ROUND(F363*Q363,2)","v":445.58},{"$f":"ROUND(S363*G363,2)","v":0},{"$f":"T363-ROUND(Q363*G363,2)","v":0},null,{"$f":"R363+T363+V363","v":0},null,null,null,null,null,null,null,null,null,null,null,{"$f":"IF($I363=AI$6,$E363,0)","v":0},0,{"$f":"IF($H363>0,AI363,0)","v":0},{"$f":"IF(AK363>0,1,0)","v":0},{"$f":"IF($H363>0,AJ363,0)","v":0},{"$f":"IF(AM363>0,1,0)","v":0},{"$f":"IF($I363=AO$6,$E363,0)","v":0},0,{"$f":"IF($H363>0,AO363,0)","v":0},{"$f":"IF(AQ363>0,1,0)","v":0},{"$f":"IF($H363>0,AP363,0)","v":0},{"$f":"IF(AS363>0,1,0)","v":0},{"$f":"IF($I363=AU$6,$E363,0)","v":0},0,{"$f":"IF($H363>0,AU363,0)","v":0},{"$f":"IF(AW363>0,1,0)","v":0},{"$f":"IF($H363>0,AV363,0)","v":0},{"$f":"IF(AY363>0,1,0)","v":0},{"$f":"IF($I363=BA$6,$E363,0)","v":0},0,{"$f":"IF($H363>0,BA363,0)","v":0},{"$f":"IF(BC363>0,1,0)","v":0},{"$f":"IF($H363>0,BB363,0)","v":0},{"$f":"IF(BE363>0,1,0)","v":0},null,0,null,null,null,0]
[{"$f":"IF(E364+G364>0,A362,\"\")","v":""},{"$f":"IF(E364+G364>0,B362,\"\")","v":""},{"$f":"C363","v":6},"03-4-23.614(333)",0,1.5,0,0,{"$f":"SUMIF(Y$14:BA$14,C364,Y$7:BA$7)","v":0},0,0,0,0,null,0,null,405.07,0,607.61,0,0,null,0,null,null,null,null,null,null,null,null,null,null,null,{"$f":"IF($I364=AI$7,$E364,0)","v":0},{"$f":"IF($K364=ROUND(AI$7*$F364,2),$G364,0)","v":0},0,0,0,0,{"$f":"IF($I364=AO$7,$E364,0)","v":0},{"$f":"IF($K364=ROUND(AO$7*$F364,2),$G364,0)","v":0},0,0,0,0,{"$f":"IF($I364=AU$7,$E364,0)","v":0},{"$f":"IF($K364=ROUND(AU$7*$F364,2),$G364,0)","v":0},0,0,0,0,{"$f":"IF($I364=BA$7,$E364,0)","v":0},{"$f":"IF($K364=ROUND(BA$7*$F364,2),$G364,0)","v":0},0,0,0,0,null,0,null,null,null,0]
[{"$f":"IF(E365+G365>0,A362,\"\")","v":""},{"$f":"IF(E365+G365>0,B362,\"\")","v":""},{"$f":"C363","v":6},"03-4-23.614(333)",0,1.1000000000000001,0,0,{"$f":"SUMIF(Y$14:BA$14,C365,Y$7:BA$7)","v":0},0,0,0,0,null,0,null,405.07,0,445.58,0,0,null,0,null,null,null,null,null,null,null,null,null,null,null,{"$f":"IF($I365=AI$7,$E365,0)","v":0},{"$f":"IF($K365=ROUND(AI$7*$F365,2),$G365,0)","v":0},0,0,0,0,{"$f":"IF($I365=AO$7,$E365,0)","v":0},{"$f":"IF($K365=ROUND(AO$7*$F365,2),$G365,0)","v":0},0,0,0,0,{"$f":"IF($I365=AU$7,$E365,0)","v":0},{"$f":"IF($K365=ROUND(AU$7*$F365,2),$G365,0)","v":0},0,0,0,0,{"$f":"IF($I365=BA$7,$E365,0)","v":0},{"$f":"IF($K365=ROUND(BA$7*$F365,2),$G365,0)","v":0},0,0,0,0,null,0,null,null,null,0]
["ИП                Колданов          Евгений  Савватиевич","Вельск, ул.Кирова-46",{"$f":"C367","v":6},"03-4-23.616(333)",1.4450000000000001,1.5,0,1.4450000000000001,{"$f":"SUMIF(Y$14:BA$14,C366,Y$6:BA$6)","v":1733.45},{"$f":"IF(H366=0,ROUND(E366*I366,2),ROUND(H366*E366,2))","v":2.09},{"$f":"ROUND(F366*I366,2)","v":2600.1799999999998},{"$f":"IF(H366=0,ROUND(ROUND(F366*I366,2)*G366,2),ROUND(G366*H366,2))","v":0},{"$f":"L366-ROUND(G366*I366,2)","v":0},null,{"$f":"J366+L366+N366","v":2.09},null,405.07,{"$f":"ROUND(Q366*E366,2)","v":585.33000000000004},{"$f":"ROUND(F366*Q366,2)","v":607.61},{"$f":"ROUND(S366*G366,2)","v":0},{"$f":"T366-ROUND(Q366*G366,2)","v":0},null,{"$f":"R366+T366+V366","v":585.33000000000004},null,null,null,null,null,null,null,null,null,null,null,{"$f":"IF($I366=AI$6,$E366,0)","v":0},{"$f":"IF($K366=ROUND(AI$6*$F366,2),$G366,0)","v":0},{"$f":"IF($H366>0,AI366,0)","v":0},{"$f":"IF(AK366>0,1,0)","v":0},{"$f":"IF($H366>0,AJ366,0)","v":0},{"$f":"IF(AM366>0,1,0)","v":0},{"$f":"IF($I366=AO$6,$E366,0)","v":0},{"$f":"IF($K366=ROUND(AO$6*$F366,2),$G366,0)","v":0},{"$f":"IF($H366>0,AO366,0)","v":0},{"$f":"IF(AQ366>0,1,0)","v":0},{"$f":"IF($H366>0,AP366,0)","v":0},{"$f":"IF(AS366>0,1,0)","v":0},{"$f":"IF($I366=AU$6,$E366,0)","v":1.4450000000000001},{"$f":"IF($K366=ROUND(AU$6*$F366,2),$G366,0)","v":0},{"$f":"IF($H366>0,AU366,0)","v":1.4450000000000001},{"$f":"IF(AW366>0,1,0)","v":1},{"$f":"IF($H366>0,AV366,0)","v":0},{"$f":"IF(AY366>0,1,0)","v":0},{"$f":"IF($I366=BA$6,$E366,0)","v":0},{"$f":"IF($K366=ROUND(BA$6*$F366,2),$G366,0)","v":0},{"$f":"IF($H366>0,BA366,0)","v":0},{"$f":"IF(BC366>0,1,0)","v":0},{"$f":"IF($H366>0,BB366,0)","v":0},{"$f":"IF(BE366>0,1,0)","v":0},null,1.4450000000000001E-3,3.9,null,null,0]
[{"$f":"IF(E367+G367>0,A366,\"\")","v":""},{"$f":"IF(E367+G367>0,B366,\"\")","v":""},6,"03-4-23.616(333)",0,1.1000000000000001,0,0,{"$f":"SUMIF(Y$14:BA$14,C367,Y$6:BA$6)","v":1733.45},{"$f":"IF(H367=0,ROUND(E367*I367,2),ROUND(H367*E367,2))","v":0},{"$f":"ROUND(F367*I367,2)","v":1906.8},{"$f":"IF(H367=0,ROUND(ROUND(F367*I367,2)*G367,2),ROUND(G367*H367,2))","v":0},{"$f":"L367-ROUND(G367*I367,2)","v":0},null,{"$f":"J367+L367+N367","v":0},null,405.07,{"$f":"ROUND(Q367*E367,2)","v":0},{"$f":"ROUND(F367*Q367,2)","v":445.58},{"$f":"ROUND(S367*G367,2)","v":0},{"$f":"T367-ROUND(Q367*G367,2)","v":0},null,{"$f":"R367+T367+V367","v":0},null,null,null,null,null,null,null,null,null,null,null,{"$f":"IF($I367=AI$6,$E367,0)","v":0},0,{"$f":"IF($H367>0,AI367,0)","v":0},{"$f":"IF(AK367>0,1,0)","v":0},{"$f":"IF($H367>0,AJ367,0)","v":0},{"$f":"IF(AM367>0,1,0)","v":0},{"$f":"IF($I367=AO$6,$E367,0)","v":0},0,{"$f":"IF($H367>0,AO367,0)","v":0},{"$f":"IF(AQ367>0,1,0)","v":0},{"$f":"IF($H367>0,AP367,0)","v":0},{"$f":"IF(AS367>0,1,0)","v":0},{"$f":"IF($I367=AU$6,$E367,0)","v":0},0,{"$f":"IF($H367>0,AU367,0)","v":0},{"$f":"IF(AW367>0,1,0)","v":0},{"$f":"IF($H367>0,AV367,0)","v":0},{"$f":"IF(AY367>0,1,0)","v":0},{"$f":"IF($I367=BA$6,$E367,0)","v":0},0,{"$f":"IF($H367>0,BA367,0)","v":0},{"$f":"IF(BC367>0,1,0)","v":0},{"$f":"IF($H367>0,BB367,0)","v":0},{"$f":"IF(BE367>0,1,0)","v":0},null,0,null,null,null,0]
[{"$f":"IF(E368+G368>0,A366,\"\")","v":""},{"$f":"IF(E368+G368>0,B366,\"\")","v":""},{"$f":"C367","v":6},"03-4-23.616(333)",0,1.5,0,0,{"$f":"SUMIF(Y$14:BA$14,C368,Y$7:BA$7)","v":0},0,0,0,0,null,0,null,405.07,0,607.61,0,0,null,0,null,null,null,null,null,null,null,null,null,null,null,{"$f":"IF($I368=AI$7,$E368,0)","v":0},{"$f":"IF($K368=ROUND(AI$7*$F368,2),$G368,0)","v":0},0,0,0,0,{"$f":"IF($I368=AO$7,$E368,0)","v":0},{"$f":"IF($K368=ROUND(AO$7*$F368,2),$G368,0)","v":0},0,0,0,0,{"$f":"IF($I368=AU$7,$E368,0)","v":0},{"$f":"IF($K368=ROUND(AU$7*$F368,2),$G368,0)","v":0},0,0,0,0,{"$f":"IF($I368=BA$7,$E368,0)","v":0},{"$f":"IF($K368=ROUND(BA$7*$F368,2),$G368,0)","v":0},0,0,0,0,null,0,null,null,null,0]
[{"$f":"IF(E369+G369>0,A366,\"\")","v":""},{"$f":"IF(E369+G369>0,B366,\"\")","v":""},{"$f":"C367","v":6},"03-4-23.616(333)",0,1.1000000000000001,0,0,{"$f":"SUMIF(Y$14:BA$14,C369,Y$7:BA$7)","v":0},0,0,0,0,null,0,null,405.07,0,445.58,0,0,null,0,null,null,null,null,null,null,null,null,null,null,null,{"$f":"IF($I369=AI$7,$E369,0)","v":0},{"$f":"IF($K369=ROUND(AI$7*$F369,2),$G369,0)","v":0},0,0,0,0,{"$f":"IF($I369=AO$7,$E369,0)","v":0},{"$f":"IF($K369=ROUND(AO$7*$F369,2),$G369,0)","v":0},0,0,0,0,{"$f":"IF($I369=AU$7,$E369,0)","v":0},{"$f":"IF($K369=ROUND(AU$7*$F369,2),$G369,0)","v":0},0,0,0,0,{"$f":"IF($I369=BA$7,$E369,0)","v":0},{"$f":"IF($K369=ROUND(BA$7*$F369,2),$G369,0)","v":0},0,0,0,0,null,0,null,null,null,0]
["ИП                Колданов        Евгений Савватиевич","Вельск, ул.Кирова-50",{"$f":"C371","v":6},"03-4-23.616(333)",1.546,1.5,0,1.546,{"$f":"SUMIF(Y$14:BA$14,C370,Y$6:BA$6)","v":1733.45},{"$f":"IF(H370=0,ROUND(E370*I370,2),ROUND(H370*E370,2))","v":2.39},{"$f":"ROUND(F370*I370,2)","v":2600.1799999999998},{"$f":"IF(H370=0,ROUND(ROUND(F370*I370,2)*G370,2),ROUND(G370*H370,2))","v":0},{"$f":"L370-ROUND(G370*I370,2)","v":0},null,{"$f":"J370+L370+N370","v":2.39},null,405.07,{"$f":"ROUND(Q370*E370,2)","v":626.24},{"$f":"ROUND(F370*Q370,2)","v":607.61},{"$f":"ROUND(S370*G370,2)","v":0},{"$f":"T370-ROUND(Q370*G370,2)","v":0},null,{"$f":"R370+T370+V370","v":626.24},null,null,null,null,null,null,null,null,null,null,null,{"$f":"IF($I370=AI$6,$E370,0)","v":0},{"$f":"IF($K370=ROUND(AI$6*$F370,2),$G370,0)","v":0},{"$f":"IF($H370>0,AI370,0)","v":0},{"$f":"IF(AK370>0,1,0)","v":0},{"$f":"IF($H370>0,AJ370,0)","v":0},{"$f":"IF(AM370>0,1,0)","v":0},{"$f":"IF($I370=AO$6,$E370,0)","v":0},{"$f":"IF($K370=ROUND(AO$6*$F370,2),$G370,0)","v":0},{"$f":"IF($H370>0,AO370,0)","v":0},{"$f":"IF(AQ370>0,1,0)","v":0},{"$f":"IF($H370>0,AP370,0)","v":0},{"$f":"IF(AS370>0,1,0)","v":0},{"$f":"IF($I370=AU$6,$E370,0)","v":1.546},{"$f":"IF($K370=ROUND(AU$6*$F370,2),$G370,0)","v":0},{"$f":"IF($H370>0,AU370,0)","v":1.546},{"$f":"IF(AW370>0,1,0)","v":1},{"$f":"IF($H370>0,AV370,0)","v":0},{"$f":"IF(AY370>0,1,0)","v":0},{"$f":"IF($I370=BA$6,$E370,0)","v":0},{"$f":"IF($K370=ROUND(BA$6*$F370,2),$G370,0)","v":0},{"$f":"IF($H370>0,BA370,0)","v":0},{"$f":"IF(BC370>0,1,0)","v":0},{"$f":"IF($H370>0,BB370,0)","v":0},{"$f":"IF(BE370>0,1,0)","v":0},null,1.5460000000000001E-3,2.6,null,null,0]
[{"$f":"IF(E371+G371>0,A370,\"\")","v":""},{"$f":"IF(E371+G371>0,B370,\"\")","v":""},6,"03-4-23.616(333)",0,1.1000000000000001,0,0,{"$f":"SUMIF(Y$14:BA$14,C371,Y$6:BA$6)","v":1733.45},{"$f":"IF(H371=0,ROUND(E371*I371,2),ROUND(H371*E371,2))","v":0},{"$f":"ROUND(F371*I371,2)","v":1906.8},{"$f":"IF(H371=0,ROUND(ROUND(F371*I371,2)*G371,2),ROUND(G371*H371,2))","v":0},{"$f":"L371-ROUND(G371*I371,2)","v":0},null,{"$f":"J371+L371+N371","v":0},null,405.07,{"$f":"ROUND(Q371*E371,2)","v":0},{"$f":"ROUND(F371*Q371,2)","v":445.58},{"$f":"ROUND(S371*G371,2)","v":0},{"$f":"T371-ROUND(Q371*G371,2)","v":0},null,{"$f":"R371+T371+V371","v":0},null,null,null,null,null,null,null,null,null,null,null,{"$f":"IF($I371=AI$6,$E371,0)","v":0},0,{"$f":"IF($H371>0,AI371,0)","v":0},{"$f":"IF(AK371>0,1,0)","v":0},{"$f":"IF($H371>0,AJ371,0)","v":0},{"$f":"IF(AM371>0,1,0)","v":0},{"$f":"IF($I371=AO$6,$E371,0)","v":0},0,{"$f":"IF($H371>0,AO371,0)","v":0},{"$f":"IF(AQ371>0,1,0)","v":0},{"$f":"IF($H371>0,AP371,0)","v":0},{"$f":"IF(AS371>0,1,0)","v":0},{"$f":"IF($I371=AU$6,$E371,0)","v":0},0,{"$f":"IF($H371>0,AU371,0)","v":0},{"$f":"IF(AW371>0,1,0)","v":0},{"$f":"IF($H371>0,AV371,0)","v":0},{"$f":"IF(AY371>0,1,0)","v":0},{"$f":"IF($I371=BA$6,$E371,0)","v":0},0,{"$f":"IF($H371>0,BA371,0)","v":0},{"$f":"IF(BC371>0,1,0)","v":0},{"$f":"IF($H371>0,BB371,0)","v":0},{"$f":"IF(BE371>0,1,0)","v":0},null,0,null,null,null,0]
[{"$f":"IF(E372+G372>0,A370,\"\")","v":""},{"$f":"IF(E372+G372>0,B370,\"\")","v":""},{"$f":"C371","v":6},"03-4-23.616(333)",0,1.5,0,0,{"$f":"SUMIF(Y$14:BA$14,C372,Y$7:BA$7)","v":0},0,0,0,0,null,0,null,405.07,0,607.61,0,0,null,0,null,null,null,null,null,null,null,null,null,null,null,{"$f":"IF($I372=AI$7,$E372,0)","v":0},{"$f":"IF($K372=ROUND(AI$7*$F372,2),$G372,0)","v":0},0,0,0,0,{"$f":"IF($I372=AO$7,$E372,0)","v":0},{"$f":"IF($K372=ROUND(AO$7*$F372,2),$G372,0)","v":0},0,0,0,0,{"$f":"IF($I372=AU$7,$E372,0)","v":0},{"$f":"IF($K372=ROUND(AU$7*$F372,2),$G372,0)","v":0},0,0,0,0,{"$f":"IF($I372=BA$7,$E372,0)","v":0},{"$f":"IF($K372=ROUND(BA$7*$F372,2),$G372,0)","v":0},0,0,0,0,null,0,null,null,null,0]
[{"$f":"IF(E373+G373>0,A370,\"\")","v":""},{"$f":"IF(E373+G373>0,B370,\"\")","v":""},{"$f":"C371","v":6},"03-4-23.616(333)",0,1.1000000000000001,0,0,{"$f":"SUMIF(Y$14:BA$14,C373,Y$7:BA$7)","v":0},0,0,0,0,null,0,null,405.07,0,445.58,0,0,null,0,null,null,null,null,null,null,null,null,null,null,null,{"$f":"IF($I373=AI$7,$E373,0)","v":0},{"$f":"IF($K373=ROUND(AI$7*$F373,2),$G373,0)","v":0},0,0,0,0,{"$f":"IF($I373=AO$7,$E373,0)","v":0},{"$f":"IF($K373=ROUND(AO$7*$F373,2),$G373,0)","v":0},0,0,0,0,{"$f":"IF($I373=AU$7,$E373,0)","v":0},{"$f":"IF($K373=ROUND(AU$7*$F373,2),$G373,0)","v":0},0,0,0,0,{"$f":"IF($I373=BA$7,$E373,0)","v":0},{"$f":"IF($K373=ROUND(BA$7*$F373,2),$G373,0)","v":0},0,0,0,0,null,0,null,null,null,0]
["ИП                Колданов        Евгений Савватиевич","Вельск, ул.Кирова-52",{"$f":"C375","v":6},"03-4-23.616(333)",2.2189999999999999,1.5,0,2.2189999999999999,{"$f":"SUMIF(Y$14:BA$14,C374,Y$6:BA$6)","v":1733.45},{"$f":"IF(H374=0,ROUND(E374*I374,2),ROUND(H374*E374,2))","v":4.92},{"$f":"ROUND(F374*I374,2)","v":2600.1799999999998},{"$f":"IF(H374=0,ROUND(ROUND(F374*I374,2)*G374,2),ROUND(G374*H374,2))","v":0},{"$f":"L374-ROUND(G374*I374,2)","v":0},null,{"$f":"J374+L374+N374","v":4.92},null,405.07,{"$f":"ROUND(Q374*E374,2)","v":898.85},{"$f":"ROUND(F374*Q374,2)","v":607.61},{"$f":"ROUND(S374*G374,2)","v":0},{"$f":"T374-ROUND(Q374*G374,2)","v":0},null,{"$f":"R374+T374+V374","v":898.85},null,null,null,null,null,null,null,null,null,null,null,{"$f":"IF($I374=AI$6,$E374,0)","v":0},{"$f":"IF($K374=ROUND(AI$6*$F374,2),$G374,0)","v":0},{"$f":"IF($H374>0,AI374,0)","v":0},{"$f":"IF(AK374>0,1,0)","v":0},{"$f":"IF($H374>0,AJ374,0)","v":0},{"$f":"IF(AM374>0,1,0)","v":0},{"$f":"IF($I374=AO$6,$E374,0)","v":0},{"$f":"IF($K374=ROUND(AO$6*$F374,2),$G374,0)","v":0},{"$f":"IF($H374>0,AO374,0)","v":0},{"$f":"IF(AQ374>0,1,0)","v":0},{"$f":"IF($H374>0,AP374,0)","v":0},{"$f":"IF(AS374>0,1,0)","v":0},{"$f":"IF($I374=AU$6,$E374,0)","v":2.2189999999999999},{"$f":"IF($K374=ROUND(AU$6*$F374,2),$G374,0)","v":0},{"$f":"IF($H374>0,AU374,0)","v":2.2189999999999999},{"$f":"IF(AW374>0,1,0)","v":1},{"$f":"IF($H374>0,AV374,0)","v":0},{"$f":"IF(AY374>0,1,0)","v":0},{"$f":"IF($I374=BA$6,$E374,0)","v":0},{"$f":"IF($K374=ROUND(BA$6*$F374,2),$G374,0)","v":0},{"$f":"IF($H374>0,BA374,0)","v":0},{"$f":"IF(BC374>0,1,0)","v":0},{"$f":"IF($H374>0,BB374,0)","v":0},{"$f":"IF(BE374>0,1,0)","v":0},null,2.2190000000000001E-3,3,null,null,0]
[{"$f":"IF(E375+G375>0,A374,\"\")","v":""},{"$f":"IF(E375+G375>0,B374,\"\")","v":""},6,"03-4-23.616(333)",0,1.1000000000000001,0,0,{"$f":"SUMIF(Y$14:BA$14,C375,Y$6:BA$6)","v":1733.45},{"$f":"IF(H375=0,ROUND(E375*I375,2),ROUND(H375*E375,2))","v":0},{"$f":"ROUND(F375*I375,2)","v":1906.8},{"$f":"IF(H375=0,ROUND(ROUND(F375*I375,2)*G375,2),ROUND(G375*H375,2))","v":0},{"$f":"L375-ROUND(G375*I375,2)","v":0},null,{"$f":"J375+L375+N375","v":0},null,405.07,{"$f":"ROUND(Q375*E375,2)","v":0},{"$f":"ROUND(F375*Q375,2)","v":445.58},{"$f":"ROUND(S375*G375,2)","v":0},{"$f":"T375-ROUND(Q375*G375,2)","v":0},null,{"$f":"R375+T375+V375","v":0},null,null,null,null,null,null,null,null,null,null,null,{"$f":"IF($I375=AI$6,$E375,0)","v":0},0,{"$f":"IF($H375>0,AI375,0)","v":0},{"$f":"IF(AK375>0,1,0)","v":0},{"$f":"IF($H375>0,AJ375,0)","v":0},{"$f":"IF(AM375>0,1,0)","v":0},{"$f":"IF($I375=AO$6,$E375,0)","v":0},0,{"$f":"IF($H375>0,AO375,0)","v":0},{"$f":"IF(AQ375>0,1,0)","v":0},{"$f":"IF($H375>0,AP375,0)","v":0},{"$f":"IF(AS375>0,1,0)","v":0},{"$f":"IF($I375=AU$6,$E375,0)","v":0},0,{"$f":"IF($H375>0,AU375,0)","v":0},{"$f":"IF(AW375>0,1,0)","v":0},{"$f":"IF($H375>0,AV375,0)","v":0},{"$f":"IF(AY375>0,1,0)","v":0},{"$f":"IF($I375=BA$6,$E375,0)","v":0},0,{"$f":"IF($H375>0,BA375,0)","v":0},{"$f":"IF(BC375>0,1,0)","v":0},{"$f":"IF($H375>0,BB375,0)","v":0},{"$f":"IF(BE375>0,1,0)","v":0},null,0,null,null,null,0]
[{"$f":"IF(E376+G376>0,A374,\"\")","v":""},{"$f":"IF(E376+G376>0,B374,\"\")","v":""},{"$f":"C375","v":6},"03-4-23.616(333)",0,1.5,0,0,{"$f":"SUMIF(Y$14:BA$14,C376,Y$7:BA$7)","v":0},0,0,0,0,null,0,null,405.07,0,607.61,0,0,null,0,null,null,null,null,null,null,null,null,null,null,null,{"$f":"IF($I376=AI$7,$E376,0)","v":0},{"$f":"IF($K376=ROUND(AI$7*$F376,2),$G376,0)","v":0},0,0,0,0,{"$f":"IF($I376=AO$7,$E376,0)","v":0},{"$f":"IF($K376=ROUND(AO$7*$F376,2),$G376,0)","v":0},0,0,0,0,{"$f":"IF($I376=AU$7,$E376,0)","v":0},{"$f":"IF($K376=ROUND(AU$7*$F376,2),$G376,0)","v":0},0,0,0,0,{"$f":"IF($I376=BA$7,$E376,0)","v":0},{"$f":"IF($K376=ROUND(BA$7*$F376,2),$G376,0)","v":0},0,0,0,0,null,0,null,null,null,0]
[{"$f":"IF(E377+G377>0,A374,\"\")","v":""},{"$f":"IF(E377+G377>0,B374,\"\")","v":""},{"$f":"C375","v":6},"03-4-23.616(333)",0,1.1000000000000001,0,0,{"$f":"SUMIF(Y$14:BA$14,C377,Y$7:BA$7)","v":0},0,0,0,0,null,0,null,405.07,0,445.58,0,0,null,0,null,null,null,null,null,null,null,null,null,null,null,{"$f":"IF($I377=AI$7,$E377,0)","v":0},{"$f":"IF($K377=ROUND(AI$7*$F377,2),$G377,0)","v":0},0,0,0,0,{"$f":"IF($I377=AO$7,$E377,0)","v":0},{"$f":"IF($K377=ROUND(AO$7*$F377,2),$G377,0)","v":0},0,0,0,0,{"$f":"IF($I377=AU$7,$E377,0)","v":0},{"$f":"IF($K377=ROUND(AU$7*$F377,2),$G377,0)","v":0},0,0,0,0,{"$f":"IF($I377=BA$7,$E377,0)","v":0},{"$f":"IF($K377=ROUND(BA$7*$F377,2),$G377,0)","v":0},0,0,0,0,null,0,null,null,null,0]
["ИП                Сазанов            Анатолий  Николаевич","Вельск, ул.Горького-1",{"$f":"C379","v":6},"03-4-23.618(333)",2.6219999999999999,1.5,0,2.6219999999999999,{"$f":"SUMIF(Y$14:BA$14,C378,Y$6:BA$6)","v":1733.45},{"$f":"IF(H378=0,ROUND(E378*I378,2),ROUND(H378*E378,2))","v":6.87},{"$f":"ROUND(F378*I378,2)","v":2600.1799999999998},{"$f":"IF(H378=0,ROUND(ROUND(F378*I378,2)*G378,2),ROUND(G378*H378,2))","v":0},{"$f":"L378-ROUND(G378*I378,2)","v":0},null,{"$f":"J378+L378+N378","v":6.87},null,405.07,{"$f":"ROUND(Q378*E378,2)","v":1062.0899999999999},{"$f":"ROUND(F378*Q378,2)","v":607.61},{"$f":"ROUND(S378*G378,2)","v":0},{"$f":"T378-ROUND(Q378*G378,2)","v":0},null,{"$f":"R378+T378+V378","v":1062.0899999999999},null,null,null,null,null,null,null,null,null,null,null,{"$f":"IF($I378=AI$6,$E378,0)","v":0},{"$f":"IF($K378=ROUND(AI$6*$F378,2),$G378,0)","v":0},{"$f":"IF($H378>0,AI378,0)","v":0},{"$f":"IF(AK378>0,1,0)","v":0},{"$f":"IF($H378>0,AJ378,0)","v":0},{"$f":"IF(AM378>0,1,0)","v":0},{"$f":"IF($I378=AO$6,$E378,0)","v":0},{"$f":"IF($K378=ROUND(AO$6*$F378,2),$G378,0)","v":0},{"$f":"IF($H378>0,AO378,0)","v":0},{"$f":"IF(AQ378>0,1,0)","v":0},{"$f":"IF($H378>0,AP378,0)","v":0},{"$f":"IF(AS378>0,1,0)","v":0},{"$f":"IF($I378=AU$6,$E378,0)","v":2.6219999999999999},{"$f":"IF($K378=ROUND(AU$6*$F378,2),$G378,0)","v":0},{"$f":"IF($H378>0,AU378,0)","v":2.6219999999999999},{"$f":"IF(AW378>0,1,0)","v":1},{"$f":"IF($H378>0,AV378,0)","v":0},{"$f":"IF(AY378>0,1,0)","v":0},{"$f":"IF($I378=BA$6,$E378,0)","v":0},{"$f":"IF($K378=ROUND(BA$6*$F378,2),$G378,0)","v":0},{"$f":"IF($H378>0,BA378,0)","v":0},{"$f":"IF(BC378>0,1,0)","v":0},{"$f":"IF($H378>0,BB378,0)","v":0},{"$f":"IF(BE378>0,1,0)","v":0},null,2.6219999999999998E-3,2.1,null,null,0]
[{"$f":"IF(E379+G379>0,A378,\"\")","v":""},{"$f":"IF(E379+G379>0,B378,\"\")","v":""},6,"03-4-23.618(333)",0,1.1000000000000001,0,0,{"$f":"SUMIF(Y$14:BA$14,C379,Y$6:BA$6)","v":1733.45},{"$f":"IF(H379=0,ROUND(E379*I379,2),ROUND(H379*E379,2))","v":0},{"$f":"ROUND(F379*I379,2)","v":1906.8},{"$f":"IF(H379=0,ROUND(ROUND(F379*I379,2)*G379,2),ROUND(G379*H379,2))","v":0},{"$f":"L379-ROUND(G379*I379,2)","v":0},null,{"$f":"J379+L379+N379","v":0},null,405.07,{"$f":"ROUND(Q379*E379,2)","v":0},{"$f":"ROUND(F379*Q379,2)","v":445.58},{"$f":"ROUND(S379*G379,2)","v":0},{"$f":"T379-ROUND(Q379*G379,2)","v":0},null,{"$f":"R379+T379+V379","v":0},null,null,null,null,null,null,null,null,null,null,null,{"$f":"IF($I379=AI$6,$E379,0)","v":0},0,{"$f":"IF($H379>0,AI379,0)","v":0},{"$f":"IF(AK379>0,1,0)","v":0},{"$f":"IF($H379>0,AJ379,0)","v":0},{"$f":"IF(AM379>0,1,0)","v":0},{"$f":"IF($I379=AO$6,$E379,0)","v":0},0,{"$f":"IF($H379>0,AO379,0)","v":0},{"$f":"IF(AQ379>0,1,0)","v":0},{"$f":"IF($H379>0,AP379,0)","v":0},{"$f":"IF(AS379>0,1,0)","v":0},{"$f":"IF($I379=AU$6,$E379,0)","v":0},0,{"$f":"IF($H379>0,AU379,0)","v":0},{"$f":"IF(AW379>0,1,0)","v":0},{"$f":"IF($H379>0,AV379,0)","v":0},{"$f":"IF(AY379>0,1,0)","v":0},{"$f":"IF($I379=BA$6,$E379,0)","v":0},0,{"$f":"IF($H379>0,BA379,0)","v":0},{"$f":"IF(BC379>0,1,0)","v":0},{"$f":"IF($H379>0,BB379,0)","v":0},{"$f":"IF(BE379>0,1,0)","v":0},null,0,null,null,null,0]
[{"$f":"IF(E380+G380>0,A378,\"\")","v":""},{"$f":"IF(E380+G380>0,B378,\"\")","v":""},{"$f":"C379","v":6},"03-4-23.618(333)",0,1.5,0,0,{"$f":"SUMIF(Y$14:BA$14,C380,Y$7:BA$7)","v":0},0,0,0,0,null,0,null,405.07,0,607.61,0,0,null,0,null,null,null,null,null,null,null,null,null,null,null,{"$f":"IF($I380=AI$7,$E380,0)","v":0},{"$f":"IF($K380=ROUND(AI$7*$F380,2),$G380,0)","v":0},0,0,0,0,{"$f":"IF($I380=AO$7,$E380,0)","v":0},{"$f":"IF($K380=ROUND(AO$7*$F380,2),$G380,0)","v":0},0,0,0,0,{"$f":"IF($I380=AU$7,$E380,0)","v":0},{"$f":"IF($K380=ROUND(AU$7*$F380,2),$G380,0)","v":0},0,0,0,0,{"$f":"IF($I380=BA$7,$E380,0)","v":0},{"$f":"IF($K380=ROUND(BA$7*$F380,2),$G380,0)","v":0},0,0,0,0,null,0,null,null,null,0]
[{"$f":"IF(E381+G381>0,A378,\"\")","v":""},{"$f":"IF(E381+G381>0,B378,\"\")","v":""},{"$f":"C379","v":6},"03-4-23.618(333)",0,1.1000000000000001,0,0,{"$f":"SUMIF(Y$14:BA$14,C381,Y$7:BA$7)","v":0},0,0,0,0,null,0,null,405.07,0,445.58,0,0,null,0,null,null,null,null,null,null,null,null,null,null,null,{"$f":"IF($I381=AI$7,$E381,0)","v":0},{"$f":"IF($K381=ROUND(AI$7*$F381,2),$G381,0)","v":0},0,0,0,0,{"$f":"IF($I381=AO$7,$E381,0)","v":0},{"$f":"IF($K381=ROUND(AO$7*$F381,2),$G381,0)","v":0},0,0,0,0,{"$f":"IF($I381=AU$7,$E381,0)","v":0},{"$f":"IF($K381=ROUND(AU$7*$F381,2),$G381,0)","v":0},0,0,0,0,{"$f":"IF($I381=BA$7,$E381,0)","v":0},{"$f":"IF($K381=ROUND(BA$7*$F381,2),$G381,0)","v":0},0,0,0,0,null,0,null,null,null,0]
["ИП                Сазанов            Анатолий  Николаевич","Вельск, ул.Горького-1, стр.20",{"$f":"C383","v":6},"03-4-23.618(333)",1.21,1.5,0,1.21,{"$f":"SUMIF(Y$14:BA$14,C382,Y$6:BA$6)","v":1733.45},{"$f":"IF(H382=0,ROUND(E382*I382,2),ROUND(H382*E382,2))","v":1.46},{"$f":"ROUND(F382*I382,2)","v":2600.1799999999998},{"$f":"IF(H382=0,ROUND(ROUND(F382*I382,2)*G382,2),ROUND(G382*H382,2))","v":0},{"$f":"L382-ROUND(G382*I382,2)","v":0},null,{"$f":"J382+L382+N382","v":1.46},null,405.07,{"$f":"ROUND(Q382*E382,2)","v":490.13},{"$f":"ROUND(F382*Q382,2)","v":607.61},{"$f":"ROUND(S382*G382,2)","v":0},{"$f":"T382-ROUND(Q382*G382,2)","v":0},null,{"$f":"R382+T382+V382","v":490.13},null,null,null,null,null,null,null,null,null,null,null,{"$f":"IF($I382=AI$6,$E382,0)","v":0},{"$f":"IF($K382=ROUND(AI$6*$F382,2),$G382,0)","v":0},{"$f":"IF($H382>0,AI382,0)","v":0},{"$f":"IF(AK382>0,1,0)","v":0},{"$f":"IF($H382>0,AJ382,0)","v":0},{"$f":"IF(AM382>0,1,0)","v":0},{"$f":"IF($I382=AO$6,$E382,0)","v":0},{"$f":"IF($K382=ROUND(AO$6*$F382,2),$G382,0)","v":0},{"$f":"IF($H382>0,AO382,0)","v":0},{"$f":"IF(AQ382>0,1,0)","v":0},{"$f":"IF($H382>0,AP382,0)","v":0},{"$f":"IF(AS382>0,1,0)","v":0},{"$f":"IF($I382=AU$6,$E382,0)","v":1.21},{"$f":"IF($K382=ROUND(AU$6*$F382,2),$G382,0)","v":0},{"$f":"IF($H382>0,AU382,0)","v":1.21},{"$f":"IF(AW382>0,1,0)","v":1},{"$f":"IF($H382>0,AV382,0)","v":0},{"$f":"IF(AY382>0,1,0)","v":0},{"$f":"IF($I382=BA$6,$E382,0)","v":0},{"$f":"IF($K382=ROUND(BA$6*$F382,2),$G382,0)","v":0},{"$f":"IF($H382>0,BA382,0)","v":0},{"$f":"IF(BC382>0,1,0)","v":0},{"$f":"IF($H382>0,BB382,0)","v":0},{"$f":"IF(BE382>0,1,0)","v":0},null,1.2099999999999999E-3,2,null,null,0]
[{"$f":"IF(E383+G383>0,A382,\"\")","v":""},{"$f":"IF(E383+G383>0,B382,\"\")","v":""},6,"03-4-23.618(333)",0,1.1000000000000001,0,0,{"$f":"SUMIF(Y$14:BA$14,C383,Y$6:BA$6)","v":1733.45},{"$f":"IF(H383=0,ROUND(E383*I383,2),ROUND(H383*E383,2))","v":0},{"$f":"ROUND(F383*I383,2)","v":1906.8},{"$f":"IF(H383=0,ROUND(ROUND(F383*I383,2)*G383,2),ROUND(G383*H383,2))","v":0},{"$f":"L383-ROUND(G383*I383,2)","v":0},null,{"$f":"J383+L383+N383","v":0},null,405.07,{"$f":"ROUND(Q383*E383,2)","v":0},{"$f":"ROUND(F383*Q383,2)","v":445.58},{"$f":"ROUND(S383*G383,2)","v":0},{"$f":"T383-ROUND(Q383*G383,2)","v":0},null,{"$f":"R383+T383+V383","v":0},null,null,null,null,null,null,null,null,null,null,null,0,0,{"$f":"IF($H383>0,AI383,0)","v":0},{"$f":"IF(AK383>0,1,0)","v":0},{"$f":"IF($H383>0,AJ383,0)","v":0},{"$f":"IF(AM383>0,1,0)","v":0},0,0,{"$f":"IF($H383>0,AO383,0)","v":0},{"$f":"IF(AQ383>0,1,0)","v":0},{"$f":"IF($H383>0,AP383,0)","v":0},{"$f":"IF(AS383>0,1,0)","v":0},0,0,{"$f":"IF($H383>0,AU383,0)","v":0},{"$f":"IF(AW383>0,1,0)","v":0},{"$f":"IF($H383>0,AV383,0)","v":0},{"$f":"IF(AY383>0,1,0)","v":0},0,0,{"$f":"IF($H383>0,BA383,0)","v":0},{"$f":"IF(BC383>0,1,0)","v":0},{"$f":"IF($H383>0,BB383,0)","v":0},{"$f":"IF(BE383>0,1,0)","v":0},null,0,null,null,null,0]
[{"$f":"IF(E384+G384>0,A382,\"\")","v":""},{"$f":"IF(E384+G384>0,B382,\"\")","v":""},{"$f":"C383","v":6},"03-4-23.618(333)",0,1.5,0,0,{"$f":"SUMIF(Y$14:BA$14,C384,Y$7:BA$7)","v":0},0,0,0,0,null,0,null,405.07,0,607.61,0,0,null,0,null,null,null,null,null,null,null,null,null,null,null,{"$f":"IF($I384=AI$7,$E384,0)","v":0},{"$f":"IF($K384=ROUND(AI$7*$F384,2),$G384,0)","v":0},0,0,0,0,{"$f":"IF($I384=AO$7,$E384,0)","v":0},{"$f":"IF($K384=ROUND(AO$7*$F384,2),$G384,0)","v":0},0,0,0,0,{"$f":"IF($I384=AU$7,$E384,0)","v":0},{"$f":"IF($K384=ROUND(AU$7*$F384,2),$G384,0)","v":0},0,0,0,0,{"$f":"IF($I384=BA$7,$E384,0)","v":0},{"$f":"IF($K384=ROUND(BA$7*$F384,2),$G384,0)","v":0},0,0,0,0,null,0,null,null,null,0]
[{"$f":"IF(E385+G385>0,A382,\"\")","v":""},{"$f":"IF(E385+G385>0,B382,\"\")","v":""},{"$f":"C383","v":6},"03-4-23.618(333)",0,1.1000000000000001,0,0,{"$f":"SUMIF(Y$14:BA$14,C385,Y$7:BA$7)","v":0},0,0,0,0,null,0,null,405.07,0,445.58,0,0,null,0,null,null,null,null,null,null,null,null,null,null,null,{"$f":"IF($I385=AI$7,$E385,0)","v":0},{"$f":"IF($K385=ROUND(AI$7*$F385,2),$G385,0)","v":0},0,0,0,0,{"$f":"IF($I385=AO$7,$E385,0)","v":0},{"$f":"IF($K385=ROUND(AO$7*$F385,2),$G385,0)","v":0},0,0,0,0,{"$f":"IF($I385=AU$7,$E385,0)","v":0},{"$f":"IF($K385=ROUND(AU$7*$F385,2),$G385,0)","v":0},0,0,0,0,{"$f":"IF($I385=BA$7,$E385,0)","v":0},{"$f":"IF($K385=ROUND(BA$7*$F385,2),$G385,0)","v":0},0,0,0,0,null,0,null,null,null,0]
["ИП               Долгих               Сергей Владиславович","",{"$f":"C387","v":7},"03-4-23.625(333)",0.49,1.5,0,0.49,{"$f":"SUMIF(Y$14:BA$14,C386,Y$6:BA$6)","v":2166.8000000000002},{"$f":"IF(H386=0,ROUND(E386*I386,2),ROUND(H386*E386,2))","v":0.24},{"$f":"ROUND(F386*I386,2)","v":3250.2},{"$f":"IF(H386=0,ROUND(ROUND(F386*I386,2)*G386,2),ROUND(G386*H386,2))","v":0},{"$f":"L386-ROUND(G386*I386,2)","v":0},null,{"$f":"J386+L386+N386","v":0.24},null,405.07,{"$f":"ROUND(Q386*E386,2)","v":198.48},{"$f":"ROUND(F386*Q386,2)","v":607.61},{"$f":"ROUND(S386*G386,2)","v":0},{"$f":"T386-ROUND(Q386*G386,2)","v":0},null,{"$f":"R386+T386+V386","v":198.48},null,null,null,null,null,null,null,null,null,null,null,{"$f":"IF($I386=AI$6,$E386,0)","v":0},{"$f":"IF($K386=ROUND(AI$6*$F386,2),$G386,0)","v":0},{"$f":"IF($H386>0,AI386,0)","v":0},{"$f":"IF(AK386>0,1,0)","v":0},{"$f":"IF($H386>0,AJ386,0)","v":0},{"$f":"IF(AM386>0,1,0)","v":0},{"$f":"IF($I386=AO$6,$E386,0)","v":0},{"$f":"IF($K386=ROUND(AO$6*$F386,2),$G386,0)","v":0},{"$f":"IF($H386>0,AO386,0)","v":0},{"$f":"IF(AQ386>0,1,0)","v":0},{"$f":"IF($H386>0,AP386,0)","v":0},{"$f":"IF(AS386>0,1,0)","v":0},{"$f":"IF($I386=AU$6,$E386,0)","v":0},{"$f":"IF($K386=ROUND(AU$6*$F386,2),$G386,0)","v":0},{"$f":"IF($H386>0,AU386,0)","v":0},{"$f":"IF(AW386>0,1,0)","v":0},{"$f":"IF($H386>0,AV386,0)","v":0},{"$f":"IF(AY386>0,1,0)","v":0},{"$f":"IF($I386=BA$6,$E386,0)","v":0.49},{"$f":"IF($K386=ROUND(BA$6*$F386,2),$G386,0)","v":0},{"$f":"IF($H386>0,BA386,0)","v":0.49},{"$f":"IF(BC386>0,1,0)","v":1},{"$f":"IF($H386>0,BB386,0)","v":0},{"$f":"IF(BE386>0,1,0)","v":0},null,4.8999999999999998E-4,2.15,null,null,0]
[{"$f":"IF(E387+G387>0,A386,\"\")","v":""},{"$f":"IF(E387+G387>0,B386,\"\")","v":""},7,"03-4-23.625(333)",0,1.1000000000000001,0,0,{"$f":"SUMIF(Y$14:BA$14,C387,Y$6:BA$6)","v":2166.8000000000002},{"$f":"IF(H387=0,ROUND(E387*I387,2),ROUND(H387*E387,2))","v":0},{"$f":"ROUND(F387*I387,2)","v":2383.48},{"$f":"IF(H387=0,ROUND(ROUND(F387*I387,2)*G387,2),ROUND(G387*H387,2))","v":0},{"$f":"L387-ROUND(G387*I387,2)","v":0},null,{"$f":"J387+L387+N387","v":0},null,405.07,{"$f":"ROUND(Q387*E387,2)","v":0},{"$f":"ROUND(F387*Q387,2)","v":445.58},{"$f":"ROUND(S387*G387,2)","v":0},{"$f":"T387-ROUND(Q387*G387,2)","v":0},null,{"$f":"R387+T387+V387","v":0},null,null,null,null,null,null,null,null,null,null,null,{"$f":"IF($I387=AI$6,$E387,0)","v":0},0,{"$f":"IF($H387>0,AI387,0)","v":0},{"$f":"IF(AK387>0,1,0)","v":0},{"$f":"IF($H387>0,AJ387,0)","v":0},{"$f":"IF(AM387>0,1,0)","v":0},{"$f":"IF($I387=AO$6,$E387,0)","v":0},0,{"$f":"IF($H387>0,AO387,0)","v":0},{"$f":"IF(AQ387>0,1,0)","v":0},{"$f":"IF($H387>0,AP387,0)","v":0},{"$f":"IF(AS387>0,1,0)","v":0},{"$f":"IF($I387=AU$6,$E387,0)","v":0},0,{"$f":"IF($H387>0,AU387,0)","v":0},{"$f":"IF(AW387>0,1,0)","v":0},{"$f":"IF($H387>0,AV387,0)","v":0},{"$f":"IF(AY387>0,1,0)","v":0},{"$f":"IF($I387=BA$6,$E387,0)","v":0},0,{"$f":"IF($H387>0,BA387,0)","v":0},{"$f":"IF(BC387>0,1,0)","v":0},{"$f":"IF($H387>0,BB387,0)","v":0},{"$f":"IF(BE387>0,1,0)","v":0},null,0,null,null,null,0]
[{"$f":"IF(E388+G388>0,A386,\"\")","v":""},{"$f":"IF(E388+G388>0,B386,\"\")","v":""},{"$f":"C387","v":7},"03-4-23.625(333)",0,1.5,0,0,{"$f":"SUMIF(Y$14:BA$14,C388,Y$7:BA$7)","v":0},0,0,0,0,null,0,null,405.07,0,607.61,0,0,null,0,null,null,null,null,null,null,null,null,null,null,null,{"$f":"IF($I388=AI$7,$E388,0)","v":0},{"$f":"IF($K388=ROUND(AI$7*$F388,2),$G388,0)","v":0},0,0,0,0,{"$f":"IF($I388=AO$7,$E388,0)","v":0},{"$f":"IF($K388=ROUND(AO$7*$F388,2),$G388,0)","v":0},0,0,0,0,{"$f":"IF($I388=AU$7,$E388,0)","v":0},{"$f":"IF($K388=ROUND(AU$7*$F388,2),$G388,0)","v":0},0,0,0,0,{"$f":"IF($I388=BA$7,$E388,0)","v":0},{"$f":"IF($K388=ROUND(BA$7*$F388,2),$G388,0)","v":0},0,0,0,0,null,0,null,null,null,0]
[{"$f":"IF(E389+G389>0,A386,\"\")","v":""},{"$f":"IF(E389+G389>0,B386,\"\")","v":""},{"$f":"C387","v":7},"03-4-23.625(333)",0,1.1000000000000001,0,0,{"$f":"SUMIF(Y$14:BA$14,C389,Y$7:BA$7)","v":0},0,0,0,0,null,0,null,405.07,0,445.58,0,0,null,0,null,null,null,null,null,null,null,null,null,null,null,{"$f":"IF($I389=AI$7,$E389,0)","v":0},{"$f":"IF($K389=ROUND(AI$7*$F389,2),$G389,0)","v":0},0,0,0,0,{"$f":"IF($I389=AO$7,$E389,0)","v":0},{"$f":"IF($K389=ROUND(AO$7*$F389,2),$G389,0)","v":0},0,0,0,0,{"$f":"IF($I389=AU$7,$E389,0)","v":0},{"$f":"IF($K389=ROUND(AU$7*$F389,2),$G389,0)","v":0},0,0,0,0,{"$f":"IF($I389=BA$7,$E389,0)","v":0},{"$f":"IF($K389=ROUND(BA$7*$F389,2),$G389,0)","v":0},0,0,0,0,null,0,null,null,null,0]
["ООО          \"ВельДез\" ","Вельск, ул.Дзержинского-66В",{"$f":"C391","v":6},"03-4-23.627",0.56299999999999994,1.5,0,0.56299999999999994,{"$f":"SUMIF(Y$14:BA$14,C390,Y$6:BA$6)","v":1733.45},{"$f":"IF(H390=0,ROUND(E390*I390,2),ROUND(H390*E390,2))","v":0.32},{"$f":"ROUND(F390*I390,2)","v":2600.1799999999998},{"$f":"IF(H390=0,ROUND(ROUND(F390*I390,2)*G390,2),ROUND(G390*H390,2))","v":0},{"$f":"L390-ROUND(G390*I390,2)","v":0},null,{"$f":"J390+L390+N390","v":0.32},null,405.07,{"$f":"ROUND(Q390*E390,2)","v":228.05},{"$f":"ROUND(F390*Q390,2)","v":607.61},{"$f":"ROUND(S390*G390,2)","v":0},{"$f":"T390-ROUND(Q390*G390,2)","v":0},null,{"$f":"R390+T390+V390","v":228.05},null,null,null,null,null,null,null,null,null,null,null,{"$f":"IF($I390=AI$6,$E390,0)","v":0},{"$f":"IF($K390=ROUND(AI$6*$F390,2),$G390,0)","v":0},{"$f":"IF($H390>0,AI390,0)","v":0},{"$f":"IF(AK390>0,1,0)","v":0},{"$f":"IF($H390>0,AJ390,0)","v":0},{"$f":"IF(AM390>0,1,0)","v":0},{"$f":"IF($I390=AO$6,$E390,0)","v":0},{"$f":"IF($K390=ROUND(AO$6*$F390,2),$G390,0)","v":0},{"$f":"IF($H390>0,AO390,0)","v":0},{"$f":"IF(AQ390>0,1,0)","v":0},{"$f":"IF($H390>0,AP390,0)","v":0},{"$f":"IF(AS390>0,1,0)","v":0},{"$f":"IF($I390=AU$6,$E390,0)","v":0.56299999999999994},{"$f":"IF($K390=ROUND(AU$6*$F390,2),$G390,0)","v":0},{"$f":"IF($H390>0,AU390,0)","v":0.56299999999999994},{"$f":"IF(AW390>0,1,0)","v":1},{"$f":"IF($H390>0,AV390,0)","v":0},{"$f":"IF(AY390>0,1,0)","v":0},{"$f":"IF($I390=BA$6,$E390,0)","v":0},{"$f":"IF($K390=ROUND(BA$6*$F390,2),$G390,0)","v":0},{"$f":"IF($H390>0,BA390,0)","v":0},{"$f":"IF(BC390>0,1,0)","v":0},{"$f":"IF($H390>0,BB390,0)","v":0},{"$f":"IF(BE390>0,1,0)","v":0},null,5.6299999999999992E-4,2,null,null,0]
[{"$f":"IF(E391+G391>0,A390,\"\")","v":""},{"$f":"IF(E391+G391>0,B390,\"\")","v":""},6,"03-4-23.627",0,1.1000000000000001,0,0,{"$f":"SUMIF(Y$14:BA$14,C391,Y$6:BA$6)","v":1733.45},{"$f":"IF(H391=0,ROUND(E391*I391,2),ROUND(H391*E391,2))","v":0},{"$f":"ROUND(F391*I391,2)","v":1906.8},{"$f":"IF(H391=0,ROUND(ROUND(F391*I391,2)*G391,2),ROUND(G391*H391,2))","v":0},{"$f":"L391-ROUND(G391*I391,2)","v":0},null,{"$f":"J391+L391+N391","v":0},null,405.07,{"$f":"ROUND(Q391*E391,2)","v":0},{"$f":"ROUND(F391*Q391,2)","v":445.58},{"$f":"ROUND(S391*G391,2)","v":0},{"$f":"T391-ROUND(Q391*G391,2)","v":0},null,{"$f":"R391+T391+V391","v":0},null,null,null,null,null,null,null,null,null,null,null,{"$f":"IF($I391=AI$6,$E391,0)","v":0},0,{"$f":"IF($H391>0,AI391,0)","v":0},{"$f":"IF(AK391>0,1,0)","v":0},{"$f":"IF($H391>0,AJ391,0)","v":0},{"$f":"IF(AM391>0,1,0)","v":0},{"$f":"IF($I391=AO$6,$E391,0)","v":0},0,{"$f":"IF($H391>0,AO391,0)","v":0},{"$f":"IF(AQ391>0,1,0)","v":0},{"$f":"IF($H391>0,AP391,0)","v":0},{"$f":"IF(AS391>0,1,0)","v":0},{"$f":"IF($I391=AU$6,$E391,0)","v":0},0,{"$f":"IF($H391>0,AU391,0)","v":0},{"$f":"IF(AW391>0,1,0)","v":0},{"$f":"IF($H391>0,AV391,0)","v":0},{"$f":"IF(AY391>0,1,0)","v":0},{"$f":"IF($I391=BA$6,$E391,0)","v":0},0,{"$f":"IF($H391>0,BA391,0)","v":0},{"$f":"IF(BC391>0,1,0)","v":0},{"$f":"IF($H391>0,BB391,0)","v":0},{"$f":"IF(BE391>0,1,0)","v":0},null,0,null,null,null,0]
[{"$f":"IF(E392+G392>0,A390,\"\")","v":""},{"$f":"IF(E392+G392>0,B390,\"\")","v":""},{"$f":"C391","v":6},"03-4-23.627",0,1.5,0,0,{"$f":"SUMIF(Y$14:BA$14,C392,Y$7:BA$7)","v":0},0,0,0,0,null,0,null,405.07,0,607.61,0,0,null,0,null,null,null,null,null,null,null,null,null,null,null,{"$f":"IF($I392=AI$7,$E392,0)","v":0},{"$f":"IF($K392=ROUND(AI$7*$F392,2),$G392,0)","v":0},0,0,0,0,{"$f":"IF($I392=AO$7,$E392,0)","v":0},{"$f":"IF($K392=ROUND(AO$7*$F392,2),$G392,0)","v":0},0,0,0,0,{"$f":"IF($I392=AU$7,$E392,0)","v":0},{"$f":"IF($K392=ROUND(AU$7*$F392,2),$G392,0)","v":0},0,0,0,0,{"$f":"IF($I392=BA$7,$E392,0)","v":0},{"$f":"IF($K392=ROUND(BA$7*$F392,2),$G392,0)","v":0},0,0,0,0,null,0,null,null,null,0]
[{"$f":"IF(E393+G393>0,A390,\"\")","v":""},{"$f":"IF(E393+G393>0,B390,\"\")","v":""},{"$f":"C391","v":6},"03-4-23.627",0,1.1000000000000001,0,0,{"$f":"SUMIF(Y$14:BA$14,C393,Y$7:BA$7)","v":0},0,0,0,0,null,0,null,405.07,0,445.58,0,0,null,0,null,null,null,null,null,null,null,null,null,null,null,{"$f":"IF($I393=AI$7,$E393,0)","v":0},{"$f":"IF($K393=ROUND(AI$7*$F393,2),$G393,0)","v":0},0,0,0,0,{"$f":"IF($I393=AO$7,$E393,0)","v":0},{"$f":"IF($K393=ROUND(AO$7*$F393,2),$G393,0)","v":0},0,0,0,0,{"$f":"IF($I393=AU$7,$E393,0)","v":0},{"$f":"IF($K393=ROUND(AU$7*$F393,2),$G393,0)","v":0},0,0,0,0,{"$f":"IF($I393=BA$7,$E393,0)","v":0},{"$f":"IF($K393=ROUND(BA$7*$F393,2),$G393,0)","v":0},0,0,0,0,null,0,null,null,null,0]
["ООО          \"ВельДез\" ","Вельск, ул.Дзержинского-86, здание №2",{"$f":"C395","v":6},"03-4-23.627(333)",1.6339999999999999,1.5,0,1.6339999999999999,{"$f":"SUMIF(Y$14:BA$14,C394,Y$6:BA$6)","v":1733.45},{"$f":"IF(H394=0,ROUND(E394*I394,2),ROUND(H394*E394,2))","v":2.67},{"$f":"ROUND(F394*I394,2)","v":2600.1799999999998},{"$f":"IF(H394=0,ROUND(ROUND(F394*I394,2)*G394,2),ROUND(G394*H394,2))","v":0},{"$f":"L394-ROUND(G394*I394,2)","v":0},null,{"$f":"J394+L394+N394","v":2.67},null,405.07,{"$f":"ROUND(Q394*E394,2)","v":661.88},{"$f":"ROUND(F394*Q394,2)","v":607.61},{"$f":"ROUND(S394*G394,2)","v":0},{"$f":"T394-ROUND(Q394*G394,2)","v":0},null,{"$f":"R394+T394+V394","v":661.88},null,null,null,null,null,null,null,null,null,null,null,{"$f":"IF($I394=AI$6,$E394,0)","v":0},{"$f":"IF($K394=ROUND(AI$6*$F394,2),$G394,0)","v":0},{"$f":"IF($H394>0,AI394,0)","v":0},{"$f":"IF(AK394>0,1,0)","v":0},{"$f":"IF($H394>0,AJ394,0)","v":0},{"$f":"IF(AM394>0,1,0)","v":0},{"$f":"IF($I394=AO$6,$E394,0)","v":0},{"$f":"IF($K394=ROUND(AO$6*$F394,2),$G394,0)","v":0},{"$f":"IF($H394>0,AO394,0)","v":0},{"$f":"IF(AQ394>0,1,0)","v":0},{"$f":"IF($H394>0,AP394,0)","v":0},{"$f":"IF(AS394>0,1,0)","v":0},{"$f":"IF($I394=AU$6,$E394,0)","v":1.6339999999999999},{"$f":"IF($K394=ROUND(AU$6*$F394,2),$G394,0)","v":0},{"$f":"IF($H394>0,AU394,0)","v":1.6339999999999999},{"$f":"IF(AW394>0,1,0)","v":1},{"$f":"IF($H394>0,AV394,0)","v":0},{"$f":"IF(AY394>0,1,0)","v":0},{"$f":"IF($I394=BA$6,$E394,0)","v":0},{"$f":"IF($K394=ROUND(BA$6*$F394,2),$G394,0)","v":0},{"$f":"IF($H394>0,BA394,0)","v":0},{"$f":"IF(BC394>0,1,0)","v":0},{"$f":"IF($H394>0,BB394,0)","v":0},{"$f":"IF(BE394>0,1,0)","v":0},null,1.6339999999999998E-3,3,null,null,0]
[{"$f":"IF(E395+G395>0,A394,\"\")","v":""},{"$f":"IF(E395+G395>0,B394,\"\")","v":""},6,"03-4-23.627(333)",0,1.1000000000000001,0,0,{"$f":"SUMIF(Y$14:BA$14,C395,Y$6:BA$6)","v":1733.45},{"$f":"IF(H395=0,ROUND(E395*I395,2),ROUND(H395*E395,2))","v":0},{"$f":"ROUND(F395*I395,2)","v":1906.8},{"$f":"IF(H395=0,ROUND(ROUND(F395*I395,2)*G395,2),ROUND(G395*H395,2))","v":0},{"$f":"L395-ROUND(G395*I395,2)","v":0},null,{"$f":"J395+L395+N395","v":0},null,405.07,{"$f":"ROUND(Q395*E395,2)","v":0},{"$f":"ROUND(F395*Q395,2)","v":445.58},{"$f":"ROUND(S395*G395,2)","v":0},{"$f":"T395-ROUND(Q395*G395,2)","v":0},null,{"$f":"R395+T395+V395","v":0},null,null,null,null,null,null,null,null,null,null,null,{"$f":"IF($I395=AI$6,$E395,0)","v":0},0,{"$f":"IF($H395>0,AI395,0)","v":0},{"$f":"IF(AK395>0,1,0)","v":0},{"$f":"IF($H395>0,AJ395,0)","v":0},{"$f":"IF(AM395>0,1,0)","v":0},{"$f":"IF($I395=AO$6,$E395,0)","v":0},0,{"$f":"IF($H395>0,AO395,0)","v":0},{"$f":"IF(AQ395>0,1,0)","v":0},{"$f":"IF($H395>0,AP395,0)","v":0},{"$f":"IF(AS395>0,1,0)","v":0},{"$f":"IF($I395=AU$6,$E395,0)","v":0},0,{"$f":"IF($H395>0,AU395,0)","v":0},{"$f":"IF(AW395>0,1,0)","v":0},{"$f":"IF($H395>0,AV395,0)","v":0},{"$f":"IF(AY395>0,1,0)","v":0},{"$f":"IF($I395=BA$6,$E395,0)","v":0},0,{"$f":"IF($H395>0,BA395,0)","v":0},{"$f":"IF(BC395>0,1,0)","v":0},{"$f":"IF($H395>0,BB395,0)","v":0},{"$f":"IF(BE395>0,1,0)","v":0},null,0,null,null,null,0]
[{"$f":"IF(E396+G396>0,A394,\"\")","v":""},{"$f":"IF(E396+G396>0,B394,\"\")","v":""},{"$f":"C395","v":6},"03-4-23.627(333)",0,1.5,0,0,{"$f":"SUMIF(Y$14:BA$14,C396,Y$7:BA$7)","v":0},0,0,0,0,null,0,null,405.07,0,607.61,0,0,null,0,null,null,null,null,null,null,null,null,null,null,null,{"$f":"IF($I396=AI$7,$E396,0)","v":0},{"$f":"IF($K396=ROUND(AI$7*$F396,2),$G396,0)","v":0},0,0,0,0,{"$f":"IF($I396=AO$7,$E396,0)","v":0},{"$f":"IF($K396=ROUND(AO$7*$F396,2),$G396,0)","v":0},0,0,0,0,{"$f":"IF($I396=AU$7,$E396,0)","v":0},{"$f":"IF($K396=ROUND(AU$7*$F396,2),$G396,0)","v":0},0,0,0,0,{"$f":"IF($I396=BA$7,$E396,0)","v":0},{"$f":"IF($K396=ROUND(BA$7*$F396,2),$G396,0)","v":0},0,0,0,0,null,0,null,null,null,0]
[{"$f":"IF(E397+G397>0,A394,\"\")","v":""},{"$f":"IF(E397+G397>0,B394,\"\")","v":""},{"$f":"C395","v":6},"03-4-23.627(333)",0,1.1000000000000001,0,0,{"$f":"SUMIF(Y$14:BA$14,C397,Y$7:BA$7)","v":0},0,0,0,0,null,0,null,405.07,0,445.58,0,0,null,0,null,null,null,null,null,null,null,null,null,null,null,{"$f":"IF($I397=AI$7,$E397,0)","v":0},{"$f":"IF($K397=ROUND(AI$7*$F397,2),$G397,0)","v":0},0,0,0,0,{"$f":"IF($I397=AO$7,$E397,0)","v":0},{"$f":"IF($K397=ROUND(AO$7*$F397,2),$G397,0)","v":0},0,0,0,0,{"$f":"IF($I397=AU$7,$E397,0)","v":0},{"$f":"IF($K397=ROUND(AU$7*$F397,2),$G397,0)","v":0},0,0,0,0,{"$f":"IF($I397=BA$7,$E397,0)","v":0},{"$f":"IF($K397=ROUND(BA$7*$F397,2),$G397,0)","v":0},0,0,0,0,null,0,null,null,null,0]
["ООО          \"ВельДез\" ","Вельск, ул.Гагарина-42А, 42Б",{"$f":"C399","v":6},"03-4-23.627(333)",0.73,1.5,0,0.73,{"$f":"SUMIF(Y$14:BA$14,C398,Y$6:BA$6)","v":1733.45},{"$f":"IF(H398=0,ROUND(E398*I398,2),ROUND(H398*E398,2))","v":0.53},{"$f":"ROUND(F398*I398,2)","v":2600.1799999999998},{"$f":"IF(H398=0,ROUND(ROUND(F398*I398,2)*G398,2),ROUND(G398*H398,2))","v":0},{"$f":"L398-ROUND(G398*I398,2)","v":0},null,{"$f":"J398+L398+N398","v":0.53},null,405.07,{"$f":"ROUND(Q398*E398,2)","v":295.7},{"$f":"ROUND(F398*Q398,2)","v":607.61},{"$f":"ROUND(S398*G398,2)","v":0},{"$f":"T398-ROUND(Q398*G398,2)","v":0},null,{"$f":"R398+T398+V398","v":295.7},null,null,null,null,null,null,null,null,null,null,null,{"$f":"IF($I398=AI$6,$E398,0)","v":0},{"$f":"IF($K398=ROUND(AI$6*$F398,2),$G398,0)","v":0},{"$f":"IF($H398>0,AI398,0)","v":0},{"$f":"IF(AK398>0,1,0)","v":0},{"$f":"IF($H398>0,AJ398,0)","v":0},{"$f":"IF(AM398>0,1,0)","v":0},{"$f":"IF($I398=AO$6,$E398,0)","v":0},{"$f":"IF($K398=ROUND(AO$6*$F398,2),$G398,0)","v":0},{"$f":"IF($H398>0,AO398,0)","v":0},{"$f":"IF(AQ398>0,1,0)","v":0},{"$f":"IF($H398>0,AP398,0)","v":0},{"$f":"IF(AS398>0,1,0)","v":0},{"$f":"IF($I398=AU$6,$E398,0)","v":0.73},{"$f":"IF($K398=ROUND(AU$6*$F398,2),$G398,0)","v":0},{"$f":"IF($H398>0,AU398,0)","v":0.73},{"$f":"IF(AW398>0,1,0)","v":1},{"$f":"IF($H398>0,AV398,0)","v":0},{"$f":"IF(AY398>0,1,0)","v":0},{"$f":"IF($I398=BA$6,$E398,0)","v":0},{"$f":"IF($K398=ROUND(BA$6*$F398,2),$G398,0)","v":0},{"$f":"IF($H398>0,BA398,0)","v":0},{"$f":"IF(BC398>0,1,0)","v":0},{"$f":"IF($H398>0,BB398,0)","v":0},{"$f":"IF(BE398>0,1,0)","v":0},null,7.2999999999999996E-4,1.1000000000000001,null,null,0]
[{"$f":"IF(E399+G399>0,A398,\"\")","v":""},{"$f":"IF(E399+G399>0,B398,\"\")","v":""},6,"03-4-23.627(333)",0,1.1000000000000001,0,0,{"$f":"SUMIF(Y$14:BA$14,C399,Y$6:BA$6)","v":1733.45},{"$f":"IF(H399=0,ROUND(E399*I399,2),ROUND(H399*E399,2))","v":0},{"$f":"ROUND(F399*I399,2)","v":1906.8},{"$f":"IF(H399=0,ROUND(ROUND(F399*I399,2)*G399,2),ROUND(G399*H399,2))","v":0},{"$f":"L399-ROUND(G399*I399,2)","v":0},null,{"$f":"J399+L399+N399","v":0},null,405.07,{"$f":"ROUND(Q399*E399,2)","v":0},{"$f":"ROUND(F399*Q399,2)","v":445.58},{"$f":"ROUND(S399*G399,2)","v":0},{"$f":"T399-ROUND(Q399*G399,2)","v":0},null,{"$f":"R399+T399+V399","v":0},null,null,null,null,null,null,null,null,null,null,null,{"$f":"IF($I399=AI$6,$E399,0)","v":0},0,{"$f":"IF($H399>0,AI399,0)","v":0},{"$f":"IF(AK399>0,1,0)","v":0},{"$f":"IF($H399>0,AJ399,0)","v":0},{"$f":"IF(AM399>0,1,0)","v":0},{"$f":"IF($I399=AO$6,$E399,0)","v":0},0,{"$f":"IF($H399>0,AO399,0)","v":0},{"$f":"IF(AQ399>0,1,0)","v":0},{"$f":"IF($H399>0,AP399,0)","v":0},{"$f":"IF(AS399>0,1,0)","v":0},{"$f":"IF($I399=AU$6,$E399,0)","v":0},0,{"$f":"IF($H399>0,AU399,0)","v":0},{"$f":"IF(AW399>0,1,0)","v":0},{"$f":"IF($H399>0,AV399,0)","v":0},{"$f":"IF(AY399>0,1,0)","v":0},{"$f":"IF($I399=BA$6,$E399,0)","v":0},0,{"$f":"IF($H399>0,BA399,0)","v":0},{"$f":"IF(BC399>0,1,0)","v":0},{"$f":"IF($H399>0,BB399,0)","v":0},{"$f":"IF(BE399>0,1,0)","v":0},null,0,null,null,null,0]
[{"$f":"IF(E400+G400>0,A398,\"\")","v":""},{"$f":"IF(E400+G400>0,B398,\"\")","v":""},{"$f":"C399","v":6},"03-4-23.627(333)",0,1.5,0,0,{"$f":"SUMIF(Y$14:BA$14,C400,Y$7:BA$7)","v":0},0,0,0,0,null,0,null,{"$f":"IF(BI400>0,Q$6,Q$6)","v":405.07},0,607.61,0,0,null,0,null,null,null,null,null,null,null,null,null,null,null,{"$f":"IF($I400=AI$7,$E400,0)","v":0},{"$f":"IF($K400=ROUND(AI$7*$F400,2),$G400,0)","v":0},0,0,0,0,{"$f":"IF($I400=AO$7,$E400,0)","v":0},{"$f":"IF($K400=ROUND(AO$7*$F400,2),$G400,0)","v":0},0,0,0,0,{"$f":"IF($I400=AU$7,$E400,0)","v":0},{"$f":"IF($K400=ROUND(AU$7*$F400,2),$G400,0)","v":0},0,0,0,0,{"$f":"IF($I400=BA$7,$E400,0)","v":0},{"$f":"IF($K400=ROUND(BA$7*$F400,2),$G400,0)","v":0},0,0,0,0,null,0,null,null,null,0]
[{"$f":"IF(E401+G401>0,A398,\"\")","v":""},{"$f":"IF(E401+G401>0,B398,\"\")","v":""},{"$f":"C399","v":6},"03-4-23.627(333)",0,1.1000000000000001,0,{"$f":"E401+G401","v":0},{"$f":"SUMIF(Y$14:BA$14,C401,Y$7:BA$7)","v":0},0,0,0,0,null,0,null,405.07,0,445.58,0,0,null,0,null,null,null,null,null,null,null,null,null,null,null,{"$f":"IF($I401=AI$7,$E401,0)","v":0},{"$f":"IF($K401=ROUND(AI$7*$F401,2),$G401,0)","v":0},0,0,0,0,{"$f":"IF($I401=AO$7,$E401,0)","v":0},{"$f":"IF($K401=ROUND(AO$7*$F401,2),$G401,0)","v":0},0,0,0,0,{"$f":"IF($I401=AU$7,$E401,0)","v":0},{"$f":"IF($K401=ROUND(AU$7*$F401,2),$G401,0)","v":0},0,0,0,0,{"$f":"IF($I401=BA$7,$E401,0)","v":0},{"$f":"IF($K401=ROUND(BA$7*$F401,2),$G401,0)","v":0},0,0,0,0,null,{"$f":"H401/1000","v":0},null,null,null,{"$f":"E401-SUM(AI401,AO401,AU401,BA401)","v":0}]
["ООО          \"ВельДез\"","Вельск, ул.Карла Маркса-1а, зд.1",{"$f":"C403","v":6},"03-4-23.627(333)",1.3720000000000001,1.5,0,1.3720000000000001,{"$f":"SUMIF(Y$14:BA$14,C402,Y$6:BA$6)","v":1733.45},{"$f":"IF(H402=0,ROUND(E402*I402,2),ROUND(H402*E402,2))","v":1.88},{"$f":"ROUND(F402*I402,2)","v":2600.1799999999998},{"$f":"IF(H402=0,ROUND(ROUND(F402*I402,2)*G402,2),ROUND(G402*H402,2))","v":0},{"$f":"L402-ROUND(G402*I402,2)","v":0},null,{"$f":"J402+L402+N402","v":1.88},null,405.07,{"$f":"ROUND(Q402*E402,2)","v":555.76},{"$f":"ROUND(F402*Q402,2)","v":607.61},{"$f":"ROUND(S402*G402,2)","v":0},{"$f":"T402-ROUND(Q402*G402,2)","v":0},null,{"$f":"R402+T402+V402","v":555.76},null,null,null,null,null,null,null,null,null,null,null,{"$f":"IF($I402=AI$6,$E402,0)","v":0},{"$f":"IF($K402=ROUND(AI$6*$F402,2),$G402,0)","v":0},{"$f":"IF($H402>0,AI402,0)","v":0},{"$f":"IF(AK402>0,1,0)","v":0},{"$f":"IF($H402>0,AJ402,0)","v":0},{"$f":"IF(AM402>0,1,0)","v":0},{"$f":"IF($I402=AO$6,$E402,0)","v":0},{"$f":"IF($K402=ROUND(AO$6*$F402,2),$G402,0)","v":0},{"$f":"IF($H402>0,AO402,0)","v":0},{"$f":"IF(AQ402>0,1,0)","v":0},{"$f":"IF($H402>0,AP402,0)","v":0},{"$f":"IF(AS402>0,1,0)","v":0},{"$f":"IF($I402=AU$6,$E402,0)","v":1.3720000000000001},{"$f":"IF($K402=ROUND(AU$6*$F402,2),$G402,0)","v":0},{"$f":"IF($H402>0,AU402,0)","v":1.3720000000000001},{"$f":"IF(AW402>0,1,0)","v":1},{"$f":"IF($H402>0,AV402,0)","v":0},{"$f":"IF(AY402>0,1,0)","v":0},{"$f":"IF($I402=BA$6,$E402,0)","v":0},{"$f":"IF($K402=ROUND(BA$6*$F402,2),$G402,0)","v":0},{"$f":"IF($H402>0,BA402,0)","v":0},{"$f":"IF(BC402>0,1,0)","v":0},{"$f":"IF($H402>0,BB402,0)","v":0},{"$f":"IF(BE402>0,1,0)","v":0},null,1.3720000000000002E-3,2.6999999999999997,null,null,0]
[{"$f":"IF(E403+G403>0,A402,\"\")","v":""},{"$f":"IF(E403+G403>0,B402,\"\")","v":""},6,"03-4-23.627(333)",0,1.1000000000000001,0,0,{"$f":"SUMIF(Y$14:BA$14,C403,Y$6:BA$6)","v":1733.45},{"$f":"IF(H403=0,ROUND(E403*I403,2),ROUND(H403*E403,2))","v":0},{"$f":"ROUND(F403*I403,2)","v":1906.8},{"$f":"IF(H403=0,ROUND(ROUND(F403*I403,2)*G403,2),ROUND(G403*H403,2))","v":0},{"$f":"L403-ROUND(G403*I403,2)","v":0},null,{"$f":"J403+L403+N403","v":0},null,405.07,{"$f":"ROUND(Q403*E403,2)","v":0},{"$f":"ROUND(F403*Q403,2)","v":445.58},{"$f":"ROUND(S403*G403,2)","v":0},{"$f":"T403-ROUND(Q403*G403,2)","v":0},null,{"$f":"R403+T403+V403","v":0},null,null,null,null,null,null,null,null,null,null,null,{"$f":"IF($I403=AI$6,$E403,0)","v":0},0,{"$f":"IF($H403>0,AI403,0)","v":0},{"$f":"IF(AK403>0,1,0)","v":0},{"$f":"IF($H403>0,AJ403,0)","v":0},{"$f":"IF(AM403>0,1,0)","v":0},{"$f":"IF($I403=AO$6,$E403,0)","v":0},0,{"$f":"IF($H403>0,AO403,0)","v":0},{"$f":"IF(AQ403>0,1,0)","v":0},{"$f":"IF($H403>0,AP403,0)","v":0},{"$f":"IF(AS403>0,1,0)","v":0},{"$f":"IF($I403=AU$6,$E403,0)","v":0},0,{"$f":"IF($H403>0,AU403,0)","v":0},{"$f":"IF(AW403>0,1,0)","v":0},{"$f":"IF($H403>0,AV403,0)","v":0},{"$f":"IF(AY403>0,1,0)","v":0},{"$f":"IF($I403=BA$6,$E403,0)","v":0},0,{"$f":"IF($H403>0,BA403,0)","v":0},{"$f":"IF(BC403>0,1,0)","v":0},{"$f":"IF($H403>0,BB403,0)","v":0},{"$f":"IF(BE403>0,1,0)","v":0},null,0,null,null,null,0]
[{"$f":"IF(E404+G404>0,A402,\"\")","v":""},{"$f":"IF(E404+G404>0,B402,\"\")","v":""},{"$f":"C403","v":6},"03-4-23.627(333)",0,1.5,0,0,{"$f":"SUMIF(Y$14:BA$14,C404,Y$7:BA$7)","v":0},0,0,0,0,null,0,null,405.07,0,607.61,0,0,null,0,null,null,null,null,null,null,null,null,null,null,null,{"$f":"IF($I404=AI$7,$E404,0)","v":0},{"$f":"IF($K404=ROUND(AI$7*$F404,2),$G404,0)","v":0},0,0,0,0,{"$f":"IF($I404=AO$7,$E404,0)","v":0},{"$f":"IF($K404=ROUND(AO$7*$F404,2),$G404,0)","v":0},0,0,0,0,{"$f":"IF($I404=AU$7,$E404,0)","v":0},{"$f":"IF($K404=ROUND(AU$7*$F404,2),$G404,0)","v":0},0,0,0,0,{"$f":"IF($I404=BA$7,$E404,0)","v":0},{"$f":"IF($K404=ROUND(BA$7*$F404,2),$G404,0)","v":0},0,0,0,0,null,0,null,null,null,0]
[{"$f":"IF(E405+G405>0,A402,\"\")","v":""},{"$f":"IF(E405+G405>0,B402,\"\")","v":""},{"$f":"C403","v":6},"03-4-23.627(333)",0,1.1000000000000001,0,0,{"$f":"SUMIF(Y$14:BA$14,C405,Y$7:BA$7)","v":0},0,0,0,0,null,0,null,405.07,0,445.58,0,0,null,0,null,null,null,null,null,null,null,null,null,null,null,{"$f":"IF($I405=AI$7,$E405,0)","v":0},{"$f":"IF($K405=ROUND(AI$7*$F405,2),$G405,0)","v":0},0,0,0,0,{"$f":"IF($I405=AO$7,$E405,0)","v":0},{"$f":"IF($K405=ROUND(AO$7*$F405,2),$G405,0)","v":0},0,0,0,0,{"$f":"IF($I405=AU$7,$E405,0)","v":0},{"$f":"IF($K405=ROUND(AU$7*$F405,2),$G405,0)","v":0},0,0,0,0,{"$f":"IF($I405=BA$7,$E405,0)","v":0},{"$f":"IF($K405=ROUND(BA$7*$F405,2),$G405,0)","v":0},0,0,0,0,null,0,null,null,null,0]
["ИП                Поромов            Андрей  Павлович","",{"$f":"C407","v":7},"03-4-23.628(333)",0.71799999999999997,1.5,0,0.71799999999999997,{"$f":"SUMIF(Y$14:BA$14,C406,Y$6:BA$6)","v":2166.8000000000002},{"$f":"IF(H406=0,ROUND(E406*I406,2),ROUND(H406*E406,2))","v":0.52},{"$f":"ROUND(F406*I406,2)","v":3250.2},{"$f":"IF(H406=0,ROUND(ROUND(F406*I406,2)*G406,2),ROUND(G406*H406,2))","v":0},{"$f":"L406-ROUND(G406*I406,2)","v":0},null,{"$f":"J406+L406+N406","v":0.52},null,405.07,{"$f":"ROUND(Q406*E406,2)","v":290.83999999999997},{"$f":"ROUND(F406*Q406,2)","v":607.61},{"$f":"ROUND(S406*G406,2)","v":0},{"$f":"T406-ROUND(Q406*G406,2)","v":0},null,{"$f":"R406+T406+V406","v":290.83999999999997},null,null,null,null,null,null,null,null,null,null,null,{"$f":"IF($I406=AI$6,$E406,0)","v":0},{"$f":"IF($K406=ROUND(AI$6*$F406,2),$G406,0)","v":0},{"$f":"IF($H406>0,AI406,0)","v":0},{"$f":"IF(AK406>0,1,0)","v":0},{"$f":"IF($H406>0,AJ406,0)","v":0},{"$f":"IF(AM406>0,1,0)","v":0},{"$f":"IF($I406=AO$6,$E406,0)","v":0},{"$f":"IF($K406=ROUND(AO$6*$F406,2),$G406,0)","v":0},{"$f":"IF($H406>0,AO406,0)","v":0},{"$f":"IF(AQ406>0,1,0)","v":0},{"$f":"IF($H406>0,AP406,0)","v":0},{"$f":"IF(AS406>0,1,0)","v":0},{"$f":"IF($I406=AU$6,$E406,0)","v":0},{"$f":"IF($K406=ROUND(AU$6*$F406,2),$G406,0)","v":0},{"$f":"IF($H406>0,AU406,0)","v":0},{"$f":"IF(AW406>0,1,0)","v":0},{"$f":"IF($H406>0,AV406,0)","v":0},{"$f":"IF(AY406>0,1,0)","v":0},{"$f":"IF($I406=BA$6,$E406,0)","v":0.71799999999999997},{"$f":"IF($K406=ROUND(BA$6*$F406,2),$G406,0)","v":0},{"$f":"IF($H406>0,BA406,0)","v":0.71799999999999997},{"$f":"IF(BC406>0,1,0)","v":1},{"$f":"IF($H406>0,BB406,0)","v":0},{"$f":"IF(BE406>0,1,0)","v":0},null,7.18E-4,1,null,null,0]
[{"$f":"IF(E407+G407>0,A406,\"\")","v":""},{"$f":"IF(E407+G407>0,B406,\"\")","v":""},7,"03-4-23.628(333)",0,1.1000000000000001,0,0,{"$f":"SUMIF(Y$14:BA$14,C407,Y$6:BA$6)","v":2166.8000000000002},{"$f":"IF(H407=0,ROUND(E407*I407,2),ROUND(H407*E407,2))","v":0},{"$f":"ROUND(F407*I407,2)","v":2383.48},{"$f":"IF(H407=0,ROUND(ROUND(F407*I407,2)*G407,2),ROUND(G407*H407,2))","v":0},{"$f":"L407-ROUND(G407*I407,2)","v":0},null,{"$f":"J407+L407+N407","v":0},null,405.07,{"$f":"ROUND(Q407*E407,2)","v":0},{"$f":"ROUND(F407*Q407,2)","v":445.58},{"$f":"ROUND(S407*G407,2)","v":0},{"$f":"T407-ROUND(Q407*G407,2)","v":0},null,{"$f":"R407+T407+V407","v":0},null,null,null,null,null,null,null,null,null,null,null,{"$f":"IF($I407=AI$6,$E407,0)","v":0},0,{"$f":"IF($H407>0,AI407,0)","v":0},{"$f":"IF(AK407>0,1,0)","v":0},{"$f":"IF($H407>0,AJ407,0)","v":0},{"$f":"IF(AM407>0,1,0)","v":0},{"$f":"IF($I407=AO$6,$E407,0)","v":0},0,{"$f":"IF($H407>0,AO407,0)","v":0},{"$f":"IF(AQ407>0,1,0)","v":0},{"$f":"IF($H407>0,AP407,0)","v":0},{"$f":"IF(AS407>0,1,0)","v":0},{"$f":"IF($I407=AU$6,$E407,0)","v":0},0,{"$f":"IF($H407>0,AU407,0)","v":0},{"$f":"IF(AW407>0,1,0)","v":0},{"$f":"IF($H407>0,AV407,0)","v":0},{"$f":"IF(AY407>0,1,0)","v":0},{"$f":"IF($I407=BA$6,$E407,0)","v":0},0,{"$f":"IF($H407>0,BA407,0)","v":0},{"$f":"IF(BC407>0,1,0)","v":0},{"$f":"IF($H407>0,BB407,0)","v":0},{"$f":"IF(BE407>0,1,0)","v":0},null,0,null,null,null,0]
[{"$f":"IF(E408+G408>0,A406,\"\")","v":""},{"$f":"IF(E408+G408>0,B406,\"\")","v":""},{"$f":"C407","v":7},"03-4-23.628(333)",0,1.5,0,0,{"$f":"SUMIF(Y$14:BA$14,C408,Y$7:BA$7)","v":0},0,0,0,0,null,0,null,405.07,0,607.61,0,0,null,0,null,null,null,null,null,null,null,null,null,null,null,{"$f":"IF($I408=AI$7,$E408,0)","v":0},{"$f":"IF($K408=ROUND(AI$7*$F408,2),$G408,0)","v":0},0,0,0,0,{"$f":"IF($I408=AO$7,$E408,0)","v":0},{"$f":"IF($K408=ROUND(AO$7*$F408,2),$G408,0)","v":0},0,0,0,0,{"$f":"IF($I408=AU$7,$E408,0)","v":0},{"$f":"IF($K408=ROUND(AU$7*$F408,2),$G408,0)","v":0},0,0,0,0,{"$f":"IF($I408=BA$7,$E408,0)","v":0},{"$f":"IF($K408=ROUND(BA$7*$F408,2),$G408,0)","v":0},0,0,0,0,null,0,null,null,null,0]
[{"$f":"IF(E409+G409>0,A406,\"\")","v":""},{"$f":"IF(E409+G409>0,B406,\"\")","v":""},{"$f":"C407","v":7},"03-4-23.628(333)",0,1.1000000000000001,0,0,{"$f":"SUMIF(Y$14:BA$14,C409,Y$7:BA$7)","v":0},0,0,0,0,null,0,null,405.07,0,445.58,0,0,null,0,null,null,null,null,null,null,null,null,null,null,null,{"$f":"IF($I409=AI$7,$E409,0)","v":0},{"$f":"IF($K409=ROUND(AI$7*$F409,2),$G409,0)","v":0},0,0,0,0,{"$f":"IF($I409=AO$7,$E409,0)","v":0},{"$f":"IF($K409=ROUND(AO$7*$F409,2),$G409,0)","v":0},0,0,0,0,{"$f":"IF($I409=AU$7,$E409,0)","v":0},{"$f":"IF($K409=ROUND(AU$7*$F409,2),$G409,0)","v":0},0,0,0,0,{"$f":"IF($I409=BA$7,$E409,0)","v":0},{"$f":"IF($K409=ROUND(BA$7*$F409,2),$G409,0)","v":0},0,0,0,0,null,0,null,null,null,0]
["ООО           \"У домов\" ","",{"$f":"C411","v":7},"03-4-23.631(333)",0,1.5,0,0,{"$f":"SUMIF(Y$14:BA$14,C410,Y$6:BA$6)","v":2166.8000000000002},{"$f":"IF(H410=0,ROUND(E410*I410,2),ROUND(H410*E410,2))","v":0},{"$f":"ROUND(F410*I410,2)","v":3250.2},{"$f":"IF(H410=0,ROUND(ROUND(F410*I410,2)*G410,2),ROUND(G410*H410,2))","v":0},{"$f":"L410-ROUND(G410*I410,2)","v":0},null,{"$f":"J410+L410+N410","v":0},null,405.07,{"$f":"ROUND(Q410*E410,2)","v":0},{"$f":"ROUND(F410*Q410,2)","v":607.61},{"$f":"ROUND(S410*G410,2)","v":0},{"$f":"T410-ROUND(Q410*G410,2)","v":0},null,{"$f":"R410+T410+V410","v":0},null,null,null,null,null,null,null,null,null,null,null,{"$f":"IF($I410=AI$6,$E410,0)","v":0},{"$f":"IF($K410=ROUND(AI$6*$F410,2),$G410,0)","v":0},{"$f":"IF($H410>0,AI410,0)","v":0},{"$f":"IF(AK410>0,1,0)","v":0},{"$f":"IF($H410>0,AJ410,0)","v":0},{"$f":"IF(AM410>0,1,0)","v":0},{"$f":"IF($I410=AO$6,$E410,0)","v":0},{"$f":"IF($K410=ROUND(AO$6*$F410,2),$G410,0)","v":0},{"$f":"IF($H410>0,AO410,0)","v":0},{"$f":"IF(AQ410>0,1,0)","v":0},{"$f":"IF($H410>0,AP410,0)","v":0},{"$f":"IF(AS410>0,1,0)","v":0},{"$f":"IF($I410=AU$6,$E410,0)","v":0},{"$f":"IF($K410=ROUND(AU$6*$F410,2),$G410,0)","v":0},{"$f":"IF($H410>0,AU410,0)","v":0},{"$f":"IF(AW410>0,1,0)","v":0},{"$f":"IF($H410>0,AV410,0)","v":0},{"$f":"IF(AY410>0,1,0)","v":0},{"$f":"IF($I410=BA$6,$E410,0)","v":0},{"$f":"IF($K410=ROUND(BA$6*$F410,2),$G410,0)","v":0},{"$f":"IF($H410>0,BA410,0)","v":0},{"$f":"IF(BC410>0,1,0)","v":0},{"$f":"IF($H410>0,BB410,0)","v":0},{"$f":"IF(BE410>0,1,0)","v":0},null,0,0.9,null,null,0]
[{"$f":"IF(E411+G411>0,A410,\"\")","v":""},{"$f":"IF(E411+G411>0,B410,\"\")","v":""},7,"03-4-23.631(333)",0,1.1000000000000001,0,0,{"$f":"SUMIF(Y$14:BA$14,C411,Y$6:BA$6)","v":2166.8000000000002},{"$f":"IF(H411=0,ROUND(E411*I411,2),ROUND(H411*E411,2))","v":0},{"$f":"ROUND(F411*I411,2)","v":2383.48},{"$f":"IF(H411=0,ROUND(ROUND(F411*I411,2)*G411,2),ROUND(G411*H411,2))","v":0},{"$f":"L411-ROUND(G411*I411,2)","v":0},null,{"$f":"J411+L411+N411","v":0},null,405.07,{"$f":"ROUND(Q411*E411,2)","v":0},{"$f":"ROUND(F411*Q411,2)","v":445.58},{"$f":"ROUND(S411*G411,2)","v":0},{"$f":"T411-ROUND(Q411*G411,2)","v":0},null,{"$f":"R411+T411+V411","v":0},null,null,null,null,null,null,null,null,null,null,null,{"$f":"IF($I411=AI$6,$E411,0)","v":0},0,{"$f":"IF($H411>0,AI411,0)","v":0},{"$f":"IF(AK411>0,1,0)","v":0},{"$f":"IF($H411>0,AJ411,0)","v":0},{"$f":"IF(AM411>0,1,0)","v":0},{"$f":"IF($I411=AO$6,$E411,0)","v":0},0,{"$f":"IF($H411>0,AO411,0)","v":0},{"$f":"IF(AQ411>0,1,0)","v":0},{"$f":"IF($H411>0,AP411,0)","v":0},{"$f":"IF(AS411>0,1,0)","v":0},{"$f":"IF($I411=AU$6,$E411,0)","v":0},0,{"$f":"IF($H411>0,AU411,0)","v":0},{"$f":"IF(AW411>0,1,0)","v":0},{"$f":"IF($H411>0,AV411,0)","v":0},{"$f":"IF(AY411>0,1,0)","v":0},{"$f":"IF($I411=BA$6,$E411,0)","v":0},0,{"$f":"IF($H411>0,BA411,0)","v":0},{"$f":"IF(BC411>0,1,0)","v":0},{"$f":"IF($H411>0,BB411,0)","v":0},{"$f":"IF(BE411>0,1,0)","v":0},null,0,null,null,null,0]
[{"$f":"IF(E412+G412>0,A410,\"\")","v":""},{"$f":"IF(E412+G412>0,B410,\"\")","v":""},{"$f":"C411","v":7},"03-4-23.631(333)",0,1.5,0,0,{"$f":"SUMIF(Y$14:BA$14,C412,Y$7:BA$7)","v":0},0,0,0,0,null,0,null,405.07,0,607.61,0,0,null,0,null,null,null,null,null,null,null,null,null,null,null,{"$f":"IF($I412=AI$7,$E412,0)","v":0},{"$f":"IF($K412=ROUND(AI$7*$F412,2),$G412,0)","v":0},0,0,0,0,{"$f":"IF($I412=AO$7,$E412,0)","v":0},{"$f":"IF($K412=ROUND(AO$7*$F412,2),$G412,0)","v":0},0,0,0,0,{"$f":"IF($I412=AU$7,$E412,0)","v":0},{"$f":"IF($K412=ROUND(AU$7*$F412,2),$G412,0)","v":0},0,0,0,0,{"$f":"IF($I412=BA$7,$E412,0)","v":0},{"$f":"IF($K412=ROUND(BA$7*$F412,2),$G412,0)","v":0},0,0,0,0,null,0,null,null,null,0]
[{"$f":"IF(E413+G413>0,A410,\"\")","v":""},{"$f":"IF(E413+G413>0,B410,\"\")","v":""},{"$f":"C411","v":7},"03-4-23.631(333)",0,1.1000000000000001,0,0,{"$f":"SUMIF(Y$14:BA$14,C413,Y$7:BA$7)","v":0},0,0,0,0,null,0,null,405.07,0,445.58,0,0,null,0,null,null,null,null,null,null,null,null,null,null,null,{"$f":"IF($I413=AI$7,$E413,0)","v":0},{"$f":"IF($K413=ROUND(AI$7*$F413,2),$G413,0)","v":0},0,0,0,0,{"$f":"IF($I413=AO$7,$E413,0)","v":0},{"$f":"IF($K413=ROUND(AO$7*$F413,2),$G413,0)","v":0},0,0,0,0,{"$f":"IF($I413=AU$7,$E413,0)","v":0},{"$f":"IF($K413=ROUND(AU$7*$F413,2),$G413,0)","v":0},0,0,0,0,{"$f":"IF($I413=BA$7,$E413,0)","v":0},{"$f":"IF($K413=ROUND(BA$7*$F413,2),$G413,0)","v":0},0,0,0,0,null,0,null,null,null,0]
["ООО          \"Мой Дом\" ","Вельск, ул.Попова-17",{"$f":"C415","v":6},"03-4-23.634",0.55300000000000005,1.5,0,0.55300000000000005,{"$f":"SUMIF(Y$14:BA$14,C414,Y$6:BA$6)","v":1733.45},{"$f":"IF(H414=0,ROUND(E414*I414,2),ROUND(H414*E414,2))","v":0.31},{"$f":"ROUND(F414*I414,2)","v":2600.1799999999998},{"$f":"IF(H414=0,ROUND(ROUND(F414*I414,2)*G414,2),ROUND(G414*H414,2))","v":0},{"$f":"L414-ROUND(G414*I414,2)","v":0},null,{"$f":"J414+L414+N414","v":0.31},null,405.07,{"$f":"ROUND(Q414*E414,2)","v":224},{"$f":"ROUND(F414*Q414,2)","v":607.61},{"$f":"ROUND(S414*G414,2)","v":0},{"$f":"T414-ROUND(Q414*G414,2)","v":0},null,{"$f":"R414+T414+V414","v":224},null,null,null,null,null,null,null,null,null,null,null,{"$f":"IF($I414=AI$6,$E414,0)","v":0},{"$f":"IF($K414=ROUND(AI$6*$F414,2),$G414,0)","v":0},{"$f":"IF($H414>0,AI414,0)","v":0},{"$f":"IF(AK414>0,1,0)","v":0},{"$f":"IF($H414>0,AJ414,0)","v":0},{"$f":"IF(AM414>0,1,0)","v":0},{"$f":"IF($I414=AO$6,$E414,0)","v":0},{"$f":"IF($K414=ROUND(AO$6*$F414,2),$G414,0)","v":0},{"$f":"IF($H414>0,AO414,0)","v":0},{"$f":"IF(AQ414>0,1,0)","v":0},{"$f":"IF($H414>0,AP414,0)","v":0},{"$f":"IF(AS414>0,1,0)","v":0},{"$f":"IF($I414=AU$6,$E414,0)","v":0.55300000000000005},{"$f":"IF($K414=ROUND(AU$6*$F414,2),$G414,0)","v":0},{"$f":"IF($H414>0,AU414,0)","v":0.55300000000000005},{"$f":"IF(AW414>0,1,0)","v":1},{"$f":"IF($H414>0,AV414,0)","v":0},{"$f":"IF(AY414>0,1,0)","v":0},{"$f":"IF($I414=BA$6,$E414,0)","v":0},{"$f":"IF($K414=ROUND(BA$6*$F414,2),$G414,0)","v":0},{"$f":"IF($H414>0,BA414,0)","v":0},{"$f":"IF(BC414>0,1,0)","v":0},{"$f":"IF($H414>0,BB414,0)","v":0},{"$f":"IF(BE414>0,1,0)","v":0},null,5.53E-4,2.6,null,null,0]
[{"$f":"IF(E415+G415>0,A414,\"\")","v":""},{"$f":"IF(E415+G415>0,B414,\"\")","v":""},6,"03-4-23.634",0,1.1000000000000001,0,0,{"$f":"SUMIF(Y$14:BA$14,C415,Y$6:BA$6)","v":1733.45},{"$f":"IF(H415=0,ROUND(E415*I415,2),ROUND(H415*E415,2))","v":0},{"$f":"ROUND(F415*I415,2)","v":1906.8},{"$f":"IF(H415=0,ROUND(ROUND(F415*I415,2)*G415,2),ROUND(G415*H415,2))","v":0},{"$f":"L415-ROUND(G415*I415,2)","v":0},null,{"$f":"J415+L415+N415","v":0},null,405.07,{"$f":"ROUND(Q415*E415,2)","v":0},{"$f":"ROUND(F415*Q415,2)","v":445.58},{"$f":"ROUND(S415*G415,2)","v":0},{"$f":"T415-ROUND(Q415*G415,2)","v":0},null,{"$f":"R415+T415+V415","v":0},null,null,null,null,null,null,null,null,null,null,null,{"$f":"IF($I415=AI$6,$E415,0)","v":0},0,{"$f":"IF($H415>0,AI415,0)","v":0},{"$f":"IF(AK415>0,1,0)","v":0},{"$f":"IF($H415>0,AJ415,0)","v":0},{"$f":"IF(AM415>0,1,0)","v":0},{"$f":"IF($I415=AO$6,$E415,0)","v":0},0,{"$f":"IF($H415>0,AO415,0)","v":0},{"$f":"IF(AQ415>0,1,0)","v":0},{"$f":"IF($H415>0,AP415,0)","v":0},{"$f":"IF(AS415>0,1,0)","v":0},{"$f":"IF($I415=AU$6,$E415,0)","v":0},0,{"$f":"IF($H415>0,AU415,0)","v":0},{"$f":"IF(AW415>0,1,0)","v":0},{"$f":"IF($H415>0,AV415,0)","v":0},{"$f":"IF(AY415>0,1,0)","v":0},{"$f":"IF($I415=BA$6,$E415,0)","v":0},0,{"$f":"IF($H415>0,BA415,0)","v":0},{"$f":"IF(BC415>0,1,0)","v":0},{"$f":"IF($H415>0,BB415,0)","v":0},{"$f":"IF(BE415>0,1,0)","v":0},null,0,null,null,null,0]
[{"$f":"IF(E416+G416>0,A414,\"\")","v":""},{"$f":"IF(E416+G416>0,B414,\"\")","v":""},{"$f":"C415","v":6},"03-4-23.634",0,1.5,0,0,{"$f":"SUMIF(Y$14:BA$14,C416,Y$7:BA$7)","v":0},0,0,0,0,null,0,null,405.07,0,607.61,0,0,null,0,null,null,null,null,null,null,null,null,null,null,null,{"$f":"IF($I416=AI$7,$E416,0)","v":0},{"$f":"IF($K416=ROUND(AI$7*$F416,2),$G416,0)","v":0},0,0,0,0,{"$f":"IF($I416=AO$7,$E416,0)","v":0},{"$f":"IF($K416=ROUND(AO$7*$F416,2),$G416,0)","v":0},0,0,0,0,{"$f":"IF($I416=AU$7,$E416,0)","v":0},{"$f":"IF($K416=ROUND(AU$7*$F416,2),$G416,0)","v":0},0,0,0,0,{"$f":"IF($I416=BA$7,$E416,0)","v":0},{"$f":"IF($K416=ROUND(BA$7*$F416,2),$G416,0)","v":0},0,0,0,0,null,0,null,null,null,0]
[{"$f":"IF(E417+G417>0,A414,\"\")","v":""},{"$f":"IF(E417+G417>0,B414,\"\")","v":""},{"$f":"C415","v":6},"03-4-23.634",0,1.1000000000000001,0,0,{"$f":"SUMIF(Y$14:BA$14,C417,Y$7:BA$7)","v":0},0,0,0,0,null,0,null,405.07,0,445.58,0,0,null,0,null,null,null,null,null,null,null,null,null,null,null,{"$f":"IF($I417=AI$7,$E417,0)","v":0},{"$f":"IF($K417=ROUND(AI$7*$F417,2),$G417,0)","v":0},0,0,0,0,{"$f":"IF($I417=AO$7,$E417,0)","v":0},{"$f":"IF($K417=ROUND(AO$7*$F417,2),$G417,0)","v":0},0,0,0,0,{"$f":"IF($I417=AU$7,$E417,0)","v":0},{"$f":"IF($K417=ROUND(AU$7*$F417,2),$G417,0)","v":0},0,0,0,0,{"$f":"IF($I417=BA$7,$E417,0)","v":0},{"$f":"IF($K417=ROUND(BA$7*$F417,2),$G417,0)","v":0},0,0,0,0,null,0,null,null,null,0]
["ООО          \"Мой Дом\" ","Вельск, ул.Попова-17",{"$f":"C419","v":6},"03-4-23.634(333)",0,1.5,0,0,{"$f":"SUMIF(Y$14:BA$14,C418,Y$6:BA$6)","v":1733.45},{"$f":"IF(H418=0,ROUND(E418*I418,2),ROUND(H418*E418,2))","v":0},{"$f":"ROUND(F418*I418,2)","v":2600.1799999999998},{"$f":"IF(H418=0,ROUND(ROUND(F418*I418,2)*G418,2),ROUND(G418*H418,2))","v":0},{"$f":"L418-ROUND(G418*I418,2)","v":0},null,{"$f":"J418+L418+N418","v":0},null,405.07,{"$f":"ROUND(Q418*E418,2)","v":0},{"$f":"ROUND(F418*Q418,2)","v":607.61},{"$f":"ROUND(S418*G418,2)","v":0},{"$f":"T418-ROUND(Q418*G418,2)","v":0},null,{"$f":"R418+T418+V418","v":0},null,null,null,null,null,null,null,null,null,null,null,{"$f":"IF($I418=AI$6,$E418,0)","v":0},{"$f":"IF($K418=ROUND(AI$6*$F418,2),$G418,0)","v":0},{"$f":"IF($H418>0,AI418,0)","v":0},{"$f":"IF(AK418>0,1,0)","v":0},{"$f":"IF($H418>0,AJ418,0)","v":0},{"$f":"IF(AM418>0,1,0)","v":0},{"$f":"IF($I418=AO$6,$E418,0)","v":0},{"$f":"IF($K418=ROUND(AO$6*$F418,2),$G418,0)","v":0},{"$f":"IF($H418>0,AO418,0)","v":0},{"$f":"IF(AQ418>0,1,0)","v":0},{"$f":"IF($H418>0,AP418,0)","v":0},{"$f":"IF(AS418>0,1,0)","v":0},{"$f":"IF($I418=AU$6,$E418,0)","v":0},{"$f":"IF($K418=ROUND(AU$6*$F418,2),$G418,0)","v":0},{"$f":"IF($H418>0,AU418,0)","v":0},{"$f":"IF(AW418>0,1,0)","v":0},{"$f":"IF($H418>0,AV418,0)","v":0},{"$f":"IF(AY418>0,1,0)","v":0},{"$f":"IF($I418=BA$6,$E418,0)","v":0},{"$f":"IF($K418=ROUND(BA$6*$F418,2),$G418,0)","v":0},{"$f":"IF($H418>0,BA418,0)","v":0},{"$f":"IF(BC418>0,1,0)","v":0},{"$f":"IF($H418>0,BB418,0)","v":0},{"$f":"IF(BE418>0,1,0)","v":0},null,0,0.13500000000000001,null,null,0]
[{"$f":"IF(E419+G419>0,A418,\"\")","v":""},{"$f":"IF(E419+G419>0,B418,\"\")","v":""},6,"03-4-23.634(333)",0,1.1000000000000001,0,0,{"$f":"SUMIF(Y$14:BA$14,C419,Y$6:BA$6)","v":1733.45},{"$f":"IF(H419=0,ROUND(E419*I419,2),ROUND(H419*E419,2))","v":0},{"$f":"ROUND(F419*I419,2)","v":1906.8},{"$f":"IF(H419=0,ROUND(ROUND(F419*I419,2)*G419,2),ROUND(G419*H419,2))","v":0},{"$f":"L419-ROUND(G419*I419,2)","v":0},null,{"$f":"J419+L419+N419","v":0},null,405.07,{"$f":"ROUND(Q419*E419,2)","v":0},{"$f":"ROUND(F419*Q419,2)","v":445.58},{"$f":"ROUND(S419*G419,2)","v":0},{"$f":"T419-ROUND(Q419*G419,2)","v":0},null,{"$f":"R419+T419+V419","v":0},null,null,null,null,null,null,null,null,null,null,null,{"$f":"IF($I419=AI$6,$E419,0)","v":0},0,{"$f":"IF($H419>0,AI419,0)","v":0},{"$f":"IF(AK419>0,1,0)","v":0},{"$f":"IF($H419>0,AJ419,0)","v":0},{"$f":"IF(AM419>0,1,0)","v":0},{"$f":"IF($I419=AO$6,$E419,0)","v":0},0,{"$f":"IF($H419>0,AO419,0)","v":0},{"$f":"IF(AQ419>0,1,0)","v":0},{"$f":"IF($H419>0,AP419,0)","v":0},{"$f":"IF(AS419>0,1,0)","v":0},{"$f":"IF($I419=AU$6,$E419,0)","v":0},0,{"$f":"IF($H419>0,AU419,0)","v":0},{"$f":"IF(AW419>0,1,0)","v":0},{"$f":"IF($H419>0,AV419,0)","v":0},{"$f":"IF(AY419>0,1,0)","v":0},{"$f":"IF($I419=BA$6,$E419,0)","v":0},0,{"$f":"IF($H419>0,BA419,0)","v":0},{"$f":"IF(BC419>0,1,0)","v":0},{"$f":"IF($H419>0,BB419,0)","v":0},{"$f":"IF(BE419>0,1,0)","v":0},null,0,null,null,null,0]
[{"$f":"IF(E420+G420>0,A418,\"\")","v":""},{"$f":"IF(E420+G420>0,B418,\"\")","v":""},{"$f":"C419","v":6},"03-4-23.634(333)",0,1.5,0,0,{"$f":"SUMIF(Y$14:BA$14,C420,Y$7:BA$7)","v":0},0,0,0,0,null,0,null,405.07,0,607.61,0,0,null,0,null,null,null,null,null,null,null,null,null,null,null,{"$f":"IF($I420=AI$7,$E420,0)","v":0},{"$f":"IF($K420=ROUND(AI$7*$F420,2),$G420,0)","v":0},0,0,0,0,{"$f":"IF($I420=AO$7,$E420,0)","v":0},{"$f":"IF($K420=ROUND(AO$7*$F420,2),$G420,0)","v":0},0,0,0,0,{"$f":"IF($I420=AU$7,$E420,0)","v":0},{"$f":"IF($K420=ROUND(AU$7*$F420,2),$G420,0)","v":0},0,0,0,0,{"$f":"IF($I420=BA$7,$E420,0)","v":0},{"$f":"IF($K420=ROUND(BA$7*$F420,2),$G420,0)","v":0},0,0,0,0,null,0,null,null,null,0]
[{"$f":"IF(E421+G421>0,A418,\"\")","v":""},{"$f":"IF(E421+G421>0,B418,\"\")","v":""},{"$f":"C419","v":6},"03-4-23.634(333)",0,1.1000000000000001,0,0,{"$f":"SUMIF(Y$14:BA$14,C421,Y$7:BA$7)","v":0},0,0,0,0,null,0,null,405.07,0,445.58,0,0,null,0,null,null,null,null,null,null,null,null,null,null,null,{"$f":"IF($I421=AI$7,$E421,0)","v":0},{"$f":"IF($K421=ROUND(AI$7*$F421,2),$G421,0)","v":0},0,0,0,0,{"$f":"IF($I421=AO$7,$E421,0)","v":0},{"$f":"IF($K421=ROUND(AO$7*$F421,2),$G421,0)","v":0},0,0,0,0,{"$f":"IF($I421=AU$7,$E421,0)","v":0},{"$f":"IF($K421=ROUND(AU$7*$F421,2),$G421,0)","v":0},0,0,0,0,{"$f":"IF($I421=BA$7,$E421,0)","v":0},{"$f":"IF($K421=ROUND(BA$7*$F421,2),$G421,0)","v":0},0,0,0,0,null,0,null,null,null,0]
["ИП               Поляков             Василий  Павлович","",{"$f":"C423","v":6},"03-4-23.636(333)",1.6859999999999999,1.5,0,1.6859999999999999,{"$f":"SUMIF(Y$14:BA$14,C422,Y$6:BA$6)","v":1733.45},{"$f":"IF(H422=0,ROUND(E422*I422,2),ROUND(H422*E422,2))","v":2.84},{"$f":"ROUND(F422*I422,2)","v":2600.1799999999998},{"$f":"IF(H422=0,ROUND(ROUND(F422*I422,2)*G422,2),ROUND(G422*H422,2))","v":0},{"$f":"L422-ROUND(G422*I422,2)","v":0},null,{"$f":"J422+L422+N422","v":2.84},null,405.07,{"$f":"ROUND(Q422*E422,2)","v":682.95},{"$f":"ROUND(F422*Q422,2)","v":607.61},{"$f":"ROUND(S422*G422,2)","v":0},{"$f":"T422-ROUND(Q422*G422,2)","v":0},null,{"$f":"R422+T422+V422","v":682.95},null,null,null,null,null,null,null,null,null,null,null,{"$f":"IF($I422=AI$6,$E422,0)","v":0},{"$f":"IF($K422=ROUND(AI$6*$F422,2),$G422,0)","v":0},{"$f":"IF($H422>0,AI422,0)","v":0},{"$f":"IF(AK422>0,1,0)","v":0},{"$f":"IF($H422>0,AJ422,0)","v":0},{"$f":"IF(AM422>0,1,0)","v":0},{"$f":"IF($I422=AO$6,$E422,0)","v":0},{"$f":"IF($K422=ROUND(AO$6*$F422,2),$G422,0)","v":0},{"$f":"IF($H422>0,AO422,0)","v":0},{"$f":"IF(AQ422>0,1,0)","v":0},{"$f":"IF($H422>0,AP422,0)","v":0},{"$f":"IF(AS422>0,1,0)","v":0},{"$f":"IF($I422=AU$6,$E422,0)","v":1.6859999999999999},{"$f":"IF($K422=ROUND(AU$6*$F422,2),$G422,0)","v":0},{"$f":"IF($H422>0,AU422,0)","v":1.6859999999999999},{"$f":"IF(AW422>0,1,0)","v":1},{"$f":"IF($H422>0,AV422,0)","v":0},{"$f":"IF(AY422>0,1,0)","v":0},{"$f":"IF($I422=BA$6,$E422,0)","v":0},{"$f":"IF($K422=ROUND(BA$6*$F422,2),$G422,0)","v":0},{"$f":"IF($H422>0,BA422,0)","v":0},{"$f":"IF(BC422>0,1,0)","v":0},{"$f":"IF($H422>0,BB422,0)","v":0},{"$f":"IF(BE422>0,1,0)","v":0},null,1.686E-3,2,null,null,0]
[{"$f":"IF(E423+G423>0,A422,\"\")","v":""},{"$f":"IF(E423+G423>0,B422,\"\")","v":""},6,"03-4-23.636(333)",0,1.1000000000000001,0,0,{"$f":"SUMIF(Y$14:BA$14,C423,Y$6:BA$6)","v":1733.45},{"$f":"IF(H423=0,ROUND(E423*I423,2),ROUND(H423*E423,2))","v":0},{"$f":"ROUND(F423*I423,2)","v":1906.8},{"$f":"IF(H423=0,ROUND(ROUND(F423*I423,2)*G423,2),ROUND(G423*H423,2))","v":0},{"$f":"L423-ROUND(G423*I423,2)","v":0},null,{"$f":"J423+L423+N423","v":0},null,405.07,{"$f":"ROUND(Q423*E423,2)","v":0},{"$f":"ROUND(F423*Q423,2)","v":445.58},{"$f":"ROUND(S423*G423,2)","v":0},{"$f":"T423-ROUND(Q423*G423,2)","v":0},null,{"$f":"R423+T423+V423","v":0},null,null,null,null,null,null,null,null,null,null,null,{"$f":"IF($I423=AI$6,$E423,0)","v":0},0,{"$f":"IF($H423>0,AI423,0)","v":0},{"$f":"IF(AK423>0,1,0)","v":0},{"$f":"IF($H423>0,AJ423,0)","v":0},{"$f":"IF(AM423>0,1,0)","v":0},{"$f":"IF($I423=AO$6,$E423,0)","v":0},0,{"$f":"IF($H423>0,AO423,0)","v":0},{"$f":"IF(AQ423>0,1,0)","v":0},{"$f":"IF($H423>0,AP423,0)","v":0},{"$f":"IF(AS423>0,1,0)","v":0},{"$f":"IF($I423=AU$6,$E423,0)","v":0},0,{"$f":"IF($H423>0,AU423,0)","v":0},{"$f":"IF(AW423>0,1,0)","v":0},{"$f":"IF($H423>0,AV423,0)","v":0},{"$f":"IF(AY423>0,1,0)","v":0},{"$f":"IF($I423=BA$6,$E423,0)","v":0},0,{"$f":"IF($H423>0,BA423,0)","v":0},{"$f":"IF(BC423>0,1,0)","v":0},{"$f":"IF($H423>0,BB423,0)","v":0},{"$f":"IF(BE423>0,1,0)","v":0},null,0,null,null,null,0]
[{"$f":"IF(E424+G424>0,A422,\"\")","v":""},{"$f":"IF(E424+G424>0,B422,\"\")","v":""},{"$f":"C423","v":6},"03-4-23.636(333)",0,1.5,0,0,{"$f":"SUMIF(Y$14:BA$14,C424,Y$7:BA$7)","v":0},0,0,0,0,null,0,null,405.07,0,607.61,0,0,null,0,null,null,null,null,null,null,null,null,null,null,null,{"$f":"IF($I424=AI$7,$E424,0)","v":0},{"$f":"IF($K424=ROUND(AI$7*$F424,2),$G424,0)","v":0},0,0,0,0,{"$f":"IF($I424=AO$7,$E424,0)","v":0},{"$f":"IF($K424=ROUND(AO$7*$F424,2),$G424,0)","v":0},0,0,0,0,{"$f":"IF($I424=AU$7,$E424,0)","v":0},{"$f":"IF($K424=ROUND(AU$7*$F424,2),$G424,0)","v":0},0,0,0,0,{"$f":"IF($I424=BA$7,$E424,0)","v":0},{"$f":"IF($K424=ROUND(BA$7*$F424,2),$G424,0)","v":0},0,0,0,0,null,0,null,null,null,0]
[{"$f":"IF(E425+G425>0,A422,\"\")","v":""},{"$f":"IF(E425+G425>0,B422,\"\")","v":""},{"$f":"C423","v":6},"03-4-23.636(333)",0,1.1000000000000001,0,0,{"$f":"SUMIF(Y$14:BA$14,C425,Y$7:BA$7)","v":0},0,0,0,0,null,0,null,405.07,0,445.58,0,0,null,0,null,null,null,null,null,null,null,null,null,null,null,{"$f":"IF($I425=AI$7,$E425,0)","v":0},{"$f":"IF($K425=ROUND(AI$7*$F425,2),$G425,0)","v":0},0,0,0,0,{"$f":"IF($I425=AO$7,$E425,0)","v":0},{"$f":"IF($K425=ROUND(AO$7*$F425,2),$G425,0)","v":0},0,0,0,0,{"$f":"IF($I425=AU$7,$E425,0)","v":0},{"$f":"IF($K425=ROUND(AU$7*$F425,2),$G425,0)","v":0},0,0,0,0,{"$f":"IF($I425=BA$7,$E425,0)","v":0},{"$f":"IF($K425=ROUND(BA$7*$F425,2),$G425,0)","v":0},0,0,0,0,null,0,null,null,null,0]
["ООО          \"ТТС\"","",{"$f":"C427","v":7},"03-4-23.637(333)",6.3E-2,1.5,0,6.3E-2,{"$f":"SUMIF(Y$14:BA$14,C426,Y$6:BA$6)","v":2166.8000000000002},{"$f":"IF(H426=0,ROUND(E426*I426,2),ROUND(H426*E426,2))","v":0},{"$f":"ROUND(F426*I426,2)","v":3250.2},{"$f":"IF(H426=0,ROUND(ROUND(F426*I426,2)*G426,2),ROUND(G426*H426,2))","v":0},{"$f":"L426-ROUND(G426*I426,2)","v":0},null,{"$f":"J426+L426+N426","v":0},null,405.07,{"$f":"ROUND(Q426*E426,2)","v":25.52},{"$f":"ROUND(F426*Q426,2)","v":607.61},{"$f":"ROUND(S426*G426,2)","v":0},{"$f":"T426-ROUND(Q426*G426,2)","v":0},null,{"$f":"R426+T426+V426","v":25.52},null,null,null,null,null,null,null,null,null,null,null,{"$f":"IF($I426=AI$6,$E426,0)","v":0},{"$f":"IF($K426=ROUND(AI$6*$F426,2),$G426,0)","v":0},{"$f":"IF($H426>0,AI426,0)","v":0},{"$f":"IF(AK426>0,1,0)","v":0},{"$f":"IF($H426>0,AJ426,0)","v":0},{"$f":"IF(AM426>0,1,0)","v":0},{"$f":"IF($I426=AO$6,$E426,0)","v":0},{"$f":"IF($K426=ROUND(AO$6*$F426,2),$G426,0)","v":0},{"$f":"IF($H426>0,AO426,0)","v":0},{"$f":"IF(AQ426>0,1,0)","v":0},{"$f":"IF($H426>0,AP426,0)","v":0},{"$f":"IF(AS426>0,1,0)","v":0},{"$f":"IF($I426=AU$6,$E426,0)","v":0},{"$f":"IF($K426=ROUND(AU$6*$F426,2),$G426,0)","v":0},{"$f":"IF($H426>0,AU426,0)","v":0},{"$f":"IF(AW426>0,1,0)","v":0},{"$f":"IF($H426>0,AV426,0)","v":0},{"$f":"IF(AY426>0,1,0)","v":0},{"$f":"IF($I426=BA$6,$E426,0)","v":6.3E-2},{"$f":"IF($K426=ROUND(BA$6*$F426,2),$G426,0)","v":0},{"$f":"IF($H426>0,BA426,0)","v":6.3E-2},{"$f":"IF(BC426>0,1,0)","v":1},{"$f":"IF($H426>0,BB426,0)","v":0},{"$f":"IF(BE426>0,1,0)","v":0},null,6.3E-5,0.3,null,null,0]
[{"$f":"IF(E427+G427>0,A426,\"\")","v":""},{"$f":"IF(E427+G427>0,B426,\"\")","v":""},7,"03-4-23.637(333)",0,1.1000000000000001,0,0,{"$f":"SUMIF(Y$14:BA$14,C427,Y$6:BA$6)","v":2166.8000000000002},{"$f":"IF(H427=0,ROUND(E427*I427,2),ROUND(H427*E427,2))","v":0},{"$f":"ROUND(F427*I427,2)","v":2383.48},{"$f":"IF(H427=0,ROUND(ROUND(F427*I427,2)*G427,2),ROUND(G427*H427,2))","v":0},{"$f":"L427-ROUND(G427*I427,2)","v":0},null,{"$f":"J427+L427+N427","v":0},null,405.07,{"$f":"ROUND(Q427*E427,2)","v":0},{"$f":"ROUND(F427*Q427,2)","v":445.58},{"$f":"ROUND(S427*G427,2)","v":0},{"$f":"T427-ROUND(Q427*G427,2)","v":0},null,{"$f":"R427+T427+V427","v":0},null,null,null,null,null,null,null,null,null,null,null,{"$f":"IF($I427=AI$6,$E427,0)","v":0},0,{"$f":"IF($H427>0,AI427,0)","v":0},{"$f":"IF(AK427>0,1,0)","v":0},{"$f":"IF($H427>0,AJ427,0)","v":0},{"$f":"IF(AM427>0,1,0)","v":0},{"$f":"IF($I427=AO$6,$E427,0)","v":0},0,{"$f":"IF($H427>0,AO427,0)","v":0},{"$f":"IF(AQ427>0,1,0)","v":0},{"$f":"IF($H427>0,AP427,0)","v":0},{"$f":"IF(AS427>0,1,0)","v":0},{"$f":"IF($I427=AU$6,$E427,0)","v":0},0,{"$f":"IF($H427>0,AU427,0)","v":0},{"$f":"IF(AW427>0,1,0)","v":0},{"$f":"IF($H427>0,AV427,0)","v":0},{"$f":"IF(AY427>0,1,0)","v":0},{"$f":"IF($I427=BA$6,$E427,0)","v":0},0,{"$f":"IF($H427>0,BA427,0)","v":0},{"$f":"IF(BC427>0,1,0)","v":0},{"$f":"IF($H427>0,BB427,0)","v":0},{"$f":"IF(BE427>0,1,0)","v":0},null,0,null,null,null,0]
[{"$f":"IF(E428+G428>0,A426,\"\")","v":""},{"$f":"IF(E428+G428>0,B426,\"\")","v":""},{"$f":"C427","v":7},"03-4-23.637(333)",0,1.5,0,0,{"$f":"SUMIF(Y$14:BA$14,C428,Y$7:BA$7)","v":0},0,0,0,0,null,0,null,405.07,0,607.61,0,0,null,0,null,null,null,null,null,null,null,null,null,null,null,{"$f":"IF($I428=AI$7,$E428,0)","v":0},{"$f":"IF($K428=ROUND(AI$7*$F428,2),$G428,0)","v":0},0,0,0,0,{"$f":"IF($I428=AO$7,$E428,0)","v":0},{"$f":"IF($K428=ROUND(AO$7*$F428,2),$G428,0)","v":0},0,0,0,0,{"$f":"IF($I428=AU$7,$E428,0)","v":0},{"$f":"IF($K428=ROUND(AU$7*$F428,2),$G428,0)","v":0},0,0,0,0,{"$f":"IF($I428=BA$7,$E428,0)","v":0},{"$f":"IF($K428=ROUND(BA$7*$F428,2),$G428,0)","v":0},0,0,0,0,null,0,null,null,null,0]
[{"$f":"IF(E429+G429>0,A426,\"\")","v":""},{"$f":"IF(E429+G429>0,B426,\"\")","v":""},{"$f":"C427","v":7},"03-4-23.637(333)",0,1.1000000000000001,0,0,{"$f":"SUMIF(Y$14:BA$14,C429,Y$7:BA$7)","v":0},0,0,0,0,null,0,null,405.07,0,445.58,0,0,null,0,null,null,null,null,null,null,null,null,null,null,null,{"$f":"IF($I429=AI$7,$E429,0)","v":0},{"$f":"IF($K429=ROUND(AI$7*$F429,2),$G429,0)","v":0},0,0,0,0,{"$f":"IF($I429=AO$7,$E429,0)","v":0},{"$f":"IF($K429=ROUND(AO$7*$F429,2),$G429,0)","v":0},0,0,0,0,{"$f":"IF($I429=AU$7,$E429,0)","v":0},{"$f":"IF($K429=ROUND(AU$7*$F429,2),$G429,0)","v":0},0,0,0,0,{"$f":"IF($I429=BA$7,$E429,0)","v":0},{"$f":"IF($K429=ROUND(BA$7*$F429,2),$G429,0)","v":0},0,0,0,0,null,0,null,null,null,0]
["ООО КЭС  \"КОРАЛЛ\"","",{"$f":"C431","v":6},"03-4-23.640(333)",0.72,1.5,0,0.72,{"$f":"SUMIF(Y$14:BA$14,C430,Y$6:BA$6)","v":1733.45},{"$f":"IF(H430=0,ROUND(E430*I430,2),ROUND(H430*E430,2))","v":0.52},{"$f":"ROUND(F430*I430,2)","v":2600.1799999999998},{"$f":"IF(H430=0,ROUND(ROUND(F430*I430,2)*G430,2),ROUND(G430*H430,2))","v":0},{"$f":"L430-ROUND(G430*I430,2)","v":0},null,{"$f":"J430+L430+N430","v":0.52},null,405.07,{"$f":"ROUND(Q430*E430,2)","v":291.64999999999998},{"$f":"ROUND(F430*Q430,2)","v":607.61},{"$f":"ROUND(S430*G430,2)","v":0},{"$f":"T430-ROUND(Q430*G430,2)","v":0},null,{"$f":"R430+T430+V430","v":291.64999999999998},null,null,null,null,null,null,null,null,null,null,null,{"$f":"IF($I430=AI$6,$E430,0)","v":0},{"$f":"IF($K430=ROUND(AI$6*$F430,2),$G430,0)","v":0},{"$f":"IF($H430>0,AI430,0)","v":0},{"$f":"IF(AK430>0,1,0)","v":0},{"$f":"IF($H430>0,AJ430,0)","v":0},{"$f":"IF(AM430>0,1,0)","v":0},{"$f":"IF($I430=AO$6,$E430,0)","v":0},{"$f":"IF($K430=ROUND(AO$6*$F430,2),$G430,0)","v":0},{"$f":"IF($H430>0,AO430,0)","v":0},{"$f":"IF(AQ430>0,1,0)","v":0},{"$f":"IF($H430>0,AP430,0)","v":0},{"$f":"IF(AS430>0,1,0)","v":0},{"$f":"IF($I430=AU$6,$E430,0)","v":0.72},{"$f":"IF($K430=ROUND(AU$6*$F430,2),$G430,0)","v":0},{"$f":"IF($H430>0,AU430,0)","v":0.72},{"$f":"IF(AW430>0,1,0)","v":1},{"$f":"IF($H430>0,AV430,0)","v":0},{"$f":"IF(AY430>0,1,0)","v":0},{"$f":"IF($I430=BA$6,$E430,0)","v":0},{"$f":"IF($K430=ROUND(BA$6*$F430,2),$G430,0)","v":0},{"$f":"IF($H430>0,BA430,0)","v":0},{"$f":"IF(BC430>0,1,0)","v":0},{"$f":"IF($H430>0,BB430,0)","v":0},{"$f":"IF(BE430>0,1,0)","v":0},null,7.1999999999999994E-4,1.3,null,null,0]
[{"$f":"IF(E431+G431>0,A430,\"\")","v":""},{"$f":"IF(E431+G431>0,B430,\"\")","v":""},6,"03-4-23.640(333)",0,1.1000000000000001,0,0,{"$f":"SUMIF(Y$14:BA$14,C431,Y$6:BA$6)","v":1733.45},{"$f":"IF(H431=0,ROUND(E431*I431,2),ROUND(H431*E431,2))","v":0},{"$f":"ROUND(F431*I431,2)","v":1906.8},{"$f":"IF(H431=0,ROUND(ROUND(F431*I431,2)*G431,2),ROUND(G431*H431,2))","v":0},{"$f":"L431-ROUND(G431*I431,2)","v":0},null,{"$f":"J431+L431+N431","v":0},null,405.07,{"$f":"ROUND(Q431*E431,2)","v":0},{"$f":"ROUND(F431*Q431,2)","v":445.58},{"$f":"ROUND(S431*G431,2)","v":0},{"$f":"T431-ROUND(Q431*G431,2)","v":0},null,{"$f":"R431+T431+V431","v":0},null,null,null,null,null,null,null,null,null,null,null,{"$f":"IF($I431=AI$6,$E431,0)","v":0},0,{"$f":"IF($H431>0,AI431,0)","v":0},{"$f":"IF(AK431>0,1,0)","v":0},{"$f":"IF($H431>0,AJ431,0)","v":0},{"$f":"IF(AM431>0,1,0)","v":0},{"$f":"IF($I431=AO$6,$E431,0)","v":0},0,{"$f":"IF($H431>0,AO431,0)","v":0},{"$f":"IF(AQ431>0,1,0)","v":0},{"$f":"IF($H431>0,AP431,0)","v":0},{"$f":"IF(AS431>0,1,0)","v":0},{"$f":"IF($I431=AU$6,$E431,0)","v":0},0,{"$f":"IF($H431>0,AU431,0)","v":0},{"$f":"IF(AW431>0,1,0)","v":0},{"$f":"IF($H431>0,AV431,0)","v":0},{"$f":"IF(AY431>0,1,0)","v":0},{"$f":"IF($I431=BA$6,$E431,0)","v":0},0,{"$f":"IF($H431>0,BA431,0)","v":0},{"$f":"IF(BC431>0,1,0)","v":0},{"$f":"IF($H431>0,BB431,0)","v":0},{"$f":"IF(BE431>0,1,0)","v":0},null,0,null,null,null,0]
[{"$f":"IF(E432+G432>0,A430,\"\")","v":""},{"$f":"IF(E432+G432>0,B430,\"\")","v":""},{"$f":"C431","v":6},"03-4-23.640(333)",0,1.5,0,0,{"$f":"SUMIF(Y$14:BA$14,C432,Y$7:BA$7)","v":0},0,0,0,0,null,0,null,405.07,0,607.61,0,0,null,0,null,null,null,null,null,null,null,null,null,null,null,{"$f":"IF($I432=AI$7,$E432,0)","v":0},{"$f":"IF($K432=ROUND(AI$7*$F432,2),$G432,0)","v":0},0,0,0,0,{"$f":"IF($I432=AO$7,$E432,0)","v":0},{"$f":"IF($K432=ROUND(AO$7*$F432,2),$G432,0)","v":0},0,0,0,0,{"$f":"IF($I432=AU$7,$E432,0)","v":0},{"$f":"IF($K432=ROUND(AU$7*$F432,2),$G432,0)","v":0},0,0,0,0,{"$f":"IF($I432=BA$7,$E432,0)","v":0},{"$f":"IF($K432=ROUND(BA$7*$F432,2),$G432,0)","v":0},0,0,0,0,null,0,null,null,null,0]
[{"$f":"IF(E433+G433>0,A430,\"\")","v":""},{"$f":"IF(E433+G433>0,B430,\"\")","v":""},{"$f":"C431","v":6},"03-4-23.640(333)",0,1.1000000000000001,0,0,{"$f":"SUMIF(Y$14:BA$14,C433,Y$7:BA$7)","v":0},0,0,0,0,null,0,null,405.07,0,445.58,0,0,null,0,null,null,null,null,null,null,null,null,null,null,null,{"$f":"IF($I433=AI$7,$E433,0)","v":0},{"$f":"IF($K433=ROUND(AI$7*$F433,2),$G433,0)","v":0},0,0,0,0,{"$f":"IF($I433=AO$7,$E433,0)","v":0},{"$f":"IF($K433=ROUND(AO$7*$F433,2),$G433,0)","v":0},0,0,0,0,{"$f":"IF($I433=AU$7,$E433,0)","v":0},{"$f":"IF($K433=ROUND(AU$7*$F433,2),$G433,0)","v":0},0,0,0,0,{"$f":"IF($I433=BA$7,$E433,0)","v":0},{"$f":"IF($K433=ROUND(BA$7*$F433,2),$G433,0)","v":0},0,0,0,0,null,0,null,null,null,0]
["ИП               Истомин           Сергей Николаевич","",{"$f":"C435","v":7},"03-4-23.643(333)",0.26900000000000002,1.5,0,0.26900000000000002,{"$f":"SUMIF(Y$14:BA$14,C434,Y$6:BA$6)","v":2166.8000000000002},{"$f":"IF(H434=0,ROUND(E434*I434,2),ROUND(H434*E434,2))","v":7.0000000000000007E-2},{"$f":"ROUND(F434*I434,2)","v":3250.2},{"$f":"IF(H434=0,ROUND(ROUND(F434*I434,2)*G434,2),ROUND(G434*H434,2))","v":0},{"$f":"L434-ROUND(G434*I434,2)","v":0},null,{"$f":"J434+L434+N434","v":7.0000000000000007E-2},null,405.07,{"$f":"ROUND(Q434*E434,2)","v":108.96},{"$f":"ROUND(F434*Q434,2)","v":607.61},{"$f":"ROUND(S434*G434,2)","v":0},{"$f":"T434-ROUND(Q434*G434,2)","v":0},null,{"$f":"R434+T434+V434","v":108.96},null,null,null,null,null,null,null,null,null,null,null,{"$f":"IF($I434=AI$6,$E434,0)","v":0},{"$f":"IF($K434=ROUND(AI$6*$F434,2),$G434,0)","v":0},{"$f":"IF($H434>0,AI434,0)","v":0},{"$f":"IF(AK434>0,1,0)","v":0},{"$f":"IF($H434>0,AJ434,0)","v":0},{"$f":"IF(AM434>0,1,0)","v":0},{"$f":"IF($I434=AO$6,$E434,0)","v":0},{"$f":"IF($K434=ROUND(AO$6*$F434,2),$G434,0)","v":0},{"$f":"IF($H434>0,AO434,0)","v":0},{"$f":"IF(AQ434>0,1,0)","v":0},{"$f":"IF($H434>0,AP434,0)","v":0},{"$f":"IF(AS434>0,1,0)","v":0},{"$f":"IF($I434=AU$6,$E434,0)","v":0},{"$f":"IF($K434=ROUND(AU$6*$F434,2),$G434,0)","v":0},{"$f":"IF($H434>0,AU434,0)","v":0},{"$f":"IF(AW434>0,1,0)","v":0},{"$f":"IF($H434>0,AV434,0)","v":0},{"$f":"IF(AY434>0,1,0)","v":0},{"$f":"IF($I434=BA$6,$E434,0)","v":0.26900000000000002},{"$f":"IF($K434=ROUND(BA$6*$F434,2),$G434,0)","v":0},{"$f":"IF($H434>0,BA434,0)","v":0.26900000000000002},{"$f":"IF(BC434>0,1,0)","v":1},{"$f":"IF($H434>0,BB434,0)","v":0},{"$f":"IF(BE434>0,1,0)","v":0},null,2.6900000000000003E-4,0.6,null,null,0]
[{"$f":"IF(E435+G435>0,A434,\"\")","v":""},{"$f":"IF(E435+G435>0,B434,\"\")","v":""},7,"03-4-23.643(333)",0,1.1000000000000001,0,0,{"$f":"SUMIF(Y$14:BA$14,C435,Y$6:BA$6)","v":2166.8000000000002},{"$f":"IF(H435=0,ROUND(E435*I435,2),ROUND(H435*E435,2))","v":0},{"$f":"ROUND(F435*I435,2)","v":2383.48},{"$f":"IF(H435=0,ROUND(ROUND(F435*I435,2)*G435,2),ROUND(G435*H435,2))","v":0},{"$f":"L435-ROUND(G435*I435,2)","v":0},null,{"$f":"J435+L435+N435","v":0},null,405.07,{"$f":"ROUND(Q435*E435,2)","v":0},{"$f":"ROUND(F435*Q435,2)","v":445.58},{"$f":"ROUND(S435*G435,2)","v":0},{"$f":"T435-ROUND(Q435*G435,2)","v":0},null,{"$f":"R435+T435+V435","v":0},null,null,null,null,null,null,null,null,null,null,null,{"$f":"IF($I435=AI$6,$E435,0)","v":0},0,{"$f":"IF($H435>0,AI435,0)","v":0},{"$f":"IF(AK435>0,1,0)","v":0},{"$f":"IF($H435>0,AJ435,0)","v":0},{"$f":"IF(AM435>0,1,0)","v":0},{"$f":"IF($I435=AO$6,$E435,0)","v":0},0,{"$f":"IF($H435>0,AO435,0)","v":0},{"$f":"IF(AQ435>0,1,0)","v":0},{"$f":"IF($H435>0,AP435,0)","v":0},{"$f":"IF(AS435>0,1,0)","v":0},{"$f":"IF($I435=AU$6,$E435,0)","v":0},0,{"$f":"IF($H435>0,AU435,0)","v":0},{"$f":"IF(AW435>0,1,0)","v":0},{"$f":"IF($H435>0,AV435,0)","v":0},{"$f":"IF(AY435>0,1,0)","v":0},{"$f":"IF($I435=BA$6,$E435,0)","v":0},0,{"$f":"IF($H435>0,BA435,0)","v":0},{"$f":"IF(BC435>0,1,0)","v":0},{"$f":"IF($H435>0,BB435,0)","v":0},{"$f":"IF(BE435>0,1,0)","v":0},null,0,null,null,null,0]
[{"$f":"IF(E436+G436>0,A434,\"\")","v":""},{"$f":"IF(E436+G436>0,B434,\"\")","v":""},{"$f":"C435","v":7},"03-4-23.643(333)",0,1.5,0,0,{"$f":"SUMIF(Y$14:BA$14,C436,Y$7:BA$7)","v":0},0,0,0,0,null,0,null,405.07,0,607.61,0,0,null,0,null,null,null,null,null,null,null,null,null,null,null,{"$f":"IF($I436=AI$7,$E436,0)","v":0},{"$f":"IF($K436=ROUND(AI$7*$F436,2),$G436,0)","v":0},0,0,0,0,{"$f":"IF($I436=AO$7,$E436,0)","v":0},{"$f":"IF($K436=ROUND(AO$7*$F436,2),$G436,0)","v":0},0,0,0,0,{"$f":"IF($I436=AU$7,$E436,0)","v":0},{"$f":"IF($K436=ROUND(AU$7*$F436,2),$G436,0)","v":0},0,0,0,0,{"$f":"IF($I436=BA$7,$E436,0)","v":0},{"$f":"IF($K436=ROUND(BA$7*$F436,2),$G436,0)","v":0},0,0,0,0,null,0,null,null,null,0]
[{"$f":"IF(E437+G437>0,A434,\"\")","v":""},{"$f":"IF(E437+G437>0,B434,\"\")","v":""},{"$f":"C435","v":7},"03-4-23.643(333)",0,1.1000000000000001,0,0,{"$f":"SUMIF(Y$14:BA$14,C437,Y$7:BA$7)","v":0},0,0,0,0,null,0,null,405.07,0,445.58,0,0,null,0,null,null,null,null,null,null,null,null,null,null,null,{"$f":"IF($I437=AI$7,$E437,0)","v":0},{"$f":"IF($K437=ROUND(AI$7*$F437,2),$G437,0)","v":0},0,0,0,0,{"$f":"IF($I437=AO$7,$E437,0)","v":0},{"$f":"IF($K437=ROUND(AO$7*$F437,2),$G437,0)","v":0},0,0,0,0,{"$f":"IF($I437=AU$7,$E437,0)","v":0},{"$f":"IF($K437=ROUND(AU$7*$F437,2),$G437,0)","v":0},0,0,0,0,{"$f":"IF($I437=BA$7,$E437,0)","v":0},{"$f":"IF($K437=ROUND(BA$7*$F437,2),$G437,0)","v":0},0,0,0,0,null,0,null,null,null,0]
["Гр.               Поскотинов      Эдуард Викторович","",{"$f":"C439","v":7},"03-4-23.655(333)",0.72799999999999998,1.5,0,0.72799999999999998,{"$f":"SUMIF(Y$14:BA$14,C438,Y$6:BA$6)","v":2166.8000000000002},{"$f":"IF(H438=0,ROUND(E438*I438,2),ROUND(H438*E438,2))","v":0.53},{"$f":"ROUND(F438*I438,2)","v":3250.2},{"$f":"IF(H438=0,ROUND(ROUND(F438*I438,2)*G438,2),ROUND(G438*H438,2))","v":0},{"$f":"L438-ROUND(G438*I438,2)","v":0},null,{"$f":"J438+L438+N438","v":0.53},null,405.07,{"$f":"ROUND(Q438*E438,2)","v":294.89},{"$f":"ROUND(F438*Q438,2)","v":607.61},{"$f":"ROUND(S438*G438,2)","v":0},{"$f":"T438-ROUND(Q438*G438,2)","v":0},null,{"$f":"R438+T438+V438","v":294.89},null,null,null,null,null,null,null,null,null,null,null,{"$f":"IF($I438=AI$6,$E438,0)","v":0},{"$f":"IF($K438=ROUND(AI$6*$F438,2),$G438,0)","v":0},{"$f":"IF($H438>0,AI438,0)","v":0},{"$f":"IF(AK438>0,1,0)","v":0},{"$f":"IF($H438>0,AJ438,0)","v":0},{"$f":"IF(AM438>0,1,0)","v":0},{"$f":"IF($I438=AO$6,$E438,0)","v":0},{"$f":"IF($K438=ROUND(AO$6*$F438,2),$G438,0)","v":0},{"$f":"IF($H438>0,AO438,0)","v":0},{"$f":"IF(AQ438>0,1,0)","v":0},{"$f":"IF($H438>0,AP438,0)","v":0},{"$f":"IF(AS438>0,1,0)","v":0},{"$f":"IF($I438=AU$6,$E438,0)","v":0},{"$f":"IF($K438=ROUND(AU$6*$F438,2),$G438,0)","v":0},{"$f":"IF($H438>0,AU438,0)","v":0},{"$f":"IF(AW438>0,1,0)","v":0},{"$f":"IF($H438>0,AV438,0)","v":0},{"$f":"IF(AY438>0,1,0)","v":0},{"$f":"IF($I438=BA$6,$E438,0)","v":0.72799999999999998},{"$f":"IF($K438=ROUND(BA$6*$F438,2),$G438,0)","v":0},{"$f":"IF($H438>0,BA438,0)","v":0.72799999999999998},{"$f":"IF(BC438>0,1,0)","v":1},{"$f":"IF($H438>0,BB438,0)","v":0},{"$f":"IF(BE438>0,1,0)","v":0},null,7.2800000000000002E-4,0.8,null,null,0]
[{"$f":"IF(E439+G439>0,A438,\"\")","v":""},{"$f":"IF(E439+G439>0,B438,\"\")","v":""},7,"03-4-23.655(333)",0,1.1000000000000001,0,0,{"$f":"SUMIF(Y$14:BA$14,C439,Y$6:BA$6)","v":2166.8000000000002},{"$f":"IF(H439=0,ROUND(E439*I439,2),ROUND(H439*E439,2))","v":0},{"$f":"ROUND(F439*I439,2)","v":2383.48},{"$f":"IF(H439=0,ROUND(ROUND(F439*I439,2)*G439,2),ROUND(G439*H439,2))","v":0},{"$f":"L439-ROUND(G439*I439,2)","v":0},null,{"$f":"J439+L439+N439","v":0},null,405.07,{"$f":"ROUND(Q439*E439,2)","v":0},{"$f":"ROUND(F439*Q439,2)","v":445.58},{"$f":"ROUND(S439*G439,2)","v":0},{"$f":"T439-ROUND(Q439*G439,2)","v":0},null,{"$f":"R439+T439+V439","v":0},null,null,null,null,null,null,null,null,null,null,null,{"$f":"IF($I439=AI$6,$E439,0)","v":0},0,{"$f":"IF($H439>0,AI439,0)","v":0},{"$f":"IF(AK439>0,1,0)","v":0},{"$f":"IF($H439>0,AJ439,0)","v":0},{"$f":"IF(AM439>0,1,0)","v":0},{"$f":"IF($I439=AO$6,$E439,0)","v":0},0,{"$f":"IF($H439>0,AO439,0)","v":0},{"$f":"IF(AQ439>0,1,0)","v":0},{"$f":"IF($H439>0,AP439,0)","v":0},{"$f":"IF(AS439>0,1,0)","v":0},{"$f":"IF($I439=AU$6,$E439,0)","v":0},0,{"$f":"IF($H439>0,AU439,0)","v":0},{"$f":"IF(AW439>0,1,0)","v":0},{"$f":"IF($H439>0,AV439,0)","v":0},{"$f":"IF(AY439>0,1,0)","v":0},{"$f":"IF($I439=BA$6,$E439,0)","v":0},0,{"$f":"IF($H439>0,BA439,0)","v":0},{"$f":"IF(BC439>0,1,0)","v":0},{"$f":"IF($H439>0,BB439,0)","v":0},{"$f":"IF(BE439>0,1,0)","v":0},null,0,null,null,null,0]
[{"$f":"IF(E440+G440>0,A438,\"\")","v":""},{"$f":"IF(E440+G440>0,B438,\"\")","v":""},{"$f":"C439","v":7},"03-4-23.655(333)",0,1.5,0,0,{"$f":"SUMIF(Y$14:BA$14,C440,Y$7:BA$7)","v":0},0,0,0,0,null,0,null,405.07,0,607.61,0,0,null,0,null,null,null,null,null,null,null,null,null,null,null,{"$f":"IF($I440=AI$7,$E440,0)","v":0},{"$f":"IF($K440=ROUND(AI$7*$F440,2),$G440,0)","v":0},0,0,0,0,{"$f":"IF($I440=AO$7,$E440,0)","v":0},{"$f":"IF($K440=ROUND(AO$7*$F440,2),$G440,0)","v":0},0,0,0,0,{"$f":"IF($I440=AU$7,$E440,0)","v":0},{"$f":"IF($K440=ROUND(AU$7*$F440,2),$G440,0)","v":0},0,0,0,0,{"$f":"IF($I440=BA$7,$E440,0)","v":0},{"$f":"IF($K440=ROUND(BA$7*$F440,2),$G440,0)","v":0},0,0,0,0,null,0,null,null,null,0]
[{"$f":"IF(E441+G441>0,A438,\"\")","v":""},{"$f":"IF(E441+G441>0,B438,\"\")","v":""},{"$f":"C439","v":7},"03-4-23.655(333)",0,1.1000000000000001,0,0,{"$f":"SUMIF(Y$14:BA$14,C441,Y$7:BA$7)","v":0},0,0,0,0,null,0,null,405.07,0,445.58,0,0,null,0,null,null,null,null,null,null,null,null,null,null,null,{"$f":"IF($I441=AI$7,$E441,0)","v":0},{"$f":"IF($K441=ROUND(AI$7*$F441,2),$G441,0)","v":0},0,0,0,0,{"$f":"IF($I441=AO$7,$E441,0)","v":0},{"$f":"IF($K441=ROUND(AO$7*$F441,2),$G441,0)","v":0},0,0,0,0,{"$f":"IF($I441=AU$7,$E441,0)","v":0},{"$f":"IF($K441=ROUND(AU$7*$F441,2),$G441,0)","v":0},0,0,0,0,{"$f":"IF($I441=BA$7,$E441,0)","v":0},{"$f":"IF($K441=ROUND(BA$7*$F441,2),$G441,0)","v":0},0,0,0,0,null,0,null,null,null,0]
["ИП             Саврасова        Елена Сергеевна","",{"$f":"C443","v":6},"03-4-23.661(333)",1.17,1.5,0,1.17,{"$f":"SUMIF(Y$14:BA$14,C442,Y$6:BA$6)","v":1733.45},{"$f":"IF(H442=0,ROUND(E442*I442,2),ROUND(H442*E442,2))","v":1.37},{"$f":"ROUND(F442*I442,2)","v":2600.1799999999998},{"$f":"IF(H442=0,ROUND(ROUND(F442*I442,2)*G442,2),ROUND(G442*H442,2))","v":0},{"$f":"L442-ROUND(G442*I442,2)","v":0},null,{"$f":"J442+L442+N442","v":1.37},null,405.07,{"$f":"ROUND(Q442*E442,2)","v":473.93},{"$f":"ROUND(F442*Q442,2)","v":607.61},{"$f":"ROUND(S442*G442,2)","v":0},{"$f":"T442-ROUND(Q442*G442,2)","v":0},null,{"$f":"R442+T442+V442","v":473.93},null,null,null,null,null,null,null,null,null,null,null,{"$f":"IF($I442=AI$6,$E442,0)","v":0},{"$f":"IF($K442=ROUND(AI$6*$F442,2),$G442,0)","v":0},{"$f":"IF($H442>0,AI442,0)","v":0},{"$f":"IF(AK442>0,1,0)","v":0},{"$f":"IF($H442>0,AJ442,0)","v":0},{"$f":"IF(AM442>0,1,0)","v":0},{"$f":"IF($I442=AO$6,$E442,0)","v":0},{"$f":"IF($K442=ROUND(AO$6*$F442,2),$G442,0)","v":0},{"$f":"IF($H442>0,AO442,0)","v":0},{"$f":"IF(AQ442>0,1,0)","v":0},{"$f":"IF($H442>0,AP442,0)","v":0},{"$f":"IF(AS442>0,1,0)","v":0},{"$f":"IF($I442=AU$6,$E442,0)","v":1.17},{"$f":"IF($K442=ROUND(AU$6*$F442,2),$G442,0)","v":0},{"$f":"IF($H442>0,AU442,0)","v":1.17},{"$f":"IF(AW442>0,1,0)","v":1},{"$f":"IF($H442>0,AV442,0)","v":0},{"$f":"IF(AY442>0,1,0)","v":0},{"$f":"IF($I442=BA$6,$E442,0)","v":0},{"$f":"IF($K442=ROUND(BA$6*$F442,2),$G442,0)","v":0},{"$f":"IF($H442>0,BA442,0)","v":0},{"$f":"IF(BC442>0,1,0)","v":0},{"$f":"IF($H442>0,BB442,0)","v":0},{"$f":"IF(BE442>0,1,0)","v":0},null,1.17E-3,1.2,null,null,0]
[{"$f":"IF(E443+G443>0,A442,\"\")","v":""},{"$f":"IF(E443+G443>0,B442,\"\")","v":""},6,"03-4-23.661(333)",0,1.1000000000000001,0,0,{"$f":"SUMIF(Y$14:BA$14,C443,Y$6:BA$6)","v":1733.45},{"$f":"IF(H443=0,ROUND(E443*I443,2),ROUND(H443*E443,2))","v":0},{"$f":"ROUND(F443*I443,2)","v":1906.8},{"$f":"IF(H443=0,ROUND(ROUND(F443*I443,2)*G443,2),ROUND(G443*H443,2))","v":0},{"$f":"L443-ROUND(G443*I443,2)","v":0},null,{"$f":"J443+L443+N443","v":0},null,405.07,{"$f":"ROUND(Q443*E443,2)","v":0},{"$f":"ROUND(F443*Q443,2)","v":445.58},{"$f":"ROUND(S443*G443,2)","v":0},{"$f":"T443-ROUND(Q443*G443,2)","v":0},null,{"$f":"R443+T443+V443","v":0},null,null,null,null,null,null,null,null,null,null,null,{"$f":"IF($I443=AI$6,$E443,0)","v":0},0,{"$f":"IF($H443>0,AI443,0)","v":0},{"$f":"IF(AK443>0,1,0)","v":0},{"$f":"IF($H443>0,AJ443,0)","v":0},{"$f":"IF(AM443>0,1,0)","v":0},{"$f":"IF($I443=AO$6,$E443,0)","v":0},0,{"$f":"IF($H443>0,AO443,0)","v":0},{"$f":"IF(AQ443>0,1,0)","v":0},{"$f":"IF($H443>0,AP443,0)","v":0},{"$f":"IF(AS443>0,1,0)","v":0},{"$f":"IF($I443=AU$6,$E443,0)","v":0},0,{"$f":"IF($H443>0,AU443,0)","v":0},{"$f":"IF(AW443>0,1,0)","v":0},{"$f":"IF($H443>0,AV443,0)","v":0},{"$f":"IF(AY443>0,1,0)","v":0},{"$f":"IF($I443=BA$6,$E443,0)","v":0},0,{"$f":"IF($H443>0,BA443,0)","v":0},{"$f":"IF(BC443>0,1,0)","v":0},{"$f":"IF($H443>0,BB443,0)","v":0},{"$f":"IF(BE443>0,1,0)","v":0},null,0,null,null,null,0]
[{"$f":"IF(E444+G444>0,A442,\"\")","v":""},{"$f":"IF(E444+G444>0,B442,\"\")","v":""},{"$f":"C443","v":6},"03-4-23.661(333)",0,1.5,0,0,{"$f":"SUMIF(Y$14:BA$14,C444,Y$7:BA$7)","v":0},0,0,0,0,null,0,null,405.07,0,607.61,0,0,null,0,null,null,null,null,null,null,null,null,null,null,null,{"$f":"IF($I444=AI$7,$E444,0)","v":0},{"$f":"IF($K444=ROUND(AI$7*$F444,2),$G444,0)","v":0},0,0,0,0,{"$f":"IF($I444=AO$7,$E444,0)","v":0},{"$f":"IF($K444=ROUND(AO$7*$F444,2),$G444,0)","v":0},0,0,0,0,{"$f":"IF($I444=AU$7,$E444,0)","v":0},{"$f":"IF($K444=ROUND(AU$7*$F444,2),$G444,0)","v":0},0,0,0,0,{"$f":"IF($I444=BA$7,$E444,0)","v":0},{"$f":"IF($K444=ROUND(BA$7*$F444,2),$G444,0)","v":0},0,0,0,0,null,0,null,null,null,0]
[{"$f":"IF(E445+G445>0,A442,\"\")","v":""},{"$f":"IF(E445+G445>0,B442,\"\")","v":""},{"$f":"C443","v":6},"03-4-23.661(333)",0,1.1000000000000001,0,0,{"$f":"SUMIF(Y$14:BA$14,C445,Y$7:BA$7)","v":0},0,0,0,0,null,0,null,405.07,0,445.58,0,0,null,0,null,null,null,null,null,null,null,null,null,null,null,{"$f":"IF($I445=AI$7,$E445,0)","v":0},{"$f":"IF($K445=ROUND(AI$7*$F445,2),$G445,0)","v":0},0,0,0,0,{"$f":"IF($I445=AO$7,$E445,0)","v":0},{"$f":"IF($K445=ROUND(AO$7*$F445,2),$G445,0)","v":0},0,0,0,0,{"$f":"IF($I445=AU$7,$E445,0)","v":0},{"$f":"IF($K445=ROUND(AU$7*$F445,2),$G445,0)","v":0},0,0,0,0,{"$f":"IF($I445=BA$7,$E445,0)","v":0},{"$f":"IF($K445=ROUND(BA$7*$F445,2),$G445,0)","v":0},0,0,0,0,null,0,null,null,null,0]
["Следственное управление СК РФ по АО и НАО","",{"$f":"C447","v":6},"03-4-22.665Б(333)",2.6890000000000001,1.5,0,2.6890000000000001,{"$f":"SUMIF(Y$14:BA$14,C446,Y$6:BA$6)","v":1733.45},{"$f":"IF(H446=0,ROUND(E446*I446,2),ROUND(H446*E446,2))","v":7.23},{"$f":"ROUND(F446*I446,2)","v":2600.1799999999998},{"$f":"IF(H446=0,ROUND(ROUND(F446*I446,2)*G446,2),ROUND(G446*H446,2))","v":0},{"$f":"L446-ROUND(G446*I446,2)","v":0},null,{"$f":"J446+L446+N446","v":7.23},null,405.07,{"$f":"ROUND(Q446*E446,2)","v":1089.23},{"$f":"ROUND(F446*Q446,2)","v":607.61},{"$f":"ROUND(S446*G446,2)","v":0},{"$f":"T446-ROUND(Q446*G446,2)","v":0},null,{"$f":"R446+T446+V446","v":1089.23},null,null,null,null,null,null,null,null,null,null,null,{"$f":"IF($I446=AI$6,$E446,0)","v":0},{"$f":"IF($K446=ROUND(AI$6*$F446,2),$G446,0)","v":0},{"$f":"IF($H446>0,AI446,0)","v":0},{"$f":"IF(AK446>0,1,0)","v":0},{"$f":"IF($H446>0,AJ446,0)","v":0},{"$f":"IF(AM446>0,1,0)","v":0},{"$f":"IF($I446=AO$6,$E446,0)","v":0},{"$f":"IF($K446=ROUND(AO$6*$F446,2),$G446,0)","v":0},{"$f":"IF($H446>0,AO446,0)","v":0},{"$f":"IF(AQ446>0,1,0)","v":0},{"$f":"IF($H446>0,AP446,0)","v":0},{"$f":"IF(AS446>0,1,0)","v":0},{"$f":"IF($I446=AU$6,$E446,0)","v":2.6890000000000001},{"$f":"IF($K446=ROUND(AU$6*$F446,2),$G446,0)","v":0},{"$f":"IF($H446>0,AU446,0)","v":2.6890000000000001},{"$f":"IF(AW446>0,1,0)","v":1},{"$f":"IF($H446>0,AV446,0)","v":0},{"$f":"IF(AY446>0,1,0)","v":0},{"$f":"IF($I446=BA$6,$E446,0)","v":0},{"$f":"IF($K446=ROUND(BA$6*$F446,2),$G446,0)","v":0},{"$f":"IF($H446>0,BA446,0)","v":0},{"$f":"IF(BC446>0,1,0)","v":0},{"$f":"IF($H446>0,BB446,0)","v":0},{"$f":"IF(BE446>0,1,0)","v":0},null,2.689E-3,2.2999999999999998,null,null,0]
[{"$f":"IF(E447+G447>0,A446,\"\")","v":""},{"$f":"IF(E447+G447>0,B446,\"\")","v":""},6,"03-4-22.665Б(333)",0,1.1000000000000001,0,0,{"$f":"SUMIF(Y$14:BA$14,C447,Y$6:BA$6)","v":1733.45},{"$f":"IF(H447=0,ROUND(E447*I447,2),ROUND(H447*E447,2))","v":0},{"$f":"ROUND(F447*I447,2)","v":1906.8},{"$f":"IF(H447=0,ROUND(ROUND(F447*I447,2)*G447,2),ROUND(G447*H447,2))","v":0},{"$f":"L447-ROUND(G447*I447,2)","v":0},null,{"$f":"J447+L447+N447","v":0},null,405.07,{"$f":"ROUND(Q447*E447,2)","v":0},{"$f":"ROUND(F447*Q447,2)","v":445.58},{"$f":"ROUND(S447*G447,2)","v":0},{"$f":"T447-ROUND(Q447*G447,2)","v":0},null,{"$f":"R447+T447+V447","v":0},null,null,null,null,null,null,null,null,null,null,null,{"$f":"IF($I447=AI$6,$E447,0)","v":0},0,{"$f":"IF($H447>0,AI447,0)","v":0},{"$f":"IF(AK447>0,1,0)","v":0},{"$f":"IF($H447>0,AJ447,0)","v":0},{"$f":"IF(AM447>0,1,0)","v":0},{"$f":"IF($I447=AO$6,$E447,0)","v":0},0,{"$f":"IF($H447>0,AO447,0)","v":0},{"$f":"IF(AQ447>0,1,0)","v":0},{"$f":"IF($H447>0,AP447,0)","v":0},{"$f":"IF(AS447>0,1,0)","v":0},{"$f":"IF($I447=AU$6,$E447,0)","v":0},0,{"$f":"IF($H447>0,AU447,0)","v":0},{"$f":"IF(AW447>0,1,0)","v":0},{"$f":"IF($H447>0,AV447,0)","v":0},{"$f":"IF(AY447>0,1,0)","v":0},{"$f":"IF($I447=BA$6,$E447,0)","v":0},0,{"$f":"IF($H447>0,BA447,0)","v":0},{"$f":"IF(BC447>0,1,0)","v":0},{"$f":"IF($H447>0,BB447,0)","v":0},{"$f":"IF(BE447>0,1,0)","v":0},null,0,null,null,null,0]
[{"$f":"IF(E448+G448>0,A446,\"\")","v":""},{"$f":"IF(E448+G448>0,B446,\"\")","v":""},{"$f":"C447","v":6},"03-4-22.665Б(333)",0,1.5,0,0,{"$f":"SUMIF(Y$14:BA$14,C448,Y$7:BA$7)","v":0},0,0,0,0,null,0,null,405.07,0,607.61,0,0,null,0,null,null,null,null,null,null,null,null,null,null,null,{"$f":"IF($I448=AI$7,$E448,0)","v":0},{"$f":"IF($K448=ROUND(AI$7*$F448,2),$G448,0)","v":0},0,0,0,0,{"$f":"IF($I448=AO$7,$E448,0)","v":0},{"$f":"IF($K448=ROUND(AO$7*$F448,2),$G448,0)","v":0},0,0,0,0,{"$f":"IF($I448=AU$7,$E448,0)","v":0},{"$f":"IF($K448=ROUND(AU$7*$F448,2),$G448,0)","v":0},0,0,0,0,{"$f":"IF($I448=BA$7,$E448,0)","v":0},{"$f":"IF($K448=ROUND(BA$7*$F448,2),$G448,0)","v":0},0,0,0,0,null,0,null,null,null,0]
[{"$f":"IF(E449+G449>0,A446,\"\")","v":""},{"$f":"IF(E449+G449>0,B446,\"\")","v":""},{"$f":"C447","v":6},"03-4-22.665Б(333)",0,1.1000000000000001,0,0,{"$f":"SUMIF(Y$14:BA$14,C449,Y$7:BA$7)","v":0},0,0,0,0,null,0,null,405.07,0,445.58,0,0,null,0,null,null,null,null,null,null,null,null,null,null,null,{"$f":"IF($I449=AI$7,$E449,0)","v":0},{"$f":"IF($K449=ROUND(AI$7*$F449,2),$G449,0)","v":0},0,0,0,0,{"$f":"IF($I449=AO$7,$E449,0)","v":0},{"$f":"IF($K449=ROUND(AO$7*$F449,2),$G449,0)","v":0},0,0,0,0,{"$f":"IF($I449=AU$7,$E449,0)","v":0},{"$f":"IF($K449=ROUND(AU$7*$F449,2),$G449,0)","v":0},0,0,0,0,{"$f":"IF($I449=BA$7,$E449,0)","v":0},{"$f":"IF($K449=ROUND(BA$7*$F449,2),$G449,0)","v":0},0,0,0,0,null,0,null,null,null,0]
["Гр.              Пятовский      Петр Владимирович","",{"$f":"C451","v":7},"03-4-23.684(333)",0.17,1.5,0,0.17,{"$f":"SUMIF(Y$14:BA$14,C450,Y$6:BA$6)","v":2166.8000000000002},{"$f":"IF(H450=0,ROUND(E450*I450,2),ROUND(H450*E450,2))","v":0.03},{"$f":"ROUND(F450*I450,2)","v":3250.2},{"$f":"IF(H450=0,ROUND(ROUND(F450*I450,2)*G450,2),ROUND(G450*H450,2))","v":0},{"$f":"L450-ROUND(G450*I450,2)","v":0},null,{"$f":"J450+L450+N450","v":0.03},null,405.07,{"$f":"ROUND(Q450*E450,2)","v":68.86},{"$f":"ROUND(F450*Q450,2)","v":607.61},{"$f":"ROUND(S450*G450,2)","v":0},{"$f":"T450-ROUND(Q450*G450,2)","v":0},null,{"$f":"R450+T450+V450","v":68.86},null,null,null,null,null,null,null,null,null,null,null,{"$f":"IF($I450=AI$6,$E450,0)","v":0},{"$f":"IF($K450=ROUND(AI$6*$F450,2),$G450,0)","v":0},{"$f":"IF($H450>0,AI450,0)","v":0},{"$f":"IF(AK450>0,1,0)","v":0},{"$f":"IF($H450>0,AJ450,0)","v":0},{"$f":"IF(AM450>0,1,0)","v":0},{"$f":"IF($I450=AO$6,$E450,0)","v":0},{"$f":"IF($K450=ROUND(AO$6*$F450,2),$G450,0)","v":0},{"$f":"IF($H450>0,AO450,0)","v":0},{"$f":"IF(AQ450>0,1,0)","v":0},{"$f":"IF($H450>0,AP450,0)","v":0},{"$f":"IF(AS450>0,1,0)","v":0},{"$f":"IF($I450=AU$6,$E450,0)","v":0},{"$f":"IF($K450=ROUND(AU$6*$F450,2),$G450,0)","v":0},{"$f":"IF($H450>0,AU450,0)","v":0},{"$f":"IF(AW450>0,1,0)","v":0},{"$f":"IF($H450>0,AV450,0)","v":0},{"$f":"IF(AY450>0,1,0)","v":0},{"$f":"IF($I450=BA$6,$E450,0)","v":0.17},{"$f":"IF($K450=ROUND(BA$6*$F450,2),$G450,0)","v":0},{"$f":"IF($H450>0,BA450,0)","v":0.17},{"$f":"IF(BC450>0,1,0)","v":1},{"$f":"IF($H450>0,BB450,0)","v":0},{"$f":"IF(BE450>0,1,0)","v":0},null,1.7000000000000001E-4,0.19,null,null,0]
[{"$f":"IF(E451+G451>0,A450,\"\")","v":""},{"$f":"IF(E451+G451>0,B450,\"\")","v":""},7,"03-4-23.684(333)",0,1.1000000000000001,0,0,{"$f":"SUMIF(Y$14:BA$14,C451,Y$6:BA$6)","v":2166.8000000000002},{"$f":"IF(H451=0,ROUND(E451*I451,2),ROUND(H451*E451,2))","v":0},{"$f":"ROUND(F451*I451,2)","v":2383.48},{"$f":"IF(H451=0,ROUND(ROUND(F451*I451,2)*G451,2),ROUND(G451*H451,2))","v":0},{"$f":"L451-ROUND(G451*I451,2)","v":0},null,{"$f":"J451+L451+N451","v":0},null,405.07,{"$f":"ROUND(Q451*E451,2)","v":0},{"$f":"ROUND(F451*Q451,2)","v":445.58},{"$f":"ROUND(S451*G451,2)","v":0},{"$f":"T451-ROUND(Q451*G451,2)","v":0},null,{"$f":"R451+T451+V451","v":0},null,null,null,null,null,null,null,null,null,null,null,{"$f":"IF($I451=AI$6,$E451,0)","v":0},0,{"$f":"IF($H451>0,AI451,0)","v":0},{"$f":"IF(AK451>0,1,0)","v":0},{"$f":"IF($H451>0,AJ451,0)","v":0},{"$f":"IF(AM451>0,1,0)","v":0},{"$f":"IF($I451=AO$6,$E451,0)","v":0},0,{"$f":"IF($H451>0,AO451,0)","v":0},{"$f":"IF(AQ451>0,1,0)","v":0},{"$f":"IF($H451>0,AP451,0)","v":0},{"$f":"IF(AS451>0,1,0)","v":0},{"$f":"IF($I451=AU$6,$E451,0)","v":0},0,{"$f":"IF($H451>0,AU451,0)","v":0},{"$f":"IF(AW451>0,1,0)","v":0},{"$f":"IF($H451>0,AV451,0)","v":0},{"$f":"IF(AY451>0,1,0)","v":0},{"$f":"IF($I451=BA$6,$E451,0)","v":0},0,{"$f":"IF($H451>0,BA451,0)","v":0},{"$f":"IF(BC451>0,1,0)","v":0},{"$f":"IF($H451>0,BB451,0)","v":0},{"$f":"IF(BE451>0,1,0)","v":0},null,0,null,null,null,0]
[{"$f":"IF(E452+G452>0,A450,\"\")","v":""},{"$f":"IF(E452+G452>0,B450,\"\")","v":""},{"$f":"C451","v":7},"03-4-23.684(333)",0,1.5,0,0,{"$f":"SUMIF(Y$14:BA$14,C452,Y$7:BA$7)","v":0},0,0,0,0,null,0,null,405.07,0,607.61,0,0,null,0,null,null,null,null,null,null,null,null,null,null,null,{"$f":"IF($I452=AI$7,$E452,0)","v":0},{"$f":"IF($K452=ROUND(AI$7*$F452,2),$G452,0)","v":0},0,0,0,0,{"$f":"IF($I452=AO$7,$E452,0)","v":0},{"$f":"IF($K452=ROUND(AO$7*$F452,2),$G452,0)","v":0},0,0,0,0,{"$f":"IF($I452=AU$7,$E452,0)","v":0},{"$f":"IF($K452=ROUND(AU$7*$F452,2),$G452,0)","v":0},0,0,0,0,{"$f":"IF($I452=BA$7,$E452,0)","v":0},{"$f":"IF($K452=ROUND(BA$7*$F452,2),$G452,0)","v":0},0,0,0,0,null,0,null,null,null,0]
[{"$f":"IF(E453+G453>0,A450,\"\")","v":""},{"$f":"IF(E453+G453>0,B450,\"\")","v":""},{"$f":"C451","v":7},"03-4-23.684(333)",0,1.1000000000000001,0,0,{"$f":"SUMIF(Y$14:BA$14,C453,Y$7:BA$7)","v":0},0,0,0,0,null,0,null,405.07,0,445.58,0,0,null,0,null,null,null,null,null,null,null,null,null,null,null,{"$f":"IF($I453=AI$7,$E453,0)","v":0},{"$f":"IF($K453=ROUND(AI$7*$F453,2),$G453,0)","v":0},0,0,0,0,{"$f":"IF($I453=AO$7,$E453,0)","v":0},{"$f":"IF($K453=ROUND(AO$7*$F453,2),$G453,0)","v":0},0,0,0,0,{"$f":"IF($I453=AU$7,$E453,0)","v":0},{"$f":"IF($K453=ROUND(AU$7*$F453,2),$G453,0)","v":0},0,0,0,0,{"$f":"IF($I453=BA$7,$E453,0)","v":0},{"$f":"IF($K453=ROUND(BA$7*$F453,2),$G453,0)","v":0},0,0,0,0,null,0,null,null,null,0]
["ИП              Бегунова         Светлана Николаевна","Вельск, ул.Некрасова-13, стр.1/1, 1/2",{"$f":"C455","v":6},"03-4-23.686(333)",3.774,1.5,0,3.774,{"$f":"SUMIF(Y$14:BA$14,C454,Y$6:BA$6)","v":1733.45},{"$f":"IF(H454=0,ROUND(E454*I454,2),ROUND(H454*E454,2))","v":14.24},{"$f":"ROUND(F454*I454,2)","v":2600.1799999999998},{"$f":"IF(H454=0,ROUND(ROUND(F454*I454,2)*G454,2),ROUND(G454*H454,2))","v":0},{"$f":"L454-ROUND(G454*I454,2)","v":0},null,{"$f":"J454+L454+N454","v":14.24},null,405.07,{"$f":"ROUND(Q454*E454,2)","v":1528.73},{"$f":"ROUND(F454*Q454,2)","v":607.61},{"$f":"ROUND(S454*G454,2)","v":0},{"$f":"T454-ROUND(Q454*G454,2)","v":0},null,{"$f":"R454+T454+V454","v":1528.73},null,null,null,null,null,null,null,null,null,null,null,{"$f":"IF($I454=AI$6,$E454,0)","v":0},{"$f":"IF($K454=ROUND(AI$6*$F454,2),$G454,0)","v":0},{"$f":"IF($H454>0,AI454,0)","v":0},{"$f":"IF(AK454>0,1,0)","v":0},{"$f":"IF($H454>0,AJ454,0)","v":0},{"$f":"IF(AM454>0,1,0)","v":0},{"$f":"IF($I454=AO$6,$E454,0)","v":0},{"$f":"IF($K454=ROUND(AO$6*$F454,2),$G454,0)","v":0},{"$f":"IF($H454>0,AO454,0)","v":0},{"$f":"IF(AQ454>0,1,0)","v":0},{"$f":"IF($H454>0,AP454,0)","v":0},{"$f":"IF(AS454>0,1,0)","v":0},{"$f":"IF($I454=AU$6,$E454,0)","v":3.774},{"$f":"IF($K454=ROUND(AU$6*$F454,2),$G454,0)","v":0},{"$f":"IF($H454>0,AU454,0)","v":3.774},{"$f":"IF(AW454>0,1,0)","v":1},{"$f":"IF($H454>0,AV454,0)","v":0},{"$f":"IF(AY454>0,1,0)","v":0},{"$f":"IF($I454=BA$6,$E454,0)","v":0},{"$f":"IF($K454=ROUND(BA$6*$F454,2),$G454,0)","v":0},{"$f":"IF($H454>0,BA454,0)","v":0},{"$f":"IF(BC454>0,1,0)","v":0},{"$f":"IF($H454>0,BB454,0)","v":0},{"$f":"IF(BE454>0,1,0)","v":0},null,3.774E-3,8,null,null,0]
[{"$f":"IF(E455+G455>0,A454,\"\")","v":""},{"$f":"IF(E455+G455>0,B454,\"\")","v":""},6,"03-4-23.686(333)",0,1.1000000000000001,0,0,{"$f":"SUMIF(Y$14:BA$14,C455,Y$6:BA$6)","v":1733.45},{"$f":"IF(H455=0,ROUND(E455*I455,2),ROUND(H455*E455,2))","v":0},{"$f":"ROUND(F455*I455,2)","v":1906.8},{"$f":"IF(H455=0,ROUND(ROUND(F455*I455,2)*G455,2),ROUND(G455*H455,2))","v":0},{"$f":"L455-ROUND(G455*I455,2)","v":0},null,{"$f":"J455+L455+N455","v":0},null,405.07,{"$f":"ROUND(Q455*E455,2)","v":0},{"$f":"ROUND(F455*Q455,2)","v":445.58},{"$f":"ROUND(S455*G455,2)","v":0},{"$f":"T455-ROUND(Q455*G455,2)","v":0},null,{"$f":"R455+T455+V455","v":0},null,null,null,null,null,null,null,null,null,null,null,{"$f":"IF($I455=AI$6,$E455,0)","v":0},0,{"$f":"IF($H455>0,AI455,0)","v":0},{"$f":"IF(AK455>0,1,0)","v":0},{"$f":"IF($H455>0,AJ455,0)","v":0},{"$f":"IF(AM455>0,1,0)","v":0},{"$f":"IF($I455=AO$6,$E455,0)","v":0},0,{"$f":"IF($H455>0,AO455,0)","v":0},{"$f":"IF(AQ455>0,1,0)","v":0},{"$f":"IF($H455>0,AP455,0)","v":0},{"$f":"IF(AS455>0,1,0)","v":0},{"$f":"IF($I455=AU$6,$E455,0)","v":0},0,{"$f":"IF($H455>0,AU455,0)","v":0},{"$f":"IF(AW455>0,1,0)","v":0},{"$f":"IF($H455>0,AV455,0)","v":0},{"$f":"IF(AY455>0,1,0)","v":0},{"$f":"IF($I455=BA$6,$E455,0)","v":0},0,{"$f":"IF($H455>0,BA455,0)","v":0},{"$f":"IF(BC455>0,1,0)","v":0},{"$f":"IF($H455>0,BB455,0)","v":0},{"$f":"IF(BE455>0,1,0)","v":0},null,0,null,null,null,0]
[{"$f":"IF(E456+G456>0,A454,\"\")","v":""},{"$f":"IF(E456+G456>0,B454,\"\")","v":""},{"$f":"C455","v":6},"03-4-23.686(333)",0,1.5,0,0,{"$f":"SUMIF(Y$14:BA$14,C456,Y$7:BA$7)","v":0},0,0,0,0,null,0,null,405.07,0,607.61,0,0,null,0,null,null,null,null,null,null,null,null,null,null,null,{"$f":"IF($I456=AI$7,$E456,0)","v":0},{"$f":"IF($K456=ROUND(AI$7*$F456,2),$G456,0)","v":0},0,0,0,0,{"$f":"IF($I456=AO$7,$E456,0)","v":0},{"$f":"IF($K456=ROUND(AO$7*$F456,2),$G456,0)","v":0},0,0,0,0,{"$f":"IF($I456=AU$7,$E456,0)","v":0},{"$f":"IF($K456=ROUND(AU$7*$F456,2),$G456,0)","v":0},0,0,0,0,{"$f":"IF($I456=BA$7,$E456,0)","v":0},{"$f":"IF($K456=ROUND(BA$7*$F456,2),$G456,0)","v":0},0,0,0,0,null,0,null,null,null,0]
[{"$f":"IF(E457+G457>0,A454,\"\")","v":""},{"$f":"IF(E457+G457>0,B454,\"\")","v":""},{"$f":"C455","v":6},"03-4-23.686(333)",0,1.1000000000000001,0,0,{"$f":"SUMIF(Y$14:BA$14,C457,Y$7:BA$7)","v":0},0,0,0,0,null,0,null,405.07,0,445.58,0,0,null,0,null,null,null,null,null,null,null,null,null,null,null,{"$f":"IF($I457=AI$7,$E457,0)","v":0},{"$f":"IF($K457=ROUND(AI$7*$F457,2),$G457,0)","v":0},0,0,0,0,{"$f":"IF($I457=AO$7,$E457,0)","v":0},{"$f":"IF($K457=ROUND(AO$7*$F457,2),$G457,0)","v":0},0,0,0,0,{"$f":"IF($I457=AU$7,$E457,0)","v":0},{"$f":"IF($K457=ROUND(AU$7*$F457,2),$G457,0)","v":0},0,0,0,0,{"$f":"IF($I457=BA$7,$E457,0)","v":0},{"$f":"IF($K457=ROUND(BA$7*$F457,2),$G457,0)","v":0},0,0,0,0,null,0,null,null,null,0]
["ИП              Бегунова         Светлана Николаевна","Вельск, ул.Октябрьская-25а",{"$f":"C459","v":7},"03-4-23.686(333)",0.64700000000000002,1.5,0,0.64700000000000002,{"$f":"SUMIF(Y$14:BA$14,C458,Y$6:BA$6)","v":2166.8000000000002},{"$f":"IF(H458=0,ROUND(E458*I458,2),ROUND(H458*E458,2))","v":0.42},{"$f":"ROUND(F458*I458,2)","v":3250.2},{"$f":"IF(H458=0,ROUND(ROUND(F458*I458,2)*G458,2),ROUND(G458*H458,2))","v":0},{"$f":"L458-ROUND(G458*I458,2)","v":0},null,{"$f":"J458+L458+N458","v":0.42},null,405.07,{"$f":"ROUND(Q458*E458,2)","v":262.08},{"$f":"ROUND(F458*Q458,2)","v":607.61},{"$f":"ROUND(S458*G458,2)","v":0},{"$f":"T458-ROUND(Q458*G458,2)","v":0},null,{"$f":"R458+T458+V458","v":262.08},null,null,null,null,null,null,null,null,null,null,null,{"$f":"IF($I458=AI$6,$E458,0)","v":0},{"$f":"IF($K458=ROUND(AI$6*$F458,2),$G458,0)","v":0},{"$f":"IF($H458>0,AI458,0)","v":0},{"$f":"IF(AK458>0,1,0)","v":0},{"$f":"IF($H458>0,AJ458,0)","v":0},{"$f":"IF(AM458>0,1,0)","v":0},{"$f":"IF($I458=AO$6,$E458,0)","v":0},{"$f":"IF($K458=ROUND(AO$6*$F458,2),$G458,0)","v":0},{"$f":"IF($H458>0,AO458,0)","v":0},{"$f":"IF(AQ458>0,1,0)","v":0},{"$f":"IF($H458>0,AP458,0)","v":0},{"$f":"IF(AS458>0,1,0)","v":0},{"$f":"IF($I458=AU$6,$E458,0)","v":0},{"$f":"IF($K458=ROUND(AU$6*$F458,2),$G458,0)","v":0},{"$f":"IF($H458>0,AU458,0)","v":0},{"$f":"IF(AW458>0,1,0)","v":0},{"$f":"IF($H458>0,AV458,0)","v":0},{"$f":"IF(AY458>0,1,0)","v":0},{"$f":"IF($I458=BA$6,$E458,0)","v":0.64700000000000002},{"$f":"IF($K458=ROUND(BA$6*$F458,2),$G458,0)","v":0},{"$f":"IF($H458>0,BA458,0)","v":0.64700000000000002},{"$f":"IF(BC458>0,1,0)","v":1},{"$f":"IF($H458>0,BB458,0)","v":0},{"$f":"IF(BE458>0,1,0)","v":0},null,6.4700000000000001E-4,0.7,null,null,0]
[{"$f":"IF(E459+G459>0,A458,\"\")","v":""},{"$f":"IF(E459+G459>0,B458,\"\")","v":""},7,"03-4-23.686(333)",0,1.1000000000000001,0,0,{"$f":"SUMIF(Y$14:BA$14,C459,Y$6:BA$6)","v":2166.8000000000002},{"$f":"IF(H459=0,ROUND(E459*I459,2),ROUND(H459*E459,2))","v":0},{"$f":"ROUND(F459*I459,2)","v":2383.48},{"$f":"IF(H459=0,ROUND(ROUND(F459*I459,2)*G459,2),ROUND(G459*H459,2))","v":0},{"$f":"L459-ROUND(G459*I459,2)","v":0},null,{"$f":"J459+L459+N459","v":0},null,405.07,{"$f":"ROUND(Q459*E459,2)","v":0},{"$f":"ROUND(F459*Q459,2)","v":445.58},{"$f":"ROUND(S459*G459,2)","v":0},{"$f":"T459-ROUND(Q459*G459,2)","v":0},null,{"$f":"R459+T459+V459","v":0},null,null,null,null,null,null,null,null,null,null,null,{"$f":"IF($I459=AI$6,$E459,0)","v":0},0,{"$f":"IF($H459>0,AI459,0)","v":0},{"$f":"IF(AK459>0,1,0)","v":0},{"$f":"IF($H459>0,AJ459,0)","v":0},{"$f":"IF(AM459>0,1,0)","v":0},{"$f":"IF($I459=AO$6,$E459,0)","v":0},0,{"$f":"IF($H459>0,AO459,0)","v":0},{"$f":"IF(AQ459>0,1,0)","v":0},{"$f":"IF($H459>0,AP459,0)","v":0},{"$f":"IF(AS459>0,1,0)","v":0},{"$f":"IF($I459=AU$6,$E459,0)","v":0},0,{"$f":"IF($H459>0,AU459,0)","v":0},{"$f":"IF(AW459>0,1,0)","v":0},{"$f":"IF($H459>0,AV459,0)","v":0},{"$f":"IF(AY459>0,1,0)","v":0},{"$f":"IF($I459=BA$6,$E459,0)","v":0},0,{"$f":"IF($H459>0,BA459,0)","v":0},{"$f":"IF(BC459>0,1,0)","v":0},{"$f":"IF($H459>0,BB459,0)","v":0},{"$f":"IF(BE459>0,1,0)","v":0},null,0,null,null,null,0]
[{"$f":"IF(E460+G460>0,A458,\"\")","v":""},{"$f":"IF(E460+G460>0,B458,\"\")","v":""},{"$f":"C459","v":7},"03-4-23.686(333)",0,1.5,0,0,{"$f":"SUMIF(Y$14:BA$14,C460,Y$7:BA$7)","v":0},0,0,0,0,null,0,null,405.07,0,607.61,0,0,null,0,null,null,null,null,null,null,null,null,null,null,null,{"$f":"IF($I460=AI$7,$E460,0)","v":0},{"$f":"IF($K460=ROUND(AI$7*$F460,2),$G460,0)","v":0},0,0,0,0,{"$f":"IF($I460=AO$7,$E460,0)","v":0},{"$f":"IF($K460=ROUND(AO$7*$F460,2),$G460,0)","v":0},0,0,0,0,{"$f":"IF($I460=AU$7,$E460,0)","v":0},{"$f":"IF($K460=ROUND(AU$7*$F460,2),$G460,0)","v":0},0,0,0,0,{"$f":"IF($I460=BA$7,$E460,0)","v":0},{"$f":"IF($K460=ROUND(BA$7*$F460,2),$G460,0)","v":0},0,0,0,0,null,0,null,null,null,0]
[{"$f":"IF(E461+G461>0,A458,\"\")","v":""},{"$f":"IF(E461+G461>0,B458,\"\")","v":""},{"$f":"C459","v":7},"03-4-23.686(333)",0,1.1000000000000001,0,0,{"$f":"SUMIF(Y$14:BA$14,C461,Y$7:BA$7)","v":0},0,0,0,0,null,0,null,405.07,0,445.58,0,0,null,0,null,null,null,null,null,null,null,null,null,null,null,{"$f":"IF($I461=AI$7,$E461,0)","v":0},{"$f":"IF($K461=ROUND(AI$7*$F461,2),$G461,0)","v":0},0,0,0,0,{"$f":"IF($I461=AO$7,$E461,0)","v":0},{"$f":"IF($K461=ROUND(AO$7*$F461,2),$G461,0)","v":0},0,0,0,0,{"$f":"IF($I461=AU$7,$E461,0)","v":0},{"$f":"IF($K461=ROUND(AU$7*$F461,2),$G461,0)","v":0},0,0,0,0,{"$f":"IF($I461=BA$7,$E461,0)","v":0},{"$f":"IF($K461=ROUND(BA$7*$F461,2),$G461,0)","v":0},0,0,0,0,null,0,null,null,null,0]
["ИП              Бегунова         Светлана Николаевна","Вельск, ул.Октябрьская-96а",{"$f":"C463","v":6},"03-4-23.686(333)",0.94,1.5,0,0.94,{"$f":"SUMIF(Y$14:BA$14,C462,Y$6:BA$6)","v":1733.45},{"$f":"IF(H462=0,ROUND(E462*I462,2),ROUND(H462*E462,2))","v":0.88},{"$f":"ROUND(F462*I462,2)","v":2600.1799999999998},{"$f":"IF(H462=0,ROUND(ROUND(F462*I462,2)*G462,2),ROUND(G462*H462,2))","v":0},{"$f":"L462-ROUND(G462*I462,2)","v":0},null,{"$f":"J462+L462+N462","v":0.88},null,405.07,{"$f":"ROUND(Q462*E462,2)","v":380.77},{"$f":"ROUND(F462*Q462,2)","v":607.61},{"$f":"ROUND(S462*G462,2)","v":0},{"$f":"T462-ROUND(Q462*G462,2)","v":0},null,{"$f":"R462+T462+V462","v":380.77},null,null,null,null,null,null,null,null,null,null,null,{"$f":"IF($I462=AI$6,$E462,0)","v":0},{"$f":"IF($K462=ROUND(AI$6*$F462,2),$G462,0)","v":0},{"$f":"IF($H462>0,AI462,0)","v":0},{"$f":"IF(AK462>0,1,0)","v":0},{"$f":"IF($H462>0,AJ462,0)","v":0},{"$f":"IF(AM462>0,1,0)","v":0},{"$f":"IF($I462=AO$6,$E462,0)","v":0},{"$f":"IF($K462=ROUND(AO$6*$F462,2),$G462,0)","v":0},{"$f":"IF($H462>0,AO462,0)","v":0},{"$f":"IF(AQ462>0,1,0)","v":0},{"$f":"IF($H462>0,AP462,0)","v":0},{"$f":"IF(AS462>0,1,0)","v":0},{"$f":"IF($I462=AU$6,$E462,0)","v":0.94},{"$f":"IF($K462=ROUND(AU$6*$F462,2),$G462,0)","v":0},{"$f":"IF($H462>0,AU462,0)","v":0.94},{"$f":"IF(AW462>0,1,0)","v":1},{"$f":"IF($H462>0,AV462,0)","v":0},{"$f":"IF(AY462>0,1,0)","v":0},{"$f":"IF($I462=BA$6,$E462,0)","v":0},{"$f":"IF($K462=ROUND(BA$6*$F462,2),$G462,0)","v":0},{"$f":"IF($H462>0,BA462,0)","v":0},{"$f":"IF(BC462>0,1,0)","v":0},{"$f":"IF($H462>0,BB462,0)","v":0},{"$f":"IF(BE462>0,1,0)","v":0},null,9.3999999999999997E-4,1.7,null,null,0]
[{"$f":"IF(E463+G463>0,A462,\"\")","v":""},{"$f":"IF(E463+G463>0,B462,\"\")","v":""},6,"03-4-23.686(333)",0,1.1000000000000001,0,0,{"$f":"SUMIF(Y$14:BA$14,C463,Y$6:BA$6)","v":1733.45},{"$f":"IF(H463=0,ROUND(E463*I463,2),ROUND(H463*E463,2))","v":0},{"$f":"ROUND(F463*I463,2)","v":1906.8},{"$f":"IF(H463=0,ROUND(ROUND(F463*I463,2)*G463,2),ROUND(G463*H463,2))","v":0},{"$f":"L463-ROUND(G463*I463,2)","v":0},null,{"$f":"J463+L463+N463","v":0},null,405.07,{"$f":"ROUND(Q463*E463,2)","v":0},{"$f":"ROUND(F463*Q463,2)","v":445.58},{"$f":"ROUND(S463*G463,2)","v":0},{"$f":"T463-ROUND(Q463*G463,2)","v":0},null,{"$f":"R463+T463+V463","v":0},null,null,null,null,null,null,null,null,null,null,null,{"$f":"IF($I463=AI$6,$E463,0)","v":0},0,{"$f":"IF($H463>0,AI463,0)","v":0},{"$f":"IF(AK463>0,1,0)","v":0},{"$f":"IF($H463>0,AJ463,0)","v":0},{"$f":"IF(AM463>0,1,0)","v":0},{"$f":"IF($I463=AO$6,$E463,0)","v":0},0,{"$f":"IF($H463>0,AO463,0)","v":0},{"$f":"IF(AQ463>0,1,0)","v":0},{"$f":"IF($H463>0,AP463,0)","v":0},{"$f":"IF(AS463>0,1,0)","v":0},{"$f":"IF($I463=AU$6,$E463,0)","v":0},0,{"$f":"IF($H463>0,AU463,0)","v":0},{"$f":"IF(AW463>0,1,0)","v":0},{"$f":"IF($H463>0,AV463,0)","v":0},{"$f":"IF(AY463>0,1,0)","v":0},{"$f":"IF($I463=BA$6,$E463,0)","v":0},0,{"$f":"IF($H463>0,BA463,0)","v":0},{"$f":"IF(BC463>0,1,0)","v":0},{"$f":"IF($H463>0,BB463,0)","v":0},{"$f":"IF(BE463>0,1,0)","v":0},null,0,null,null,null,0]
[{"$f":"IF(E464+G464>0,A462,\"\")","v":""},{"$f":"IF(E464+G464>0,B462,\"\")","v":""},{"$f":"C463","v":6},"03-4-23.686(333)",0,1.5,0,0,{"$f":"SUMIF(Y$14:BA$14,C464,Y$7:BA$7)","v":0},0,0,0,0,null,0,null,{"$f":"IF(BI464>0,Q$6,Q$6)","v":405.07},0,607.61,0,0,null,0,null,null,null,null,null,null,null,null,null,null,null,{"$f":"IF($I464=AI$7,$E464,0)","v":0},{"$f":"IF($K464=ROUND(AI$7*$F464,2),$G464,0)","v":0},0,0,0,0,{"$f":"IF($I464=AO$7,$E464,0)","v":0},{"$f":"IF($K464=ROUND(AO$7*$F464,2),$G464,0)","v":0},0,0,0,0,{"$f":"IF($I464=AU$7,$E464,0)","v":0},{"$f":"IF($K464=ROUND(AU$7*$F464,2),$G464,0)","v":0},0,0,0,0,{"$f":"IF($I464=BA$7,$E464,0)","v":0},{"$f":"IF($K464=ROUND(BA$7*$F464,2),$G464,0)","v":0},0,0,0,0,null,0,null,null,null,0]
[{"$f":"IF(E465+G465>0,A462,\"\")","v":""},{"$f":"IF(E465+G465>0,B462,\"\")","v":""},{"$f":"C463","v":6},"03-4-23.686(333)",0,1.1000000000000001,0,{"$f":"E465+G465","v":0},{"$f":"SUMIF(Y$14:BA$14,C465,Y$7:BA$7)","v":0},0,0,0,0,null,0,null,405.07,0,445.58,0,0,null,0,null,null,null,null,null,null,null,null,null,null,null,{"$f":"IF($I465=AI$7,$E465,0)","v":0},{"$f":"IF($K465=ROUND(AI$7*$F465,2),$G465,0)","v":0},0,0,0,0,{"$f":"IF($I465=AO$7,$E465,0)","v":0},{"$f":"IF($K465=ROUND(AO$7*$F465,2),$G465,0)","v":0},0,0,0,0,{"$f":"IF($I465=AU$7,$E465,0)","v":0},{"$f":"IF($K465=ROUND(AU$7*$F465,2),$G465,0)","v":0},0,0,0,0,{"$f":"IF($I465=BA$7,$E465,0)","v":0},{"$f":"IF($K465=ROUND(BA$7*$F465,2),$G465,0)","v":0},0,0,0,0,null,{"$f":"H465/1000","v":0},null,null,null,{"$f":"E465-SUM(AI465,AO465,AU465,BA465)","v":0}]
["Администрация МО \"Муравьевское\"","д.Вороновская, здание администрации",{"$f":"C467","v":7},"03-4-23.691(333)",0.50900000000000001,1.5,0,0.50900000000000001,{"$f":"SUMIF(Y$14:BA$14,C466,Y$6:BA$6)","v":2166.8000000000002},{"$f":"IF(H466=0,ROUND(E466*I466,2),ROUND(H466*E466,2))","v":0.26},{"$f":"ROUND(F466*I466,2)","v":3250.2},{"$f":"IF(H466=0,ROUND(ROUND(F466*I466,2)*G466,2),ROUND(G466*H466,2))","v":0},{"$f":"L466-ROUND(G466*I466,2)","v":0},null,{"$f":"J466+L466+N466","v":0.26},null,405.07,{"$f":"ROUND(Q466*E466,2)","v":206.18},{"$f":"ROUND(F466*Q466,2)","v":607.61},{"$f":"ROUND(S466*G466,2)","v":0},{"$f":"T466-ROUND(Q466*G466,2)","v":0},null,{"$f":"R466+T466+V466","v":206.18},null,null,null,null,null,null,null,null,null,null,null,{"$f":"IF($I466=AI$6,$E466,0)","v":0},{"$f":"IF($K466=ROUND(AI$6*$F466,2),$G466,0)","v":0},{"$f":"IF($H466>0,AI466,0)","v":0},{"$f":"IF(AK466>0,1,0)","v":0},{"$f":"IF($H466>0,AJ466,0)","v":0},{"$f":"IF(AM466>0,1,0)","v":0},{"$f":"IF($I466=AO$6,$E466,0)","v":0},{"$f":"IF($K466=ROUND(AO$6*$F466,2),$G466,0)","v":0},{"$f":"IF($H466>0,AO466,0)","v":0},{"$f":"IF(AQ466>0,1,0)","v":0},{"$f":"IF($H466>0,AP466,0)","v":0},{"$f":"IF(AS466>0,1,0)","v":0},{"$f":"IF($I466=AU$6,$E466,0)","v":0},{"$f":"IF($K466=ROUND(AU$6*$F466,2),$G466,0)","v":0},{"$f":"IF($H466>0,AU466,0)","v":0},{"$f":"IF(AW466>0,1,0)","v":0},{"$f":"IF($H466>0,AV466,0)","v":0},{"$f":"IF(AY466>0,1,0)","v":0},{"$f":"IF($I466=BA$6,$E466,0)","v":0.50900000000000001},{"$f":"IF($K466=ROUND(BA$6*$F466,2),$G466,0)","v":0},{"$f":"IF($H466>0,BA466,0)","v":0.50900000000000001},{"$f":"IF(BC466>0,1,0)","v":1},{"$f":"IF($H466>0,BB466,0)","v":0},{"$f":"IF(BE466>0,1,0)","v":0},null,5.0900000000000001E-4,1,null,null,0]
[{"$f":"IF(E467+G467>0,A466,\"\")","v":""},{"$f":"IF(E467+G467>0,B466,\"\")","v":""},7,"03-4-23.691(333)",0,1.1000000000000001,0,0,{"$f":"SUMIF(Y$14:BA$14,C467,Y$6:BA$6)","v":2166.8000000000002},{"$f":"IF(H467=0,ROUND(E467*I467,2),ROUND(H467*E467,2))","v":0},{"$f":"ROUND(F467*I467,2)","v":2383.48},{"$f":"IF(H467=0,ROUND(ROUND(F467*I467,2)*G467,2),ROUND(G467*H467,2))","v":0},{"$f":"L467-ROUND(G467*I467,2)","v":0},null,{"$f":"J467+L467+N467","v":0},null,405.07,{"$f":"ROUND(Q467*E467,2)","v":0},{"$f":"ROUND(F467*Q467,2)","v":445.58},{"$f":"ROUND(S467*G467,2)","v":0},{"$f":"T467-ROUND(Q467*G467,2)","v":0},null,{"$f":"R467+T467+V467","v":0},null,null,null,null,null,null,null,null,null,null,null,{"$f":"IF($I467=AI$6,$E467,0)","v":0},0,{"$f":"IF($H467>0,AI467,0)","v":0},{"$f":"IF(AK467>0,1,0)","v":0},{"$f":"IF($H467>0,AJ467,0)","v":0},{"$f":"IF(AM467>0,1,0)","v":0},{"$f":"IF($I467=AO$6,$E467,0)","v":0},0,{"$f":"IF($H467>0,AO467,0)","v":0},{"$f":"IF(AQ467>0,1,0)","v":0},{"$f":"IF($H467>0,AP467,0)","v":0},{"$f":"IF(AS467>0,1,0)","v":0},{"$f":"IF($I467=AU$6,$E467,0)","v":0},0,{"$f":"IF($H467>0,AU467,0)","v":0},{"$f":"IF(AW467>0,1,0)","v":0},{"$f":"IF($H467>0,AV467,0)","v":0},{"$f":"IF(AY467>0,1,0)","v":0},{"$f":"IF($I467=BA$6,$E467,0)","v":0},0,{"$f":"IF($H467>0,BA467,0)","v":0},{"$f":"IF(BC467>0,1,0)","v":0},{"$f":"IF($H467>0,BB467,0)","v":0},{"$f":"IF(BE467>0,1,0)","v":0},null,0,null,null,null,0]
[{"$f":"IF(E468+G468>0,A466,\"\")","v":""},{"$f":"IF(E468+G468>0,B466,\"\")","v":""},{"$f":"C467","v":7},"03-4-23.691(333)",0,1.5,0,0,{"$f":"SUMIF(Y$14:BA$14,C468,Y$7:BA$7)","v":0},0,0,0,0,null,0,null,405.07,0,607.61,0,0,null,0,null,null,null,null,null,null,null,null,null,null,null,{"$f":"IF($I468=AI$7,$E468,0)","v":0},{"$f":"IF($K468=ROUND(AI$7*$F468,2),$G468,0)","v":0},0,0,0,0,{"$f":"IF($I468=AO$7,$E468,0)","v":0},{"$f":"IF($K468=ROUND(AO$7*$F468,2),$G468,0)","v":0},0,0,0,0,{"$f":"IF($I468=AU$7,$E468,0)","v":0},{"$f":"IF($K468=ROUND(AU$7*$F468,2),$G468,0)","v":0},0,0,0,0,{"$f":"IF($I468=BA$7,$E468,0)","v":0},{"$f":"IF($K468=ROUND(BA$7*$F468,2),$G468,0)","v":0},0,0,0,0,null,0,null,null,null,0]
[{"$f":"IF(E469+G469>0,A466,\"\")","v":""},{"$f":"IF(E469+G469>0,B466,\"\")","v":""},{"$f":"C467","v":7},"03-4-23.691(333)",0,1.1000000000000001,0,0,{"$f":"SUMIF(Y$14:BA$14,C469,Y$7:BA$7)","v":0},0,0,0,0,null,0,null,405.07,0,445.58,0,0,null,0,null,null,null,null,null,null,null,null,null,null,null,{"$f":"IF($I469=AI$7,$E469,0)","v":0},{"$f":"IF($K469=ROUND(AI$7*$F469,2),$G469,0)","v":0},0,0,0,0,{"$f":"IF($I469=AO$7,$E469,0)","v":0},{"$f":"IF($K469=ROUND(AO$7*$F469,2),$G469,0)","v":0},0,0,0,0,{"$f":"IF($I469=AU$7,$E469,0)","v":0},{"$f":"IF($K469=ROUND(AU$7*$F469,2),$G469,0)","v":0},0,0,0,0,{"$f":"IF($I469=BA$7,$E469,0)","v":0},{"$f":"IF($K469=ROUND(BA$7*$F469,2),$G469,0)","v":0},0,0,0,0,null,0,null,null,null,0]
["Администрация МО \"Муравьевское\"","д.Горка Муравьевская, дом-музей",{"$f":"C471","v":7},"03-4-23.691(333)",2.7E-2,1.5,0,2.7E-2,{"$f":"SUMIF(Y$14:BA$14,C470,Y$6:BA$6)","v":2166.8000000000002},{"$f":"IF(H470=0,ROUND(E470*I470,2),ROUND(H470*E470,2))","v":0},{"$f":"ROUND(F470*I470,2)","v":3250.2},{"$f":"IF(H470=0,ROUND(ROUND(F470*I470,2)*G470,2),ROUND(G470*H470,2))","v":0},{"$f":"L470-ROUND(G470*I470,2)","v":0},null,{"$f":"J470+L470+N470","v":0},null,405.07,{"$f":"ROUND(Q470*E470,2)","v":10.94},{"$f":"ROUND(F470*Q470,2)","v":607.61},{"$f":"ROUND(S470*G470,2)","v":0},{"$f":"T470-ROUND(Q470*G470,2)","v":0},null,{"$f":"R470+T470+V470","v":10.94},null,null,null,null,null,null,null,null,null,null,null,{"$f":"IF($I470=AI$6,$E470,0)","v":0},{"$f":"IF($K470=ROUND(AI$6*$F470,2),$G470,0)","v":0},{"$f":"IF($H470>0,AI470,0)","v":0},{"$f":"IF(AK470>0,1,0)","v":0},{"$f":"IF($H470>0,AJ470,0)","v":0},{"$f":"IF(AM470>0,1,0)","v":0},{"$f":"IF($I470=AO$6,$E470,0)","v":0},{"$f":"IF($K470=ROUND(AO$6*$F470,2),$G470,0)","v":0},{"$f":"IF($H470>0,AO470,0)","v":0},{"$f":"IF(AQ470>0,1,0)","v":0},{"$f":"IF($H470>0,AP470,0)","v":0},{"$f":"IF(AS470>0,1,0)","v":0},{"$f":"IF($I470=AU$6,$E470,0)","v":0},{"$f":"IF($K470=ROUND(AU$6*$F470,2),$G470,0)","v":0},{"$f":"IF($H470>0,AU470,0)","v":0},{"$f":"IF(AW470>0,1,0)","v":0},{"$f":"IF($H470>0,AV470,0)","v":0},{"$f":"IF(AY470>0,1,0)","v":0},{"$f":"IF($I470=BA$6,$E470,0)","v":2.7E-2},{"$f":"IF($K470=ROUND(BA$6*$F470,2),$G470,0)","v":0},{"$f":"IF($H470>0,BA470,0)","v":2.7E-2},{"$f":"IF(BC470>0,1,0)","v":1},{"$f":"IF($H470>0,BB470,0)","v":0},{"$f":"IF(BE470>0,1,0)","v":0},null,2.6999999999999999E-5,0.5,null,null,0]
[{"$f":"IF(E471+G471>0,A470,\"\")","v":""},{"$f":"IF(E471+G471>0,B470,\"\")","v":""},7,"03-4-23.691(333)",0,1.1000000000000001,0,0,{"$f":"SUMIF(Y$14:BA$14,C471,Y$6:BA$6)","v":2166.8000000000002},{"$f":"IF(H471=0,ROUND(E471*I471,2),ROUND(H471*E471,2))","v":0},{"$f":"ROUND(F471*I471,2)","v":2383.48},{"$f":"IF(H471=0,ROUND(ROUND(F471*I471,2)*G471,2),ROUND(G471*H471,2))","v":0},{"$f":"L471-ROUND(G471*I471,2)","v":0},null,{"$f":"J471+L471+N471","v":0},null,405.07,{"$f":"ROUND(Q471*E471,2)","v":0},{"$f":"ROUND(F471*Q471,2)","v":445.58},{"$f":"ROUND(S471*G471,2)","v":0},{"$f":"T471-ROUND(Q471*G471,2)","v":0},null,{"$f":"R471+T471+V471","v":0},null,null,null,null,null,null,null,null,null,null,null,{"$f":"IF($I471=AI$6,$E471,0)","v":0},0,{"$f":"IF($H471>0,AI471,0)","v":0},{"$f":"IF(AK471>0,1,0)","v":0},{"$f":"IF($H471>0,AJ471,0)","v":0},{"$f":"IF(AM471>0,1,0)","v":0},{"$f":"IF($I471=AO$6,$E471,0)","v":0},0,{"$f":"IF($H471>0,AO471,0)","v":0},{"$f":"IF(AQ471>0,1,0)","v":0},{"$f":"IF($H471>0,AP471,0)","v":0},{"$f":"IF(AS471>0,1,0)","v":0},{"$f":"IF($I471=AU$6,$E471,0)","v":0},0,{"$f":"IF($H471>0,AU471,0)","v":0},{"$f":"IF(AW471>0,1,0)","v":0},{"$f":"IF($H471>0,AV471,0)","v":0},{"$f":"IF(AY471>0,1,0)","v":0},{"$f":"IF($I471=BA$6,$E471,0)","v":0},0,{"$f":"IF($H471>0,BA471,0)","v":0},{"$f":"IF(BC471>0,1,0)","v":0},{"$f":"IF($H471>0,BB471,0)","v":0},{"$f":"IF(BE471>0,1,0)","v":0},null,0,null,null,null,0]
[{"$f":"IF(E472+G472>0,A470,\"\")","v":""},{"$f":"IF(E472+G472>0,B470,\"\")","v":""},{"$f":"C471","v":7},"03-4-23.691(333)",0,1.5,0,0,{"$f":"SUMIF(Y$14:BA$14,C472,Y$7:BA$7)","v":0},0,0,0,0,null,0,null,405.07,0,607.61,0,0,null,0,null,null,null,null,null,null,null,null,null,null,null,{"$f":"IF($I472=AI$7,$E472,0)","v":0},{"$f":"IF($K472=ROUND(AI$7*$F472,2),$G472,0)","v":0},0,0,0,0,{"$f":"IF($I472=AO$7,$E472,0)","v":0},{"$f":"IF($K472=ROUND(AO$7*$F472,2),$G472,0)","v":0},0,0,0,0,{"$f":"IF($I472=AU$7,$E472,0)","v":0},{"$f":"IF($K472=ROUND(AU$7*$F472,2),$G472,0)","v":0},0,0,0,0,{"$f":"IF($I472=BA$7,$E472,0)","v":0},{"$f":"IF($K472=ROUND(BA$7*$F472,2),$G472,0)","v":0},0,0,0,0,null,0,null,null,null,0]
[{"$f":"IF(E473+G473>0,A470,\"\")","v":""},{"$f":"IF(E473+G473>0,B470,\"\")","v":""},{"$f":"C471","v":7},"03-4-23.691(333)",0,1.1000000000000001,0,0,{"$f":"SUMIF(Y$14:BA$14,C473,Y$7:BA$7)","v":0},0,0,0,0,null,0,null,405.07,0,445.58,0,0,null,0,null,null,null,null,null,null,null,null,null,null,null,{"$f":"IF($I473=AI$7,$E473,0)","v":0},{"$f":"IF($K473=ROUND(AI$7*$F473,2),$G473,0)","v":0},0,0,0,0,{"$f":"IF($I473=AO$7,$E473,0)","v":0},{"$f":"IF($K473=ROUND(AO$7*$F473,2),$G473,0)","v":0},0,0,0,0,{"$f":"IF($I473=AU$7,$E473,0)","v":0},{"$f":"IF($K473=ROUND(AU$7*$F473,2),$G473,0)","v":0},0,0,0,0,{"$f":"IF($I473=BA$7,$E473,0)","v":0},{"$f":"IF($K473=ROUND(BA$7*$F473,2),$G473,0)","v":0},0,0,0,0,null,0,null,null,null,0]
["ИП              Угрюмова        Надежда Федоровна","",{"$f":"C475","v":7},"03-4-23.693(333)",0.5,1.5,0,0.5,{"$f":"SUMIF(Y$14:BA$14,C474,Y$6:BA$6)","v":2166.8000000000002},{"$f":"IF(H474=0,ROUND(E474*I474,2),ROUND(H474*E474,2))","v":0.25},{"$f":"ROUND(F474*I474,2)","v":3250.2},{"$f":"IF(H474=0,ROUND(ROUND(F474*I474,2)*G474,2),ROUND(G474*H474,2))","v":0},{"$f":"L474-ROUND(G474*I474,2)","v":0},null,{"$f":"J474+L474+N474","v":0.25},null,405.07,{"$f":"ROUND(Q474*E474,2)","v":202.54},{"$f":"ROUND(F474*Q474,2)","v":607.61},{"$f":"ROUND(S474*G474,2)","v":0},{"$f":"T474-ROUND(Q474*G474,2)","v":0},null,{"$f":"R474+T474+V474","v":202.54},null,null,null,null,null,null,null,null,null,null,null,{"$f":"IF($I474=AI$6,$E474,0)","v":0},{"$f":"IF($K474=ROUND(AI$6*$F474,2),$G474,0)","v":0},{"$f":"IF($H474>0,AI474,0)","v":0},{"$f":"IF(AK474>0,1,0)","v":0},{"$f":"IF($H474>0,AJ474,0)","v":0},{"$f":"IF(AM474>0,1,0)","v":0},{"$f":"IF($I474=AO$6,$E474,0)","v":0},{"$f":"IF($K474=ROUND(AO$6*$F474,2),$G474,0)","v":0},{"$f":"IF($H474>0,AO474,0)","v":0},{"$f":"IF(AQ474>0,1,0)","v":0},{"$f":"IF($H474>0,AP474,0)","v":0},{"$f":"IF(AS474>0,1,0)","v":0},{"$f":"IF($I474=AU$6,$E474,0)","v":0},{"$f":"IF($K474=ROUND(AU$6*$F474,2),$G474,0)","v":0},{"$f":"IF($H474>0,AU474,0)","v":0},{"$f":"IF(AW474>0,1,0)","v":0},{"$f":"IF($H474>0,AV474,0)","v":0},{"$f":"IF(AY474>0,1,0)","v":0},{"$f":"IF($I474=BA$6,$E474,0)","v":0.5},{"$f":"IF($K474=ROUND(BA$6*$F474,2),$G474,0)","v":0},{"$f":"IF($H474>0,BA474,0)","v":0.5},{"$f":"IF(BC474>0,1,0)","v":1},{"$f":"IF($H474>0,BB474,0)","v":0},{"$f":"IF(BE474>0,1,0)","v":0},null,5.0000000000000001E-4,1,null,null,0]
[{"$f":"IF(E475+G475>0,A474,\"\")","v":""},{"$f":"IF(E475+G475>0,B474,\"\")","v":""},7,"03-4-23.693(333)",0,1.1000000000000001,0,0,{"$f":"SUMIF(Y$14:BA$14,C475,Y$6:BA$6)","v":2166.8000000000002},{"$f":"IF(H475=0,ROUND(E475*I475,2),ROUND(H475*E475,2))","v":0},{"$f":"ROUND(F475*I475,2)","v":2383.48},{"$f":"IF(H475=0,ROUND(ROUND(F475*I475,2)*G475,2),ROUND(G475*H475,2))","v":0},{"$f":"L475-ROUND(G475*I475,2)","v":0},null,{"$f":"J475+L475+N475","v":0},null,405.07,{"$f":"ROUND(Q475*E475,2)","v":0},{"$f":"ROUND(F475*Q475,2)","v":445.58},{"$f":"ROUND(S475*G475,2)","v":0},{"$f":"T475-ROUND(Q475*G475,2)","v":0},null,{"$f":"R475+T475+V475","v":0},null,null,null,null,null,null,null,null,null,null,null,{"$f":"IF($I475=AI$6,$E475,0)","v":0},0,{"$f":"IF($H475>0,AI475,0)","v":0},{"$f":"IF(AK475>0,1,0)","v":0},{"$f":"IF($H475>0,AJ475,0)","v":0},{"$f":"IF(AM475>0,1,0)","v":0},{"$f":"IF($I475=AO$6,$E475,0)","v":0},0,{"$f":"IF($H475>0,AO475,0)","v":0},{"$f":"IF(AQ475>0,1,0)","v":0},{"$f":"IF($H475>0,AP475,0)","v":0},{"$f":"IF(AS475>0,1,0)","v":0},{"$f":"IF($I475=AU$6,$E475,0)","v":0},0,{"$f":"IF($H475>0,AU475,0)","v":0},{"$f":"IF(AW475>0,1,0)","v":0},{"$f":"IF($H475>0,AV475,0)","v":0},{"$f":"IF(AY475>0,1,0)","v":0},{"$f":"IF($I475=BA$6,$E475,0)","v":0},0,{"$f":"IF($H475>0,BA475,0)","v":0},{"$f":"IF(BC475>0,1,0)","v":0},{"$f":"IF($H475>0,BB475,0)","v":0},{"$f":"IF(BE475>0,1,0)","v":0},null,0,null,null,null,0]
[{"$f":"IF(E476+G476>0,A474,\"\")","v":""},{"$f":"IF(E476+G476>0,B474,\"\")","v":""},{"$f":"C475","v":7},"03-4-23.693(333)",0,1.5,0,0,{"$f":"SUMIF(Y$14:BA$14,C476,Y$7:BA$7)","v":0},0,0,0,0,null,0,null,405.07,0,607.61,0,0,null,0,null,null,null,null,null,null,null,null,null,null,null,{"$f":"IF($I476=AI$7,$E476,0)","v":0},{"$f":"IF($K476=ROUND(AI$7*$F476,2),$G476,0)","v":0},0,0,0,0,{"$f":"IF($I476=AO$7,$E476,0)","v":0},{"$f":"IF($K476=ROUND(AO$7*$F476,2),$G476,0)","v":0},0,0,0,0,{"$f":"IF($I476=AU$7,$E476,0)","v":0},{"$f":"IF($K476=ROUND(AU$7*$F476,2),$G476,0)","v":0},0,0,0,0,{"$f":"IF($I476=BA$7,$E476,0)","v":0},{"$f":"IF($K476=ROUND(BA$7*$F476,2),$G476,0)","v":0},0,0,0,0,null,0,null,null,null,0]
[{"$f":"IF(E477+G477>0,A474,\"\")","v":""},{"$f":"IF(E477+G477>0,B474,\"\")","v":""},{"$f":"C475","v":7},"03-4-23.693(333)",0,1.1000000000000001,0,0,{"$f":"SUMIF(Y$14:BA$14,C477,Y$7:BA$7)","v":0},0,0,0,0,null,0,null,405.07,0,445.58,0,0,null,0,null,null,null,null,null,null,null,null,null,null,null,{"$f":"IF($I477=AI$7,$E477,0)","v":0},{"$f":"IF($K477=ROUND(AI$7*$F477,2),$G477,0)","v":0},0,0,0,0,{"$f":"IF($I477=AO$7,$E477,0)","v":0},{"$f":"IF($K477=ROUND(AO$7*$F477,2),$G477,0)","v":0},0,0,0,0,{"$f":"IF($I477=AU$7,$E477,0)","v":0},{"$f":"IF($K477=ROUND(AU$7*$F477,2),$G477,0)","v":0},0,0,0,0,{"$f":"IF($I477=BA$7,$E477,0)","v":0},{"$f":"IF($K477=ROUND(BA$7*$F477,2),$G477,0)","v":0},0,0,0,0,null,0,null,null,null,0]
["ИП              Горбунова       Вероника  Александровна","",{"$f":"C479","v":6},"03-4-23.697(333)",0.88,1.5,0,0.88,{"$f":"SUMIF(Y$14:BA$14,C478,Y$6:BA$6)","v":1733.45},{"$f":"IF(H478=0,ROUND(E478*I478,2),ROUND(H478*E478,2))","v":0.77},{"$f":"ROUND(F478*I478,2)","v":2600.1799999999998},{"$f":"IF(H478=0,ROUND(ROUND(F478*I478,2)*G478,2),ROUND(G478*H478,2))","v":0},{"$f":"L478-ROUND(G478*I478,2)","v":0},null,{"$f":"J478+L478+N478","v":0.77},null,405.07,{"$f":"ROUND(Q478*E478,2)","v":356.46},{"$f":"ROUND(F478*Q478,2)","v":607.61},{"$f":"ROUND(S478*G478,2)","v":0},{"$f":"T478-ROUND(Q478*G478,2)","v":0},null,{"$f":"R478+T478+V478","v":356.46},null,null,null,null,null,null,null,null,null,null,null,{"$f":"IF($I478=AI$6,$E478,0)","v":0},{"$f":"IF($K478=ROUND(AI$6*$F478,2),$G478,0)","v":0},{"$f":"IF($H478>0,AI478,0)","v":0},{"$f":"IF(AK478>0,1,0)","v":0},{"$f":"IF($H478>0,AJ478,0)","v":0},{"$f":"IF(AM478>0,1,0)","v":0},{"$f":"IF($I478=AO$6,$E478,0)","v":0},{"$f":"IF($K478=ROUND(AO$6*$F478,2),$G478,0)","v":0},{"$f":"IF($H478>0,AO478,0)","v":0},{"$f":"IF(AQ478>0,1,0)","v":0},{"$f":"IF($H478>0,AP478,0)","v":0},{"$f":"IF(AS478>0,1,0)","v":0},{"$f":"IF($I478=AU$6,$E478,0)","v":0.88},{"$f":"IF($K478=ROUND(AU$6*$F478,2),$G478,0)","v":0},{"$f":"IF($H478>0,AU478,0)","v":0.88},{"$f":"IF(AW478>0,1,0)","v":1},{"$f":"IF($H478>0,AV478,0)","v":0},{"$f":"IF(AY478>0,1,0)","v":0},{"$f":"IF($I478=BA$6,$E478,0)","v":0},{"$f":"IF($K478=ROUND(BA$6*$F478,2),$G478,0)","v":0},{"$f":"IF($H478>0,BA478,0)","v":0},{"$f":"IF(BC478>0,1,0)","v":0},{"$f":"IF($H478>0,BB478,0)","v":0},{"$f":"IF(BE478>0,1,0)","v":0},null,8.8000000000000003E-4,1.5,null,null,0]
[{"$f":"IF(E479+G479>0,A478,\"\")","v":""},{"$f":"IF(E479+G479>0,B478,\"\")","v":""},6,"03-4-23.697(333)",0,1.1000000000000001,0,0,{"$f":"SUMIF(Y$14:BA$14,C479,Y$6:BA$6)","v":1733.45},{"$f":"IF(H479=0,ROUND(E479*I479,2),ROUND(H479*E479,2))","v":0},{"$f":"ROUND(F479*I479,2)","v":1906.8},{"$f":"IF(H479=0,ROUND(ROUND(F479*I479,2)*G479,2),ROUND(G479*H479,2))","v":0},{"$f":"L479-ROUND(G479*I479,2)","v":0},null,{"$f":"J479+L479+N479","v":0},null,405.07,{"$f":"ROUND(Q479*E479,2)","v":0},{"$f":"ROUND(F479*Q479,2)","v":445.58},{"$f":"ROUND(S479*G479,2)","v":0},{"$f":"T479-ROUND(Q479*G479,2)","v":0},null,{"$f":"R479+T479+V479","v":0},null,null,null,null,null,null,null,null,null,null,null,{"$f":"IF($I479=AI$6,$E479,0)","v":0},0,{"$f":"IF($H479>0,AI479,0)","v":0},{"$f":"IF(AK479>0,1,0)","v":0},{"$f":"IF($H479>0,AJ479,0)","v":0},{"$f":"IF(AM479>0,1,0)","v":0},{"$f":"IF($I479=AO$6,$E479,0)","v":0},0,{"$f":"IF($H479>0,AO479,0)","v":0},{"$f":"IF(AQ479>0,1,0)","v":0},{"$f":"IF($H479>0,AP479,0)","v":0},{"$f":"IF(AS479>0,1,0)","v":0},{"$f":"IF($I479=AU$6,$E479,0)","v":0},0,{"$f":"IF($H479>0,AU479,0)","v":0},{"$f":"IF(AW479>0,1,0)","v":0},{"$f":"IF($H479>0,AV479,0)","v":0},{"$f":"IF(AY479>0,1,0)","v":0},{"$f":"IF($I479=BA$6,$E479,0)","v":0},0,{"$f":"IF($H479>0,BA479,0)","v":0},{"$f":"IF(BC479>0,1,0)","v":0},{"$f":"IF($H479>0,BB479,0)","v":0},{"$f":"IF(BE479>0,1,0)","v":0},null,0,null,null,null,0]
[{"$f":"IF(E480+G480>0,A478,\"\")","v":""},{"$f":"IF(E480+G480>0,B478,\"\")","v":""},{"$f":"C479","v":6},"03-4-23.697(333)",0,1.5,0,0,{"$f":"SUMIF(Y$14:BA$14,C480,Y$7:BA$7)","v":0},0,0,0,0,null,0,null,405.07,0,607.61,0,0,null,0,null,null,null,null,null,null,null,null,null,null,null,{"$f":"IF($I480=AI$7,$E480,0)","v":0},{"$f":"IF($K480=ROUND(AI$7*$F480,2),$G480,0)","v":0},0,0,0,0,{"$f":"IF($I480=AO$7,$E480,0)","v":0},{"$f":"IF($K480=ROUND(AO$7*$F480,2),$G480,0)","v":0},0,0,0,0,{"$f":"IF($I480=AU$7,$E480,0)","v":0},{"$f":"IF($K480=ROUND(AU$7*$F480,2),$G480,0)","v":0},0,0,0,0,{"$f":"IF($I480=BA$7,$E480,0)","v":0},{"$f":"IF($K480=ROUND(BA$7*$F480,2),$G480,0)","v":0},0,0,0,0,null,0,null,null,null,0]
[{"$f":"IF(E481+G481>0,A478,\"\")","v":""},{"$f":"IF(E481+G481>0,B478,\"\")","v":""},{"$f":"C479","v":6},"03-4-23.697(333)",0,1.1000000000000001,0,0,{"$f":"SUMIF(Y$14:BA$14,C481,Y$7:BA$7)","v":0},0,0,0,0,null,0,null,405.07,0,445.58,0,0,null,0,null,null,null,null,null,null,null,null,null,null,null,{"$f":"IF($I481=AI$7,$E481,0)","v":0},{"$f":"IF($K481=ROUND(AI$7*$F481,2),$G481,0)","v":0},0,0,0,0,{"$f":"IF($I481=AO$7,$E481,0)","v":0},{"$f":"IF($K481=ROUND(AO$7*$F481,2),$G481,0)","v":0},0,0,0,0,{"$f":"IF($I481=AU$7,$E481,0)","v":0},{"$f":"IF($K481=ROUND(AU$7*$F481,2),$G481,0)","v":0},0,0,0,0,{"$f":"IF($I481=BA$7,$E481,0)","v":0},{"$f":"IF($K481=ROUND(BA$7*$F481,2),$G481,0)","v":0},0,0,0,0,null,0,null,null,null,0]
["ООО          \"Кварц\"","",{"$f":"C483","v":6},"03-4-23.699(333)",1.6859999999999999,1.5,0,1.6859999999999999,{"$f":"SUMIF(Y$14:BA$14,C482,Y$6:BA$6)","v":1733.45},{"$f":"IF(H482=0,ROUND(E482*I482,2),ROUND(H482*E482,2))","v":2.84},{"$f":"ROUND(F482*I482,2)","v":2600.1799999999998},{"$f":"IF(H482=0,ROUND(ROUND(F482*I482,2)*G482,2),ROUND(G482*H482,2))","v":0},{"$f":"L482-ROUND(G482*I482,2)","v":0},null,{"$f":"J482+L482+N482","v":2.84},null,405.07,{"$f":"ROUND(Q482*E482,2)","v":682.95},{"$f":"ROUND(F482*Q482,2)","v":607.61},{"$f":"ROUND(S482*G482,2)","v":0},{"$f":"T482-ROUND(Q482*G482,2)","v":0},null,{"$f":"R482+T482+V482","v":682.95},null,null,null,null,null,null,null,null,null,null,null,{"$f":"IF($I482=AI$6,$E482,0)","v":0},{"$f":"IF($K482=ROUND(AI$6*$F482,2),$G482,0)","v":0},{"$f":"IF($H482>0,AI482,0)","v":0},{"$f":"IF(AK482>0,1,0)","v":0},{"$f":"IF($H482>0,AJ482,0)","v":0},{"$f":"IF(AM482>0,1,0)","v":0},{"$f":"IF($I482=AO$6,$E482,0)","v":0},{"$f":"IF($K482=ROUND(AO$6*$F482,2),$G482,0)","v":0},{"$f":"IF($H482>0,AO482,0)","v":0},{"$f":"IF(AQ482>0,1,0)","v":0},{"$f":"IF($H482>0,AP482,0)","v":0},{"$f":"IF(AS482>0,1,0)","v":0},{"$f":"IF($I482=AU$6,$E482,0)","v":1.6859999999999999},{"$f":"IF($K482=ROUND(AU$6*$F482,2),$G482,0)","v":0},{"$f":"IF($H482>0,AU482,0)","v":1.6859999999999999},{"$f":"IF(AW482>0,1,0)","v":1},{"$f":"IF($H482>0,AV482,0)","v":0},{"$f":"IF(AY482>0,1,0)","v":0},{"$f":"IF($I482=BA$6,$E482,0)","v":0},{"$f":"IF($K482=ROUND(BA$6*$F482,2),$G482,0)","v":0},{"$f":"IF($H482>0,BA482,0)","v":0},{"$f":"IF(BC482>0,1,0)","v":0},{"$f":"IF($H482>0,BB482,0)","v":0},{"$f":"IF(BE482>0,1,0)","v":0},null,1.686E-3,3,null,null,0]
[{"$f":"IF(E483+G483>0,A482,\"\")","v":""},{"$f":"IF(E483+G483>0,B482,\"\")","v":""},6,"03-4-23.699(333)",0,1.1000000000000001,0,0,{"$f":"SUMIF(Y$14:BA$14,C483,Y$6:BA$6)","v":1733.45},{"$f":"IF(H483=0,ROUND(E483*I483,2),ROUND(H483*E483,2))","v":0},{"$f":"ROUND(F483*I483,2)","v":1906.8},{"$f":"IF(H483=0,ROUND(ROUND(F483*I483,2)*G483,2),ROUND(G483*H483,2))","v":0},{"$f":"L483-ROUND(G483*I483,2)","v":0},null,{"$f":"J483+L483+N483","v":0},null,405.07,{"$f":"ROUND(Q483*E483,2)","v":0},{"$f":"ROUND(F483*Q483,2)","v":445.58},{"$f":"ROUND(S483*G483,2)","v":0},{"$f":"T483-ROUND(Q483*G483,2)","v":0},null,{"$f":"R483+T483+V483","v":0},null,null,null,null,null,null,null,null,null,null,null,{"$f":"IF($I483=AI$6,$E483,0)","v":0},0,{"$f":"IF($H483>0,AI483,0)","v":0},{"$f":"IF(AK483>0,1,0)","v":0},{"$f":"IF($H483>0,AJ483,0)","v":0},{"$f":"IF(AM483>0,1,0)","v":0},{"$f":"IF($I483=AO$6,$E483,0)","v":0},0,{"$f":"IF($H483>0,AO483,0)","v":0},{"$f":"IF(AQ483>0,1,0)","v":0},{"$f":"IF($H483>0,AP483,0)","v":0},{"$f":"IF(AS483>0,1,0)","v":0},{"$f":"IF($I483=AU$6,$E483,0)","v":0},0,{"$f":"IF($H483>0,AU483,0)","v":0},{"$f":"IF(AW483>0,1,0)","v":0},{"$f":"IF($H483>0,AV483,0)","v":0},{"$f":"IF(AY483>0,1,0)","v":0},{"$f":"IF($I483=BA$6,$E483,0)","v":0},0,{"$f":"IF($H483>0,BA483,0)","v":0},{"$f":"IF(BC483>0,1,0)","v":0},{"$f":"IF($H483>0,BB483,0)","v":0},{"$f":"IF(BE483>0,1,0)","v":0},null,0,null,null,null,0]
[{"$f":"IF(E484+G484>0,A482,\"\")","v":""},{"$f":"IF(E484+G484>0,B482,\"\")","v":""},{"$f":"C483","v":6},"03-4-23.699(333)",0,1.5,0,0,{"$f":"SUMIF(Y$14:BA$14,C484,Y$7:BA$7)","v":0},0,0,0,0,null,0,null,405.07,0,607.61,0,0,null,0,null,null,null,null,null,null,null,null,null,null,null,{"$f":"IF($I484=AI$7,$E484,0)","v":0},{"$f":"IF($K484=ROUND(AI$7*$F484,2),$G484,0)","v":0},0,0,0,0,{"$f":"IF($I484=AO$7,$E484,0)","v":0},{"$f":"IF($K484=ROUND(AO$7*$F484,2),$G484,0)","v":0},0,0,0,0,{"$f":"IF($I484=AU$7,$E484,0)","v":0},{"$f":"IF($K484=ROUND(AU$7*$F484,2),$G484,0)","v":0},0,0,0,0,{"$f":"IF($I484=BA$7,$E484,0)","v":0},{"$f":"IF($K484=ROUND(BA$7*$F484,2),$G484,0)","v":0},0,0,0,0,null,0,null,null,null,0]
[{"$f":"IF(E485+G485>0,A482,\"\")","v":""},{"$f":"IF(E485+G485>0,B482,\"\")","v":""},{"$f":"C483","v":6},"03-4-23.699(333)",0,1.1000000000000001,0,0,{"$f":"SUMIF(Y$14:BA$14,C485,Y$7:BA$7)","v":0},0,0,0,0,null,0,null,405.07,0,445.58,0,0,null,0,null,null,null,null,null,null,null,null,null,null,null,{"$f":"IF($I485=AI$7,$E485,0)","v":0},{"$f":"IF($K485=ROUND(AI$7*$F485,2),$G485,0)","v":0},0,0,0,0,{"$f":"IF($I485=AO$7,$E485,0)","v":0},{"$f":"IF($K485=ROUND(AO$7*$F485,2),$G485,0)","v":0},0,0,0,0,{"$f":"IF($I485=AU$7,$E485,0)","v":0},{"$f":"IF($K485=ROUND(AU$7*$F485,2),$G485,0)","v":0},0,0,0,0,{"$f":"IF($I485=BA$7,$E485,0)","v":0},{"$f":"IF($K485=ROUND(BA$7*$F485,2),$G485,0)","v":0},0,0,0,0,null,0,null,null,null,0]
["ООО          \"Грузавтокомплект\"","",{"$f":"C487","v":7},"03-4-23.700(333)",0.66,1.5,9.9000000000000005E-2,0.75900000000000001,{"$f":"SUMIF(Y$14:BA$14,C486,Y$6:BA$6)","v":2166.8000000000002},{"$f":"IF(H486=0,ROUND(E486*I486,2),ROUND(H486*E486,2))","v":0.5},{"$f":"ROUND(F486*I486,2)","v":3250.2},{"$f":"IF(H486=0,ROUND(ROUND(F486*I486,2)*G486,2),ROUND(G486*H486,2))","v":0.08},{"$f":"L486-ROUND(G486*I486,2)","v":-214.42999999999998},null,{"$f":"J486+L486+N486","v":0.57999999999999996},null,405.07,{"$f":"ROUND(Q486*E486,2)","v":267.35000000000002},{"$f":"ROUND(F486*Q486,2)","v":607.61},{"$f":"ROUND(S486*G486,2)","v":60.15},{"$f":"T486-ROUND(Q486*G486,2)","v":20.049999999999997},null,{"$f":"R486+T486+V486","v":327.5},null,null,null,null,null,null,null,null,null,null,null,{"$f":"IF($I486=AI$6,$E486,0)","v":0},{"$f":"IF($K486=ROUND(AI$6*$F486,2),$G486,0)","v":0},{"$f":"IF($H486>0,AI486,0)","v":0},{"$f":"IF(AK486>0,1,0)","v":0},{"$f":"IF($H486>0,AJ486,0)","v":0},{"$f":"IF(AM486>0,1,0)","v":0},{"$f":"IF($I486=AO$6,$E486,0)","v":0},{"$f":"IF($K486=ROUND(AO$6*$F486,2),$G486,0)","v":0},{"$f":"IF($H486>0,AO486,0)","v":0},{"$f":"IF(AQ486>0,1,0)","v":0},{"$f":"IF($H486>0,AP486,0)","v":0},{"$f":"IF(AS486>0,1,0)","v":0},{"$f":"IF($I486=AU$6,$E486,0)","v":0},{"$f":"IF($K486=ROUND(AU$6*$F486,2),$G486,0)","v":0},{"$f":"IF($H486>0,AU486,0)","v":0},{"$f":"IF(AW486>0,1,0)","v":0},{"$f":"IF($H486>0,AV486,0)","v":0},{"$f":"IF(AY486>0,1,0)","v":0},{"$f":"IF($I486=BA$6,$E486,0)","v":0.66},{"$f":"IF($K486=ROUND(BA$6*$F486,2),$G486,0)","v":9.9000000000000005E-2},{"$f":"IF($H486>0,BA486,0)","v":0.66},{"$f":"IF(BC486>0,1,0)","v":1},{"$f":"IF($H486>0,BB486,0)","v":9.9000000000000005E-2},{"$f":"IF(BE486>0,1,0)","v":1},null,7.5900000000000002E-4,0.6,null,null,0]
[{"$f":"IF(E487+G487>0,A486,\"\")","v":""},{"$f":"IF(E487+G487>0,B486,\"\")","v":""},7,"03-4-23.700(333)",0,1.1000000000000001,0,0,{"$f":"SUMIF(Y$14:BA$14,C487,Y$6:BA$6)","v":2166.8000000000002},{"$f":"IF(H487=0,ROUND(E487*I487,2),ROUND(H487*E487,2))","v":0},{"$f":"ROUND(F487*I487,2)","v":2383.48},{"$f":"IF(H487=0,ROUND(ROUND(F487*I487,2)*G487,2),ROUND(G487*H487,2))","v":0},{"$f":"L487-ROUND(G487*I487,2)","v":0},null,{"$f":"J487+L487+N487","v":0},null,405.07,{"$f":"ROUND(Q487*E487,2)","v":0},{"$f":"ROUND(F487*Q487,2)","v":445.58},{"$f":"ROUND(S487*G487,2)","v":0},{"$f":"T487-ROUND(Q487*G487,2)","v":0},null,{"$f":"R487+T487+V487","v":0},null,null,null,null,null,null,null,null,null,null,null,{"$f":"IF($I487=AI$6,$E487,0)","v":0},0,{"$f":"IF($H487>0,AI487,0)","v":0},{"$f":"IF(AK487>0,1,0)","v":0},{"$f":"IF($H487>0,AJ487,0)","v":0},{"$f":"IF(AM487>0,1,0)","v":0},{"$f":"IF($I487=AO$6,$E487,0)","v":0},0,{"$f":"IF($H487>0,AO487,0)","v":0},{"$f":"IF(AQ487>0,1,0)","v":0},{"$f":"IF($H487>0,AP487,0)","v":0},{"$f":"IF(AS487>0,1,0)","v":0},{"$f":"IF($I487=AU$6,$E487,0)","v":0},0,{"$f":"IF($H487>0,AU487,0)","v":0},{"$f":"IF(AW487>0,1,0)","v":0},{"$f":"IF($H487>0,AV487,0)","v":0},{"$f":"IF(AY487>0,1,0)","v":0},{"$f":"IF($I487=BA$6,$E487,0)","v":0},0,{"$f":"IF($H487>0,BA487,0)","v":0},{"$f":"IF(BC487>0,1,0)","v":0},{"$f":"IF($H487>0,BB487,0)","v":0},{"$f":"IF(BE487>0,1,0)","v":0},null,0,null,null,null,0]
[{"$f":"IF(E488+G488>0,A486,\"\")","v":""},{"$f":"IF(E488+G488>0,B486,\"\")","v":""},{"$f":"C487","v":7},"03-4-23.700(333)",0,1.5,0,0,{"$f":"SUMIF(Y$14:BA$14,C488,Y$7:BA$7)","v":0},0,0,0,0,null,0,null,405.07,0,607.61,0,0,null,0,null,null,null,null,null,null,null,null,null,null,null,{"$f":"IF($I488=AI$7,$E488,0)","v":0},{"$f":"IF($K488=ROUND(AI$7*$F488,2),$G488,0)","v":0},0,0,0,0,{"$f":"IF($I488=AO$7,$E488,0)","v":0},{"$f":"IF($K488=ROUND(AO$7*$F488,2),$G488,0)","v":0},0,0,0,0,{"$f":"IF($I488=AU$7,$E488,0)","v":0},{"$f":"IF($K488=ROUND(AU$7*$F488,2),$G488,0)","v":0},0,0,0,0,{"$f":"IF($I488=BA$7,$E488,0)","v":0},{"$f":"IF($K488=ROUND(BA$7*$F488,2),$G488,0)","v":0},0,0,0,0,null,0,null,null,null,0]
[{"$f":"IF(E489+G489>0,A486,\"\")","v":""},{"$f":"IF(E489+G489>0,B486,\"\")","v":""},{"$f":"C487","v":7},"03-4-23.700(333)",0,1.1000000000000001,0,0,{"$f":"SUMIF(Y$14:BA$14,C489,Y$7:BA$7)","v":0},0,0,0,0,null,0,null,405.07,0,445.58,0,0,null,0,null,null,null,null,null,null,null,null,null,null,null,{"$f":"IF($I489=AI$7,$E489,0)","v":0},{"$f":"IF($K489=ROUND(AI$7*$F489,2),$G489,0)","v":0},0,0,0,0,{"$f":"IF($I489=AO$7,$E489,0)","v":0},{"$f":"IF($K489=ROUND(AO$7*$F489,2),$G489,0)","v":0},0,0,0,0,{"$f":"IF($I489=AU$7,$E489,0)","v":0},{"$f":"IF($K489=ROUND(AU$7*$F489,2),$G489,0)","v":0},0,0,0,0,{"$f":"IF($I489=BA$7,$E489,0)","v":0},{"$f":"IF($K489=ROUND(BA$7*$F489,2),$G489,0)","v":0},0,0,0,0,null,0,null,null,null,0]
["ИП              Ошонков         Александр Юрьевич","",{"$f":"C491","v":6},"03-4-23.701(333)",1.288,1.5,0,1.288,{"$f":"SUMIF(Y$14:BA$14,C490,Y$6:BA$6)","v":1733.45},{"$f":"IF(H490=0,ROUND(E490*I490,2),ROUND(H490*E490,2))","v":1.66},{"$f":"ROUND(F490*I490,2)","v":2600.1799999999998},{"$f":"IF(H490=0,ROUND(ROUND(F490*I490,2)*G490,2),ROUND(G490*H490,2))","v":0},{"$f":"L490-ROUND(G490*I490,2)","v":0},null,{"$f":"J490+L490+N490","v":1.66},null,405.07,{"$f":"ROUND(Q490*E490,2)","v":521.73},{"$f":"ROUND(F490*Q490,2)","v":607.61},{"$f":"ROUND(S490*G490,2)","v":0},{"$f":"T490-ROUND(Q490*G490,2)","v":0},null,{"$f":"R490+T490+V490","v":521.73},null,null,null,null,null,null,null,null,null,null,null,{"$f":"IF($I490=AI$6,$E490,0)","v":0},{"$f":"IF($K490=ROUND(AI$6*$F490,2),$G490,0)","v":0},{"$f":"IF($H490>0,AI490,0)","v":0},{"$f":"IF(AK490>0,1,0)","v":0},{"$f":"IF($H490>0,AJ490,0)","v":0},{"$f":"IF(AM490>0,1,0)","v":0},{"$f":"IF($I490=AO$6,$E490,0)","v":0},{"$f":"IF($K490=ROUND(AO$6*$F490,2),$G490,0)","v":0},{"$f":"IF($H490>0,AO490,0)","v":0},{"$f":"IF(AQ490>0,1,0)","v":0},{"$f":"IF($H490>0,AP490,0)","v":0},{"$f":"IF(AS490>0,1,0)","v":0},{"$f":"IF($I490=AU$6,$E490,0)","v":1.288},{"$f":"IF($K490=ROUND(AU$6*$F490,2),$G490,0)","v":0},{"$f":"IF($H490>0,AU490,0)","v":1.288},{"$f":"IF(AW490>0,1,0)","v":1},{"$f":"IF($H490>0,AV490,0)","v":0},{"$f":"IF(AY490>0,1,0)","v":0},{"$f":"IF($I490=BA$6,$E490,0)","v":0},{"$f":"IF($K490=ROUND(BA$6*$F490,2),$G490,0)","v":0},{"$f":"IF($H490>0,BA490,0)","v":0},{"$f":"IF(BC490>0,1,0)","v":0},{"$f":"IF($H490>0,BB490,0)","v":0},{"$f":"IF(BE490>0,1,0)","v":0},null,1.2880000000000001E-3,1.6,null,null,0]
[{"$f":"IF(E491+G491>0,A490,\"\")","v":""},{"$f":"IF(E491+G491>0,B490,\"\")","v":""},6,"03-4-23.701(333)",0,1.1000000000000001,0,0,{"$f":"SUMIF(Y$14:BA$14,C491,Y$6:BA$6)","v":1733.45},{"$f":"IF(H491=0,ROUND(E491*I491,2),ROUND(H491*E491,2))","v":0},{"$f":"ROUND(F491*I491,2)","v":1906.8},{"$f":"IF(H491=0,ROUND(ROUND(F491*I491,2)*G491,2),ROUND(G491*H491,2))","v":0},{"$f":"L491-ROUND(G491*I491,2)","v":0},null,{"$f":"J491+L491+N491","v":0},null,405.07,{"$f":"ROUND(Q491*E491,2)","v":0},{"$f":"ROUND(F491*Q491,2)","v":445.58},{"$f":"ROUND(S491*G491,2)","v":0},{"$f":"T491-ROUND(Q491*G491,2)","v":0},null,{"$f":"R491+T491+V491","v":0},null,null,null,null,null,null,null,null,null,null,null,{"$f":"IF($I491=AI$6,$E491,0)","v":0},0,{"$f":"IF($H491>0,AI491,0)","v":0},{"$f":"IF(AK491>0,1,0)","v":0},{"$f":"IF($H491>0,AJ491,0)","v":0},{"$f":"IF(AM491>0,1,0)","v":0},{"$f":"IF($I491=AO$6,$E491,0)","v":0},0,{"$f":"IF($H491>0,AO491,0)","v":0},{"$f":"IF(AQ491>0,1,0)","v":0},{"$f":"IF($H491>0,AP491,0)","v":0},{"$f":"IF(AS491>0,1,0)","v":0},{"$f":"IF($I491=AU$6,$E491,0)","v":0},0,{"$f":"IF($H491>0,AU491,0)","v":0},{"$f":"IF(AW491>0,1,0)","v":0},{"$f":"IF($H491>0,AV491,0)","v":0},{"$f":"IF(AY491>0,1,0)","v":0},{"$f":"IF($I491=BA$6,$E491,0)","v":0},0,{"$f":"IF($H491>0,BA491,0)","v":0},{"$f":"IF(BC491>0,1,0)","v":0},{"$f":"IF($H491>0,BB491,0)","v":0},{"$f":"IF(BE491>0,1,0)","v":0},null,0,null,null,null,0]
[{"$f":"IF(E492+G492>0,A490,\"\")","v":""},{"$f":"IF(E492+G492>0,B490,\"\")","v":""},{"$f":"C491","v":6},"03-4-23.701(333)",0,1.5,0,0,{"$f":"SUMIF(Y$14:BA$14,C492,Y$7:BA$7)","v":0},0,0,0,0,null,0,null,405.07,0,607.61,0,0,null,0,null,null,null,null,null,null,null,null,null,null,null,{"$f":"IF($I492=AI$7,$E492,0)","v":0},{"$f":"IF($K492=ROUND(AI$7*$F492,2),$G492,0)","v":0},0,0,0,0,{"$f":"IF($I492=AO$7,$E492,0)","v":0},{"$f":"IF($K492=ROUND(AO$7*$F492,2),$G492,0)","v":0},0,0,0,0,{"$f":"IF($I492=AU$7,$E492,0)","v":0},{"$f":"IF($K492=ROUND(AU$7*$F492,2),$G492,0)","v":0},0,0,0,0,{"$f":"IF($I492=BA$7,$E492,0)","v":0},{"$f":"IF($K492=ROUND(BA$7*$F492,2),$G492,0)","v":0},0,0,0,0,null,0,null,null,null,0]
[{"$f":"IF(E493+G493>0,A490,\"\")","v":""},{"$f":"IF(E493+G493>0,B490,\"\")","v":""},{"$f":"C491","v":6},"03-4-23.701(333)",0,1.1000000000000001,0,0,{"$f":"SUMIF(Y$14:BA$14,C493,Y$7:BA$7)","v":0},0,0,0,0,null,0,null,405.07,0,445.58,0,0,null,0,null,null,null,null,null,null,null,null,null,null,null,{"$f":"IF($I493=AI$7,$E493,0)","v":0},{"$f":"IF($K493=ROUND(AI$7*$F493,2),$G493,0)","v":0},0,0,0,0,{"$f":"IF($I493=AO$7,$E493,0)","v":0},{"$f":"IF($K493=ROUND(AO$7*$F493,2),$G493,0)","v":0},0,0,0,0,{"$f":"IF($I493=AU$7,$E493,0)","v":0},{"$f":"IF($K493=ROUND(AU$7*$F493,2),$G493,0)","v":0},0,0,0,0,{"$f":"IF($I493=BA$7,$E493,0)","v":0},{"$f":"IF($K493=ROUND(BA$7*$F493,2),$G493,0)","v":0},0,0,0,0,null,0,null,null,null,0]
["ИП              Илатовский    Сергей Петрович","",{"$f":"C495","v":7},"03-4-23.702(333)",0.28799999999999998,1.5,0,0.28799999999999998,{"$f":"SUMIF(Y$14:BA$14,C494,Y$6:BA$6)","v":2166.8000000000002},{"$f":"IF(H494=0,ROUND(E494*I494,2),ROUND(H494*E494,2))","v":0.08},{"$f":"ROUND(F494*I494,2)","v":3250.2},{"$f":"IF(H494=0,ROUND(ROUND(F494*I494,2)*G494,2),ROUND(G494*H494,2))","v":0},{"$f":"L494-ROUND(G494*I494,2)","v":0},null,{"$f":"J494+L494+N494","v":0.08},null,405.07,{"$f":"ROUND(Q494*E494,2)","v":116.66},{"$f":"ROUND(F494*Q494,2)","v":607.61},{"$f":"ROUND(S494*G494,2)","v":0},{"$f":"T494-ROUND(Q494*G494,2)","v":0},null,{"$f":"R494+T494+V494","v":116.66},null,null,null,null,null,null,null,null,null,null,null,{"$f":"IF($I494=AI$6,$E494,0)","v":0},{"$f":"IF($K494=ROUND(AI$6*$F494,2),$G494,0)","v":0},{"$f":"IF($H494>0,AI494,0)","v":0},{"$f":"IF(AK494>0,1,0)","v":0},{"$f":"IF($H494>0,AJ494,0)","v":0},{"$f":"IF(AM494>0,1,0)","v":0},{"$f":"IF($I494=AO$6,$E494,0)","v":0},{"$f":"IF($K494=ROUND(AO$6*$F494,2),$G494,0)","v":0},{"$f":"IF($H494>0,AO494,0)","v":0},{"$f":"IF(AQ494>0,1,0)","v":0},{"$f":"IF($H494>0,AP494,0)","v":0},{"$f":"IF(AS494>0,1,0)","v":0},{"$f":"IF($I494=AU$6,$E494,0)","v":0},{"$f":"IF($K494=ROUND(AU$6*$F494,2),$G494,0)","v":0},{"$f":"IF($H494>0,AU494,0)","v":0},{"$f":"IF(AW494>0,1,0)","v":0},{"$f":"IF($H494>0,AV494,0)","v":0},{"$f":"IF(AY494>0,1,0)","v":0},{"$f":"IF($I494=BA$6,$E494,0)","v":0.28799999999999998},{"$f":"IF($K494=ROUND(BA$6*$F494,2),$G494,0)","v":0},{"$f":"IF($H494>0,BA494,0)","v":0.28799999999999998},{"$f":"IF(BC494>0,1,0)","v":1},{"$f":"IF($H494>0,BB494,0)","v":0},{"$f":"IF(BE494>0,1,0)","v":0},null,2.8799999999999995E-4,0.5,null,null,0]
[{"$f":"IF(E495+G495>0,A494,\"\")","v":""},{"$f":"IF(E495+G495>0,B494,\"\")","v":""},7,"03-4-23.702(333)",0,1.1000000000000001,0,0,{"$f":"SUMIF(Y$14:BA$14,C495,Y$6:BA$6)","v":2166.8000000000002},{"$f":"IF(H495=0,ROUND(E495*I495,2),ROUND(H495*E495,2))","v":0},{"$f":"ROUND(F495*I495,2)","v":2383.48},{"$f":"IF(H495=0,ROUND(ROUND(F495*I495,2)*G495,2),ROUND(G495*H495,2))","v":0},{"$f":"L495-ROUND(G495*I495,2)","v":0},null,{"$f":"J495+L495+N495","v":0},null,405.07,{"$f":"ROUND(Q495*E495,2)","v":0},{"$f":"ROUND(F495*Q495,2)","v":445.58},{"$f":"ROUND(S495*G495,2)","v":0},{"$f":"T495-ROUND(Q495*G495,2)","v":0},null,{"$f":"R495+T495+V495","v":0},null,null,null,null,null,null,null,null,null,null,null,{"$f":"IF($I495=AI$6,$E495,0)","v":0},0,{"$f":"IF($H495>0,AI495,0)","v":0},{"$f":"IF(AK495>0,1,0)","v":0},{"$f":"IF($H495>0,AJ495,0)","v":0},{"$f":"IF(AM495>0,1,0)","v":0},{"$f":"IF($I495=AO$6,$E495,0)","v":0},0,{"$f":"IF($H495>0,AO495,0)","v":0},{"$f":"IF(AQ495>0,1,0)","v":0},{"$f":"IF($H495>0,AP495,0)","v":0},{"$f":"IF(AS495>0,1,0)","v":0},{"$f":"IF($I495=AU$6,$E495,0)","v":0},0,{"$f":"IF($H495>0,AU495,0)","v":0},{"$f":"IF(AW495>0,1,0)","v":0},{"$f":"IF($H495>0,AV495,0)","v":0},{"$f":"IF(AY495>0,1,0)","v":0},{"$f":"IF($I495=BA$6,$E495,0)","v":0},0,{"$f":"IF($H495>0,BA495,0)","v":0},{"$f":"IF(BC495>0,1,0)","v":0},{"$f":"IF($H495>0,BB495,0)","v":0},{"$f":"IF(BE495>0,1,0)","v":0},null,0,null,null,null,0]
[{"$f":"IF(E496+G496>0,A494,\"\")","v":""},{"$f":"IF(E496+G496>0,B494,\"\")","v":""},{"$f":"C495","v":7},"03-4-23.702(333)",0,1.5,0,0,{"$f":"SUMIF(Y$14:BA$14,C496,Y$7:BA$7)","v":0},0,0,0,0,null,0,null,405.07,0,607.61,0,0,null,0,null,null,null,null,null,null,null,null,null,null,null,{"$f":"IF($I496=AI$7,$E496,0)","v":0},{"$f":"IF($K496=ROUND(AI$7*$F496,2),$G496,0)","v":0},0,0,0,0,{"$f":"IF($I496=AO$7,$E496,0)","v":0},{"$f":"IF($K496=ROUND(AO$7*$F496,2),$G496,0)","v":0},0,0,0,0,{"$f":"IF($I496=AU$7,$E496,0)","v":0},{"$f":"IF($K496=ROUND(AU$7*$F496,2),$G496,0)","v":0},0,0,0,0,{"$f":"IF($I496=BA$7,$E496,0)","v":0},{"$f":"IF($K496=ROUND(BA$7*$F496,2),$G496,0)","v":0},0,0,0,0,null,0,null,null,null,0]
[{"$f":"IF(E497+G497>0,A494,\"\")","v":""},{"$f":"IF(E497+G497>0,B494,\"\")","v":""},{"$f":"C495","v":7},"03-4-23.702(333)",0,1.1000000000000001,0,0,{"$f":"SUMIF(Y$14:BA$14,C497,Y$7:BA$7)","v":0},0,0,0,0,null,0,null,405.07,0,445.58,0,0,null,0,null,null,null,null,null,null,null,null,null,null,null,{"$f":"IF($I497=AI$7,$E497,0)","v":0},{"$f":"IF($K497=ROUND(AI$7*$F497,2),$G497,0)","v":0},0,0,0,0,{"$f":"IF($I497=AO$7,$E497,0)","v":0},{"$f":"IF($K497=ROUND(AO$7*$F497,2),$G497,0)","v":0},0,0,0,0,{"$f":"IF($I497=AU$7,$E497,0)","v":0},{"$f":"IF($K497=ROUND(AU$7*$F497,2),$G497,0)","v":0},0,0,0,0,{"$f":"IF($I497=BA$7,$E497,0)","v":0},{"$f":"IF($K497=ROUND(BA$7*$F497,2),$G497,0)","v":0},0,0,0,0,null,0,null,null,null,0]
["ООО          \"БИОЛЕСПРОМ\"","Вельск, пер.Макаренко-12",{"$f":"C499","v":6},"03-4-23.704(333)",6.6120000000000001,1.5,0.97700000000000009,7.5890000000000004,{"$f":"SUMIF(Y$14:BA$14,C498,Y$6:BA$6)","v":1733.45},{"$f":"IF(H498=0,ROUND(E498*I498,2),ROUND(H498*E498,2))","v":50.18},{"$f":"ROUND(F498*I498,2)","v":2600.1799999999998},{"$f":"IF(H498=0,ROUND(ROUND(F498*I498,2)*G498,2),ROUND(G498*H498,2))","v":7.41},{"$f":"L498-ROUND(G498*I498,2)","v":-1686.1699999999998},null,{"$f":"J498+L498+N498","v":57.59},null,405.07,{"$f":"ROUND(Q498*E498,2)","v":2678.32},{"$f":"ROUND(F498*Q498,2)","v":607.61},{"$f":"ROUND(S498*G498,2)","v":593.63},{"$f":"T498-ROUND(Q498*G498,2)","v":197.88},null,{"$f":"R498+T498+V498","v":3271.9500000000003},null,null,null,null,null,null,null,null,null,null,null,{"$f":"IF($I498=AI$6,$E498,0)","v":0},{"$f":"IF($K498=ROUND(AI$6*$F498,2),$G498,0)","v":0},{"$f":"IF($H498>0,AI498,0)","v":0},{"$f":"IF(AK498>0,1,0)","v":0},{"$f":"IF($H498>0,AJ498,0)","v":0},{"$f":"IF(AM498>0,1,0)","v":0},{"$f":"IF($I498=AO$6,$E498,0)","v":0},{"$f":"IF($K498=ROUND(AO$6*$F498,2),$G498,0)","v":0},{"$f":"IF($H498>0,AO498,0)","v":0},{"$f":"IF(AQ498>0,1,0)","v":0},{"$f":"IF($H498>0,AP498,0)","v":0},{"$f":"IF(AS498>0,1,0)","v":0},{"$f":"IF($I498=AU$6,$E498,0)","v":6.6120000000000001},{"$f":"IF($K498=ROUND(AU$6*$F498,2),$G498,0)","v":0.97700000000000009},{"$f":"IF($H498>0,AU498,0)","v":6.6120000000000001},{"$f":"IF(AW498>0,1,0)","v":1},{"$f":"IF($H498>0,AV498,0)","v":0.97700000000000009},{"$f":"IF(AY498>0,1,0)","v":1},{"$f":"IF($I498=BA$6,$E498,0)","v":0},{"$f":"IF($K498=ROUND(BA$6*$F498,2),$G498,0)","v":0},{"$f":"IF($H498>0,BA498,0)","v":0},{"$f":"IF(BC498>0,1,0)","v":0},{"$f":"IF($H498>0,BB498,0)","v":0},{"$f":"IF(BE498>0,1,0)","v":0},null,7.5890000000000003E-3,5,null,null,0]
[{"$f":"IF(E499+G499>0,A498,\"\")","v":""},{"$f":"IF(E499+G499>0,B498,\"\")","v":""},6,"03-4-23.704(333)",0,1.1000000000000001,0,0,{"$f":"SUMIF(Y$14:BA$14,C499,Y$6:BA$6)","v":1733.45},{"$f":"IF(H499=0,ROUND(E499*I499,2),ROUND(H499*E499,2))","v":0},{"$f":"ROUND(F499*I499,2)","v":1906.8},{"$f":"IF(H499=0,ROUND(ROUND(F499*I499,2)*G499,2),ROUND(G499*H499,2))","v":0},{"$f":"L499-ROUND(G499*I499,2)","v":0},null,{"$f":"J499+L499+N499","v":0},null,405.07,{"$f":"ROUND(Q499*E499,2)","v":0},{"$f":"ROUND(F499*Q499,2)","v":445.58},{"$f":"ROUND(S499*G499,2)","v":0},{"$f":"T499-ROUND(Q499*G499,2)","v":0},null,{"$f":"R499+T499+V499","v":0},null,null,null,null,null,null,null,null,null,null,null,{"$f":"IF($I499=AI$6,$E499,0)","v":0},0,{"$f":"IF($H499>0,AI499,0)","v":0},{"$f":"IF(AK499>0,1,0)","v":0},{"$f":"IF($H499>0,AJ499,0)","v":0},{"$f":"IF(AM499>0,1,0)","v":0},{"$f":"IF($I499=AO$6,$E499,0)","v":0},0,{"$f":"IF($H499>0,AO499,0)","v":0},{"$f":"IF(AQ499>0,1,0)","v":0},{"$f":"IF($H499>0,AP499,0)","v":0},{"$f":"IF(AS499>0,1,0)","v":0},{"$f":"IF($I499=AU$6,$E499,0)","v":0},0,{"$f":"IF($H499>0,AU499,0)","v":0},{"$f":"IF(AW499>0,1,0)","v":0},{"$f":"IF($H499>0,AV499,0)","v":0},{"$f":"IF(AY499>0,1,0)","v":0},{"$f":"IF($I499=BA$6,$E499,0)","v":0},0,{"$f":"IF($H499>0,BA499,0)","v":0},{"$f":"IF(BC499>0,1,0)","v":0},{"$f":"IF($H499>0,BB499,0)","v":0},{"$f":"IF(BE499>0,1,0)","v":0},null,0,null,null,null,0]
[{"$f":"IF(E500+G500>0,A498,\"\")","v":""},{"$f":"IF(E500+G500>0,B498,\"\")","v":""},{"$f":"C499","v":6},"03-4-23.704(333)",0,1.5,0,0,{"$f":"SUMIF(Y$14:BA$14,C500,Y$7:BA$7)","v":0},0,0,0,0,null,0,null,405.07,0,607.61,0,0,null,0,null,null,null,null,null,null,null,null,null,null,null,{"$f":"IF($I500=AI$7,$E500,0)","v":0},{"$f":"IF($K500=ROUND(AI$7*$F500,2),$G500,0)","v":0},0,0,0,0,{"$f":"IF($I500=AO$7,$E500,0)","v":0},{"$f":"IF($K500=ROUND(AO$7*$F500,2),$G500,0)","v":0},0,0,0,0,{"$f":"IF($I500=AU$7,$E500,0)","v":0},{"$f":"IF($K500=ROUND(AU$7*$F500,2),$G500,0)","v":0},0,0,0,0,{"$f":"IF($I500=BA$7,$E500,0)","v":0},{"$f":"IF($K500=ROUND(BA$7*$F500,2),$G500,0)","v":0},0,0,0,0,null,0,null,null,null,0]
[{"$f":"IF(E501+G501>0,A498,\"\")","v":""},{"$f":"IF(E501+G501>0,B498,\"\")","v":""},{"$f":"C499","v":6},"03-4-23.704(333)",0,1.1000000000000001,0,0,{"$f":"SUMIF(Y$14:BA$14,C501,Y$7:BA$7)","v":0},0,0,0,0,null,0,null,405.07,0,445.58,0,0,null,0,null,null,null,null,null,null,null,null,null,null,null,{"$f":"IF($I501=AI$7,$E501,0)","v":0},{"$f":"IF($K501=ROUND(AI$7*$F501,2),$G501,0)","v":0},0,0,0,0,{"$f":"IF($I501=AO$7,$E501,0)","v":0},{"$f":"IF($K501=ROUND(AO$7*$F501,2),$G501,0)","v":0},0,0,0,0,{"$f":"IF($I501=AU$7,$E501,0)","v":0},{"$f":"IF($K501=ROUND(AU$7*$F501,2),$G501,0)","v":0},0,0,0,0,{"$f":"IF($I501=BA$7,$E501,0)","v":0},{"$f":"IF($K501=ROUND(BA$7*$F501,2),$G501,0)","v":0},0,0,0,0,null,0,null,null,null,0]
["ООО          \"БИОЛЕСПРОМ\"","Вельск, ул.Гагарина-1",{"$f":"C503","v":6},"03-4-23.704(333)",4.9380000000000006,1.5,0.73,5.668000000000001,{"$f":"SUMIF(Y$14:BA$14,C502,Y$6:BA$6)","v":1733.45},{"$f":"IF(H502=0,ROUND(E502*I502,2),ROUND(H502*E502,2))","v":27.99},{"$f":"ROUND(F502*I502,2)","v":2600.1799999999998},{"$f":"IF(H502=0,ROUND(ROUND(F502*I502,2)*G502,2),ROUND(G502*H502,2))","v":4.1399999999999997},{"$f":"L502-ROUND(G502*I502,2)","v":-1261.28},null,{"$f":"J502+L502+N502","v":32.129999999999995},null,405.07,{"$f":"ROUND(Q502*E502,2)","v":2000.24},{"$f":"ROUND(F502*Q502,2)","v":607.61},{"$f":"ROUND(S502*G502,2)","v":443.56},{"$f":"T502-ROUND(Q502*G502,2)","v":147.86000000000001},null,{"$f":"R502+T502+V502","v":2443.8000000000002},null,null,null,null,null,null,null,null,null,null,null,{"$f":"IF($I502=AI$6,$E502,0)","v":0},{"$f":"IF($K502=ROUND(AI$6*$F502,2),$G502,0)","v":0},{"$f":"IF($H502>0,AI502,0)","v":0},{"$f":"IF(AK502>0,1,0)","v":0},{"$f":"IF($H502>0,AJ502,0)","v":0},{"$f":"IF(AM502>0,1,0)","v":0},{"$f":"IF($I502=AO$6,$E502,0)","v":0},{"$f":"IF($K502=ROUND(AO$6*$F502,2),$G502,0)","v":0},{"$f":"IF($H502>0,AO502,0)","v":0},{"$f":"IF(AQ502>0,1,0)","v":0},{"$f":"IF($H502>0,AP502,0)","v":0},{"$f":"IF(AS502>0,1,0)","v":0},{"$f":"IF($I502=AU$6,$E502,0)","v":4.9380000000000006},{"$f":"IF($K502=ROUND(AU$6*$F502,2),$G502,0)","v":0.73},{"$f":"IF($H502>0,AU502,0)","v":4.9380000000000006},{"$f":"IF(AW502>0,1,0)","v":1},{"$f":"IF($H502>0,AV502,0)","v":0.73},{"$f":"IF(AY502>0,1,0)","v":1},{"$f":"IF($I502=BA$6,$E502,0)","v":0},{"$f":"IF($K502=ROUND(BA$6*$F502,2),$G502,0)","v":0},{"$f":"IF($H502>0,BA502,0)","v":0},{"$f":"IF(BC502>0,1,0)","v":0},{"$f":"IF($H502>0,BB502,0)","v":0},{"$f":"IF(BE502>0,1,0)","v":0},null,5.6680000000000012E-3,5.5,null,null,0]
[{"$f":"IF(E503+G503>0,A502,\"\")","v":""},{"$f":"IF(E503+G503>0,B502,\"\")","v":""},6,"03-4-23.704(333)",0,1.1000000000000001,0,0,{"$f":"SUMIF(Y$14:BA$14,C503,Y$6:BA$6)","v":1733.45},{"$f":"IF(H503=0,ROUND(E503*I503,2),ROUND(H503*E503,2))","v":0},{"$f":"ROUND(F503*I503,2)","v":1906.8},{"$f":"IF(H503=0,ROUND(ROUND(F503*I503,2)*G503,2),ROUND(G503*H503,2))","v":0},{"$f":"L503-ROUND(G503*I503,2)","v":0},null,{"$f":"J503+L503+N503","v":0},null,405.07,{"$f":"ROUND(Q503*E503,2)","v":0},{"$f":"ROUND(F503*Q503,2)","v":445.58},{"$f":"ROUND(S503*G503,2)","v":0},{"$f":"T503-ROUND(Q503*G503,2)","v":0},null,{"$f":"R503+T503+V503","v":0},null,null,null,null,null,null,null,null,null,null,null,{"$f":"IF($I503=AI$6,$E503,0)","v":0},0,{"$f":"IF($H503>0,AI503,0)","v":0},{"$f":"IF(AK503>0,1,0)","v":0},{"$f":"IF($H503>0,AJ503,0)","v":0},{"$f":"IF(AM503>0,1,0)","v":0},{"$f":"IF($I503=AO$6,$E503,0)","v":0},0,{"$f":"IF($H503>0,AO503,0)","v":0},{"$f":"IF(AQ503>0,1,0)","v":0},{"$f":"IF($H503>0,AP503,0)","v":0},{"$f":"IF(AS503>0,1,0)","v":0},{"$f":"IF($I503=AU$6,$E503,0)","v":0},0,{"$f":"IF($H503>0,AU503,0)","v":0},{"$f":"IF(AW503>0,1,0)","v":0},{"$f":"IF($H503>0,AV503,0)","v":0},{"$f":"IF(AY503>0,1,0)","v":0},{"$f":"IF($I503=BA$6,$E503,0)","v":0},0,{"$f":"IF($H503>0,BA503,0)","v":0},{"$f":"IF(BC503>0,1,0)","v":0},{"$f":"IF($H503>0,BB503,0)","v":0},{"$f":"IF(BE503>0,1,0)","v":0},null,0,null,null,null,0]
[{"$f":"IF(E504+G504>0,A502,\"\")","v":""},{"$f":"IF(E504+G504>0,B502,\"\")","v":""},{"$f":"C503","v":6},"03-4-23.704(333)",0,1.5,0,0,{"$f":"SUMIF(Y$14:BA$14,C504,Y$7:BA$7)","v":0},0,0,0,0,null,0,null,405.07,0,607.61,0,0,null,0,null,null,null,null,null,null,null,null,null,null,null,{"$f":"IF($I504=AI$7,$E504,0)","v":0},{"$f":"IF($K504=ROUND(AI$7*$F504,2),$G504,0)","v":0},0,0,0,0,{"$f":"IF($I504=AO$7,$E504,0)","v":0},{"$f":"IF($K504=ROUND(AO$7*$F504,2),$G504,0)","v":0},0,0,0,0,{"$f":"IF($I504=AU$7,$E504,0)","v":0},{"$f":"IF($K504=ROUND(AU$7*$F504,2),$G504,0)","v":0},0,0,0,0,{"$f":"IF($I504=BA$7,$E504,0)","v":0},{"$f":"IF($K504=ROUND(BA$7*$F504,2),$G504,0)","v":0},0,0,0,0,null,0,null,null,null,0]
[{"$f":"IF(E505+G505>0,A502,\"\")","v":""},{"$f":"IF(E505+G505>0,B502,\"\")","v":""},{"$f":"C503","v":6},"03-4-23.704(333)",0,1.1000000000000001,0,0,{"$f":"SUMIF(Y$14:BA$14,C505,Y$7:BA$7)","v":0},0,0,0,0,null,0,null,405.07,0,445.58,0,0,null,0,null,null,null,null,null,null,null,null,null,null,null,{"$f":"IF($I505=AI$7,$E505,0)","v":0},{"$f":"IF($K505=ROUND(AI$7*$F505,2),$G505,0)","v":0},0,0,0,0,{"$f":"IF($I505=AO$7,$E505,0)","v":0},{"$f":"IF($K505=ROUND(AO$7*$F505,2),$G505,0)","v":0},0,0,0,0,{"$f":"IF($I505=AU$7,$E505,0)","v":0},{"$f":"IF($K505=ROUND(AU$7*$F505,2),$G505,0)","v":0},0,0,0,0,{"$f":"IF($I505=BA$7,$E505,0)","v":0},{"$f":"IF($K505=ROUND(BA$7*$F505,2),$G505,0)","v":0},0,0,0,0,null,0,null,null,null,0]
["ИП               Растегаев     Юрий Вячеславович","",{"$f":"C507","v":6},"03-4-23.709(333)",1.2330000000000001,1.5,0,1.2330000000000001,{"$f":"SUMIF(Y$14:BA$14,C506,Y$6:BA$6)","v":1733.45},{"$f":"IF(H506=0,ROUND(E506*I506,2),ROUND(H506*E506,2))","v":1.52},{"$f":"ROUND(F506*I506,2)","v":2600.1799999999998},{"$f":"IF(H506=0,ROUND(ROUND(F506*I506,2)*G506,2),ROUND(G506*H506,2))","v":0},{"$f":"L506-ROUND(G506*I506,2)","v":0},null,{"$f":"J506+L506+N506","v":1.52},null,405.07,{"$f":"ROUND(Q506*E506,2)","v":499.45},{"$f":"ROUND(F506*Q506,2)","v":607.61},{"$f":"ROUND(S506*G506,2)","v":0},{"$f":"T506-ROUND(Q506*G506,2)","v":0},null,{"$f":"R506+T506+V506","v":499.45},null,null,null,null,null,null,null,null,null,null,null,{"$f":"IF($I506=AI$6,$E506,0)","v":0},{"$f":"IF($K506=ROUND(AI$6*$F506,2),$G506,0)","v":0},{"$f":"IF($H506>0,AI506,0)","v":0},{"$f":"IF(AK506>0,1,0)","v":0},{"$f":"IF($H506>0,AJ506,0)","v":0},{"$f":"IF(AM506>0,1,0)","v":0},{"$f":"IF($I506=AO$6,$E506,0)","v":0},{"$f":"IF($K506=ROUND(AO$6*$F506,2),$G506,0)","v":0},{"$f":"IF($H506>0,AO506,0)","v":0},{"$f":"IF(AQ506>0,1,0)","v":0},{"$f":"IF($H506>0,AP506,0)","v":0},{"$f":"IF(AS506>0,1,0)","v":0},{"$f":"IF($I506=AU$6,$E506,0)","v":1.2330000000000001},{"$f":"IF($K506=ROUND(AU$6*$F506,2),$G506,0)","v":0},{"$f":"IF($H506>0,AU506,0)","v":1.2330000000000001},{"$f":"IF(AW506>0,1,0)","v":1},{"$f":"IF($H506>0,AV506,0)","v":0},{"$f":"IF(AY506>0,1,0)","v":0},{"$f":"IF($I506=BA$6,$E506,0)","v":0},{"$f":"IF($K506=ROUND(BA$6*$F506,2),$G506,0)","v":0},{"$f":"IF($H506>0,BA506,0)","v":0},{"$f":"IF(BC506>0,1,0)","v":0},{"$f":"IF($H506>0,BB506,0)","v":0},{"$f":"IF(BE506>0,1,0)","v":0},null,1.2330000000000002E-3,1.7,null,null,0]
[{"$f":"IF(E507+G507>0,A506,\"\")","v":""},{"$f":"IF(E507+G507>0,B506,\"\")","v":""},6,"03-4-23.709(333)",0,1.1000000000000001,0,0,{"$f":"SUMIF(Y$14:BA$14,C507,Y$6:BA$6)","v":1733.45},{"$f":"IF(H507=0,ROUND(E507*I507,2),ROUND(H507*E507,2))","v":0},{"$f":"ROUND(F507*I507,2)","v":1906.8},{"$f":"IF(H507=0,ROUND(ROUND(F507*I507,2)*G507,2),ROUND(G507*H507,2))","v":0},{"$f":"L507-ROUND(G507*I507,2)","v":0},null,{"$f":"J507+L507+N507","v":0},null,405.07,{"$f":"ROUND(Q507*E507,2)","v":0},{"$f":"ROUND(F507*Q507,2)","v":445.58},{"$f":"ROUND(S507*G507,2)","v":0},{"$f":"T507-ROUND(Q507*G507,2)","v":0},null,{"$f":"R507+T507+V507","v":0},null,null,null,null,null,null,null,null,null,null,null,{"$f":"IF($I507=AI$6,$E507,0)","v":0},0,{"$f":"IF($H507>0,AI507,0)","v":0},{"$f":"IF(AK507>0,1,0)","v":0},{"$f":"IF($H507>0,AJ507,0)","v":0},{"$f":"IF(AM507>0,1,0)","v":0},{"$f":"IF($I507=AO$6,$E507,0)","v":0},0,{"$f":"IF($H507>0,AO507,0)","v":0},{"$f":"IF(AQ507>0,1,0)","v":0},{"$f":"IF($H507>0,AP507,0)","v":0},{"$f":"IF(AS507>0,1,0)","v":0},{"$f":"IF($I507=AU$6,$E507,0)","v":0},0,{"$f":"IF($H507>0,AU507,0)","v":0},{"$f":"IF(AW507>0,1,0)","v":0},{"$f":"IF($H507>0,AV507,0)","v":0},{"$f":"IF(AY507>0,1,0)","v":0},{"$f":"IF($I507=BA$6,$E507,0)","v":0},0,{"$f":"IF($H507>0,BA507,0)","v":0},{"$f":"IF(BC507>0,1,0)","v":0},{"$f":"IF($H507>0,BB507,0)","v":0},{"$f":"IF(BE507>0,1,0)","v":0},null,0,null,null,null,0]
[{"$f":"IF(E508+G508>0,A506,\"\")","v":""},{"$f":"IF(E508+G508>0,B506,\"\")","v":""},{"$f":"C507","v":6},"03-4-23.709(333)",0,1.5,0,0,{"$f":"SUMIF(Y$14:BA$14,C508,Y$7:BA$7)","v":0},0,0,0,0,null,0,null,405.07,0,607.61,0,0,null,0,null,null,null,null,null,null,null,null,null,null,null,{"$f":"IF($I508=AI$7,$E508,0)","v":0},{"$f":"IF($K508=ROUND(AI$7*$F508,2),$G508,0)","v":0},0,0,0,0,{"$f":"IF($I508=AO$7,$E508,0)","v":0},{"$f":"IF($K508=ROUND(AO$7*$F508,2),$G508,0)","v":0},0,0,0,0,{"$f":"IF($I508=AU$7,$E508,0)","v":0},{"$f":"IF($K508=ROUND(AU$7*$F508,2),$G508,0)","v":0},0,0,0,0,{"$f":"IF($I508=BA$7,$E508,0)","v":0},{"$f":"IF($K508=ROUND(BA$7*$F508,2),$G508,0)","v":0},0,0,0,0,null,0,null,null,null,0]
[{"$f":"IF(E509+G509>0,A506,\"\")","v":""},{"$f":"IF(E509+G509>0,B506,\"\")","v":""},{"$f":"C507","v":6},"03-4-23.709(333)",0,1.1000000000000001,0,0,{"$f":"SUMIF(Y$14:BA$14,C509,Y$7:BA$7)","v":0},0,0,0,0,null,0,null,405.07,0,445.58,0,0,null,0,null,null,null,null,null,null,null,null,null,null,null,{"$f":"IF($I509=AI$7,$E509,0)","v":0},{"$f":"IF($K509=ROUND(AI$7*$F509,2),$G509,0)","v":0},0,0,0,0,{"$f":"IF($I509=AO$7,$E509,0)","v":0},{"$f":"IF($K509=ROUND(AO$7*$F509,2),$G509,0)","v":0},0,0,0,0,{"$f":"IF($I509=AU$7,$E509,0)","v":0},{"$f":"IF($K509=ROUND(AU$7*$F509,2),$G509,0)","v":0},0,0,0,0,{"$f":"IF($I509=BA$7,$E509,0)","v":0},{"$f":"IF($K509=ROUND(BA$7*$F509,2),$G509,0)","v":0},0,0,0,0,null,0,null,null,null,0]
["ИП              Кудрявцева     Светлана Николаевна","",{"$f":"C511","v":6},"03-4-23.717(333)",1.335,1.5,0,1.335,{"$f":"SUMIF(Y$14:BA$14,C510,Y$6:BA$6)","v":1733.45},{"$f":"IF(H510=0,ROUND(E510*I510,2),ROUND(H510*E510,2))","v":1.78},{"$f":"ROUND(F510*I510,2)","v":2600.1799999999998},{"$f":"IF(H510=0,ROUND(ROUND(F510*I510,2)*G510,2),ROUND(G510*H510,2))","v":0},{"$f":"L510-ROUND(G510*I510,2)","v":0},null,{"$f":"J510+L510+N510","v":1.78},null,405.07,{"$f":"ROUND(Q510*E510,2)","v":540.77},{"$f":"ROUND(F510*Q510,2)","v":607.61},{"$f":"ROUND(S510*G510,2)","v":0},{"$f":"T510-ROUND(Q510*G510,2)","v":0},null,{"$f":"R510+T510+V510","v":540.77},null,null,null,null,null,null,null,null,null,null,null,{"$f":"IF($I510=AI$6,$E510,0)","v":0},{"$f":"IF($K510=ROUND(AI$6*$F510,2),$G510,0)","v":0},{"$f":"IF($H510>0,AI510,0)","v":0},{"$f":"IF(AK510>0,1,0)","v":0},{"$f":"IF($H510>0,AJ510,0)","v":0},{"$f":"IF(AM510>0,1,0)","v":0},{"$f":"IF($I510=AO$6,$E510,0)","v":0},{"$f":"IF($K510=ROUND(AO$6*$F510,2),$G510,0)","v":0},{"$f":"IF($H510>0,AO510,0)","v":0},{"$f":"IF(AQ510>0,1,0)","v":0},{"$f":"IF($H510>0,AP510,0)","v":0},{"$f":"IF(AS510>0,1,0)","v":0},{"$f":"IF($I510=AU$6,$E510,0)","v":1.335},{"$f":"IF($K510=ROUND(AU$6*$F510,2),$G510,0)","v":0},{"$f":"IF($H510>0,AU510,0)","v":1.335},{"$f":"IF(AW510>0,1,0)","v":1},{"$f":"IF($H510>0,AV510,0)","v":0},{"$f":"IF(AY510>0,1,0)","v":0},{"$f":"IF($I510=BA$6,$E510,0)","v":0},{"$f":"IF($K510=ROUND(BA$6*$F510,2),$G510,0)","v":0},{"$f":"IF($H510>0,BA510,0)","v":0},{"$f":"IF(BC510>0,1,0)","v":0},{"$f":"IF($H510>0,BB510,0)","v":0},{"$f":"IF(BE510>0,1,0)","v":0},null,1.335E-3,2,null,null,0]
[{"$f":"IF(E511+G511>0,A510,\"\")","v":""},{"$f":"IF(E511+G511>0,B510,\"\")","v":""},6,"03-4-23.717(333)",0,1.1000000000000001,0,0,{"$f":"SUMIF(Y$14:BA$14,C511,Y$6:BA$6)","v":1733.45},{"$f":"IF(H511=0,ROUND(E511*I511,2),ROUND(H511*E511,2))","v":0},{"$f":"ROUND(F511*I511,2)","v":1906.8},{"$f":"IF(H511=0,ROUND(ROUND(F511*I511,2)*G511,2),ROUND(G511*H511,2))","v":0},{"$f":"L511-ROUND(G511*I511,2)","v":0},null,{"$f":"J511+L511+N511","v":0},null,405.07,{"$f":"ROUND(Q511*E511,2)","v":0},{"$f":"ROUND(F511*Q511,2)","v":445.58},{"$f":"ROUND(S511*G511,2)","v":0},{"$f":"T511-ROUND(Q511*G511,2)","v":0},null,{"$f":"R511+T511+V511","v":0},null,null,null,null,null,null,null,null,null,null,null,{"$f":"IF($I511=AI$6,$E511,0)","v":0},0,{"$f":"IF($H511>0,AI511,0)","v":0},{"$f":"IF(AK511>0,1,0)","v":0},{"$f":"IF($H511>0,AJ511,0)","v":0},{"$f":"IF(AM511>0,1,0)","v":0},{"$f":"IF($I511=AO$6,$E511,0)","v":0},0,{"$f":"IF($H511>0,AO511,0)","v":0},{"$f":"IF(AQ511>0,1,0)","v":0},{"$f":"IF($H511>0,AP511,0)","v":0},{"$f":"IF(AS511>0,1,0)","v":0},{"$f":"IF($I511=AU$6,$E511,0)","v":0},0,{"$f":"IF($H511>0,AU511,0)","v":0},{"$f":"IF(AW511>0,1,0)","v":0},{"$f":"IF($H511>0,AV511,0)","v":0},{"$f":"IF(AY511>0,1,0)","v":0},{"$f":"IF($I511=BA$6,$E511,0)","v":0},0,{"$f":"IF($H511>0,BA511,0)","v":0},{"$f":"IF(BC511>0,1,0)","v":0},{"$f":"IF($H511>0,BB511,0)","v":0},{"$f":"IF(BE511>0,1,0)","v":0},null,0,null,null,null,0]
[{"$f":"IF(E512+G512>0,A510,\"\")","v":""},{"$f":"IF(E512+G512>0,B510,\"\")","v":""},{"$f":"C511","v":6},"03-4-23.717(333)",0,1.5,0,0,{"$f":"SUMIF(Y$14:BA$14,C512,Y$7:BA$7)","v":0},0,0,0,0,null,0,null,405.07,0,607.61,0,0,null,0,null,null,null,null,null,null,null,null,null,null,null,{"$f":"IF($I512=AI$7,$E512,0)","v":0},{"$f":"IF($K512=ROUND(AI$7*$F512,2),$G512,0)","v":0},0,0,0,0,{"$f":"IF($I512=AO$7,$E512,0)","v":0},{"$f":"IF($K512=ROUND(AO$7*$F512,2),$G512,0)","v":0},0,0,0,0,{"$f":"IF($I512=AU$7,$E512,0)","v":0},{"$f":"IF($K512=ROUND(AU$7*$F512,2),$G512,0)","v":0},0,0,0,0,{"$f":"IF($I512=BA$7,$E512,0)","v":0},{"$f":"IF($K512=ROUND(BA$7*$F512,2),$G512,0)","v":0},0,0,0,0,null,0,null,null,null,0]
[{"$f":"IF(E513+G513>0,A510,\"\")","v":""},{"$f":"IF(E513+G513>0,B510,\"\")","v":""},{"$f":"C511","v":6},"03-4-23.717(333)",0,1.1000000000000001,0,0,{"$f":"SUMIF(Y$14:BA$14,C513,Y$7:BA$7)","v":0},0,0,0,0,null,0,null,405.07,0,445.58,0,0,null,0,null,null,null,null,null,null,null,null,null,null,null,{"$f":"IF($I513=AI$7,$E513,0)","v":0},{"$f":"IF($K513=ROUND(AI$7*$F513,2),$G513,0)","v":0},0,0,0,0,{"$f":"IF($I513=AO$7,$E513,0)","v":0},{"$f":"IF($K513=ROUND(AO$7*$F513,2),$G513,0)","v":0},0,0,0,0,{"$f":"IF($I513=AU$7,$E513,0)","v":0},{"$f":"IF($K513=ROUND(AU$7*$F513,2),$G513,0)","v":0},0,0,0,0,{"$f":"IF($I513=BA$7,$E513,0)","v":0},{"$f":"IF($K513=ROUND(BA$7*$F513,2),$G513,0)","v":0},0,0,0,0,null,0,null,null,null,0]
["Гр.              Церковников   Евгений Сергеевич","",{"$f":"C515","v":6},"03-4-23.720(333)",0.85599999999999998,1.5,0,0.85599999999999998,{"$f":"SUMIF(Y$14:BA$14,C514,Y$6:BA$6)","v":1733.45},{"$f":"IF(H514=0,ROUND(E514*I514,2),ROUND(H514*E514,2))","v":0.73},{"$f":"ROUND(F514*I514,2)","v":2600.1799999999998},{"$f":"IF(H514=0,ROUND(ROUND(F514*I514,2)*G514,2),ROUND(G514*H514,2))","v":0},{"$f":"L514-ROUND(G514*I514,2)","v":0},null,{"$f":"J514+L514+N514","v":0.73},null,405.07,{"$f":"ROUND(Q514*E514,2)","v":346.74},{"$f":"ROUND(F514*Q514,2)","v":607.61},{"$f":"ROUND(S514*G514,2)","v":0},{"$f":"T514-ROUND(Q514*G514,2)","v":0},null,{"$f":"R514+T514+V514","v":346.74},null,null,null,null,null,null,null,null,null,null,null,{"$f":"IF($I514=AI$6,$E514,0)","v":0},{"$f":"IF($K514=ROUND(AI$6*$F514,2),$G514,0)","v":0},{"$f":"IF($H514>0,AI514,0)","v":0},{"$f":"IF(AK514>0,1,0)","v":0},{"$f":"IF($H514>0,AJ514,0)","v":0},{"$f":"IF(AM514>0,1,0)","v":0},{"$f":"IF($I514=AO$6,$E514,0)","v":0},{"$f":"IF($K514=ROUND(AO$6*$F514,2),$G514,0)","v":0},{"$f":"IF($H514>0,AO514,0)","v":0},{"$f":"IF(AQ514>0,1,0)","v":0},{"$f":"IF($H514>0,AP514,0)","v":0},{"$f":"IF(AS514>0,1,0)","v":0},{"$f":"IF($I514=AU$6,$E514,0)","v":0.85599999999999998},{"$f":"IF($K514=ROUND(AU$6*$F514,2),$G514,0)","v":0},{"$f":"IF($H514>0,AU514,0)","v":0.85599999999999998},{"$f":"IF(AW514>0,1,0)","v":1},{"$f":"IF($H514>0,AV514,0)","v":0},{"$f":"IF(AY514>0,1,0)","v":0},{"$f":"IF($I514=BA$6,$E514,0)","v":0},{"$f":"IF($K514=ROUND(BA$6*$F514,2),$G514,0)","v":0},{"$f":"IF($H514>0,BA514,0)","v":0},{"$f":"IF(BC514>0,1,0)","v":0},{"$f":"IF($H514>0,BB514,0)","v":0},{"$f":"IF(BE514>0,1,0)","v":0},null,8.5599999999999999E-4,1.7,null,null,0]
[{"$f":"IF(E515+G515>0,A514,\"\")","v":""},{"$f":"IF(E515+G515>0,B514,\"\")","v":""},6,"03-4-23.720(333)",0,1.1000000000000001,0,0,{"$f":"SUMIF(Y$14:BA$14,C515,Y$6:BA$6)","v":1733.45},{"$f":"IF(H515=0,ROUND(E515*I515,2),ROUND(H515*E515,2))","v":0},{"$f":"ROUND(F515*I515,2)","v":1906.8},{"$f":"IF(H515=0,ROUND(ROUND(F515*I515,2)*G515,2),ROUND(G515*H515,2))","v":0},{"$f":"L515-ROUND(G515*I515,2)","v":0},null,{"$f":"J515+L515+N515","v":0},null,405.07,{"$f":"ROUND(Q515*E515,2)","v":0},{"$f":"ROUND(F515*Q515,2)","v":445.58},{"$f":"ROUND(S515*G515,2)","v":0},{"$f":"T515-ROUND(Q515*G515,2)","v":0},null,{"$f":"R515+T515+V515","v":0},null,null,null,null,null,null,null,null,null,null,null,{"$f":"IF($I515=AI$6,$E515,0)","v":0},0,{"$f":"IF($H515>0,AI515,0)","v":0},{"$f":"IF(AK515>0,1,0)","v":0},{"$f":"IF($H515>0,AJ515,0)","v":0},{"$f":"IF(AM515>0,1,0)","v":0},{"$f":"IF($I515=AO$6,$E515,0)","v":0},0,{"$f":"IF($H515>0,AO515,0)","v":0},{"$f":"IF(AQ515>0,1,0)","v":0},{"$f":"IF($H515>0,AP515,0)","v":0},{"$f":"IF(AS515>0,1,0)","v":0},{"$f":"IF($I515=AU$6,$E515,0)","v":0},0,{"$f":"IF($H515>0,AU515,0)","v":0},{"$f":"IF(AW515>0,1,0)","v":0},{"$f":"IF($H515>0,AV515,0)","v":0},{"$f":"IF(AY515>0,1,0)","v":0},{"$f":"IF($I515=BA$6,$E515,0)","v":0},0,{"$f":"IF($H515>0,BA515,0)","v":0},{"$f":"IF(BC515>0,1,0)","v":0},{"$f":"IF($H515>0,BB515,0)","v":0},{"$f":"IF(BE515>0,1,0)","v":0},null,0,null,null,null,0]
[{"$f":"IF(E516+G516>0,A514,\"\")","v":""},{"$f":"IF(E516+G516>0,B514,\"\")","v":""},{"$f":"C515","v":6},"03-4-23.720(333)",0,1.5,0,0,{"$f":"SUMIF(Y$14:BA$14,C516,Y$7:BA$7)","v":0},0,0,0,0,null,0,null,405.07,0,607.61,0,0,null,0,null,null,null,null,null,null,null,null,null,null,null,{"$f":"IF($I516=AI$7,$E516,0)","v":0},{"$f":"IF($K516=ROUND(AI$7*$F516,2),$G516,0)","v":0},0,0,0,0,{"$f":"IF($I516=AO$7,$E516,0)","v":0},{"$f":"IF($K516=ROUND(AO$7*$F516,2),$G516,0)","v":0},0,0,0,0,{"$f":"IF($I516=AU$7,$E516,0)","v":0},{"$f":"IF($K516=ROUND(AU$7*$F516,2),$G516,0)","v":0},0,0,0,0,{"$f":"IF($I516=BA$7,$E516,0)","v":0},{"$f":"IF($K516=ROUND(BA$7*$F516,2),$G516,0)","v":0},0,0,0,0,null,0,null,null,null,0]
[{"$f":"IF(E517+G517>0,A514,\"\")","v":""},{"$f":"IF(E517+G517>0,B514,\"\")","v":""},{"$f":"C515","v":6},"03-4-23.720(333)",0,1.1000000000000001,0,0,{"$f":"SUMIF(Y$14:BA$14,C517,Y$7:BA$7)","v":0},0,0,0,0,null,0,null,405.07,0,445.58,0,0,null,0,null,null,null,null,null,null,null,null,null,null,null,{"$f":"IF($I517=AI$7,$E517,0)","v":0},{"$f":"IF($K517=ROUND(AI$7*$F517,2),$G517,0)","v":0},0,0,0,0,{"$f":"IF($I517=AO$7,$E517,0)","v":0},{"$f":"IF($K517=ROUND(AO$7*$F517,2),$G517,0)","v":0},0,0,0,0,{"$f":"IF($I517=AU$7,$E517,0)","v":0},{"$f":"IF($K517=ROUND(AU$7*$F517,2),$G517,0)","v":0},0,0,0,0,{"$f":"IF($I517=BA$7,$E517,0)","v":0},{"$f":"IF($K517=ROUND(BA$7*$F517,2),$G517,0)","v":0},0,0,0,0,null,0,null,null,null,0]
["Гр.               Лобанов Иван Валентинович","Вельск, ул.Гагарина-5",{"$f":"C519","v":6},"03-4-22.738",0.95399999999999996,1.5,0,0.95399999999999996,{"$f":"SUMIF(Y$14:BA$14,C518,Y$6:BA$6)","v":1733.45},{"$f":"IF(H518=0,ROUND(E518*I518,2),ROUND(H518*E518,2))","v":0.91},{"$f":"ROUND(F518*I518,2)","v":2600.1799999999998},{"$f":"IF(H518=0,ROUND(ROUND(F518*I518,2)*G518,2),ROUND(G518*H518,2))","v":0},{"$f":"L518-ROUND(G518*I518,2)","v":0},null,{"$f":"J518+L518+N518","v":0.91},null,405.07,{"$f":"ROUND(Q518*E518,2)","v":386.44},{"$f":"ROUND(F518*Q518,2)","v":607.61},{"$f":"ROUND(S518*G518,2)","v":0},{"$f":"T518-ROUND(Q518*G518,2)","v":0},null,{"$f":"R518+T518+V518","v":386.44},null,null,null,null,null,null,null,null,null,null,null,{"$f":"IF($I518=AI$6,$E518,0)","v":0},{"$f":"IF($K518=ROUND(AI$6*$F518,2),$G518,0)","v":0},{"$f":"IF($H518>0,AI518,0)","v":0},{"$f":"IF(AK518>0,1,0)","v":0},{"$f":"IF($H518>0,AJ518,0)","v":0},{"$f":"IF(AM518>0,1,0)","v":0},{"$f":"IF($I518=AO$6,$E518,0)","v":0},{"$f":"IF($K518=ROUND(AO$6*$F518,2),$G518,0)","v":0},{"$f":"IF($H518>0,AO518,0)","v":0},{"$f":"IF(AQ518>0,1,0)","v":0},{"$f":"IF($H518>0,AP518,0)","v":0},{"$f":"IF(AS518>0,1,0)","v":0},{"$f":"IF($I518=AU$6,$E518,0)","v":0.95399999999999996},{"$f":"IF($K518=ROUND(AU$6*$F518,2),$G518,0)","v":0},{"$f":"IF($H518>0,AU518,0)","v":0.95399999999999996},{"$f":"IF(AW518>0,1,0)","v":1},{"$f":"IF($H518>0,AV518,0)","v":0},{"$f":"IF(AY518>0,1,0)","v":0},{"$f":"IF($I518=BA$6,$E518,0)","v":0},{"$f":"IF($K518=ROUND(BA$6*$F518,2),$G518,0)","v":0},{"$f":"IF($H518>0,BA518,0)","v":0},{"$f":"IF(BC518>0,1,0)","v":0},{"$f":"IF($H518>0,BB518,0)","v":0},{"$f":"IF(BE518>0,1,0)","v":0},null,9.5399999999999999E-4,0.9,null,null,0]
[{"$f":"IF(E519+G519>0,A518,\"\")","v":""},{"$f":"IF(E519+G519>0,B518,\"\")","v":""},6,"03-4-22.738",0,1.1000000000000001,0,0,{"$f":"SUMIF(Y$14:BA$14,C519,Y$6:BA$6)","v":1733.45},{"$f":"IF(H519=0,ROUND(E519*I519,2),ROUND(H519*E519,2))","v":0},{"$f":"ROUND(F519*I519,2)","v":1906.8},{"$f":"IF(H519=0,ROUND(ROUND(F519*I519,2)*G519,2),ROUND(G519*H519,2))","v":0},{"$f":"L519-ROUND(G519*I519,2)","v":0},null,{"$f":"J519+L519+N519","v":0},null,405.07,{"$f":"ROUND(Q519*E519,2)","v":0},{"$f":"ROUND(F519*Q519,2)","v":445.58},{"$f":"ROUND(S519*G519,2)","v":0},{"$f":"T519-ROUND(Q519*G519,2)","v":0},null,{"$f":"R519+T519+V519","v":0},null,null,null,null,null,null,null,null,null,null,null,{"$f":"IF($I519=AI$6,$E519,0)","v":0},0,{"$f":"IF($H519>0,AI519,0)","v":0},{"$f":"IF(AK519>0,1,0)","v":0},{"$f":"IF($H519>0,AJ519,0)","v":0},{"$f":"IF(AM519>0,1,0)","v":0},{"$f":"IF($I519=AO$6,$E519,0)","v":0},0,{"$f":"IF($H519>0,AO519,0)","v":0},{"$f":"IF(AQ519>0,1,0)","v":0},{"$f":"IF($H519>0,AP519,0)","v":0},{"$f":"IF(AS519>0,1,0)","v":0},{"$f":"IF($I519=AU$6,$E519,0)","v":0},0,{"$f":"IF($H519>0,AU519,0)","v":0},{"$f":"IF(AW519>0,1,0)","v":0},{"$f":"IF($H519>0,AV519,0)","v":0},{"$f":"IF(AY519>0,1,0)","v":0},{"$f":"IF($I519=BA$6,$E519,0)","v":0},0,{"$f":"IF($H519>0,BA519,0)","v":0},{"$f":"IF(BC519>0,1,0)","v":0},{"$f":"IF($H519>0,BB519,0)","v":0},{"$f":"IF(BE519>0,1,0)","v":0},null,0,null,null,null,0]
[{"$f":"IF(E520+G520>0,A518,\"\")","v":""},{"$f":"IF(E520+G520>0,B518,\"\")","v":""},{"$f":"C519","v":6},"03-4-22.738",0,1.5,0,0,{"$f":"SUMIF(Y$14:BA$14,C520,Y$7:BA$7)","v":0},0,0,0,0,null,0,null,405.07,0,607.61,0,0,null,0,null,null,null,null,null,null,null,null,null,null,null,{"$f":"IF($I520=AI$7,$E520,0)","v":0},{"$f":"IF($K520=ROUND(AI$7*$F520,2),$G520,0)","v":0},0,0,0,0,{"$f":"IF($I520=AO$7,$E520,0)","v":0},{"$f":"IF($K520=ROUND(AO$7*$F520,2),$G520,0)","v":0},0,0,0,0,{"$f":"IF($I520=AU$7,$E520,0)","v":0},{"$f":"IF($K520=ROUND(AU$7*$F520,2),$G520,0)","v":0},0,0,0,0,{"$f":"IF($I520=BA$7,$E520,0)","v":0},{"$f":"IF($K520=ROUND(BA$7*$F520,2),$G520,0)","v":0},0,0,0,0,null,0,null,null,null,0]
[{"$f":"IF(E521+G521>0,A518,\"\")","v":""},{"$f":"IF(E521+G521>0,B518,\"\")","v":""},{"$f":"C519","v":6},"03-4-22.738",0,1.1000000000000001,0,0,{"$f":"SUMIF(Y$14:BA$14,C521,Y$7:BA$7)","v":0},0,0,0,0,null,0,null,405.07,0,445.58,0,0,null,0,null,null,null,null,null,null,null,null,null,null,null,{"$f":"IF($I521=AI$7,$E521,0)","v":0},{"$f":"IF($K521=ROUND(AI$7*$F521,2),$G521,0)","v":0},0,0,0,0,{"$f":"IF($I521=AO$7,$E521,0)","v":0},{"$f":"IF($K521=ROUND(AO$7*$F521,2),$G521,0)","v":0},0,0,0,0,{"$f":"IF($I521=AU$7,$E521,0)","v":0},{"$f":"IF($K521=ROUND(AU$7*$F521,2),$G521,0)","v":0},0,0,0,0,{"$f":"IF($I521=BA$7,$E521,0)","v":0},{"$f":"IF($K521=ROUND(BA$7*$F521,2),$G521,0)","v":0},0,0,0,0,null,0,null,null,null,0]
["Гр.               Лобанов Иван Валентинович","Вельск, ул.Гагарина-5",{"$f":"C523","v":6},"03-4-22.738(333)",0,1.5,0,0,{"$f":"SUMIF(Y$14:BA$14,C522,Y$6:BA$6)","v":1733.45},{"$f":"IF(H522=0,ROUND(E522*I522,2),ROUND(H522*E522,2))","v":0},{"$f":"ROUND(F522*I522,2)","v":2600.1799999999998},{"$f":"IF(H522=0,ROUND(ROUND(F522*I522,2)*G522,2),ROUND(G522*H522,2))","v":0},{"$f":"L522-ROUND(G522*I522,2)","v":0},null,{"$f":"J522+L522+N522","v":0},null,405.07,{"$f":"ROUND(Q522*E522,2)","v":0},{"$f":"ROUND(F522*Q522,2)","v":607.61},{"$f":"ROUND(S522*G522,2)","v":0},{"$f":"T522-ROUND(Q522*G522,2)","v":0},null,{"$f":"R522+T522+V522","v":0},null,null,null,null,null,null,null,null,null,null,null,{"$f":"IF($I522=AI$6,$E522,0)","v":0},{"$f":"IF($K522=ROUND(AI$6*$F522,2),$G522,0)","v":0},{"$f":"IF($H522>0,AI522,0)","v":0},{"$f":"IF(AK522>0,1,0)","v":0},{"$f":"IF($H522>0,AJ522,0)","v":0},{"$f":"IF(AM522>0,1,0)","v":0},{"$f":"IF($I522=AO$6,$E522,0)","v":0},{"$f":"IF($K522=ROUND(AO$6*$F522,2),$G522,0)","v":0},{"$f":"IF($H522>0,AO522,0)","v":0},{"$f":"IF(AQ522>0,1,0)","v":0},{"$f":"IF($H522>0,AP522,0)","v":0},{"$f":"IF(AS522>0,1,0)","v":0},{"$f":"IF($I522=AU$6,$E522,0)","v":0},{"$f":"IF($K522=ROUND(AU$6*$F522,2),$G522,0)","v":0},{"$f":"IF($H522>0,AU522,0)","v":0},{"$f":"IF(AW522>0,1,0)","v":0},{"$f":"IF($H522>0,AV522,0)","v":0},{"$f":"IF(AY522>0,1,0)","v":0},{"$f":"IF($I522=BA$6,$E522,0)","v":0},{"$f":"IF($K522=ROUND(BA$6*$F522,2),$G522,0)","v":0},{"$f":"IF($H522>0,BA522,0)","v":0},{"$f":"IF(BC522>0,1,0)","v":0},{"$f":"IF($H522>0,BB522,0)","v":0},{"$f":"IF(BE522>0,1,0)","v":0},null,0,0.8,null,null,0]
[{"$f":"IF(E523+G523>0,A522,\"\")","v":""},{"$f":"IF(E523+G523>0,B522,\"\")","v":""},6,"03-4-22.738(333)",0,1.1000000000000001,0,0,{"$f":"SUMIF(Y$14:BA$14,C523,Y$6:BA$6)","v":1733.45},{"$f":"IF(H523=0,ROUND(E523*I523,2),ROUND(H523*E523,2))","v":0},{"$f":"ROUND(F523*I523,2)","v":1906.8},{"$f":"IF(H523=0,ROUND(ROUND(F523*I523,2)*G523,2),ROUND(G523*H523,2))","v":0},{"$f":"L523-ROUND(G523*I523,2)","v":0},null,{"$f":"J523+L523+N523","v":0},null,405.07,{"$f":"ROUND(Q523*E523,2)","v":0},{"$f":"ROUND(F523*Q523,2)","v":445.58},{"$f":"ROUND(S523*G523,2)","v":0},{"$f":"T523-ROUND(Q523*G523,2)","v":0},null,{"$f":"R523+T523+V523","v":0},null,null,null,null,null,null,null,null,null,null,null,{"$f":"IF($I523=AI$6,$E523,0)","v":0},0,{"$f":"IF($H523>0,AI523,0)","v":0},{"$f":"IF(AK523>0,1,0)","v":0},{"$f":"IF($H523>0,AJ523,0)","v":0},{"$f":"IF(AM523>0,1,0)","v":0},{"$f":"IF($I523=AO$6,$E523,0)","v":0},0,{"$f":"IF($H523>0,AO523,0)","v":0},{"$f":"IF(AQ523>0,1,0)","v":0},{"$f":"IF($H523>0,AP523,0)","v":0},{"$f":"IF(AS523>0,1,0)","v":0},{"$f":"IF($I523=AU$6,$E523,0)","v":0},0,{"$f":"IF($H523>0,AU523,0)","v":0},{"$f":"IF(AW523>0,1,0)","v":0},{"$f":"IF($H523>0,AV523,0)","v":0},{"$f":"IF(AY523>0,1,0)","v":0},{"$f":"IF($I523=BA$6,$E523,0)","v":0},0,{"$f":"IF($H523>0,BA523,0)","v":0},{"$f":"IF(BC523>0,1,0)","v":0},{"$f":"IF($H523>0,BB523,0)","v":0},{"$f":"IF(BE523>0,1,0)","v":0},null,0,null,null,null,0]
[{"$f":"IF(E524+G524>0,A522,\"\")","v":""},{"$f":"IF(E524+G524>0,B522,\"\")","v":""},{"$f":"C523","v":6},"03-4-22.738(333)",0,1.5,0,0,{"$f":"SUMIF(Y$14:BA$14,C524,Y$7:BA$7)","v":0},0,0,0,0,null,0,null,405.07,0,607.61,0,0,null,0,null,null,null,null,null,null,null,null,null,null,null,{"$f":"IF($I524=AI$7,$E524,0)","v":0},{"$f":"IF($K524=ROUND(AI$7*$F524,2),$G524,0)","v":0},0,0,0,0,{"$f":"IF($I524=AO$7,$E524,0)","v":0},{"$f":"IF($K524=ROUND(AO$7*$F524,2),$G524,0)","v":0},0,0,0,0,{"$f":"IF($I524=AU$7,$E524,0)","v":0},{"$f":"IF($K524=ROUND(AU$7*$F524,2),$G524,0)","v":0},0,0,0,0,{"$f":"IF($I524=BA$7,$E524,0)","v":0},{"$f":"IF($K524=ROUND(BA$7*$F524,2),$G524,0)","v":0},0,0,0,0,null,0,null,null,null,0]
[{"$f":"IF(E525+G525>0,A522,\"\")","v":""},{"$f":"IF(E525+G525>0,B522,\"\")","v":""},{"$f":"C523","v":6},"03-4-22.738(333)",0,1.1000000000000001,0,0,{"$f":"SUMIF(Y$14:BA$14,C525,Y$7:BA$7)","v":0},0,0,0,0,null,0,null,405.07,0,445.58,0,0,null,0,null,null,null,null,null,null,null,null,null,null,null,{"$f":"IF($I525=AI$7,$E525,0)","v":0},{"$f":"IF($K525=ROUND(AI$7*$F525,2),$G525,0)","v":0},0,0,0,0,{"$f":"IF($I525=AO$7,$E525,0)","v":0},{"$f":"IF($K525=ROUND(AO$7*$F525,2),$G525,0)","v":0},0,0,0,0,{"$f":"IF($I525=AU$7,$E525,0)","v":0},{"$f":"IF($K525=ROUND(AU$7*$F525,2),$G525,0)","v":0},0,0,0,0,{"$f":"IF($I525=BA$7,$E525,0)","v":0},{"$f":"IF($K525=ROUND(BA$7*$F525,2),$G525,0)","v":0},0,0,0,0,null,0,null,null,null,0]
["ИП              Фомин              Михаил Аркадьевич","Вельск, ул.Фефилова-17",{"$f":"C527","v":7},"03-4-23.742(333)",0.379,1.5,0,0.379,{"$f":"SUMIF(Y$14:BA$14,C526,Y$6:BA$6)","v":2166.8000000000002},{"$f":"IF(H526=0,ROUND(E526*I526,2),ROUND(H526*E526,2))","v":0.14000000000000001},{"$f":"ROUND(F526*I526,2)","v":3250.2},{"$f":"IF(H526=0,ROUND(ROUND(F526*I526,2)*G526,2),ROUND(G526*H526,2))","v":0},{"$f":"L526-ROUND(G526*I526,2)","v":0},null,{"$f":"J526+L526+N526","v":0.14000000000000001},null,405.07,{"$f":"ROUND(Q526*E526,2)","v":153.52000000000001},{"$f":"ROUND(F526*Q526,2)","v":607.61},{"$f":"ROUND(S526*G526,2)","v":0},{"$f":"T526-ROUND(Q526*G526,2)","v":0},null,{"$f":"R526+T526+V526","v":153.52000000000001},null,null,null,null,null,null,null,null,null,null,null,{"$f":"IF($I526=AI$6,$E526,0)","v":0},{"$f":"IF($K526=ROUND(AI$6*$F526,2),$G526,0)","v":0},{"$f":"IF($H526>0,AI526,0)","v":0},{"$f":"IF(AK526>0,1,0)","v":0},{"$f":"IF($H526>0,AJ526,0)","v":0},{"$f":"IF(AM526>0,1,0)","v":0},{"$f":"IF($I526=AO$6,$E526,0)","v":0},{"$f":"IF($K526=ROUND(AO$6*$F526,2),$G526,0)","v":0},{"$f":"IF($H526>0,AO526,0)","v":0},{"$f":"IF(AQ526>0,1,0)","v":0},{"$f":"IF($H526>0,AP526,0)","v":0},{"$f":"IF(AS526>0,1,0)","v":0},{"$f":"IF($I526=AU$6,$E526,0)","v":0},{"$f":"IF($K526=ROUND(AU$6*$F526,2),$G526,0)","v":0},{"$f":"IF($H526>0,AU526,0)","v":0},{"$f":"IF(AW526>0,1,0)","v":0},{"$f":"IF($H526>0,AV526,0)","v":0},{"$f":"IF(AY526>0,1,0)","v":0},{"$f":"IF($I526=BA$6,$E526,0)","v":0.379},{"$f":"IF($K526=ROUND(BA$6*$F526,2),$G526,0)","v":0},{"$f":"IF($H526>0,BA526,0)","v":0.379},{"$f":"IF(BC526>0,1,0)","v":1},{"$f":"IF($H526>0,BB526,0)","v":0},{"$f":"IF(BE526>0,1,0)","v":0},null,3.79E-4,0.4,null,null,0]
[{"$f":"IF(E527+G527>0,A526,\"\")","v":""},{"$f":"IF(E527+G527>0,B526,\"\")","v":""},7,"03-4-23.742(333)",0,1.1000000000000001,0,0,{"$f":"SUMIF(Y$14:BA$14,C527,Y$6:BA$6)","v":2166.8000000000002},{"$f":"IF(H527=0,ROUND(E527*I527,2),ROUND(H527*E527,2))","v":0},{"$f":"ROUND(F527*I527,2)","v":2383.48},{"$f":"IF(H527=0,ROUND(ROUND(F527*I527,2)*G527,2),ROUND(G527*H527,2))","v":0},{"$f":"L527-ROUND(G527*I527,2)","v":0},null,{"$f":"J527+L527+N527","v":0},null,405.07,{"$f":"ROUND(Q527*E527,2)","v":0},{"$f":"ROUND(F527*Q527,2)","v":445.58},{"$f":"ROUND(S527*G527,2)","v":0},{"$f":"T527-ROUND(Q527*G527,2)","v":0},null,{"$f":"R527+T527+V527","v":0},null,null,null,null,null,null,null,null,null,null,null,{"$f":"IF($I527=AI$6,$E527,0)","v":0},0,{"$f":"IF($H527>0,AI527,0)","v":0},{"$f":"IF(AK527>0,1,0)","v":0},{"$f":"IF($H527>0,AJ527,0)","v":0},{"$f":"IF(AM527>0,1,0)","v":0},{"$f":"IF($I527=AO$6,$E527,0)","v":0},0,{"$f":"IF($H527>0,AO527,0)","v":0},{"$f":"IF(AQ527>0,1,0)","v":0},{"$f":"IF($H527>0,AP527,0)","v":0},{"$f":"IF(AS527>0,1,0)","v":0},{"$f":"IF($I527=AU$6,$E527,0)","v":0},0,{"$f":"IF($H527>0,AU527,0)","v":0},{"$f":"IF(AW527>0,1,0)","v":0},{"$f":"IF($H527>0,AV527,0)","v":0},{"$f":"IF(AY527>0,1,0)","v":0},{"$f":"IF($I527=BA$6,$E527,0)","v":0},0,{"$f":"IF($H527>0,BA527,0)","v":0},{"$f":"IF(BC527>0,1,0)","v":0},{"$f":"IF($H527>0,BB527,0)","v":0},{"$f":"IF(BE527>0,1,0)","v":0},null,0,null,null,null,0]
[{"$f":"IF(E528+G528>0,A526,\"\")","v":""},{"$f":"IF(E528+G528>0,B526,\"\")","v":""},{"$f":"C527","v":7},"03-4-23.742(333)",0,1.5,0,0,{"$f":"SUMIF(Y$14:BA$14,C528,Y$7:BA$7)","v":0},0,0,0,0,null,0,null,{"$f":"IF(BI528>0,Q$6,Q$6)","v":405.07},0,607.61,0,0,null,0,null,null,null,null,null,null,null,null,null,null,null,{"$f":"IF($I528=AI$7,$E528,0)","v":0},{"$f":"IF($K528=ROUND(AI$7*$F528,2),$G528,0)","v":0},0,0,0,0,{"$f":"IF($I528=AO$7,$E528,0)","v":0},{"$f":"IF($K528=ROUND(AO$7*$F528,2),$G528,0)","v":0},0,0,0,0,{"$f":"IF($I528=AU$7,$E528,0)","v":0},{"$f":"IF($K528=ROUND(AU$7*$F528,2),$G528,0)","v":0},0,0,0,0,{"$f":"IF($I528=BA$7,$E528,0)","v":0},{"$f":"IF($K528=ROUND(BA$7*$F528,2),$G528,0)","v":0},0,0,0,0,null,0,null,null,null,0]
[{"$f":"IF(E529+G529>0,A526,\"\")","v":""},{"$f":"IF(E529+G529>0,B526,\"\")","v":""},{"$f":"C527","v":7},"03-4-23.742(333)",0,1.1000000000000001,0,{"$f":"E529+G529","v":0},{"$f":"SUMIF(Y$14:BA$14,C529,Y$7:BA$7)","v":0},0,0,0,0,null,0,null,405.07,0,445.58,0,0,null,0,null,null,null,null,null,null,null,null,null,null,null,{"$f":"IF($I529=AI$7,$E529,0)","v":0},{"$f":"IF($K529=ROUND(AI$7*$F529,2),$G529,0)","v":0},0,0,0,0,{"$f":"IF($I529=AO$7,$E529,0)","v":0},{"$f":"IF($K529=ROUND(AO$7*$F529,2),$G529,0)","v":0},0,0,0,0,{"$f":"IF($I529=AU$7,$E529,0)","v":0},{"$f":"IF($K529=ROUND(AU$7*$F529,2),$G529,0)","v":0},0,0,0,0,{"$f":"IF($I529=BA$7,$E529,0)","v":0},{"$f":"IF($K529=ROUND(BA$7*$F529,2),$G529,0)","v":0},0,0,0,0,null,{"$f":"H529/1000","v":0},null,null,null,{"$f":"E529-SUM(AI529,AO529,AU529,BA529)","v":0}]
["ИП              Фомин              Михаил Аркадьевич","Вельск, ул.Советская-34",{"$f":"C531","v":7},"03-4-23.742(333)",0.249,1.5,0,0.249,{"$f":"SUMIF(Y$14:BA$14,C530,Y$6:BA$6)","v":2166.8000000000002},{"$f":"IF(H530=0,ROUND(E530*I530,2),ROUND(H530*E530,2))","v":0.06},{"$f":"ROUND(F530*I530,2)","v":3250.2},{"$f":"IF(H530=0,ROUND(ROUND(F530*I530,2)*G530,2),ROUND(G530*H530,2))","v":0},{"$f":"L530-ROUND(G530*I530,2)","v":0},null,{"$f":"J530+L530+N530","v":0.06},null,405.07,{"$f":"ROUND(Q530*E530,2)","v":100.86},{"$f":"ROUND(F530*Q530,2)","v":607.61},{"$f":"ROUND(S530*G530,2)","v":0},{"$f":"T530-ROUND(Q530*G530,2)","v":0},null,{"$f":"R530+T530+V530","v":100.86},null,null,null,null,null,null,null,null,null,null,null,{"$f":"IF($I530=AI$6,$E530,0)","v":0},{"$f":"IF($K530=ROUND(AI$6*$F530,2),$G530,0)","v":0},{"$f":"IF($H530>0,AI530,0)","v":0},{"$f":"IF(AK530>0,1,0)","v":0},{"$f":"IF($H530>0,AJ530,0)","v":0},{"$f":"IF(AM530>0,1,0)","v":0},{"$f":"IF($I530=AO$6,$E530,0)","v":0},{"$f":"IF($K530=ROUND(AO$6*$F530,2),$G530,0)","v":0},{"$f":"IF($H530>0,AO530,0)","v":0},{"$f":"IF(AQ530>0,1,0)","v":0},{"$f":"IF($H530>0,AP530,0)","v":0},{"$f":"IF(AS530>0,1,0)","v":0},{"$f":"IF($I530=AU$6,$E530,0)","v":0},{"$f":"IF($K530=ROUND(AU$6*$F530,2),$G530,0)","v":0},{"$f":"IF($H530>0,AU530,0)","v":0},{"$f":"IF(AW530>0,1,0)","v":0},{"$f":"IF($H530>0,AV530,0)","v":0},{"$f":"IF(AY530>0,1,0)","v":0},{"$f":"IF($I530=BA$6,$E530,0)","v":0.249},{"$f":"IF($K530=ROUND(BA$6*$F530,2),$G530,0)","v":0},{"$f":"IF($H530>0,BA530,0)","v":0.249},{"$f":"IF(BC530>0,1,0)","v":1},{"$f":"IF($H530>0,BB530,0)","v":0},{"$f":"IF(BE530>0,1,0)","v":0},null,2.4899999999999998E-4,0.2,null,null,0]
[{"$f":"IF(E531+G531>0,A530,\"\")","v":""},{"$f":"IF(E531+G531>0,B530,\"\")","v":""},7,"03-4-23.742(333)",0,1.1000000000000001,0,0,{"$f":"SUMIF(Y$14:BA$14,C531,Y$6:BA$6)","v":2166.8000000000002},{"$f":"IF(H531=0,ROUND(E531*I531,2),ROUND(H531*E531,2))","v":0},{"$f":"ROUND(F531*I531,2)","v":2383.48},{"$f":"IF(H531=0,ROUND(ROUND(F531*I531,2)*G531,2),ROUND(G531*H531,2))","v":0},{"$f":"L531-ROUND(G531*I531,2)","v":0},null,{"$f":"J531+L531+N531","v":0},null,405.07,{"$f":"ROUND(Q531*E531,2)","v":0},{"$f":"ROUND(F531*Q531,2)","v":445.58},{"$f":"ROUND(S531*G531,2)","v":0},{"$f":"T531-ROUND(Q531*G531,2)","v":0},null,{"$f":"R531+T531+V531","v":0},null,null,null,null,null,null,null,null,null,null,null,{"$f":"IF($I531=AI$6,$E531,0)","v":0},0,{"$f":"IF($H531>0,AI531,0)","v":0},{"$f":"IF(AK531>0,1,0)","v":0},{"$f":"IF($H531>0,AJ531,0)","v":0},{"$f":"IF(AM531>0,1,0)","v":0},{"$f":"IF($I531=AO$6,$E531,0)","v":0},0,{"$f":"IF($H531>0,AO531,0)","v":0},{"$f":"IF(AQ531>0,1,0)","v":0},{"$f":"IF($H531>0,AP531,0)","v":0},{"$f":"IF(AS531>0,1,0)","v":0},{"$f":"IF($I531=AU$6,$E531,0)","v":0},0,{"$f":"IF($H531>0,AU531,0)","v":0},{"$f":"IF(AW531>0,1,0)","v":0},{"$f":"IF($H531>0,AV531,0)","v":0},{"$f":"IF(AY531>0,1,0)","v":0},{"$f":"IF($I531=BA$6,$E531,0)","v":0},0,{"$f":"IF($H531>0,BA531,0)","v":0},{"$f":"IF(BC531>0,1,0)","v":0},{"$f":"IF($H531>0,BB531,0)","v":0},{"$f":"IF(BE531>0,1,0)","v":0},null,0,null,null,null,0]
[{"$f":"IF(E532+G532>0,A530,\"\")","v":""},{"$f":"IF(E532+G532>0,B530,\"\")","v":""},{"$f":"C531","v":7},"03-4-23.742(333)",0,1.5,0,0,{"$f":"SUMIF(Y$14:BA$14,C532,Y$7:BA$7)","v":0},0,0,0,0,null,0,null,405.07,0,607.61,0,0,null,0,null,null,null,null,null,null,null,null,null,null,null,{"$f":"IF($I532=AI$7,$E532,0)","v":0},{"$f":"IF($K532=ROUND(AI$7*$F532,2),$G532,0)","v":0},0,0,0,0,{"$f":"IF($I532=AO$7,$E532,0)","v":0},{"$f":"IF($K532=ROUND(AO$7*$F532,2),$G532,0)","v":0},0,0,0,0,{"$f":"IF($I532=AU$7,$E532,0)","v":0},{"$f":"IF($K532=ROUND(AU$7*$F532,2),$G532,0)","v":0},0,0,0,0,{"$f":"IF($I532=BA$7,$E532,0)","v":0},{"$f":"IF($K532=ROUND(BA$7*$F532,2),$G532,0)","v":0},0,0,0,0,null,0,null,null,null,0]
[{"$f":"IF(E533+G533>0,A530,\"\")","v":""},{"$f":"IF(E533+G533>0,B530,\"\")","v":""},{"$f":"C531","v":7},"03-4-23.742(333)",0,1.1000000000000001,0,0,{"$f":"SUMIF(Y$14:BA$14,C533,Y$7:BA$7)","v":0},0,0,0,0,null,0,null,405.07,0,445.58,0,0,null,0,null,null,null,null,null,null,null,null,null,null,null,{"$f":"IF($I533=AI$7,$E533,0)","v":0},{"$f":"IF($K533=ROUND(AI$7*$F533,2),$G533,0)","v":0},0,0,0,0,{"$f":"IF($I533=AO$7,$E533,0)","v":0},{"$f":"IF($K533=ROUND(AO$7*$F533,2),$G533,0)","v":0},0,0,0,0,{"$f":"IF($I533=AU$7,$E533,0)","v":0},{"$f":"IF($K533=ROUND(AU$7*$F533,2),$G533,0)","v":0},0,0,0,0,{"$f":"IF($I533=BA$7,$E533,0)","v":0},{"$f":"IF($K533=ROUND(BA$7*$F533,2),$G533,0)","v":0},0,0,0,0,null,0,null,null,null,0]
["ИП              Шишов              Андрей Викторович","",{"$f":"C535","v":6},"03-4-23.743(333)",2.3879999999999999,1.5,0,2.3879999999999999,{"$f":"SUMIF(Y$14:BA$14,C534,Y$6:BA$6)","v":1733.45},{"$f":"IF(H534=0,ROUND(E534*I534,2),ROUND(H534*E534,2))","v":5.7},{"$f":"ROUND(F534*I534,2)","v":2600.1799999999998},{"$f":"IF(H534=0,ROUND(ROUND(F534*I534,2)*G534,2),ROUND(G534*H534,2))","v":0},{"$f":"L534-ROUND(G534*I534,2)","v":0},null,{"$f":"J534+L534+N534","v":5.7},null,405.07,{"$f":"ROUND(Q534*E534,2)","v":967.31},{"$f":"ROUND(F534*Q534,2)","v":607.61},{"$f":"ROUND(S534*G534,2)","v":0},{"$f":"T534-ROUND(Q534*G534,2)","v":0},null,{"$f":"R534+T534+V534","v":967.31},null,null,null,null,null,null,null,null,null,null,null,{"$f":"IF($I534=AI$6,$E534,0)","v":0},{"$f":"IF($K534=ROUND(AI$6*$F534,2),$G534,0)","v":0},{"$f":"IF($H534>0,AI534,0)","v":0},{"$f":"IF(AK534>0,1,0)","v":0},{"$f":"IF($H534>0,AJ534,0)","v":0},{"$f":"IF(AM534>0,1,0)","v":0},{"$f":"IF($I534=AO$6,$E534,0)","v":0},{"$f":"IF($K534=ROUND(AO$6*$F534,2),$G534,0)","v":0},{"$f":"IF($H534>0,AO534,0)","v":0},{"$f":"IF(AQ534>0,1,0)","v":0},{"$f":"IF($H534>0,AP534,0)","v":0},{"$f":"IF(AS534>0,1,0)","v":0},{"$f":"IF($I534=AU$6,$E534,0)","v":2.3879999999999999},{"$f":"IF($K534=ROUND(AU$6*$F534,2),$G534,0)","v":0},{"$f":"IF($H534>0,AU534,0)","v":2.3879999999999999},{"$f":"IF(AW534>0,1,0)","v":1},{"$f":"IF($H534>0,AV534,0)","v":0},{"$f":"IF(AY534>0,1,0)","v":0},{"$f":"IF($I534=BA$6,$E534,0)","v":0},{"$f":"IF($K534=ROUND(BA$6*$F534,2),$G534,0)","v":0},{"$f":"IF($H534>0,BA534,0)","v":0},{"$f":"IF(BC534>0,1,0)","v":0},{"$f":"IF($H534>0,BB534,0)","v":0},{"$f":"IF(BE534>0,1,0)","v":0},null,2.3879999999999999E-3,5,null,null,0]
[{"$f":"IF(E535+G535>0,A534,\"\")","v":""},{"$f":"IF(E535+G535>0,B534,\"\")","v":""},6,"03-4-23.743(333)",0,1.1000000000000001,0,0,{"$f":"SUMIF(Y$14:BA$14,C535,Y$6:BA$6)","v":1733.45},{"$f":"IF(H535=0,ROUND(E535*I535,2),ROUND(H535*E535,2))","v":0},{"$f":"ROUND(F535*I535,2)","v":1906.8},{"$f":"IF(H535=0,ROUND(ROUND(F535*I535,2)*G535,2),ROUND(G535*H535,2))","v":0},{"$f":"L535-ROUND(G535*I535,2)","v":0},null,{"$f":"J535+L535+N535","v":0},null,405.07,{"$f":"ROUND(Q535*E535,2)","v":0},{"$f":"ROUND(F535*Q535,2)","v":445.58},{"$f":"ROUND(S535*G535,2)","v":0},{"$f":"T535-ROUND(Q535*G535,2)","v":0},null,{"$f":"R535+T535+V535","v":0},null,null,null,null,null,null,null,null,null,null,null,{"$f":"IF($I535=AI$6,$E535,0)","v":0},0,{"$f":"IF($H535>0,AI535,0)","v":0},{"$f":"IF(AK535>0,1,0)","v":0},{"$f":"IF($H535>0,AJ535,0)","v":0},{"$f":"IF(AM535>0,1,0)","v":0},{"$f":"IF($I535=AO$6,$E535,0)","v":0},0,{"$f":"IF($H535>0,AO535,0)","v":0},{"$f":"IF(AQ535>0,1,0)","v":0},{"$f":"IF($H535>0,AP535,0)","v":0},{"$f":"IF(AS535>0,1,0)","v":0},{"$f":"IF($I535=AU$6,$E535,0)","v":0},0,{"$f":"IF($H535>0,AU535,0)","v":0},{"$f":"IF(AW535>0,1,0)","v":0},{"$f":"IF($H535>0,AV535,0)","v":0},{"$f":"IF(AY535>0,1,0)","v":0},{"$f":"IF($I535=BA$6,$E535,0)","v":0},0,{"$f":"IF($H535>0,BA535,0)","v":0},{"$f":"IF(BC535>0,1,0)","v":0},{"$f":"IF($H535>0,BB535,0)","v":0},{"$f":"IF(BE535>0,1,0)","v":0},null,0,null,null,null,0]
[{"$f":"IF(E536+G536>0,A534,\"\")","v":""},{"$f":"IF(E536+G536>0,B534,\"\")","v":""},{"$f":"C535","v":6},"03-4-23.743(333)",0,1.5,0,0,{"$f":"SUMIF(Y$14:BA$14,C536,Y$7:BA$7)","v":0},0,0,0,0,null,0,null,405.07,0,607.61,0,0,null,0,null,null,null,null,null,null,null,null,null,null,null,{"$f":"IF($I536=AI$7,$E536,0)","v":0},{"$f":"IF($K536=ROUND(AI$7*$F536,2),$G536,0)","v":0},0,0,0,0,{"$f":"IF($I536=AO$7,$E536,0)","v":0},{"$f":"IF($K536=ROUND(AO$7*$F536,2),$G536,0)","v":0},0,0,0,0,{"$f":"IF($I536=AU$7,$E536,0)","v":0},{"$f":"IF($K536=ROUND(AU$7*$F536,2),$G536,0)","v":0},0,0,0,0,{"$f":"IF($I536=BA$7,$E536,0)","v":0},{"$f":"IF($K536=ROUND(BA$7*$F536,2),$G536,0)","v":0},0,0,0,0,null,0,null,null,null,0]
[{"$f":"IF(E537+G537>0,A534,\"\")","v":""},{"$f":"IF(E537+G537>0,B534,\"\")","v":""},{"$f":"C535","v":6},"03-4-23.743(333)",0,1.1000000000000001,0,0,{"$f":"SUMIF(Y$14:BA$14,C537,Y$7:BA$7)","v":0},0,0,0,0,null,0,null,405.07,0,445.58,0,0,null,0,null,null,null,null,null,null,null,null,null,null,null,{"$f":"IF($I537=AI$7,$E537,0)","v":0},{"$f":"IF($K537=ROUND(AI$7*$F537,2),$G537,0)","v":0},0,0,0,0,{"$f":"IF($I537=AO$7,$E537,0)","v":0},{"$f":"IF($K537=ROUND(AO$7*$F537,2),$G537,0)","v":0},0,0,0,0,{"$f":"IF($I537=AU$7,$E537,0)","v":0},{"$f":"IF($K537=ROUND(AU$7*$F537,2),$G537,0)","v":0},0,0,0,0,{"$f":"IF($I537=BA$7,$E537,0)","v":0},{"$f":"IF($K537=ROUND(BA$7*$F537,2),$G537,0)","v":0},0,0,0,0,null,0,null,null,null,0]
["Гр.              Гомзяков           Игорь Сергеевич","",{"$f":"C539","v":7},"03-4-23.744(333)",0.20599999999999999,1.5,0,0.20599999999999999,{"$f":"SUMIF(Y$14:BA$14,C538,Y$6:BA$6)","v":2166.8000000000002},{"$f":"IF(H538=0,ROUND(E538*I538,2),ROUND(H538*E538,2))","v":0.04},{"$f":"ROUND(F538*I538,2)","v":3250.2},{"$f":"IF(H538=0,ROUND(ROUND(F538*I538,2)*G538,2),ROUND(G538*H538,2))","v":0},{"$f":"L538-ROUND(G538*I538,2)","v":0},null,{"$f":"J538+L538+N538","v":0.04},null,405.07,{"$f":"ROUND(Q538*E538,2)","v":83.44},{"$f":"ROUND(F538*Q538,2)","v":607.61},{"$f":"ROUND(S538*G538,2)","v":0},{"$f":"T538-ROUND(Q538*G538,2)","v":0},null,{"$f":"R538+T538+V538","v":83.44},null,null,null,null,null,null,null,null,null,null,null,{"$f":"IF($I538=AI$6,$E538,0)","v":0},{"$f":"IF($K538=ROUND(AI$6*$F538,2),$G538,0)","v":0},{"$f":"IF($H538>0,AI538,0)","v":0},{"$f":"IF(AK538>0,1,0)","v":0},{"$f":"IF($H538>0,AJ538,0)","v":0},{"$f":"IF(AM538>0,1,0)","v":0},{"$f":"IF($I538=AO$6,$E538,0)","v":0},{"$f":"IF($K538=ROUND(AO$6*$F538,2),$G538,0)","v":0},{"$f":"IF($H538>0,AO538,0)","v":0},{"$f":"IF(AQ538>0,1,0)","v":0},{"$f":"IF($H538>0,AP538,0)","v":0},{"$f":"IF(AS538>0,1,0)","v":0},{"$f":"IF($I538=AU$6,$E538,0)","v":0},{"$f":"IF($K538=ROUND(AU$6*$F538,2),$G538,0)","v":0},{"$f":"IF($H538>0,AU538,0)","v":0},{"$f":"IF(AW538>0,1,0)","v":0},{"$f":"IF($H538>0,AV538,0)","v":0},{"$f":"IF(AY538>0,1,0)","v":0},{"$f":"IF($I538=BA$6,$E538,0)","v":0.20599999999999999},{"$f":"IF($K538=ROUND(BA$6*$F538,2),$G538,0)","v":0},{"$f":"IF($H538>0,BA538,0)","v":0.20599999999999999},{"$f":"IF(BC538>0,1,0)","v":1},{"$f":"IF($H538>0,BB538,0)","v":0},{"$f":"IF(BE538>0,1,0)","v":0},null,2.0599999999999999E-4,0.7,null,null,0]
[{"$f":"IF(E539+G539>0,A538,\"\")","v":""},{"$f":"IF(E539+G539>0,B538,\"\")","v":""},7,"03-4-23.744(333)",0,1.1000000000000001,0,0,{"$f":"SUMIF(Y$14:BA$14,C539,Y$6:BA$6)","v":2166.8000000000002},{"$f":"IF(H539=0,ROUND(E539*I539,2),ROUND(H539*E539,2))","v":0},{"$f":"ROUND(F539*I539,2)","v":2383.48},{"$f":"IF(H539=0,ROUND(ROUND(F539*I539,2)*G539,2),ROUND(G539*H539,2))","v":0},{"$f":"L539-ROUND(G539*I539,2)","v":0},null,{"$f":"J539+L539+N539","v":0},null,405.07,{"$f":"ROUND(Q539*E539,2)","v":0},{"$f":"ROUND(F539*Q539,2)","v":445.58},{"$f":"ROUND(S539*G539,2)","v":0},{"$f":"T539-ROUND(Q539*G539,2)","v":0},null,{"$f":"R539+T539+V539","v":0},null,null,null,null,null,null,null,null,null,null,null,{"$f":"IF($I539=AI$6,$E539,0)","v":0},0,{"$f":"IF($H539>0,AI539,0)","v":0},{"$f":"IF(AK539>0,1,0)","v":0},{"$f":"IF($H539>0,AJ539,0)","v":0},{"$f":"IF(AM539>0,1,0)","v":0},{"$f":"IF($I539=AO$6,$E539,0)","v":0},0,{"$f":"IF($H539>0,AO539,0)","v":0},{"$f":"IF(AQ539>0,1,0)","v":0},{"$f":"IF($H539>0,AP539,0)","v":0},{"$f":"IF(AS539>0,1,0)","v":0},{"$f":"IF($I539=AU$6,$E539,0)","v":0},0,{"$f":"IF($H539>0,AU539,0)","v":0},{"$f":"IF(AW539>0,1,0)","v":0},{"$f":"IF($H539>0,AV539,0)","v":0},{"$f":"IF(AY539>0,1,0)","v":0},{"$f":"IF($I539=BA$6,$E539,0)","v":0},0,{"$f":"IF($H539>0,BA539,0)","v":0},{"$f":"IF(BC539>0,1,0)","v":0},{"$f":"IF($H539>0,BB539,0)","v":0},{"$f":"IF(BE539>0,1,0)","v":0},null,0,null,null,null,0]
[{"$f":"IF(E540+G540>0,A538,\"\")","v":""},{"$f":"IF(E540+G540>0,B538,\"\")","v":""},{"$f":"C539","v":7},"03-4-23.744(333)",0,1.5,0,0,{"$f":"SUMIF(Y$14:BA$14,C540,Y$7:BA$7)","v":0},0,0,0,0,null,0,null,405.07,0,607.61,0,0,null,0,null,null,null,null,null,null,null,null,null,null,null,{"$f":"IF($I540=AI$7,$E540,0)","v":0},{"$f":"IF($K540=ROUND(AI$7*$F540,2),$G540,0)","v":0},0,0,0,0,{"$f":"IF($I540=AO$7,$E540,0)","v":0},{"$f":"IF($K540=ROUND(AO$7*$F540,2),$G540,0)","v":0},0,0,0,0,{"$f":"IF($I540=AU$7,$E540,0)","v":0},{"$f":"IF($K540=ROUND(AU$7*$F540,2),$G540,0)","v":0},0,0,0,0,{"$f":"IF($I540=BA$7,$E540,0)","v":0},{"$f":"IF($K540=ROUND(BA$7*$F540,2),$G540,0)","v":0},0,0,0,0,null,0,null,null,null,0]
[{"$f":"IF(E541+G541>0,A538,\"\")","v":""},{"$f":"IF(E541+G541>0,B538,\"\")","v":""},{"$f":"C539","v":7},"03-4-23.744(333)",0,1.1000000000000001,0,0,{"$f":"SUMIF(Y$14:BA$14,C541,Y$7:BA$7)","v":0},0,0,0,0,null,0,null,405.07,0,445.58,0,0,null,0,null,null,null,null,null,null,null,null,null,null,null,{"$f":"IF($I541=AI$7,$E541,0)","v":0},{"$f":"IF($K541=ROUND(AI$7*$F541,2),$G541,0)","v":0},0,0,0,0,{"$f":"IF($I541=AO$7,$E541,0)","v":0},{"$f":"IF($K541=ROUND(AO$7*$F541,2),$G541,0)","v":0},0,0,0,0,{"$f":"IF($I541=AU$7,$E541,0)","v":0},{"$f":"IF($K541=ROUND(AU$7*$F541,2),$G541,0)","v":0},0,0,0,0,{"$f":"IF($I541=BA$7,$E541,0)","v":0},{"$f":"IF($K541=ROUND(BA$7*$F541,2),$G541,0)","v":0},0,0,0,0,null,0,null,null,null,0]
["ООО           \"Резерв\" ","",{"$f":"C543","v":7},"03-4-23.746(333)",0.52800000000000002,1.5,0,0.52800000000000002,{"$f":"SUMIF(Y$14:BA$14,C542,Y$6:BA$6)","v":2166.8000000000002},{"$f":"IF(H542=0,ROUND(E542*I542,2),ROUND(H542*E542,2))","v":0.28000000000000003},{"$f":"ROUND(F542*I542,2)","v":3250.2},{"$f":"IF(H542=0,ROUND(ROUND(F542*I542,2)*G542,2),ROUND(G542*H542,2))","v":0},{"$f":"L542-ROUND(G542*I542,2)","v":0},null,{"$f":"J542+L542+N542","v":0.28000000000000003},null,405.07,{"$f":"ROUND(Q542*E542,2)","v":213.88},{"$f":"ROUND(F542*Q542,2)","v":607.61},{"$f":"ROUND(S542*G542,2)","v":0},{"$f":"T542-ROUND(Q542*G542,2)","v":0},null,{"$f":"R542+T542+V542","v":213.88},null,null,null,null,null,null,null,null,null,null,null,{"$f":"IF($I542=AI$6,$E542,0)","v":0},{"$f":"IF($K542=ROUND(AI$6*$F542,2),$G542,0)","v":0},{"$f":"IF($H542>0,AI542,0)","v":0},{"$f":"IF(AK542>0,1,0)","v":0},{"$f":"IF($H542>0,AJ542,0)","v":0},{"$f":"IF(AM542>0,1,0)","v":0},{"$f":"IF($I542=AO$6,$E542,0)","v":0},{"$f":"IF($K542=ROUND(AO$6*$F542,2),$G542,0)","v":0},{"$f":"IF($H542>0,AO542,0)","v":0},{"$f":"IF(AQ542>0,1,0)","v":0},{"$f":"IF($H542>0,AP542,0)","v":0},{"$f":"IF(AS542>0,1,0)","v":0},{"$f":"IF($I542=AU$6,$E542,0)","v":0},{"$f":"IF($K542=ROUND(AU$6*$F542,2),$G542,0)","v":0},{"$f":"IF($H542>0,AU542,0)","v":0},{"$f":"IF(AW542>0,1,0)","v":0},{"$f":"IF($H542>0,AV542,0)","v":0},{"$f":"IF(AY542>0,1,0)","v":0},{"$f":"IF($I542=BA$6,$E542,0)","v":0.52800000000000002},{"$f":"IF($K542=ROUND(BA$6*$F542,2),$G542,0)","v":0},{"$f":"IF($H542>0,BA542,0)","v":0.52800000000000002},{"$f":"IF(BC542>0,1,0)","v":1},{"$f":"IF($H542>0,BB542,0)","v":0},{"$f":"IF(BE542>0,1,0)","v":0},null,5.2800000000000004E-4,0.8,null,null,0]
[{"$f":"IF(E543+G543>0,A542,\"\")","v":""},{"$f":"IF(E543+G543>0,B542,\"\")","v":""},7,"03-4-23.746(333)",0,1.1000000000000001,0,0,{"$f":"SUMIF(Y$14:BA$14,C543,Y$6:BA$6)","v":2166.8000000000002},{"$f":"IF(H543=0,ROUND(E543*I543,2),ROUND(H543*E543,2))","v":0},{"$f":"ROUND(F543*I543,2)","v":2383.48},{"$f":"IF(H543=0,ROUND(ROUND(F543*I543,2)*G543,2),ROUND(G543*H543,2))","v":0},{"$f":"L543-ROUND(G543*I543,2)","v":0},null,{"$f":"J543+L543+N543","v":0},null,405.07,{"$f":"ROUND(Q543*E543,2)","v":0},{"$f":"ROUND(F543*Q543,2)","v":445.58},{"$f":"ROUND(S543*G543,2)","v":0},{"$f":"T543-ROUND(Q543*G543,2)","v":0},null,{"$f":"R543+T543+V543","v":0},null,null,null,null,null,null,null,null,null,null,null,{"$f":"IF($I543=AI$6,$E543,0)","v":0},0,{"$f":"IF($H543>0,AI543,0)","v":0},{"$f":"IF(AK543>0,1,0)","v":0},{"$f":"IF($H543>0,AJ543,0)","v":0},{"$f":"IF(AM543>0,1,0)","v":0},{"$f":"IF($I543=AO$6,$E543,0)","v":0},0,{"$f":"IF($H543>0,AO543,0)","v":0},{"$f":"IF(AQ543>0,1,0)","v":0},{"$f":"IF($H543>0,AP543,0)","v":0},{"$f":"IF(AS543>0,1,0)","v":0},{"$f":"IF($I543=AU$6,$E543,0)","v":0},0,{"$f":"IF($H543>0,AU543,0)","v":0},{"$f":"IF(AW543>0,1,0)","v":0},{"$f":"IF($H543>0,AV543,0)","v":0},{"$f":"IF(AY543>0,1,0)","v":0},{"$f":"IF($I543=BA$6,$E543,0)","v":0},0,{"$f":"IF($H543>0,BA543,0)","v":0},{"$f":"IF(BC543>0,1,0)","v":0},{"$f":"IF($H543>0,BB543,0)","v":0},{"$f":"IF(BE543>0,1,0)","v":0},null,0,null,null,null,0]
[{"$f":"IF(E544+G544>0,A542,\"\")","v":""},{"$f":"IF(E544+G544>0,B542,\"\")","v":""},{"$f":"C543","v":7},"03-4-23.746(333)",0,1.5,0,0,{"$f":"SUMIF(Y$14:BA$14,C544,Y$7:BA$7)","v":0},0,0,0,0,null,0,null,405.07,0,607.61,0,0,null,0,null,null,null,null,null,null,null,null,null,null,null,{"$f":"IF($I544=AI$7,$E544,0)","v":0},{"$f":"IF($K544=ROUND(AI$7*$F544,2),$G544,0)","v":0},0,0,0,0,{"$f":"IF($I544=AO$7,$E544,0)","v":0},{"$f":"IF($K544=ROUND(AO$7*$F544,2),$G544,0)","v":0},0,0,0,0,{"$f":"IF($I544=AU$7,$E544,0)","v":0},{"$f":"IF($K544=ROUND(AU$7*$F544,2),$G544,0)","v":0},0,0,0,0,{"$f":"IF($I544=BA$7,$E544,0)","v":0},{"$f":"IF($K544=ROUND(BA$7*$F544,2),$G544,0)","v":0},0,0,0,0,null,0,null,null,null,0]
[{"$f":"IF(E545+G545>0,A542,\"\")","v":""},{"$f":"IF(E545+G545>0,B542,\"\")","v":""},{"$f":"C543","v":7},"03-4-23.746(333)",0,1.1000000000000001,0,0,{"$f":"SUMIF(Y$14:BA$14,C545,Y$7:BA$7)","v":0},0,0,0,0,null,0,null,405.07,0,445.58,0,0,null,0,null,null,null,null,null,null,null,null,null,null,null,{"$f":"IF($I545=AI$7,$E545,0)","v":0},{"$f":"IF($K545=ROUND(AI$7*$F545,2),$G545,0)","v":0},0,0,0,0,{"$f":"IF($I545=AO$7,$E545,0)","v":0},{"$f":"IF($K545=ROUND(AO$7*$F545,2),$G545,0)","v":0},0,0,0,0,{"$f":"IF($I545=AU$7,$E545,0)","v":0},{"$f":"IF($K545=ROUND(AU$7*$F545,2),$G545,0)","v":0},0,0,0,0,{"$f":"IF($I545=BA$7,$E545,0)","v":0},{"$f":"IF($K545=ROUND(BA$7*$F545,2),$G545,0)","v":0},0,0,0,0,null,0,null,null,null,0]
["ИП              Петухов            Алексей Николаевич","",{"$f":"C547","v":6},"03-4-23.747(333)",1.393,1.5,0,1.393,{"$f":"SUMIF(Y$14:BA$14,C546,Y$6:BA$6)","v":1733.45},{"$f":"IF(H546=0,ROUND(E546*I546,2),ROUND(H546*E546,2))","v":1.94},{"$f":"ROUND(F546*I546,2)","v":2600.1799999999998},{"$f":"IF(H546=0,ROUND(ROUND(F546*I546,2)*G546,2),ROUND(G546*H546,2))","v":0},{"$f":"L546-ROUND(G546*I546,2)","v":0},null,{"$f":"J546+L546+N546","v":1.94},null,405.07,{"$f":"ROUND(Q546*E546,2)","v":564.26},{"$f":"ROUND(F546*Q546,2)","v":607.61},{"$f":"ROUND(S546*G546,2)","v":0},{"$f":"T546-ROUND(Q546*G546,2)","v":0},null,{"$f":"R546+T546+V546","v":564.26},null,null,null,null,null,null,null,null,null,null,null,{"$f":"IF($I546=AI$6,$E546,0)","v":0},{"$f":"IF($K546=ROUND(AI$6*$F546,2),$G546,0)","v":0},{"$f":"IF($H546>0,AI546,0)","v":0},{"$f":"IF(AK546>0,1,0)","v":0},{"$f":"IF($H546>0,AJ546,0)","v":0},{"$f":"IF(AM546>0,1,0)","v":0},{"$f":"IF($I546=AO$6,$E546,0)","v":0},{"$f":"IF($K546=ROUND(AO$6*$F546,2),$G546,0)","v":0},{"$f":"IF($H546>0,AO546,0)","v":0},{"$f":"IF(AQ546>0,1,0)","v":0},{"$f":"IF($H546>0,AP546,0)","v":0},{"$f":"IF(AS546>0,1,0)","v":0},{"$f":"IF($I546=AU$6,$E546,0)","v":1.393},{"$f":"IF($K546=ROUND(AU$6*$F546,2),$G546,0)","v":0},{"$f":"IF($H546>0,AU546,0)","v":1.393},{"$f":"IF(AW546>0,1,0)","v":1},{"$f":"IF($H546>0,AV546,0)","v":0},{"$f":"IF(AY546>0,1,0)","v":0},{"$f":"IF($I546=BA$6,$E546,0)","v":0},{"$f":"IF($K546=ROUND(BA$6*$F546,2),$G546,0)","v":0},{"$f":"IF($H546>0,BA546,0)","v":0},{"$f":"IF(BC546>0,1,0)","v":0},{"$f":"IF($H546>0,BB546,0)","v":0},{"$f":"IF(BE546>0,1,0)","v":0},null,1.3929999999999999E-3,4,null,null,0]
[{"$f":"IF(E547+G547>0,A546,\"\")","v":""},{"$f":"IF(E547+G547>0,B546,\"\")","v":""},6,"03-4-23.747(333)",0,1.1000000000000001,0,0,{"$f":"SUMIF(Y$14:BA$14,C547,Y$6:BA$6)","v":1733.45},{"$f":"IF(H547=0,ROUND(E547*I547,2),ROUND(H547*E547,2))","v":0},{"$f":"ROUND(F547*I547,2)","v":1906.8},{"$f":"IF(H547=0,ROUND(ROUND(F547*I547,2)*G547,2),ROUND(G547*H547,2))","v":0},{"$f":"L547-ROUND(G547*I547,2)","v":0},null,{"$f":"J547+L547+N547","v":0},null,405.07,{"$f":"ROUND(Q547*E547,2)","v":0},{"$f":"ROUND(F547*Q547,2)","v":445.58},{"$f":"ROUND(S547*G547,2)","v":0},{"$f":"T547-ROUND(Q547*G547,2)","v":0},null,{"$f":"R547+T547+V547","v":0},null,null,null,null,null,null,null,null,null,null,null,{"$f":"IF($I547=AI$6,$E547,0)","v":0},0,{"$f":"IF($H547>0,AI547,0)","v":0},{"$f":"IF(AK547>0,1,0)","v":0},{"$f":"IF($H547>0,AJ547,0)","v":0},{"$f":"IF(AM547>0,1,0)","v":0},{"$f":"IF($I547=AO$6,$E547,0)","v":0},0,{"$f":"IF($H547>0,AO547,0)","v":0},{"$f":"IF(AQ547>0,1,0)","v":0},{"$f":"IF($H547>0,AP547,0)","v":0},{"$f":"IF(AS547>0,1,0)","v":0},{"$f":"IF($I547=AU$6,$E547,0)","v":0},0,{"$f":"IF($H547>0,AU547,0)","v":0},{"$f":"IF(AW547>0,1,0)","v":0},{"$f":"IF($H547>0,AV547,0)","v":0},{"$f":"IF(AY547>0,1,0)","v":0},{"$f":"IF($I547=BA$6,$E547,0)","v":0},0,{"$f":"IF($H547>0,BA547,0)","v":0},{"$f":"IF(BC547>0,1,0)","v":0},{"$f":"IF($H547>0,BB547,0)","v":0},{"$f":"IF(BE547>0,1,0)","v":0},null,0,null,null,null,0]
[{"$f":"IF(E548+G548>0,A546,\"\")","v":""},{"$f":"IF(E548+G548>0,B546,\"\")","v":""},{"$f":"C547","v":6},"03-4-23.747(333)",0,1.5,0,0,{"$f":"SUMIF(Y$14:BA$14,C548,Y$7:BA$7)","v":0},0,0,0,0,null,0,null,405.07,0,607.61,0,0,null,0,null,null,null,null,null,null,null,null,null,null,null,{"$f":"IF($I548=AI$7,$E548,0)","v":0},{"$f":"IF($K548=ROUND(AI$7*$F548,2),$G548,0)","v":0},0,0,0,0,{"$f":"IF($I548=AO$7,$E548,0)","v":0},{"$f":"IF($K548=ROUND(AO$7*$F548,2),$G548,0)","v":0},0,0,0,0,{"$f":"IF($I548=AU$7,$E548,0)","v":0},{"$f":"IF($K548=ROUND(AU$7*$F548,2),$G548,0)","v":0},0,0,0,0,{"$f":"IF($I548=BA$7,$E548,0)","v":0},{"$f":"IF($K548=ROUND(BA$7*$F548,2),$G548,0)","v":0},0,0,0,0,null,0,null,null,null,0]
[{"$f":"IF(E549+G549>0,A546,\"\")","v":""},{"$f":"IF(E549+G549>0,B546,\"\")","v":""},{"$f":"C547","v":6},"03-4-23.747(333)",0,1.1000000000000001,0,0,{"$f":"SUMIF(Y$14:BA$14,C549,Y$7:BA$7)","v":0},0,0,0,0,null,0,null,405.07,0,445.58,0,0,null,0,null,null,null,null,null,null,null,null,null,null,null,{"$f":"IF($I549=AI$7,$E549,0)","v":0},{"$f":"IF($K549=ROUND(AI$7*$F549,2),$G549,0)","v":0},0,0,0,0,{"$f":"IF($I549=AO$7,$E549,0)","v":0},{"$f":"IF($K549=ROUND(AO$7*$F549,2),$G549,0)","v":0},0,0,0,0,{"$f":"IF($I549=AU$7,$E549,0)","v":0},{"$f":"IF($K549=ROUND(AU$7*$F549,2),$G549,0)","v":0},0,0,0,0,{"$f":"IF($I549=BA$7,$E549,0)","v":0},{"$f":"IF($K549=ROUND(BA$7*$F549,2),$G549,0)","v":0},0,0,0,0,null,0,null,null,null,0]
["ООО ПСК    \"Архпромкомплект\"","",{"$f":"C551","v":6},"03-4-23.749(333)",0.9,1.5,0,0.9,{"$f":"SUMIF(Y$14:BA$14,C550,Y$6:BA$6)","v":1733.45},{"$f":"IF(H550=0,ROUND(E550*I550,2),ROUND(H550*E550,2))","v":0.81},{"$f":"ROUND(F550*I550,2)","v":2600.1799999999998},{"$f":"IF(H550=0,ROUND(ROUND(F550*I550,2)*G550,2),ROUND(G550*H550,2))","v":0},{"$f":"L550-ROUND(G550*I550,2)","v":0},null,{"$f":"J550+L550+N550","v":0.81},null,405.07,{"$f":"ROUND(Q550*E550,2)","v":364.56},{"$f":"ROUND(F550*Q550,2)","v":607.61},{"$f":"ROUND(S550*G550,2)","v":0},{"$f":"T550-ROUND(Q550*G550,2)","v":0},null,{"$f":"R550+T550+V550","v":364.56},null,null,null,null,null,null,null,null,null,null,null,{"$f":"IF($I550=AI$6,$E550,0)","v":0},{"$f":"IF($K550=ROUND(AI$6*$F550,2),$G550,0)","v":0},{"$f":"IF($H550>0,AI550,0)","v":0},{"$f":"IF(AK550>0,1,0)","v":0},{"$f":"IF($H550>0,AJ550,0)","v":0},{"$f":"IF(AM550>0,1,0)","v":0},{"$f":"IF($I550=AO$6,$E550,0)","v":0},{"$f":"IF($K550=ROUND(AO$6*$F550,2),$G550,0)","v":0},{"$f":"IF($H550>0,AO550,0)","v":0},{"$f":"IF(AQ550>0,1,0)","v":0},{"$f":"IF($H550>0,AP550,0)","v":0},{"$f":"IF(AS550>0,1,0)","v":0},{"$f":"IF($I550=AU$6,$E550,0)","v":0.9},{"$f":"IF($K550=ROUND(AU$6*$F550,2),$G550,0)","v":0},{"$f":"IF($H550>0,AU550,0)","v":0.9},{"$f":"IF(AW550>0,1,0)","v":1},{"$f":"IF($H550>0,AV550,0)","v":0},{"$f":"IF(AY550>0,1,0)","v":0},{"$f":"IF($I550=BA$6,$E550,0)","v":0},{"$f":"IF($K550=ROUND(BA$6*$F550,2),$G550,0)","v":0},{"$f":"IF($H550>0,BA550,0)","v":0},{"$f":"IF(BC550>0,1,0)","v":0},{"$f":"IF($H550>0,BB550,0)","v":0},{"$f":"IF(BE550>0,1,0)","v":0},null,8.9999999999999998E-4,1.5,null,null,0]
[{"$f":"IF(E551+G551>0,A550,\"\")","v":""},{"$f":"IF(E551+G551>0,B550,\"\")","v":""},6,"03-4-23.749(333)",0,1.1000000000000001,0,0,{"$f":"SUMIF(Y$14:BA$14,C551,Y$6:BA$6)","v":1733.45},{"$f":"IF(H551=0,ROUND(E551*I551,2),ROUND(H551*E551,2))","v":0},{"$f":"ROUND(F551*I551,2)","v":1906.8},{"$f":"IF(H551=0,ROUND(ROUND(F551*I551,2)*G551,2),ROUND(G551*H551,2))","v":0},{"$f":"L551-ROUND(G551*I551,2)","v":0},null,{"$f":"J551+L551+N551","v":0},null,405.07,{"$f":"ROUND(Q551*E551,2)","v":0},{"$f":"ROUND(F551*Q551,2)","v":445.58},{"$f":"ROUND(S551*G551,2)","v":0},{"$f":"T551-ROUND(Q551*G551,2)","v":0},null,{"$f":"R551+T551+V551","v":0},null,null,null,null,null,null,null,null,null,null,null,{"$f":"IF($I551=AI$6,$E551,0)","v":0},0,{"$f":"IF($H551>0,AI551,0)","v":0},{"$f":"IF(AK551>0,1,0)","v":0},{"$f":"IF($H551>0,AJ551,0)","v":0},{"$f":"IF(AM551>0,1,0)","v":0},{"$f":"IF($I551=AO$6,$E551,0)","v":0},0,{"$f":"IF($H551>0,AO551,0)","v":0},{"$f":"IF(AQ551>0,1,0)","v":0},{"$f":"IF($H551>0,AP551,0)","v":0},{"$f":"IF(AS551>0,1,0)","v":0},{"$f":"IF($I551=AU$6,$E551,0)","v":0},0,{"$f":"IF($H551>0,AU551,0)","v":0},{"$f":"IF(AW551>0,1,0)","v":0},{"$f":"IF($H551>0,AV551,0)","v":0},{"$f":"IF(AY551>0,1,0)","v":0},{"$f":"IF($I551=BA$6,$E551,0)","v":0},0,{"$f":"IF($H551>0,BA551,0)","v":0},{"$f":"IF(BC551>0,1,0)","v":0},{"$f":"IF($H551>0,BB551,0)","v":0},{"$f":"IF(BE551>0,1,0)","v":0},null,0,null,null,null,0]
[{"$f":"IF(E552+G552>0,A550,\"\")","v":""},{"$f":"IF(E552+G552>0,B550,\"\")","v":""},{"$f":"C551","v":6},"03-4-23.749(333)",0,1.5,0,0,{"$f":"SUMIF(Y$14:BA$14,C552,Y$7:BA$7)","v":0},0,0,0,0,null,0,null,405.07,0,607.61,0,0,null,0,null,null,null,null,null,null,null,null,null,null,null,{"$f":"IF($I552=AI$7,$E552,0)","v":0},{"$f":"IF($K552=ROUND(AI$7*$F552,2),$G552,0)","v":0},0,0,0,0,{"$f":"IF($I552=AO$7,$E552,0)","v":0},{"$f":"IF($K552=ROUND(AO$7*$F552,2),$G552,0)","v":0},0,0,0,0,{"$f":"IF($I552=AU$7,$E552,0)","v":0},{"$f":"IF($K552=ROUND(AU$7*$F552,2),$G552,0)","v":0},0,0,0,0,{"$f":"IF($I552=BA$7,$E552,0)","v":0},{"$f":"IF($K552=ROUND(BA$7*$F552,2),$G552,0)","v":0},0,0,0,0,null,0,null,null,null,0]
[{"$f":"IF(E553+G553>0,A550,\"\")","v":""},{"$f":"IF(E553+G553>0,B550,\"\")","v":""},{"$f":"C551","v":6},"03-4-23.749(333)",0,1.1000000000000001,0,0,{"$f":"SUMIF(Y$14:BA$14,C553,Y$7:BA$7)","v":0},0,0,0,0,null,0,null,405.07,0,445.58,0,0,null,0,null,null,null,null,null,null,null,null,null,null,null,{"$f":"IF($I553=AI$7,$E553,0)","v":0},{"$f":"IF($K553=ROUND(AI$7*$F553,2),$G553,0)","v":0},0,0,0,0,{"$f":"IF($I553=AO$7,$E553,0)","v":0},{"$f":"IF($K553=ROUND(AO$7*$F553,2),$G553,0)","v":0},0,0,0,0,{"$f":"IF($I553=AU$7,$E553,0)","v":0},{"$f":"IF($K553=ROUND(AU$7*$F553,2),$G553,0)","v":0},0,0,0,0,{"$f":"IF($I553=BA$7,$E553,0)","v":0},{"$f":"IF($K553=ROUND(BA$7*$F553,2),$G553,0)","v":0},0,0,0,0,null,0,null,null,null,0]
["ИП               Шадрин            Артем Юрьевич","",{"$f":"C555","v":6},"03-4-23.755(333)",0.76,1.5,0,0.76,{"$f":"SUMIF(Y$14:BA$14,C554,Y$6:BA$6)","v":1733.45},{"$f":"IF(H554=0,ROUND(E554*I554,2),ROUND(H554*E554,2))","v":0.57999999999999996},{"$f":"ROUND(F554*I554,2)","v":2600.1799999999998},{"$f":"IF(H554=0,ROUND(ROUND(F554*I554,2)*G554,2),ROUND(G554*H554,2))","v":0},{"$f":"L554-ROUND(G554*I554,2)","v":0},null,{"$f":"J554+L554+N554","v":0.57999999999999996},null,405.07,{"$f":"ROUND(Q554*E554,2)","v":307.85000000000002},{"$f":"ROUND(F554*Q554,2)","v":607.61},{"$f":"ROUND(S554*G554,2)","v":0},{"$f":"T554-ROUND(Q554*G554,2)","v":0},null,{"$f":"R554+T554+V554","v":307.85000000000002},null,null,null,null,null,null,null,null,null,null,null,{"$f":"IF($I554=AI$6,$E554,0)","v":0},{"$f":"IF($K554=ROUND(AI$6*$F554,2),$G554,0)","v":0},{"$f":"IF($H554>0,AI554,0)","v":0},{"$f":"IF(AK554>0,1,0)","v":0},{"$f":"IF($H554>0,AJ554,0)","v":0},{"$f":"IF(AM554>0,1,0)","v":0},{"$f":"IF($I554=AO$6,$E554,0)","v":0},{"$f":"IF($K554=ROUND(AO$6*$F554,2),$G554,0)","v":0},{"$f":"IF($H554>0,AO554,0)","v":0},{"$f":"IF(AQ554>0,1,0)","v":0},{"$f":"IF($H554>0,AP554,0)","v":0},{"$f":"IF(AS554>0,1,0)","v":0},{"$f":"IF($I554=AU$6,$E554,0)","v":0.76},{"$f":"IF($K554=ROUND(AU$6*$F554,2),$G554,0)","v":0},{"$f":"IF($H554>0,AU554,0)","v":0.76},{"$f":"IF(AW554>0,1,0)","v":1},{"$f":"IF($H554>0,AV554,0)","v":0},{"$f":"IF(AY554>0,1,0)","v":0},{"$f":"IF($I554=BA$6,$E554,0)","v":0},{"$f":"IF($K554=ROUND(BA$6*$F554,2),$G554,0)","v":0},{"$f":"IF($H554>0,BA554,0)","v":0},{"$f":"IF(BC554>0,1,0)","v":0},{"$f":"IF($H554>0,BB554,0)","v":0},{"$f":"IF(BE554>0,1,0)","v":0},null,7.6000000000000004E-4,3.1,null,null,0]
[{"$f":"IF(E555+G555>0,A554,\"\")","v":""},{"$f":"IF(E555+G555>0,B554,\"\")","v":""},6,"03-4-23.755(333)",0,1.1000000000000001,0,0,{"$f":"SUMIF(Y$14:BA$14,C555,Y$6:BA$6)","v":1733.45},{"$f":"IF(H555=0,ROUND(E555*I555,2),ROUND(H555*E555,2))","v":0},{"$f":"ROUND(F555*I555,2)","v":1906.8},{"$f":"IF(H555=0,ROUND(ROUND(F555*I555,2)*G555,2),ROUND(G555*H555,2))","v":0},{"$f":"L555-ROUND(G555*I555,2)","v":0},null,{"$f":"J555+L555+N555","v":0},null,405.07,{"$f":"ROUND(Q555*E555,2)","v":0},{"$f":"ROUND(F555*Q555,2)","v":445.58},{"$f":"ROUND(S555*G555,2)","v":0},{"$f":"T555-ROUND(Q555*G555,2)","v":0},null,{"$f":"R555+T555+V555","v":0},null,null,null,null,null,null,null,null,null,null,null,{"$f":"IF($I555=AI$6,$E555,0)","v":0},0,{"$f":"IF($H555>0,AI555,0)","v":0},{"$f":"IF(AK555>0,1,0)","v":0},{"$f":"IF($H555>0,AJ555,0)","v":0},{"$f":"IF(AM555>0,1,0)","v":0},{"$f":"IF($I555=AO$6,$E555,0)","v":0},0,{"$f":"IF($H555>0,AO555,0)","v":0},{"$f":"IF(AQ555>0,1,0)","v":0},{"$f":"IF($H555>0,AP555,0)","v":0},{"$f":"IF(AS555>0,1,0)","v":0},{"$f":"IF($I555=AU$6,$E555,0)","v":0},0,{"$f":"IF($H555>0,AU555,0)","v":0},{"$f":"IF(AW555>0,1,0)","v":0},{"$f":"IF($H555>0,AV555,0)","v":0},{"$f":"IF(AY555>0,1,0)","v":0},{"$f":"IF($I555=BA$6,$E555,0)","v":0},0,{"$f":"IF($H555>0,BA555,0)","v":0},{"$f":"IF(BC555>0,1,0)","v":0},{"$f":"IF($H555>0,BB555,0)","v":0},{"$f":"IF(BE555>0,1,0)","v":0},null,0,null,null,null,0]
[{"$f":"IF(E556+G556>0,A554,\"\")","v":""},{"$f":"IF(E556+G556>0,B554,\"\")","v":""},{"$f":"C555","v":6},"03-4-23.755(333)",0,1.5,0,0,{"$f":"SUMIF(Y$14:BA$14,C556,Y$7:BA$7)","v":0},0,0,0,0,null,0,null,405.07,0,607.61,0,0,null,0,null,null,null,null,null,null,null,null,null,null,null,{"$f":"IF($I556=AI$7,$E556,0)","v":0},{"$f":"IF($K556=ROUND(AI$7*$F556,2),$G556,0)","v":0},0,0,0,0,{"$f":"IF($I556=AO$7,$E556,0)","v":0},{"$f":"IF($K556=ROUND(AO$7*$F556,2),$G556,0)","v":0},0,0,0,0,{"$f":"IF($I556=AU$7,$E556,0)","v":0},{"$f":"IF($K556=ROUND(AU$7*$F556,2),$G556,0)","v":0},0,0,0,0,{"$f":"IF($I556=BA$7,$E556,0)","v":0},{"$f":"IF($K556=ROUND(BA$7*$F556,2),$G556,0)","v":0},0,0,0,0,null,0,null,null,null,0]
[{"$f":"IF(E557+G557>0,A554,\"\")","v":""},{"$f":"IF(E557+G557>0,B554,\"\")","v":""},{"$f":"C555","v":6},"03-4-23.755(333)",0,1.1000000000000001,0,0,{"$f":"SUMIF(Y$14:BA$14,C557,Y$7:BA$7)","v":0},0,0,0,0,null,0,null,405.07,0,445.58,0,0,null,0,null,null,null,null,null,null,null,null,null,null,null,{"$f":"IF($I557=AI$7,$E557,0)","v":0},{"$f":"IF($K557=ROUND(AI$7*$F557,2),$G557,0)","v":0},0,0,0,0,{"$f":"IF($I557=AO$7,$E557,0)","v":0},{"$f":"IF($K557=ROUND(AO$7*$F557,2),$G557,0)","v":0},0,0,0,0,{"$f":"IF($I557=AU$7,$E557,0)","v":0},{"$f":"IF($K557=ROUND(AU$7*$F557,2),$G557,0)","v":0},0,0,0,0,{"$f":"IF($I557=BA$7,$E557,0)","v":0},{"$f":"IF($K557=ROUND(BA$7*$F557,2),$G557,0)","v":0},0,0,0,0,null,0,null,null,null,0]
["ИП                Устюжанина   Кристина Николаевна   ","",{"$f":"C559","v":6},"03-4-23.770(333)",4.0739999999999998,1.5,0,4.0739999999999998,{"$f":"SUMIF(Y$14:BA$14,C558,Y$6:BA$6)","v":1733.45},{"$f":"IF(H558=0,ROUND(E558*I558,2),ROUND(H558*E558,2))","v":16.600000000000001},{"$f":"ROUND(F558*I558,2)","v":2600.1799999999998},{"$f":"IF(H558=0,ROUND(ROUND(F558*I558,2)*G558,2),ROUND(G558*H558,2))","v":0},{"$f":"L558-ROUND(G558*I558,2)","v":0},null,{"$f":"J558+L558+N558","v":16.600000000000001},null,405.07,{"$f":"ROUND(Q558*E558,2)","v":1650.26},{"$f":"ROUND(F558*Q558,2)","v":607.61},{"$f":"ROUND(S558*G558,2)","v":0},{"$f":"T558-ROUND(Q558*G558,2)","v":0},null,{"$f":"R558+T558+V558","v":1650.26},null,null,null,null,null,null,null,null,null,null,null,{"$f":"IF($I558=AI$6,$E558,0)","v":0},{"$f":"IF($K558=ROUND(AI$6*$F558,2),$G558,0)","v":0},{"$f":"IF($H558>0,AI558,0)","v":0},{"$f":"IF(AK558>0,1,0)","v":0},{"$f":"IF($H558>0,AJ558,0)","v":0},{"$f":"IF(AM558>0,1,0)","v":0},{"$f":"IF($I558=AO$6,$E558,0)","v":0},{"$f":"IF($K558=ROUND(AO$6*$F558,2),$G558,0)","v":0},{"$f":"IF($H558>0,AO558,0)","v":0},{"$f":"IF(AQ558>0,1,0)","v":0},{"$f":"IF($H558>0,AP558,0)","v":0},{"$f":"IF(AS558>0,1,0)","v":0},{"$f":"IF($I558=AU$6,$E558,0)","v":4.0739999999999998},{"$f":"IF($K558=ROUND(AU$6*$F558,2),$G558,0)","v":0},{"$f":"IF($H558>0,AU558,0)","v":4.0739999999999998},{"$f":"IF(AW558>0,1,0)","v":1},{"$f":"IF($H558>0,AV558,0)","v":0},{"$f":"IF(AY558>0,1,0)","v":0},{"$f":"IF($I558=BA$6,$E558,0)","v":0},{"$f":"IF($K558=ROUND(BA$6*$F558,2),$G558,0)","v":0},{"$f":"IF($H558>0,BA558,0)","v":0},{"$f":"IF(BC558>0,1,0)","v":0},{"$f":"IF($H558>0,BB558,0)","v":0},{"$f":"IF(BE558>0,1,0)","v":0},null,4.0739999999999995E-3,4.2,null,null,0]
[{"$f":"IF(E559+G559>0,A558,\"\")","v":""},{"$f":"IF(E559+G559>0,B558,\"\")","v":""},6,"03-4-23.770(333)",0,1.1000000000000001,0,0,{"$f":"SUMIF(Y$14:BA$14,C559,Y$6:BA$6)","v":1733.45},{"$f":"IF(H559=0,ROUND(E559*I559,2),ROUND(H559*E559,2))","v":0},{"$f":"ROUND(F559*I559,2)","v":1906.8},{"$f":"IF(H559=0,ROUND(ROUND(F559*I559,2)*G559,2),ROUND(G559*H559,2))","v":0},{"$f":"L559-ROUND(G559*I559,2)","v":0},null,{"$f":"J559+L559+N559","v":0},null,405.07,{"$f":"ROUND(Q559*E559,2)","v":0},{"$f":"ROUND(F559*Q559,2)","v":445.58},{"$f":"ROUND(S559*G559,2)","v":0},{"$f":"T559-ROUND(Q559*G559,2)","v":0},null,{"$f":"R559+T559+V559","v":0},null,null,null,null,null,null,null,null,null,null,null,{"$f":"IF($I559=AI$6,$E559,0)","v":0},0,{"$f":"IF($H559>0,AI559,0)","v":0},{"$f":"IF(AK559>0,1,0)","v":0},{"$f":"IF($H559>0,AJ559,0)","v":0},{"$f":"IF(AM559>0,1,0)","v":0},{"$f":"IF($I559=AO$6,$E559,0)","v":0},0,{"$f":"IF($H559>0,AO559,0)","v":0},{"$f":"IF(AQ559>0,1,0)","v":0},{"$f":"IF($H559>0,AP559,0)","v":0},{"$f":"IF(AS559>0,1,0)","v":0},{"$f":"IF($I559=AU$6,$E559,0)","v":0},0,{"$f":"IF($H559>0,AU559,0)","v":0},{"$f":"IF(AW559>0,1,0)","v":0},{"$f":"IF($H559>0,AV559,0)","v":0},{"$f":"IF(AY559>0,1,0)","v":0},{"$f":"IF($I559=BA$6,$E559,0)","v":0},0,{"$f":"IF($H559>0,BA559,0)","v":0},{"$f":"IF(BC559>0,1,0)","v":0},{"$f":"IF($H559>0,BB559,0)","v":0},{"$f":"IF(BE559>0,1,0)","v":0},null,0,null,null,null,0]
[{"$f":"IF(E560+G560>0,A558,\"\")","v":""},{"$f":"IF(E560+G560>0,B558,\"\")","v":""},{"$f":"C559","v":6},"03-4-23.770(333)",0,1.5,0,0,{"$f":"SUMIF(Y$14:BA$14,C560,Y$7:BA$7)","v":0},0,0,0,0,null,0,null,405.07,0,607.61,0,0,null,0,null,null,null,null,null,null,null,null,null,null,null,{"$f":"IF($I560=AI$7,$E560,0)","v":0},{"$f":"IF($K560=ROUND(AI$7*$F560,2),$G560,0)","v":0},0,0,0,0,{"$f":"IF($I560=AO$7,$E560,0)","v":0},{"$f":"IF($K560=ROUND(AO$7*$F560,2),$G560,0)","v":0},0,0,0,0,{"$f":"IF($I560=AU$7,$E560,0)","v":0},{"$f":"IF($K560=ROUND(AU$7*$F560,2),$G560,0)","v":0},0,0,0,0,{"$f":"IF($I560=BA$7,$E560,0)","v":0},{"$f":"IF($K560=ROUND(BA$7*$F560,2),$G560,0)","v":0},0,0,0,0,null,0,null,null,null,0]
[{"$f":"IF(E561+G561>0,A558,\"\")","v":""},{"$f":"IF(E561+G561>0,B558,\"\")","v":""},{"$f":"C559","v":6},"03-4-23.770(333)",0,1.1000000000000001,0,0,{"$f":"SUMIF(Y$14:BA$14,C561,Y$7:BA$7)","v":0},0,0,0,0,null,0,null,405.07,0,445.58,0,0,null,0,null,null,null,null,null,null,null,null,null,null,null,{"$f":"IF($I561=AI$7,$E561,0)","v":0},{"$f":"IF($K561=ROUND(AI$7*$F561,2),$G561,0)","v":0},0,0,0,0,{"$f":"IF($I561=AO$7,$E561,0)","v":0},{"$f":"IF($K561=ROUND(AO$7*$F561,2),$G561,0)","v":0},0,0,0,0,{"$f":"IF($I561=AU$7,$E561,0)","v":0},{"$f":"IF($K561=ROUND(AU$7*$F561,2),$G561,0)","v":0},0,0,0,0,{"$f":"IF($I561=BA$7,$E561,0)","v":0},{"$f":"IF($K561=ROUND(BA$7*$F561,2),$G561,0)","v":0},0,0,0,0,null,0,null,null,null,0]
["РОО           \"Вельская Картинная Галерея\"","",{"$f":"C563","v":7},"03-4-23.776(333)",0,1.5,0,0,{"$f":"SUMIF(Y$14:BA$14,C562,Y$6:BA$6)","v":2166.8000000000002},{"$f":"IF(H562=0,ROUND(E562*I562,2),ROUND(H562*E562,2))","v":0},{"$f":"ROUND(F562*I562,2)","v":3250.2},{"$f":"IF(H562=0,ROUND(ROUND(F562*I562,2)*G562,2),ROUND(G562*H562,2))","v":0},{"$f":"L562-ROUND(G562*I562,2)","v":0},null,{"$f":"J562+L562+N562","v":0},null,405.07,{"$f":"ROUND(Q562*E562,2)","v":0},{"$f":"ROUND(F562*Q562,2)","v":607.61},{"$f":"ROUND(S562*G562,2)","v":0},{"$f":"T562-ROUND(Q562*G562,2)","v":0},null,{"$f":"R562+T562+V562","v":0},null,null,null,null,null,null,null,null,null,null,null,{"$f":"IF($I562=AI$6,$E562,0)","v":0},{"$f":"IF($K562=ROUND(AI$6*$F562,2),$G562,0)","v":0},{"$f":"IF($H562>0,AI562,0)","v":0},{"$f":"IF(AK562>0,1,0)","v":0},{"$f":"IF($H562>0,AJ562,0)","v":0},{"$f":"IF(AM562>0,1,0)","v":0},{"$f":"IF($I562=AO$6,$E562,0)","v":0},{"$f":"IF($K562=ROUND(AO$6*$F562,2),$G562,0)","v":0},{"$f":"IF($H562>0,AO562,0)","v":0},{"$f":"IF(AQ562>0,1,0)","v":0},{"$f":"IF($H562>0,AP562,0)","v":0},{"$f":"IF(AS562>0,1,0)","v":0},{"$f":"IF($I562=AU$6,$E562,0)","v":0},{"$f":"IF($K562=ROUND(AU$6*$F562,2),$G562,0)","v":0},{"$f":"IF($H562>0,AU562,0)","v":0},{"$f":"IF(AW562>0,1,0)","v":0},{"$f":"IF($H562>0,AV562,0)","v":0},{"$f":"IF(AY562>0,1,0)","v":0},{"$f":"IF($I562=BA$6,$E562,0)","v":0},{"$f":"IF($K562=ROUND(BA$6*$F562,2),$G562,0)","v":0},{"$f":"IF($H562>0,BA562,0)","v":0},{"$f":"IF(BC562>0,1,0)","v":0},{"$f":"IF($H562>0,BB562,0)","v":0},{"$f":"IF(BE562>0,1,0)","v":0},null,0,0.6,null,null,0]
[{"$f":"IF(E563+G563>0,A562,\"\")","v":""},{"$f":"IF(E563+G563>0,B562,\"\")","v":""},7,"03-4-23.776(333)",0,1.1000000000000001,0,0,{"$f":"SUMIF(Y$14:BA$14,C563,Y$6:BA$6)","v":2166.8000000000002},{"$f":"IF(H563=0,ROUND(E563*I563,2),ROUND(H563*E563,2))","v":0},{"$f":"ROUND(F563*I563,2)","v":2383.48},{"$f":"IF(H563=0,ROUND(ROUND(F563*I563,2)*G563,2),ROUND(G563*H563,2))","v":0},{"$f":"L563-ROUND(G563*I563,2)","v":0},null,{"$f":"J563+L563+N563","v":0},null,405.07,{"$f":"ROUND(Q563*E563,2)","v":0},{"$f":"ROUND(F563*Q563,2)","v":445.58},{"$f":"ROUND(S563*G563,2)","v":0},{"$f":"T563-ROUND(Q563*G563,2)","v":0},null,{"$f":"R563+T563+V563","v":0},null,null,null,null,null,null,null,null,null,null,null,{"$f":"IF($I563=AI$6,$E563,0)","v":0},0,{"$f":"IF($H563>0,AI563,0)","v":0},{"$f":"IF(AK563>0,1,0)","v":0},{"$f":"IF($H563>0,AJ563,0)","v":0},{"$f":"IF(AM563>0,1,0)","v":0},{"$f":"IF($I563=AO$6,$E563,0)","v":0},0,{"$f":"IF($H563>0,AO563,0)","v":0},{"$f":"IF(AQ563>0,1,0)","v":0},{"$f":"IF($H563>0,AP563,0)","v":0},{"$f":"IF(AS563>0,1,0)","v":0},{"$f":"IF($I563=AU$6,$E563,0)","v":0},0,{"$f":"IF($H563>0,AU563,0)","v":0},{"$f":"IF(AW563>0,1,0)","v":0},{"$f":"IF($H563>0,AV563,0)","v":0},{"$f":"IF(AY563>0,1,0)","v":0},{"$f":"IF($I563=BA$6,$E563,0)","v":0},0,{"$f":"IF($H563>0,BA563,0)","v":0},{"$f":"IF(BC563>0,1,0)","v":0},{"$f":"IF($H563>0,BB563,0)","v":0},{"$f":"IF(BE563>0,1,0)","v":0},null,0,null,null,null,0]
[{"$f":"IF(E564+G564>0,A562,\"\")","v":""},{"$f":"IF(E564+G564>0,B562,\"\")","v":""},{"$f":"C563","v":7},"03-4-23.776(333)",0,1.5,0,0,{"$f":"SUMIF(Y$14:BA$14,C564,Y$7:BA$7)","v":0},0,0,0,0,null,0,null,405.07,0,607.61,0,0,null,0,null,null,null,null,null,null,null,null,null,null,null,{"$f":"IF($I564=AI$7,$E564,0)","v":0},{"$f":"IF($K564=ROUND(AI$7*$F564,2),$G564,0)","v":0},0,0,0,0,{"$f":"IF($I564=AO$7,$E564,0)","v":0},{"$f":"IF($K564=ROUND(AO$7*$F564,2),$G564,0)","v":0},0,0,0,0,{"$f":"IF($I564=AU$7,$E564,0)","v":0},{"$f":"IF($K564=ROUND(AU$7*$F564,2),$G564,0)","v":0},0,0,0,0,{"$f":"IF($I564=BA$7,$E564,0)","v":0},{"$f":"IF($K564=ROUND(BA$7*$F564,2),$G564,0)","v":0},0,0,0,0,null,0,null,null,null,0]
[{"$f":"IF(E565+G565>0,A562,\"\")","v":""},{"$f":"IF(E565+G565>0,B562,\"\")","v":""},{"$f":"C563","v":7},"03-4-23.776(333)",0,1.1000000000000001,0,0,{"$f":"SUMIF(Y$14:BA$14,C565,Y$7:BA$7)","v":0},0,0,0,0,null,0,null,405.07,0,445.58,0,0,null,0,null,null,null,null,null,null,null,null,null,null,null,{"$f":"IF($I565=AI$7,$E565,0)","v":0},{"$f":"IF($K565=ROUND(AI$7*$F565,2),$G565,0)","v":0},0,0,0,0,{"$f":"IF($I565=AO$7,$E565,0)","v":0},{"$f":"IF($K565=ROUND(AO$7*$F565,2),$G565,0)","v":0},0,0,0,0,{"$f":"IF($I565=AU$7,$E565,0)","v":0},{"$f":"IF($K565=ROUND(AU$7*$F565,2),$G565,0)","v":0},0,0,0,0,{"$f":"IF($I565=BA$7,$E565,0)","v":0},{"$f":"IF($K565=ROUND(BA$7*$F565,2),$G565,0)","v":0},0,0,0,0,null,0,null,null,null,0]
["Гр.                Никифоров      Алексей Григорьевич","",{"$f":"C567","v":6},"03-4-23.777(333)",2.0459999999999998,1.5,0,2.0459999999999998,{"$f":"SUMIF(Y$14:BA$14,C566,Y$6:BA$6)","v":1733.45},{"$f":"IF(H566=0,ROUND(E566*I566,2),ROUND(H566*E566,2))","v":4.1900000000000004},{"$f":"ROUND(F566*I566,2)","v":2600.1799999999998},{"$f":"IF(H566=0,ROUND(ROUND(F566*I566,2)*G566,2),ROUND(G566*H566,2))","v":0},{"$f":"L566-ROUND(G566*I566,2)","v":0},null,{"$f":"J566+L566+N566","v":4.1900000000000004},null,405.07,{"$f":"ROUND(Q566*E566,2)","v":828.77},{"$f":"ROUND(F566*Q566,2)","v":607.61},{"$f":"ROUND(S566*G566,2)","v":0},{"$f":"T566-ROUND(Q566*G566,2)","v":0},null,{"$f":"R566+T566+V566","v":828.77},null,null,null,null,null,null,null,null,null,null,null,{"$f":"IF($I566=AI$6,$E566,0)","v":0},{"$f":"IF($K566=ROUND(AI$6*$F566,2),$G566,0)","v":0},{"$f":"IF($H566>0,AI566,0)","v":0},{"$f":"IF(AK566>0,1,0)","v":0},{"$f":"IF($H566>0,AJ566,0)","v":0},{"$f":"IF(AM566>0,1,0)","v":0},{"$f":"IF($I566=AO$6,$E566,0)","v":0},{"$f":"IF($K566=ROUND(AO$6*$F566,2),$G566,0)","v":0},{"$f":"IF($H566>0,AO566,0)","v":0},{"$f":"IF(AQ566>0,1,0)","v":0},{"$f":"IF($H566>0,AP566,0)","v":0},{"$f":"IF(AS566>0,1,0)","v":0},{"$f":"IF($I566=AU$6,$E566,0)","v":2.0459999999999998},{"$f":"IF($K566=ROUND(AU$6*$F566,2),$G566,0)","v":0},{"$f":"IF($H566>0,AU566,0)","v":2.0459999999999998},{"$f":"IF(AW566>0,1,0)","v":1},{"$f":"IF($H566>0,AV566,0)","v":0},{"$f":"IF(AY566>0,1,0)","v":0},{"$f":"IF($I566=BA$6,$E566,0)","v":0},{"$f":"IF($K566=ROUND(BA$6*$F566,2),$G566,0)","v":0},{"$f":"IF($H566>0,BA566,0)","v":0},{"$f":"IF(BC566>0,1,0)","v":0},{"$f":"IF($H566>0,BB566,0)","v":0},{"$f":"IF(BE566>0,1,0)","v":0},null,2.0459999999999996E-3,3.5,null,null,0]
[{"$f":"IF(E567+G567>0,A566,\"\")","v":""},{"$f":"IF(E567+G567>0,B566,\"\")","v":""},6,"03-4-23.777(333)",0,1.1000000000000001,0,0,{"$f":"SUMIF(Y$14:BA$14,C567,Y$6:BA$6)","v":1733.45},{"$f":"IF(H567=0,ROUND(E567*I567,2),ROUND(H567*E567,2))","v":0},{"$f":"ROUND(F567*I567,2)","v":1906.8},{"$f":"IF(H567=0,ROUND(ROUND(F567*I567,2)*G567,2),ROUND(G567*H567,2))","v":0},{"$f":"L567-ROUND(G567*I567,2)","v":0},null,{"$f":"J567+L567+N567","v":0},null,405.07,{"$f":"ROUND(Q567*E567,2)","v":0},{"$f":"ROUND(F567*Q567,2)","v":445.58},{"$f":"ROUND(S567*G567,2)","v":0},{"$f":"T567-ROUND(Q567*G567,2)","v":0},null,{"$f":"R567+T567+V567","v":0},null,null,null,null,null,null,null,null,null,null,null,{"$f":"IF($I567=AI$6,$E567,0)","v":0},0,{"$f":"IF($H567>0,AI567,0)","v":0},{"$f":"IF(AK567>0,1,0)","v":0},{"$f":"IF($H567>0,AJ567,0)","v":0},{"$f":"IF(AM567>0,1,0)","v":0},{"$f":"IF($I567=AO$6,$E567,0)","v":0},0,{"$f":"IF($H567>0,AO567,0)","v":0},{"$f":"IF(AQ567>0,1,0)","v":0},{"$f":"IF($H567>0,AP567,0)","v":0},{"$f":"IF(AS567>0,1,0)","v":0},{"$f":"IF($I567=AU$6,$E567,0)","v":0},0,{"$f":"IF($H567>0,AU567,0)","v":0},{"$f":"IF(AW567>0,1,0)","v":0},{"$f":"IF($H567>0,AV567,0)","v":0},{"$f":"IF(AY567>0,1,0)","v":0},{"$f":"IF($I567=BA$6,$E567,0)","v":0},0,{"$f":"IF($H567>0,BA567,0)","v":0},{"$f":"IF(BC567>0,1,0)","v":0},{"$f":"IF($H567>0,BB567,0)","v":0},{"$f":"IF(BE567>0,1,0)","v":0},null,0,null,null,null,0]
[{"$f":"IF(E568+G568>0,A566,\"\")","v":""},{"$f":"IF(E568+G568>0,B566,\"\")","v":""},{"$f":"C567","v":6},"03-4-23.777(333)",0,1.5,0,0,{"$f":"SUMIF(Y$14:BA$14,C568,Y$7:BA$7)","v":0},0,0,0,0,null,0,null,405.07,0,607.61,0,0,null,0,null,null,null,null,null,null,null,null,null,null,null,{"$f":"IF($I568=AI$7,$E568,0)","v":0},{"$f":"IF($K568=ROUND(AI$7*$F568,2),$G568,0)","v":0},0,0,0,0,{"$f":"IF($I568=AO$7,$E568,0)","v":0},{"$f":"IF($K568=ROUND(AO$7*$F568,2),$G568,0)","v":0},0,0,0,0,{"$f":"IF($I568=AU$7,$E568,0)","v":0},{"$f":"IF($K568=ROUND(AU$7*$F568,2),$G568,0)","v":0},0,0,0,0,{"$f":"IF($I568=BA$7,$E568,0)","v":0},{"$f":"IF($K568=ROUND(BA$7*$F568,2),$G568,0)","v":0},0,0,0,0,null,0,null,null,null,0]
[{"$f":"IF(E569+G569>0,A566,\"\")","v":""},{"$f":"IF(E569+G569>0,B566,\"\")","v":""},{"$f":"C567","v":6},"03-4-23.777(333)",0,1.1000000000000001,0,0,{"$f":"SUMIF(Y$14:BA$14,C569,Y$7:BA$7)","v":0},0,0,0,0,null,0,null,405.07,0,445.58,0,0,null,0,null,null,null,null,null,null,null,null,null,null,null,{"$f":"IF($I569=AI$7,$E569,0)","v":0},{"$f":"IF($K569=ROUND(AI$7*$F569,2),$G569,0)","v":0},0,0,0,0,{"$f":"IF($I569=AO$7,$E569,0)","v":0},{"$f":"IF($K569=ROUND(AO$7*$F569,2),$G569,0)","v":0},0,0,0,0,{"$f":"IF($I569=AU$7,$E569,0)","v":0},{"$f":"IF($K569=ROUND(AU$7*$F569,2),$G569,0)","v":0},0,0,0,0,{"$f":"IF($I569=BA$7,$E569,0)","v":0},{"$f":"IF($K569=ROUND(BA$7*$F569,2),$G569,0)","v":0},0,0,0,0,null,0,null,null,null,0]
["Гр.               Горбунов          Владимир Вениаминович","",{"$f":"C571","v":7},"03-4-23.779(333)",1.7999999999999999E-2,1.5,0,1.7999999999999999E-2,{"$f":"SUMIF(Y$14:BA$14,C570,Y$6:BA$6)","v":2166.8000000000002},{"$f":"IF(H570=0,ROUND(E570*I570,2),ROUND(H570*E570,2))","v":0},{"$f":"ROUND(F570*I570,2)","v":3250.2},{"$f":"IF(H570=0,ROUND(ROUND(F570*I570,2)*G570,2),ROUND(G570*H570,2))","v":0},{"$f":"L570-ROUND(G570*I570,2)","v":0},null,{"$f":"J570+L570+N570","v":0},null,405.07,{"$f":"ROUND(Q570*E570,2)","v":7.29},{"$f":"ROUND(F570*Q570,2)","v":607.61},{"$f":"ROUND(S570*G570,2)","v":0},{"$f":"T570-ROUND(Q570*G570,2)","v":0},null,{"$f":"R570+T570+V570","v":7.29},null,null,null,null,null,null,null,null,null,null,null,{"$f":"IF($I570=AI$6,$E570,0)","v":0},{"$f":"IF($K570=ROUND(AI$6*$F570,2),$G570,0)","v":0},{"$f":"IF($H570>0,AI570,0)","v":0},{"$f":"IF(AK570>0,1,0)","v":0},{"$f":"IF($H570>0,AJ570,0)","v":0},{"$f":"IF(AM570>0,1,0)","v":0},{"$f":"IF($I570=AO$6,$E570,0)","v":0},{"$f":"IF($K570=ROUND(AO$6*$F570,2),$G570,0)","v":0},{"$f":"IF($H570>0,AO570,0)","v":0},{"$f":"IF(AQ570>0,1,0)","v":0},{"$f":"IF($H570>0,AP570,0)","v":0},{"$f":"IF(AS570>0,1,0)","v":0},{"$f":"IF($I570=AU$6,$E570,0)","v":0},{"$f":"IF($K570=ROUND(AU$6*$F570,2),$G570,0)","v":0},{"$f":"IF($H570>0,AU570,0)","v":0},{"$f":"IF(AW570>0,1,0)","v":0},{"$f":"IF($H570>0,AV570,0)","v":0},{"$f":"IF(AY570>0,1,0)","v":0},{"$f":"IF($I570=BA$6,$E570,0)","v":1.7999999999999999E-2},{"$f":"IF($K570=ROUND(BA$6*$F570,2),$G570,0)","v":0},{"$f":"IF($H570>0,BA570,0)","v":1.7999999999999999E-2},{"$f":"IF(BC570>0,1,0)","v":1},{"$f":"IF($H570>0,BB570,0)","v":0},{"$f":"IF(BE570>0,1,0)","v":0},null,1.7999999999999997E-5,0.2,null,null,0]
[{"$f":"IF(E571+G571>0,A570,\"\")","v":""},{"$f":"IF(E571+G571>0,B570,\"\")","v":""},7,"03-4-23.779(333)",0,1.1000000000000001,0,0,{"$f":"SUMIF(Y$14:BA$14,C571,Y$6:BA$6)","v":2166.8000000000002},{"$f":"IF(H571=0,ROUND(E571*I571,2),ROUND(H571*E571,2))","v":0},{"$f":"ROUND(F571*I571,2)","v":2383.48},{"$f":"IF(H571=0,ROUND(ROUND(F571*I571,2)*G571,2),ROUND(G571*H571,2))","v":0},{"$f":"L571-ROUND(G571*I571,2)","v":0},null,{"$f":"J571+L571+N571","v":0},null,405.07,{"$f":"ROUND(Q571*E571,2)","v":0},{"$f":"ROUND(F571*Q571,2)","v":445.58},{"$f":"ROUND(S571*G571,2)","v":0},{"$f":"T571-ROUND(Q571*G571,2)","v":0},null,{"$f":"R571+T571+V571","v":0},null,null,null,null,null,null,null,null,null,null,null,{"$f":"IF($I571=AI$6,$E571,0)","v":0},0,{"$f":"IF($H571>0,AI571,0)","v":0},{"$f":"IF(AK571>0,1,0)","v":0},{"$f":"IF($H571>0,AJ571,0)","v":0},{"$f":"IF(AM571>0,1,0)","v":0},{"$f":"IF($I571=AO$6,$E571,0)","v":0},0,{"$f":"IF($H571>0,AO571,0)","v":0},{"$f":"IF(AQ571>0,1,0)","v":0},{"$f":"IF($H571>0,AP571,0)","v":0},{"$f":"IF(AS571>0,1,0)","v":0},{"$f":"IF($I571=AU$6,$E571,0)","v":0},0,{"$f":"IF($H571>0,AU571,0)","v":0},{"$f":"IF(AW571>0,1,0)","v":0},{"$f":"IF($H571>0,AV571,0)","v":0},{"$f":"IF(AY571>0,1,0)","v":0},{"$f":"IF($I571=BA$6,$E571,0)","v":0},0,{"$f":"IF($H571>0,BA571,0)","v":0},{"$f":"IF(BC571>0,1,0)","v":0},{"$f":"IF($H571>0,BB571,0)","v":0},{"$f":"IF(BE571>0,1,0)","v":0},null,0,null,null,null,0]
[{"$f":"IF(E572+G572>0,A570,\"\")","v":""},{"$f":"IF(E572+G572>0,B570,\"\")","v":""},{"$f":"C571","v":7},"03-4-23.779(333)",0,1.5,0,0,{"$f":"SUMIF(Y$14:BA$14,C572,Y$7:BA$7)","v":0},0,0,0,0,null,0,null,405.07,0,607.61,0,0,null,0,null,null,null,null,null,null,null,null,null,null,null,{"$f":"IF($I572=AI$7,$E572,0)","v":0},{"$f":"IF($K572=ROUND(AI$7*$F572,2),$G572,0)","v":0},0,0,0,0,{"$f":"IF($I572=AO$7,$E572,0)","v":0},{"$f":"IF($K572=ROUND(AO$7*$F572,2),$G572,0)","v":0},0,0,0,0,{"$f":"IF($I572=AU$7,$E572,0)","v":0},{"$f":"IF($K572=ROUND(AU$7*$F572,2),$G572,0)","v":0},0,0,0,0,{"$f":"IF($I572=BA$7,$E572,0)","v":0},{"$f":"IF($K572=ROUND(BA$7*$F572,2),$G572,0)","v":0},0,0,0,0,null,0,null,null,null,0]
[{"$f":"IF(E573+G573>0,A570,\"\")","v":""},{"$f":"IF(E573+G573>0,B570,\"\")","v":""},{"$f":"C571","v":7},"03-4-23.779(333)",0,1.1000000000000001,0,0,{"$f":"SUMIF(Y$14:BA$14,C573,Y$7:BA$7)","v":0},0,0,0,0,null,0,null,405.07,0,445.58,0,0,null,0,null,null,null,null,null,null,null,null,null,null,null,{"$f":"IF($I573=AI$7,$E573,0)","v":0},{"$f":"IF($K573=ROUND(AI$7*$F573,2),$G573,0)","v":0},0,0,0,0,{"$f":"IF($I573=AO$7,$E573,0)","v":0},{"$f":"IF($K573=ROUND(AO$7*$F573,2),$G573,0)","v":0},0,0,0,0,{"$f":"IF($I573=AU$7,$E573,0)","v":0},{"$f":"IF($K573=ROUND(AU$7*$F573,2),$G573,0)","v":0},0,0,0,0,{"$f":"IF($I573=BA$7,$E573,0)","v":0},{"$f":"IF($K573=ROUND(BA$7*$F573,2),$G573,0)","v":0},0,0,0,0,null,0,null,null,null,0]
["ООО          \"Этажи\"","Вельск, (ул.Дзержинского-107 + ул.Советская-52/15)",{"$f":"C575","v":6},"03-4-23.784(333)",3.222,1.5,0,3.222,{"$f":"SUMIF(Y$14:BA$14,C574,Y$6:BA$6)","v":1733.45},{"$f":"IF(H574=0,ROUND(E574*I574,2),ROUND(H574*E574,2))","v":10.38},{"$f":"ROUND(F574*I574,2)","v":2600.1799999999998},{"$f":"IF(H574=0,ROUND(ROUND(F574*I574,2)*G574,2),ROUND(G574*H574,2))","v":0},{"$f":"L574-ROUND(G574*I574,2)","v":0},null,{"$f":"J574+L574+N574","v":10.38},null,405.07,{"$f":"ROUND(Q574*E574,2)","v":1305.1400000000001},{"$f":"ROUND(F574*Q574,2)","v":607.61},{"$f":"ROUND(S574*G574,2)","v":0},{"$f":"T574-ROUND(Q574*G574,2)","v":0},null,{"$f":"R574+T574+V574","v":1305.1400000000001},null,null,null,null,null,null,null,null,null,null,null,{"$f":"IF($I574=AI$6,$E574,0)","v":0},{"$f":"IF($K574=ROUND(AI$6*$F574,2),$G574,0)","v":0},{"$f":"IF($H574>0,AI574,0)","v":0},{"$f":"IF(AK574>0,1,0)","v":0},{"$f":"IF($H574>0,AJ574,0)","v":0},{"$f":"IF(AM574>0,1,0)","v":0},{"$f":"IF($I574=AO$6,$E574,0)","v":0},{"$f":"IF($K574=ROUND(AO$6*$F574,2),$G574,0)","v":0},{"$f":"IF($H574>0,AO574,0)","v":0},{"$f":"IF(AQ574>0,1,0)","v":0},{"$f":"IF($H574>0,AP574,0)","v":0},{"$f":"IF(AS574>0,1,0)","v":0},{"$f":"IF($I574=AU$6,$E574,0)","v":3.222},{"$f":"IF($K574=ROUND(AU$6*$F574,2),$G574,0)","v":0},{"$f":"IF($H574>0,AU574,0)","v":3.222},{"$f":"IF(AW574>0,1,0)","v":1},{"$f":"IF($H574>0,AV574,0)","v":0},{"$f":"IF(AY574>0,1,0)","v":0},{"$f":"IF($I574=BA$6,$E574,0)","v":0},{"$f":"IF($K574=ROUND(BA$6*$F574,2),$G574,0)","v":0},{"$f":"IF($H574>0,BA574,0)","v":0},{"$f":"IF(BC574>0,1,0)","v":0},{"$f":"IF($H574>0,BB574,0)","v":0},{"$f":"IF(BE574>0,1,0)","v":0},null,3.222E-3,8.8999999999999986,null,null,0]
[{"$f":"IF(E575+G575>0,A574,\"\")","v":""},{"$f":"IF(E575+G575>0,B574,\"\")","v":""},6,"03-4-23.784(333)",0,1.1000000000000001,0,0,{"$f":"SUMIF(Y$14:BA$14,C575,Y$6:BA$6)","v":1733.45},{"$f":"IF(H575=0,ROUND(E575*I575,2),ROUND(H575*E575,2))","v":0},{"$f":"ROUND(F575*I575,2)","v":1906.8},{"$f":"IF(H575=0,ROUND(ROUND(F575*I575,2)*G575,2),ROUND(G575*H575,2))","v":0},{"$f":"L575-ROUND(G575*I575,2)","v":0},null,{"$f":"J575+L575+N575","v":0},null,405.07,{"$f":"ROUND(Q575*E575,2)","v":0},{"$f":"ROUND(F575*Q575,2)","v":445.58},{"$f":"ROUND(S575*G575,2)","v":0},{"$f":"T575-ROUND(Q575*G575,2)","v":0},null,{"$f":"R575+T575+V575","v":0},null,null,null,null,null,null,null,null,null,null,null,{"$f":"IF($I575=AI$6,$E575,0)","v":0},0,{"$f":"IF($H575>0,AI575,0)","v":0},{"$f":"IF(AK575>0,1,0)","v":0},{"$f":"IF($H575>0,AJ575,0)","v":0},{"$f":"IF(AM575>0,1,0)","v":0},{"$f":"IF($I575=AO$6,$E575,0)","v":0},0,{"$f":"IF($H575>0,AO575,0)","v":0},{"$f":"IF(AQ575>0,1,0)","v":0},{"$f":"IF($H575>0,AP575,0)","v":0},{"$f":"IF(AS575>0,1,0)","v":0},{"$f":"IF($I575=AU$6,$E575,0)","v":0},0,{"$f":"IF($H575>0,AU575,0)","v":0},{"$f":"IF(AW575>0,1,0)","v":0},{"$f":"IF($H575>0,AV575,0)","v":0},{"$f":"IF(AY575>0,1,0)","v":0},{"$f":"IF($I575=BA$6,$E575,0)","v":0},0,{"$f":"IF($H575>0,BA575,0)","v":0},{"$f":"IF(BC575>0,1,0)","v":0},{"$f":"IF($H575>0,BB575,0)","v":0},{"$f":"IF(BE575>0,1,0)","v":0},null,0,null,null,null,0]
[{"$f":"IF(E576+G576>0,A574,\"\")","v":""},{"$f":"IF(E576+G576>0,B574,\"\")","v":""},{"$f":"C575","v":6},"03-4-23.784(333)",0,1.5,0,0,{"$f":"SUMIF(Y$14:BA$14,C576,Y$7:BA$7)","v":0},0,0,0,0,null,0,null,405.07,0,607.61,0,0,null,0,null,null,null,null,null,null,null,null,null,null,null,{"$f":"IF($I576=AI$7,$E576,0)","v":0},{"$f":"IF($K576=ROUND(AI$7*$F576,2),$G576,0)","v":0},0,0,0,0,{"$f":"IF($I576=AO$7,$E576,0)","v":0},{"$f":"IF($K576=ROUND(AO$7*$F576,2),$G576,0)","v":0},0,0,0,0,{"$f":"IF($I576=AU$7,$E576,0)","v":0},{"$f":"IF($K576=ROUND(AU$7*$F576,2),$G576,0)","v":0},0,0,0,0,{"$f":"IF($I576=BA$7,$E576,0)","v":0},{"$f":"IF($K576=ROUND(BA$7*$F576,2),$G576,0)","v":0},0,0,0,0,null,0,null,null,null,0]
[{"$f":"IF(E577+G577>0,A574,\"\")","v":""},{"$f":"IF(E577+G577>0,B574,\"\")","v":""},{"$f":"C575","v":6},"03-4-23.784(333)",0,1.1000000000000001,0,0,{"$f":"SUMIF(Y$14:BA$14,C577,Y$7:BA$7)","v":0},0,0,0,0,null,0,null,405.07,0,445.58,0,0,null,0,null,null,null,null,null,null,null,null,null,null,null,{"$f":"IF($I577=AI$7,$E577,0)","v":0},{"$f":"IF($K577=ROUND(AI$7*$F577,2),$G577,0)","v":0},0,0,0,0,{"$f":"IF($I577=AO$7,$E577,0)","v":0},{"$f":"IF($K577=ROUND(AO$7*$F577,2),$G577,0)","v":0},0,0,0,0,{"$f":"IF($I577=AU$7,$E577,0)","v":0},{"$f":"IF($K577=ROUND(AU$7*$F577,2),$G577,0)","v":0},0,0,0,0,{"$f":"IF($I577=BA$7,$E577,0)","v":0},{"$f":"IF($K577=ROUND(BA$7*$F577,2),$G577,0)","v":0},0,0,0,0,null,0,null,null,null,0]
["ООО          \"Этажи\"","Вельск, ул.Гагарина-9а",{"$f":"C579","v":6},"03-4-23.784(333)",0,1.5,0,0,{"$f":"SUMIF(Y$14:BA$14,C578,Y$6:BA$6)","v":1733.45},{"$f":"IF(H578=0,ROUND(E578*I578,2),ROUND(H578*E578,2))","v":0},{"$f":"ROUND(F578*I578,2)","v":2600.1799999999998},{"$f":"IF(H578=0,ROUND(ROUND(F578*I578,2)*G578,2),ROUND(G578*H578,2))","v":0},{"$f":"L578-ROUND(G578*I578,2)","v":0},null,{"$f":"J578+L578+N578","v":0},null,405.07,{"$f":"ROUND(Q578*E578,2)","v":0},{"$f":"ROUND(F578*Q578,2)","v":607.61},{"$f":"ROUND(S578*G578,2)","v":0},{"$f":"T578-ROUND(Q578*G578,2)","v":0},null,{"$f":"R578+T578+V578","v":0},null,null,null,null,null,null,null,null,null,null,null,{"$f":"IF($I578=AI$6,$E578,0)","v":0},{"$f":"IF($K578=ROUND(AI$6*$F578,2),$G578,0)","v":0},{"$f":"IF($H578>0,AI578,0)","v":0},{"$f":"IF(AK578>0,1,0)","v":0},{"$f":"IF($H578>0,AJ578,0)","v":0},{"$f":"IF(AM578>0,1,0)","v":0},{"$f":"IF($I578=AO$6,$E578,0)","v":0},{"$f":"IF($K578=ROUND(AO$6*$F578,2),$G578,0)","v":0},{"$f":"IF($H578>0,AO578,0)","v":0},{"$f":"IF(AQ578>0,1,0)","v":0},{"$f":"IF($H578>0,AP578,0)","v":0},{"$f":"IF(AS578>0,1,0)","v":0},{"$f":"IF($I578=AU$6,$E578,0)","v":0},{"$f":"IF($K578=ROUND(AU$6*$F578,2),$G578,0)","v":0},{"$f":"IF($H578>0,AU578,0)","v":0},{"$f":"IF(AW578>0,1,0)","v":0},{"$f":"IF($H578>0,AV578,0)","v":0},{"$f":"IF(AY578>0,1,0)","v":0},{"$f":"IF($I578=BA$6,$E578,0)","v":0},{"$f":"IF($K578=ROUND(BA$6*$F578,2),$G578,0)","v":0},{"$f":"IF($H578>0,BA578,0)","v":0},{"$f":"IF(BC578>0,1,0)","v":0},{"$f":"IF($H578>0,BB578,0)","v":0},{"$f":"IF(BE578>0,1,0)","v":0},null,0,2.2999999999999998,null,null,0]
[{"$f":"IF(E579+G579>0,A578,\"\")","v":""},{"$f":"IF(E579+G579>0,B578,\"\")","v":""},6,"03-4-23.784(333)",0,1.1000000000000001,0,0,{"$f":"SUMIF(Y$14:BA$14,C579,Y$6:BA$6)","v":1733.45},{"$f":"IF(H579=0,ROUND(E579*I579,2),ROUND(H579*E579,2))","v":0},{"$f":"ROUND(F579*I579,2)","v":1906.8},{"$f":"IF(H579=0,ROUND(ROUND(F579*I579,2)*G579,2),ROUND(G579*H579,2))","v":0},{"$f":"L579-ROUND(G579*I579,2)","v":0},null,{"$f":"J579+L579+N579","v":0},null,405.07,{"$f":"ROUND(Q579*E579,2)","v":0},{"$f":"ROUND(F579*Q579,2)","v":445.58},{"$f":"ROUND(S579*G579,2)","v":0},{"$f":"T579-ROUND(Q579*G579,2)","v":0},null,{"$f":"R579+T579+V579","v":0},null,null,null,null,null,null,null,null,null,null,null,{"$f":"IF($I579=AI$6,$E579,0)","v":0},0,{"$f":"IF($H579>0,AI579,0)","v":0},{"$f":"IF(AK579>0,1,0)","v":0},{"$f":"IF($H579>0,AJ579,0)","v":0},{"$f":"IF(AM579>0,1,0)","v":0},{"$f":"IF($I579=AO$6,$E579,0)","v":0},0,{"$f":"IF($H579>0,AO579,0)","v":0},{"$f":"IF(AQ579>0,1,0)","v":0},{"$f":"IF($H579>0,AP579,0)","v":0},{"$f":"IF(AS579>0,1,0)","v":0},{"$f":"IF($I579=AU$6,$E579,0)","v":0},0,{"$f":"IF($H579>0,AU579,0)","v":0},{"$f":"IF(AW579>0,1,0)","v":0},{"$f":"IF($H579>0,AV579,0)","v":0},{"$f":"IF(AY579>0,1,0)","v":0},{"$f":"IF($I579=BA$6,$E579,0)","v":0},0,{"$f":"IF($H579>0,BA579,0)","v":0},{"$f":"IF(BC579>0,1,0)","v":0},{"$f":"IF($H579>0,BB579,0)","v":0},{"$f":"IF(BE579>0,1,0)","v":0},null,0,null,null,null,0]
[{"$f":"IF(E580+G580>0,A578,\"\")","v":""},{"$f":"IF(E580+G580>0,B578,\"\")","v":""},{"$f":"C579","v":6},"03-4-23.784(333)",0,1.5,0,0,{"$f":"SUMIF(Y$14:BA$14,C580,Y$7:BA$7)","v":0},0,0,0,0,null,0,null,405.07,0,607.61,0,0,null,0,null,null,null,null,null,null,null,null,null,null,null,{"$f":"IF($I580=AI$7,$E580,0)","v":0},{"$f":"IF($K580=ROUND(AI$7*$F580,2),$G580,0)","v":0},0,0,0,0,{"$f":"IF($I580=AO$7,$E580,0)","v":0},{"$f":"IF($K580=ROUND(AO$7*$F580,2),$G580,0)","v":0},0,0,0,0,{"$f":"IF($I580=AU$7,$E580,0)","v":0},{"$f":"IF($K580=ROUND(AU$7*$F580,2),$G580,0)","v":0},0,0,0,0,{"$f":"IF($I580=BA$7,$E580,0)","v":0},{"$f":"IF($K580=ROUND(BA$7*$F580,2),$G580,0)","v":0},0,0,0,0,null,0,null,null,null,0]
[{"$f":"IF(E581+G581>0,A578,\"\")","v":""},{"$f":"IF(E581+G581>0,B578,\"\")","v":""},{"$f":"C579","v":6},"03-4-23.784(333)",0,1.1000000000000001,0,0,{"$f":"SUMIF(Y$14:BA$14,C581,Y$7:BA$7)","v":0},0,0,0,0,null,0,null,405.07,0,445.58,0,0,null,0,null,null,null,null,null,null,null,null,null,null,null,{"$f":"IF($I581=AI$7,$E581,0)","v":0},{"$f":"IF($K581=ROUND(AI$7*$F581,2),$G581,0)","v":0},0,0,0,0,{"$f":"IF($I581=AO$7,$E581,0)","v":0},{"$f":"IF($K581=ROUND(AO$7*$F581,2),$G581,0)","v":0},0,0,0,0,{"$f":"IF($I581=AU$7,$E581,0)","v":0},{"$f":"IF($K581=ROUND(AU$7*$F581,2),$G581,0)","v":0},0,0,0,0,{"$f":"IF($I581=BA$7,$E581,0)","v":0},{"$f":"IF($K581=ROUND(BA$7*$F581,2),$G581,0)","v":0},0,0,0,0,null,0,null,null,null,0]
["ООО          \"Этажи\"","Вельск, ул.Советская-88",{"$f":"C583","v":6},"03-4-23.784(333)",0.71,1.5,0,0.71,{"$f":"SUMIF(Y$14:BA$14,C582,Y$6:BA$6)","v":1733.45},{"$f":"IF(H582=0,ROUND(E582*I582,2),ROUND(H582*E582,2))","v":0.5},{"$f":"ROUND(F582*I582,2)","v":2600.1799999999998},{"$f":"IF(H582=0,ROUND(ROUND(F582*I582,2)*G582,2),ROUND(G582*H582,2))","v":0},{"$f":"L582-ROUND(G582*I582,2)","v":0},null,{"$f":"J582+L582+N582","v":0.5},null,405.07,{"$f":"ROUND(Q582*E582,2)","v":287.60000000000002},{"$f":"ROUND(F582*Q582,2)","v":607.61},{"$f":"ROUND(S582*G582,2)","v":0},{"$f":"T582-ROUND(Q582*G582,2)","v":0},null,{"$f":"R582+T582+V582","v":287.60000000000002},null,null,null,null,null,null,null,null,null,null,null,{"$f":"IF($I582=AI$6,$E582,0)","v":0},{"$f":"IF($K582=ROUND(AI$6*$F582,2),$G582,0)","v":0},{"$f":"IF($H582>0,AI582,0)","v":0},{"$f":"IF(AK582>0,1,0)","v":0},{"$f":"IF($H582>0,AJ582,0)","v":0},{"$f":"IF(AM582>0,1,0)","v":0},{"$f":"IF($I582=AO$6,$E582,0)","v":0},{"$f":"IF($K582=ROUND(AO$6*$F582,2),$G582,0)","v":0},{"$f":"IF($H582>0,AO582,0)","v":0},{"$f":"IF(AQ582>0,1,0)","v":0},{"$f":"IF($H582>0,AP582,0)","v":0},{"$f":"IF(AS582>0,1,0)","v":0},{"$f":"IF($I582=AU$6,$E582,0)","v":0.71},{"$f":"IF($K582=ROUND(AU$6*$F582,2),$G582,0)","v":0},{"$f":"IF($H582>0,AU582,0)","v":0.71},{"$f":"IF(AW582>0,1,0)","v":1},{"$f":"IF($H582>0,AV582,0)","v":0},{"$f":"IF(AY582>0,1,0)","v":0},{"$f":"IF($I582=BA$6,$E582,0)","v":0},{"$f":"IF($K582=ROUND(BA$6*$F582,2),$G582,0)","v":0},{"$f":"IF($H582>0,BA582,0)","v":0},{"$f":"IF(BC582>0,1,0)","v":0},{"$f":"IF($H582>0,BB582,0)","v":0},{"$f":"IF(BE582>0,1,0)","v":0},null,7.0999999999999991E-4,2,null,null,0]
[{"$f":"IF(E583+G583>0,A582,\"\")","v":""},{"$f":"IF(E583+G583>0,B582,\"\")","v":""},6,"03-4-23.784(333)",0,1.1000000000000001,0,0,{"$f":"SUMIF(Y$14:BA$14,C583,Y$6:BA$6)","v":1733.45},{"$f":"IF(H583=0,ROUND(E583*I583,2),ROUND(H583*E583,2))","v":0},{"$f":"ROUND(F583*I583,2)","v":1906.8},{"$f":"IF(H583=0,ROUND(ROUND(F583*I583,2)*G583,2),ROUND(G583*H583,2))","v":0},{"$f":"L583-ROUND(G583*I583,2)","v":0},null,{"$f":"J583+L583+N583","v":0},null,405.07,{"$f":"ROUND(Q583*E583,2)","v":0},{"$f":"ROUND(F583*Q583,2)","v":445.58},{"$f":"ROUND(S583*G583,2)","v":0},{"$f":"T583-ROUND(Q583*G583,2)","v":0},null,{"$f":"R583+T583+V583","v":0},null,null,null,null,null,null,null,null,null,null,null,{"$f":"IF($I583=AI$6,$E583,0)","v":0},0,{"$f":"IF($H583>0,AI583,0)","v":0},{"$f":"IF(AK583>0,1,0)","v":0},{"$f":"IF($H583>0,AJ583,0)","v":0},{"$f":"IF(AM583>0,1,0)","v":0},{"$f":"IF($I583=AO$6,$E583,0)","v":0},0,{"$f":"IF($H583>0,AO583,0)","v":0},{"$f":"IF(AQ583>0,1,0)","v":0},{"$f":"IF($H583>0,AP583,0)","v":0},{"$f":"IF(AS583>0,1,0)","v":0},{"$f":"IF($I583=AU$6,$E583,0)","v":0},0,{"$f":"IF($H583>0,AU583,0)","v":0},{"$f":"IF(AW583>0,1,0)","v":0},{"$f":"IF($H583>0,AV583,0)","v":0},{"$f":"IF(AY583>0,1,0)","v":0},{"$f":"IF($I583=BA$6,$E583,0)","v":0},0,{"$f":"IF($H583>0,BA583,0)","v":0},{"$f":"IF(BC583>0,1,0)","v":0},{"$f":"IF($H583>0,BB583,0)","v":0},{"$f":"IF(BE583>0,1,0)","v":0},null,0,null,null,null,0]
[{"$f":"IF(E584+G584>0,A582,\"\")","v":""},{"$f":"IF(E584+G584>0,B582,\"\")","v":""},{"$f":"C583","v":6},"03-4-23.784(333)",0,1.5,0,0,{"$f":"SUMIF(Y$14:BA$14,C584,Y$7:BA$7)","v":0},0,0,0,0,null,0,null,405.07,0,607.61,0,0,null,0,null,null,null,null,null,null,null,null,null,null,null,{"$f":"IF($I584=AI$7,$E584,0)","v":0},{"$f":"IF($K584=ROUND(AI$7*$F584,2),$G584,0)","v":0},0,0,0,0,{"$f":"IF($I584=AO$7,$E584,0)","v":0},{"$f":"IF($K584=ROUND(AO$7*$F584,2),$G584,0)","v":0},0,0,0,0,{"$f":"IF($I584=AU$7,$E584,0)","v":0},{"$f":"IF($K584=ROUND(AU$7*$F584,2),$G584,0)","v":0},0,0,0,0,{"$f":"IF($I584=BA$7,$E584,0)","v":0},{"$f":"IF($K584=ROUND(BA$7*$F584,2),$G584,0)","v":0},0,0,0,0,null,0,null,null,null,0]
[{"$f":"IF(E585+G585>0,A582,\"\")","v":""},{"$f":"IF(E585+G585>0,B582,\"\")","v":""},{"$f":"C583","v":6},"03-4-23.784(333)",0,1.1000000000000001,0,0,{"$f":"SUMIF(Y$14:BA$14,C585,Y$7:BA$7)","v":0},0,0,0,0,null,0,null,405.07,0,445.58,0,0,null,0,null,null,null,null,null,null,null,null,null,null,null,{"$f":"IF($I585=AI$7,$E585,0)","v":0},{"$f":"IF($K585=ROUND(AI$7*$F585,2),$G585,0)","v":0},0,0,0,0,{"$f":"IF($I585=AO$7,$E585,0)","v":0},{"$f":"IF($K585=ROUND(AO$7*$F585,2),$G585,0)","v":0},0,0,0,0,{"$f":"IF($I585=AU$7,$E585,0)","v":0},{"$f":"IF($K585=ROUND(AU$7*$F585,2),$G585,0)","v":0},0,0,0,0,{"$f":"IF($I585=BA$7,$E585,0)","v":0},{"$f":"IF($K585=ROUND(BA$7*$F585,2),$G585,0)","v":0},0,0,0,0,null,0,null,null,null,0]
["Гр.               Онегина          Светлана Витальевна","",{"$f":"C587","v":7},"03-4-23.785(333)",0.8,1.5,0,0.8,{"$f":"SUMIF(Y$14:BA$14,C586,Y$6:BA$6)","v":2166.8000000000002},{"$f":"IF(H586=0,ROUND(E586*I586,2),ROUND(H586*E586,2))","v":0.64},{"$f":"ROUND(F586*I586,2)","v":3250.2},{"$f":"IF(H586=0,ROUND(ROUND(F586*I586,2)*G586,2),ROUND(G586*H586,2))","v":0},{"$f":"L586-ROUND(G586*I586,2)","v":0},null,{"$f":"J586+L586+N586","v":0.64},null,405.07,{"$f":"ROUND(Q586*E586,2)","v":324.06},{"$f":"ROUND(F586*Q586,2)","v":607.61},{"$f":"ROUND(S586*G586,2)","v":0},{"$f":"T586-ROUND(Q586*G586,2)","v":0},null,{"$f":"R586+T586+V586","v":324.06},null,null,null,null,null,null,null,null,null,null,null,{"$f":"IF($I586=AI$6,$E586,0)","v":0},{"$f":"IF($K586=ROUND(AI$6*$F586,2),$G586,0)","v":0},{"$f":"IF($H586>0,AI586,0)","v":0},{"$f":"IF(AK586>0,1,0)","v":0},{"$f":"IF($H586>0,AJ586,0)","v":0},{"$f":"IF(AM586>0,1,0)","v":0},{"$f":"IF($I586=AO$6,$E586,0)","v":0},{"$f":"IF($K586=ROUND(AO$6*$F586,2),$G586,0)","v":0},{"$f":"IF($H586>0,AO586,0)","v":0},{"$f":"IF(AQ586>0,1,0)","v":0},{"$f":"IF($H586>0,AP586,0)","v":0},{"$f":"IF(AS586>0,1,0)","v":0},{"$f":"IF($I586=AU$6,$E586,0)","v":0},{"$f":"IF($K586=ROUND(AU$6*$F586,2),$G586,0)","v":0},{"$f":"IF($H586>0,AU586,0)","v":0},{"$f":"IF(AW586>0,1,0)","v":0},{"$f":"IF($H586>0,AV586,0)","v":0},{"$f":"IF(AY586>0,1,0)","v":0},{"$f":"IF($I586=BA$6,$E586,0)","v":0.8},{"$f":"IF($K586=ROUND(BA$6*$F586,2),$G586,0)","v":0},{"$f":"IF($H586>0,BA586,0)","v":0.8},{"$f":"IF(BC586>0,1,0)","v":1},{"$f":"IF($H586>0,BB586,0)","v":0},{"$f":"IF(BE586>0,1,0)","v":0},null,8.0000000000000004E-4,0.8,null,null,0]
[{"$f":"IF(E587+G587>0,A586,\"\")","v":""},{"$f":"IF(E587+G587>0,B586,\"\")","v":""},7,"03-4-23.785(333)",0,1.1000000000000001,0,0,{"$f":"SUMIF(Y$14:BA$14,C587,Y$6:BA$6)","v":2166.8000000000002},{"$f":"IF(H587=0,ROUND(E587*I587,2),ROUND(H587*E587,2))","v":0},{"$f":"ROUND(F587*I587,2)","v":2383.48},{"$f":"IF(H587=0,ROUND(ROUND(F587*I587,2)*G587,2),ROUND(G587*H587,2))","v":0},{"$f":"L587-ROUND(G587*I587,2)","v":0},null,{"$f":"J587+L587+N587","v":0},null,405.07,{"$f":"ROUND(Q587*E587,2)","v":0},{"$f":"ROUND(F587*Q587,2)","v":445.58},{"$f":"ROUND(S587*G587,2)","v":0},{"$f":"T587-ROUND(Q587*G587,2)","v":0},null,{"$f":"R587+T587+V587","v":0},null,null,null,null,null,null,null,null,null,null,null,{"$f":"IF($I587=AI$6,$E587,0)","v":0},0,{"$f":"IF($H587>0,AI587,0)","v":0},{"$f":"IF(AK587>0,1,0)","v":0},{"$f":"IF($H587>0,AJ587,0)","v":0},{"$f":"IF(AM587>0,1,0)","v":0},{"$f":"IF($I587=AO$6,$E587,0)","v":0},0,{"$f":"IF($H587>0,AO587,0)","v":0},{"$f":"IF(AQ587>0,1,0)","v":0},{"$f":"IF($H587>0,AP587,0)","v":0},{"$f":"IF(AS587>0,1,0)","v":0},{"$f":"IF($I587=AU$6,$E587,0)","v":0},0,{"$f":"IF($H587>0,AU587,0)","v":0},{"$f":"IF(AW587>0,1,0)","v":0},{"$f":"IF($H587>0,AV587,0)","v":0},{"$f":"IF(AY587>0,1,0)","v":0},{"$f":"IF($I587=BA$6,$E587,0)","v":0},0,{"$f":"IF($H587>0,BA587,0)","v":0},{"$f":"IF(BC587>0,1,0)","v":0},{"$f":"IF($H587>0,BB587,0)","v":0},{"$f":"IF(BE587>0,1,0)","v":0},null,0,null,null,null,0]
[{"$f":"IF(E588+G588>0,A586,\"\")","v":""},{"$f":"IF(E588+G588>0,B586,\"\")","v":""},{"$f":"C587","v":7},"03-4-23.785(333)",0,1.5,0,0,{"$f":"SUMIF(Y$14:BA$14,C588,Y$7:BA$7)","v":0},0,0,0,0,null,0,null,405.07,0,607.61,0,0,null,0,null,null,null,null,null,null,null,null,null,null,null,{"$f":"IF($I588=AI$7,$E588,0)","v":0},{"$f":"IF($K588=ROUND(AI$7*$F588,2),$G588,0)","v":0},0,0,0,0,{"$f":"IF($I588=AO$7,$E588,0)","v":0},{"$f":"IF($K588=ROUND(AO$7*$F588,2),$G588,0)","v":0},0,0,0,0,{"$f":"IF($I588=AU$7,$E588,0)","v":0},{"$f":"IF($K588=ROUND(AU$7*$F588,2),$G588,0)","v":0},0,0,0,0,{"$f":"IF($I588=BA$7,$E588,0)","v":0},{"$f":"IF($K588=ROUND(BA$7*$F588,2),$G588,0)","v":0},0,0,0,0,null,0,null,null,null,0]
[{"$f":"IF(E589+G589>0,A586,\"\")","v":""},{"$f":"IF(E589+G589>0,B586,\"\")","v":""},{"$f":"C587","v":7},"03-4-23.785(333)",0,1.1000000000000001,0,0,{"$f":"SUMIF(Y$14:BA$14,C589,Y$7:BA$7)","v":0},0,0,0,0,null,0,null,405.07,0,445.58,0,0,null,0,null,null,null,null,null,null,null,null,null,null,null,{"$f":"IF($I589=AI$7,$E589,0)","v":0},{"$f":"IF($K589=ROUND(AI$7*$F589,2),$G589,0)","v":0},0,0,0,0,{"$f":"IF($I589=AO$7,$E589,0)","v":0},{"$f":"IF($K589=ROUND(AO$7*$F589,2),$G589,0)","v":0},0,0,0,0,{"$f":"IF($I589=AU$7,$E589,0)","v":0},{"$f":"IF($K589=ROUND(AU$7*$F589,2),$G589,0)","v":0},0,0,0,0,{"$f":"IF($I589=BA$7,$E589,0)","v":0},{"$f":"IF($K589=ROUND(BA$7*$F589,2),$G589,0)","v":0},0,0,0,0,null,0,null,null,null,0]
["ООО          \"ПКФ Север\"","Вельск, ул.Дзержинского-92",{"$f":"C591","v":6},"03-4-23.792",6.5309999999999997,1.5,0,6.5309999999999997,{"$f":"SUMIF(Y$14:BA$14,C590,Y$6:BA$6)","v":1733.45},{"$f":"IF(H590=0,ROUND(E590*I590,2),ROUND(H590*E590,2))","v":42.65},{"$f":"ROUND(F590*I590,2)","v":2600.1799999999998},{"$f":"IF(H590=0,ROUND(ROUND(F590*I590,2)*G590,2),ROUND(G590*H590,2))","v":0},{"$f":"L590-ROUND(G590*I590,2)","v":0},null,{"$f":"J590+L590+N590","v":42.65},null,405.07,{"$f":"ROUND(Q590*E590,2)","v":2645.51},{"$f":"ROUND(F590*Q590,2)","v":607.61},{"$f":"ROUND(S590*G590,2)","v":0},{"$f":"T590-ROUND(Q590*G590,2)","v":0},null,{"$f":"R590+T590+V590","v":2645.51},null,null,null,null,null,null,null,null,null,null,null,{"$f":"IF($I590=AI$6,$E590,0)","v":0},{"$f":"IF($K590=ROUND(AI$6*$F590,2),$G590,0)","v":0},{"$f":"IF($H590>0,AI590,0)","v":0},{"$f":"IF(AK590>0,1,0)","v":0},{"$f":"IF($H590>0,AJ590,0)","v":0},{"$f":"IF(AM590>0,1,0)","v":0},{"$f":"IF($I590=AO$6,$E590,0)","v":0},{"$f":"IF($K590=ROUND(AO$6*$F590,2),$G590,0)","v":0},{"$f":"IF($H590>0,AO590,0)","v":0},{"$f":"IF(AQ590>0,1,0)","v":0},{"$f":"IF($H590>0,AP590,0)","v":0},{"$f":"IF(AS590>0,1,0)","v":0},{"$f":"IF($I590=AU$6,$E590,0)","v":6.5309999999999997},{"$f":"IF($K590=ROUND(AU$6*$F590,2),$G590,0)","v":0},{"$f":"IF($H590>0,AU590,0)","v":6.5309999999999997},{"$f":"IF(AW590>0,1,0)","v":1},{"$f":"IF($H590>0,AV590,0)","v":0},{"$f":"IF(AY590>0,1,0)","v":0},{"$f":"IF($I590=BA$6,$E590,0)","v":0},{"$f":"IF($K590=ROUND(BA$6*$F590,2),$G590,0)","v":0},{"$f":"IF($H590>0,BA590,0)","v":0},{"$f":"IF(BC590>0,1,0)","v":0},{"$f":"IF($H590>0,BB590,0)","v":0},{"$f":"IF(BE590>0,1,0)","v":0},null,6.5309999999999995E-3,9,null,null,0]
[{"$f":"IF(E591+G591>0,A590,\"\")","v":""},{"$f":"IF(E591+G591>0,B590,\"\")","v":""},6,"03-4-23.792",0,1.1000000000000001,0,0,{"$f":"SUMIF(Y$14:BA$14,C591,Y$6:BA$6)","v":1733.45},{"$f":"IF(H591=0,ROUND(E591*I591,2),ROUND(H591*E591,2))","v":0},{"$f":"ROUND(F591*I591,2)","v":1906.8},{"$f":"IF(H591=0,ROUND(ROUND(F591*I591,2)*G591,2),ROUND(G591*H591,2))","v":0},{"$f":"L591-ROUND(G591*I591,2)","v":0},null,{"$f":"J591+L591+N591","v":0},null,405.07,{"$f":"ROUND(Q591*E591,2)","v":0},{"$f":"ROUND(F591*Q591,2)","v":445.58},{"$f":"ROUND(S591*G591,2)","v":0},{"$f":"T591-ROUND(Q591*G591,2)","v":0},null,{"$f":"R591+T591+V591","v":0},null,null,null,null,null,null,null,null,null,null,null,{"$f":"IF($I591=AI$6,$E591,0)","v":0},0,{"$f":"IF($H591>0,AI591,0)","v":0},{"$f":"IF(AK591>0,1,0)","v":0},{"$f":"IF($H591>0,AJ591,0)","v":0},{"$f":"IF(AM591>0,1,0)","v":0},{"$f":"IF($I591=AO$6,$E591,0)","v":0},0,{"$f":"IF($H591>0,AO591,0)","v":0},{"$f":"IF(AQ591>0,1,0)","v":0},{"$f":"IF($H591>0,AP591,0)","v":0},{"$f":"IF(AS591>0,1,0)","v":0},{"$f":"IF($I591=AU$6,$E591,0)","v":0},0,{"$f":"IF($H591>0,AU591,0)","v":0},{"$f":"IF(AW591>0,1,0)","v":0},{"$f":"IF($H591>0,AV591,0)","v":0},{"$f":"IF(AY591>0,1,0)","v":0},{"$f":"IF($I591=BA$6,$E591,0)","v":0},0,{"$f":"IF($H591>0,BA591,0)","v":0},{"$f":"IF(BC591>0,1,0)","v":0},{"$f":"IF($H591>0,BB591,0)","v":0},{"$f":"IF(BE591>0,1,0)","v":0},null,0,null,null,null,0]
[{"$f":"IF(E592+G592>0,A590,\"\")","v":""},{"$f":"IF(E592+G592>0,B590,\"\")","v":""},{"$f":"C591","v":6},"03-4-23.792",0,1.5,0,0,{"$f":"SUMIF(Y$14:BA$14,C592,Y$7:BA$7)","v":0},0,0,0,0,null,0,null,{"$f":"IF(BI592>0,Q$6,Q$6)","v":405.07},0,607.61,0,0,null,0,null,null,null,null,null,null,null,null,null,null,null,{"$f":"IF($I592=AI$7,$E592,0)","v":0},{"$f":"IF($K592=ROUND(AI$7*$F592,2),$G592,0)","v":0},0,0,0,0,{"$f":"IF($I592=AO$7,$E592,0)","v":0},{"$f":"IF($K592=ROUND(AO$7*$F592,2),$G592,0)","v":0},0,0,0,0,{"$f":"IF($I592=AU$7,$E592,0)","v":0},{"$f":"IF($K592=ROUND(AU$7*$F592,2),$G592,0)","v":0},0,0,0,0,{"$f":"IF($I592=BA$7,$E592,0)","v":0},{"$f":"IF($K592=ROUND(BA$7*$F592,2),$G592,0)","v":0},0,0,0,0,null,0,null,null,null,0]
[{"$f":"IF(E593+G593>0,A590,\"\")","v":""},{"$f":"IF(E593+G593>0,B590,\"\")","v":""},{"$f":"C591","v":6},"03-4-23.792",0,1.1000000000000001,0,{"$f":"E593+G593","v":0},{"$f":"SUMIF(Y$14:BA$14,C593,Y$7:BA$7)","v":0},0,0,0,0,null,0,null,405.07,0,445.58,0,0,null,0,null,null,null,null,null,null,null,null,null,null,null,{"$f":"IF($I593=AI$7,$E593,0)","v":0},{"$f":"IF($K593=ROUND(AI$7*$F593,2),$G593,0)","v":0},0,0,0,0,{"$f":"IF($I593=AO$7,$E593,0)","v":0},{"$f":"IF($K593=ROUND(AO$7*$F593,2),$G593,0)","v":0},0,0,0,0,{"$f":"IF($I593=AU$7,$E593,0)","v":0},{"$f":"IF($K593=ROUND(AU$7*$F593,2),$G593,0)","v":0},0,0,0,0,{"$f":"IF($I593=BA$7,$E593,0)","v":0},{"$f":"IF($K593=ROUND(BA$7*$F593,2),$G593,0)","v":0},0,0,0,0,null,{"$f":"H593/1000","v":0},null,null,null,{"$f":"E593-SUM(AI593,AO593,AU593,BA593)","v":0}]
["ООО          \"ПКФ Север\"","Вельск, ул.Красная-27",{"$f":"C595","v":6},"03-4-23.792(333)",2.625,1.5,0,2.625,{"$f":"SUMIF(Y$14:BA$14,C594,Y$6:BA$6)","v":1733.45},{"$f":"IF(H594=0,ROUND(E594*I594,2),ROUND(H594*E594,2))","v":6.89},{"$f":"ROUND(F594*I594,2)","v":2600.1799999999998},{"$f":"IF(H594=0,ROUND(ROUND(F594*I594,2)*G594,2),ROUND(G594*H594,2))","v":0},{"$f":"L594-ROUND(G594*I594,2)","v":0},null,{"$f":"J594+L594+N594","v":6.89},null,405.07,{"$f":"ROUND(Q594*E594,2)","v":1063.31},{"$f":"ROUND(F594*Q594,2)","v":607.61},{"$f":"ROUND(S594*G594,2)","v":0},{"$f":"T594-ROUND(Q594*G594,2)","v":0},null,{"$f":"R594+T594+V594","v":1063.31},null,null,null,null,null,null,null,null,null,null,null,{"$f":"IF($I594=AI$6,$E594,0)","v":0},{"$f":"IF($K594=ROUND(AI$6*$F594,2),$G594,0)","v":0},{"$f":"IF($H594>0,AI594,0)","v":0},{"$f":"IF(AK594>0,1,0)","v":0},{"$f":"IF($H594>0,AJ594,0)","v":0},{"$f":"IF(AM594>0,1,0)","v":0},{"$f":"IF($I594=AO$6,$E594,0)","v":0},{"$f":"IF($K594=ROUND(AO$6*$F594,2),$G594,0)","v":0},{"$f":"IF($H594>0,AO594,0)","v":0},{"$f":"IF(AQ594>0,1,0)","v":0},{"$f":"IF($H594>0,AP594,0)","v":0},{"$f":"IF(AS594>0,1,0)","v":0},{"$f":"IF($I594=AU$6,$E594,0)","v":2.625},{"$f":"IF($K594=ROUND(AU$6*$F594,2),$G594,0)","v":0},{"$f":"IF($H594>0,AU594,0)","v":2.625},{"$f":"IF(AW594>0,1,0)","v":1},{"$f":"IF($H594>0,AV594,0)","v":0},{"$f":"IF(AY594>0,1,0)","v":0},{"$f":"IF($I594=BA$6,$E594,0)","v":0},{"$f":"IF($K594=ROUND(BA$6*$F594,2),$G594,0)","v":0},{"$f":"IF($H594>0,BA594,0)","v":0},{"$f":"IF(BC594>0,1,0)","v":0},{"$f":"IF($H594>0,BB594,0)","v":0},{"$f":"IF(BE594>0,1,0)","v":0},null,2.6250000000000002E-3,3.7,null,null,0]
[{"$f":"IF(E595+G595>0,A594,\"\")","v":""},{"$f":"IF(E595+G595>0,B594,\"\")","v":""},6,"03-4-23.792(333)",0,1.1000000000000001,0,0,{"$f":"SUMIF(Y$14:BA$14,C595,Y$6:BA$6)","v":1733.45},{"$f":"IF(H595=0,ROUND(E595*I595,2),ROUND(H595*E595,2))","v":0},{"$f":"ROUND(F595*I595,2)","v":1906.8},{"$f":"IF(H595=0,ROUND(ROUND(F595*I595,2)*G595,2),ROUND(G595*H595,2))","v":0},{"$f":"L595-ROUND(G595*I595,2)","v":0},null,{"$f":"J595+L595+N595","v":0},null,405.07,{"$f":"ROUND(Q595*E595,2)","v":0},{"$f":"ROUND(F595*Q595,2)","v":445.58},{"$f":"ROUND(S595*G595,2)","v":0},{"$f":"T595-ROUND(Q595*G595,2)","v":0},null,{"$f":"R595+T595+V595","v":0},null,null,null,null,null,null,null,null,null,null,null,{"$f":"IF($I595=AI$6,$E595,0)","v":0},0,{"$f":"IF($H595>0,AI595,0)","v":0},{"$f":"IF(AK595>0,1,0)","v":0},{"$f":"IF($H595>0,AJ595,0)","v":0},{"$f":"IF(AM595>0,1,0)","v":0},{"$f":"IF($I595=AO$6,$E595,0)","v":0},0,{"$f":"IF($H595>0,AO595,0)","v":0},{"$f":"IF(AQ595>0,1,0)","v":0},{"$f":"IF($H595>0,AP595,0)","v":0},{"$f":"IF(AS595>0,1,0)","v":0},{"$f":"IF($I595=AU$6,$E595,0)","v":0},0,{"$f":"IF($H595>0,AU595,0)","v":0},{"$f":"IF(AW595>0,1,0)","v":0},{"$f":"IF($H595>0,AV595,0)","v":0},{"$f":"IF(AY595>0,1,0)","v":0},{"$f":"IF($I595=BA$6,$E595,0)","v":0},0,{"$f":"IF($H595>0,BA595,0)","v":0},{"$f":"IF(BC595>0,1,0)","v":0},{"$f":"IF($H595>0,BB595,0)","v":0},{"$f":"IF(BE595>0,1,0)","v":0},null,0,null,null,null,0]
[{"$f":"IF(E596+G596>0,A594,\"\")","v":""},{"$f":"IF(E596+G596>0,B594,\"\")","v":""},{"$f":"C595","v":6},"03-4-23.792(333)",0,1.5,0,0,{"$f":"SUMIF(Y$14:BA$14,C596,Y$7:BA$7)","v":0},0,0,0,0,null,0,null,405.07,0,607.61,0,0,null,0,null,null,null,null,null,null,null,null,null,null,null,{"$f":"IF($I596=AI$7,$E596,0)","v":0},{"$f":"IF($K596=ROUND(AI$7*$F596,2),$G596,0)","v":0},0,0,0,0,{"$f":"IF($I596=AO$7,$E596,0)","v":0},{"$f":"IF($K596=ROUND(AO$7*$F596,2),$G596,0)","v":0},0,0,0,0,{"$f":"IF($I596=AU$7,$E596,0)","v":0},{"$f":"IF($K596=ROUND(AU$7*$F596,2),$G596,0)","v":0},0,0,0,0,{"$f":"IF($I596=BA$7,$E596,0)","v":0},{"$f":"IF($K596=ROUND(BA$7*$F596,2),$G596,0)","v":0},0,0,0,0,null,0,null,null,null,0]
[{"$f":"IF(E597+G597>0,A594,\"\")","v":""},{"$f":"IF(E597+G597>0,B594,\"\")","v":""},{"$f":"C595","v":6},"03-4-23.792(333)",0,1.1000000000000001,0,0,{"$f":"SUMIF(Y$14:BA$14,C597,Y$7:BA$7)","v":0},0,0,0,0,null,0,null,405.07,0,445.58,0,0,null,0,null,null,null,null,null,null,null,null,null,null,null,{"$f":"IF($I597=AI$7,$E597,0)","v":0},{"$f":"IF($K597=ROUND(AI$7*$F597,2),$G597,0)","v":0},0,0,0,0,{"$f":"IF($I597=AO$7,$E597,0)","v":0},{"$f":"IF($K597=ROUND(AO$7*$F597,2),$G597,0)","v":0},0,0,0,0,{"$f":"IF($I597=AU$7,$E597,0)","v":0},{"$f":"IF($K597=ROUND(AU$7*$F597,2),$G597,0)","v":0},0,0,0,0,{"$f":"IF($I597=BA$7,$E597,0)","v":0},{"$f":"IF($K597=ROUND(BA$7*$F597,2),$G597,0)","v":0},0,0,0,0,null,0,null,null,null,0]
["Гр.               Афанасьев    Денис Михайлович","д.Горка Муравьевская, ул.70 лет Октября-12",{"$f":"C599","v":7},"03-4-23.794(333)",0.219,1.5,0,0.219,{"$f":"SUMIF(Y$14:BA$14,C598,Y$6:BA$6)","v":2166.8000000000002},{"$f":"IF(H598=0,ROUND(E598*I598,2),ROUND(H598*E598,2))","v":0.05},{"$f":"ROUND(F598*I598,2)","v":3250.2},{"$f":"IF(H598=0,ROUND(ROUND(F598*I598,2)*G598,2),ROUND(G598*H598,2))","v":0},{"$f":"L598-ROUND(G598*I598,2)","v":0},null,{"$f":"J598+L598+N598","v":0.05},null,405.07,{"$f":"ROUND(Q598*E598,2)","v":88.71},{"$f":"ROUND(F598*Q598,2)","v":607.61},{"$f":"ROUND(S598*G598,2)","v":0},{"$f":"T598-ROUND(Q598*G598,2)","v":0},null,{"$f":"R598+T598+V598","v":88.71},null,null,null,null,null,null,null,null,null,null,null,{"$f":"IF($I598=AI$6,$E598,0)","v":0},{"$f":"IF($K598=ROUND(AI$6*$F598,2),$G598,0)","v":0},{"$f":"IF($H598>0,AI598,0)","v":0},{"$f":"IF(AK598>0,1,0)","v":0},{"$f":"IF($H598>0,AJ598,0)","v":0},{"$f":"IF(AM598>0,1,0)","v":0},{"$f":"IF($I598=AO$6,$E598,0)","v":0},{"$f":"IF($K598=ROUND(AO$6*$F598,2),$G598,0)","v":0},{"$f":"IF($H598>0,AO598,0)","v":0},{"$f":"IF(AQ598>0,1,0)","v":0},{"$f":"IF($H598>0,AP598,0)","v":0},{"$f":"IF(AS598>0,1,0)","v":0},{"$f":"IF($I598=AU$6,$E598,0)","v":0},{"$f":"IF($K598=ROUND(AU$6*$F598,2),$G598,0)","v":0},{"$f":"IF($H598>0,AU598,0)","v":0},{"$f":"IF(AW598>0,1,0)","v":0},{"$f":"IF($H598>0,AV598,0)","v":0},{"$f":"IF(AY598>0,1,0)","v":0},{"$f":"IF($I598=BA$6,$E598,0)","v":0.219},{"$f":"IF($K598=ROUND(BA$6*$F598,2),$G598,0)","v":0},{"$f":"IF($H598>0,BA598,0)","v":0.219},{"$f":"IF(BC598>0,1,0)","v":1},{"$f":"IF($H598>0,BB598,0)","v":0},{"$f":"IF(BE598>0,1,0)","v":0},null,2.1900000000000001E-4,0.3,null,null,0]
[{"$f":"IF(E599+G599>0,A598,\"\")","v":""},{"$f":"IF(E599+G599>0,B598,\"\")","v":""},7,"03-4-23.794(333)",0,1.1000000000000001,0,0,{"$f":"SUMIF(Y$14:BA$14,C599,Y$6:BA$6)","v":2166.8000000000002},{"$f":"IF(H599=0,ROUND(E599*I599,2),ROUND(H599*E599,2))","v":0},{"$f":"ROUND(F599*I599,2)","v":2383.48},{"$f":"IF(H599=0,ROUND(ROUND(F599*I599,2)*G599,2),ROUND(G599*H599,2))","v":0},{"$f":"L599-ROUND(G599*I599,2)","v":0},null,{"$f":"J599+L599+N599","v":0},null,405.07,{"$f":"ROUND(Q599*E599,2)","v":0},{"$f":"ROUND(F599*Q599,2)","v":445.58},{"$f":"ROUND(S599*G599,2)","v":0},{"$f":"T599-ROUND(Q599*G599,2)","v":0},null,{"$f":"R599+T599+V599","v":0},null,null,null,null,null,null,null,null,null,null,null,{"$f":"IF($I599=AI$6,$E599,0)","v":0},0,{"$f":"IF($H599>0,AI599,0)","v":0},{"$f":"IF(AK599>0,1,0)","v":0},{"$f":"IF($H599>0,AJ599,0)","v":0},{"$f":"IF(AM599>0,1,0)","v":0},{"$f":"IF($I599=AO$6,$E599,0)","v":0},0,{"$f":"IF($H599>0,AO599,0)","v":0},{"$f":"IF(AQ599>0,1,0)","v":0},{"$f":"IF($H599>0,AP599,0)","v":0},{"$f":"IF(AS599>0,1,0)","v":0},{"$f":"IF($I599=AU$6,$E599,0)","v":0},0,{"$f":"IF($H599>0,AU599,0)","v":0},{"$f":"IF(AW599>0,1,0)","v":0},{"$f":"IF($H599>0,AV599,0)","v":0},{"$f":"IF(AY599>0,1,0)","v":0},{"$f":"IF($I599=BA$6,$E599,0)","v":0},0,{"$f":"IF($H599>0,BA599,0)","v":0},{"$f":"IF(BC599>0,1,0)","v":0},{"$f":"IF($H599>0,BB599,0)","v":0},{"$f":"IF(BE599>0,1,0)","v":0},null,0,null,null,null,0]
[{"$f":"IF(E600+G600>0,A598,\"\")","v":""},{"$f":"IF(E600+G600>0,B598,\"\")","v":""},{"$f":"C599","v":7},"03-4-23.794(333)",0,1.5,0,0,{"$f":"SUMIF(Y$14:BA$14,C600,Y$7:BA$7)","v":0},0,0,0,0,null,0,null,405.07,0,607.61,0,0,null,0,null,null,null,null,null,null,null,null,null,null,null,{"$f":"IF($I600=AI$7,$E600,0)","v":0},{"$f":"IF($K600=ROUND(AI$7*$F600,2),$G600,0)","v":0},0,0,0,0,{"$f":"IF($I600=AO$7,$E600,0)","v":0},{"$f":"IF($K600=ROUND(AO$7*$F600,2),$G600,0)","v":0},0,0,0,0,{"$f":"IF($I600=AU$7,$E600,0)","v":0},{"$f":"IF($K600=ROUND(AU$7*$F600,2),$G600,0)","v":0},0,0,0,0,{"$f":"IF($I600=BA$7,$E600,0)","v":0},{"$f":"IF($K600=ROUND(BA$7*$F600,2),$G600,0)","v":0},0,0,0,0,null,0,null,null,null,0]
[{"$f":"IF(E601+G601>0,A598,\"\")","v":""},{"$f":"IF(E601+G601>0,B598,\"\")","v":""},{"$f":"C599","v":7},"03-4-23.794(333)",0,1.1000000000000001,0,0,{"$f":"SUMIF(Y$14:BA$14,C601,Y$7:BA$7)","v":0},0,0,0,0,null,0,null,405.07,0,445.58,0,0,null,0,null,null,null,null,null,null,null,null,null,null,null,{"$f":"IF($I601=AI$7,$E601,0)","v":0},{"$f":"IF($K601=ROUND(AI$7*$F601,2),$G601,0)","v":0},0,0,0,0,{"$f":"IF($I601=AO$7,$E601,0)","v":0},{"$f":"IF($K601=ROUND(AO$7*$F601,2),$G601,0)","v":0},0,0,0,0,{"$f":"IF($I601=AU$7,$E601,0)","v":0},{"$f":"IF($K601=ROUND(AU$7*$F601,2),$G601,0)","v":0},0,0,0,0,{"$f":"IF($I601=BA$7,$E601,0)","v":0},{"$f":"IF($K601=ROUND(BA$7*$F601,2),$G601,0)","v":0},0,0,0,0,null,0,null,null,null,0]
["Гр.               Афанасьев    Денис Михайлович","Вельск, ул.Революционная-1Б",{"$f":"C603","v":6},"03-4-23.794(333)",0.72,1.5,0,0.72,{"$f":"SUMIF(Y$14:BA$14,C602,Y$6:BA$6)","v":1733.45},{"$f":"IF(H602=0,ROUND(E602*I602,2),ROUND(H602*E602,2))","v":0.52},{"$f":"ROUND(F602*I602,2)","v":2600.1799999999998},{"$f":"IF(H602=0,ROUND(ROUND(F602*I602,2)*G602,2),ROUND(G602*H602,2))","v":0},{"$f":"L602-ROUND(G602*I602,2)","v":0},null,{"$f":"J602+L602+N602","v":0.52},null,405.07,{"$f":"ROUND(Q602*E602,2)","v":291.64999999999998},{"$f":"ROUND(F602*Q602,2)","v":607.61},{"$f":"ROUND(S602*G602,2)","v":0},{"$f":"T602-ROUND(Q602*G602,2)","v":0},null,{"$f":"R602+T602+V602","v":291.64999999999998},null,null,null,null,null,null,null,null,null,null,null,{"$f":"IF($I602=AI$6,$E602,0)","v":0},{"$f":"IF($K602=ROUND(AI$6*$F602,2),$G602,0)","v":0},{"$f":"IF($H602>0,AI602,0)","v":0},{"$f":"IF(AK602>0,1,0)","v":0},{"$f":"IF($H602>0,AJ602,0)","v":0},{"$f":"IF(AM602>0,1,0)","v":0},{"$f":"IF($I602=AO$6,$E602,0)","v":0},{"$f":"IF($K602=ROUND(AO$6*$F602,2),$G602,0)","v":0},{"$f":"IF($H602>0,AO602,0)","v":0},{"$f":"IF(AQ602>0,1,0)","v":0},{"$f":"IF($H602>0,AP602,0)","v":0},{"$f":"IF(AS602>0,1,0)","v":0},{"$f":"IF($I602=AU$6,$E602,0)","v":0.72},{"$f":"IF($K602=ROUND(AU$6*$F602,2),$G602,0)","v":0},{"$f":"IF($H602>0,AU602,0)","v":0.72},{"$f":"IF(AW602>0,1,0)","v":1},{"$f":"IF($H602>0,AV602,0)","v":0},{"$f":"IF(AY602>0,1,0)","v":0},{"$f":"IF($I602=BA$6,$E602,0)","v":0},{"$f":"IF($K602=ROUND(BA$6*$F602,2),$G602,0)","v":0},{"$f":"IF($H602>0,BA602,0)","v":0},{"$f":"IF(BC602>0,1,0)","v":0},{"$f":"IF($H602>0,BB602,0)","v":0},{"$f":"IF(BE602>0,1,0)","v":0},null,7.1999999999999994E-4,2,null,null,0]
[{"$f":"IF(E603+G603>0,A602,\"\")","v":""},{"$f":"IF(E603+G603>0,B602,\"\")","v":""},6,"03-4-23.794(333)",0,1.1000000000000001,0,0,{"$f":"SUMIF(Y$14:BA$14,C603,Y$6:BA$6)","v":1733.45},{"$f":"IF(H603=0,ROUND(E603*I603,2),ROUND(H603*E603,2))","v":0},{"$f":"ROUND(F603*I603,2)","v":1906.8},{"$f":"IF(H603=0,ROUND(ROUND(F603*I603,2)*G603,2),ROUND(G603*H603,2))","v":0},{"$f":"L603-ROUND(G603*I603,2)","v":0},null,{"$f":"J603+L603+N603","v":0},null,405.07,{"$f":"ROUND(Q603*E603,2)","v":0},{"$f":"ROUND(F603*Q603,2)","v":445.58},{"$f":"ROUND(S603*G603,2)","v":0},{"$f":"T603-ROUND(Q603*G603,2)","v":0},null,{"$f":"R603+T603+V603","v":0},null,null,null,null,null,null,null,null,null,null,null,{"$f":"IF($I603=AI$6,$E603,0)","v":0},0,{"$f":"IF($H603>0,AI603,0)","v":0},{"$f":"IF(AK603>0,1,0)","v":0},{"$f":"IF($H603>0,AJ603,0)","v":0},{"$f":"IF(AM603>0,1,0)","v":0},{"$f":"IF($I603=AO$6,$E603,0)","v":0},0,{"$f":"IF($H603>0,AO603,0)","v":0},{"$f":"IF(AQ603>0,1,0)","v":0},{"$f":"IF($H603>0,AP603,0)","v":0},{"$f":"IF(AS603>0,1,0)","v":0},{"$f":"IF($I603=AU$6,$E603,0)","v":0},0,{"$f":"IF($H603>0,AU603,0)","v":0},{"$f":"IF(AW603>0,1,0)","v":0},{"$f":"IF($H603>0,AV603,0)","v":0},{"$f":"IF(AY603>0,1,0)","v":0},{"$f":"IF($I603=BA$6,$E603,0)","v":0},0,{"$f":"IF($H603>0,BA603,0)","v":0},{"$f":"IF(BC603>0,1,0)","v":0},{"$f":"IF($H603>0,BB603,0)","v":0},{"$f":"IF(BE603>0,1,0)","v":0},null,0,null,null,null,0]
[{"$f":"IF(E604+G604>0,A602,\"\")","v":""},{"$f":"IF(E604+G604>0,B602,\"\")","v":""},{"$f":"C603","v":6},"03-4-23.794(333)",0,1.5,0,0,{"$f":"SUMIF(Y$14:BA$14,C604,Y$7:BA$7)","v":0},0,0,0,0,null,0,null,405.07,0,607.61,0,0,null,0,null,null,null,null,null,null,null,null,null,null,null,{"$f":"IF($I604=AI$7,$E604,0)","v":0},{"$f":"IF($K604=ROUND(AI$7*$F604,2),$G604,0)","v":0},0,0,0,0,{"$f":"IF($I604=AO$7,$E604,0)","v":0},{"$f":"IF($K604=ROUND(AO$7*$F604,2),$G604,0)","v":0},0,0,0,0,{"$f":"IF($I604=AU$7,$E604,0)","v":0},{"$f":"IF($K604=ROUND(AU$7*$F604,2),$G604,0)","v":0},0,0,0,0,{"$f":"IF($I604=BA$7,$E604,0)","v":0},{"$f":"IF($K604=ROUND(BA$7*$F604,2),$G604,0)","v":0},0,0,0,0,null,0,null,null,null,0]
[{"$f":"IF(E605+G605>0,A602,\"\")","v":""},{"$f":"IF(E605+G605>0,B602,\"\")","v":""},{"$f":"C603","v":6},"03-4-23.794(333)",0,1.1000000000000001,0,0,{"$f":"SUMIF(Y$14:BA$14,C605,Y$7:BA$7)","v":0},0,0,0,0,null,0,null,405.07,0,445.58,0,0,null,0,null,null,null,null,null,null,null,null,null,null,null,{"$f":"IF($I605=AI$7,$E605,0)","v":0},{"$f":"IF($K605=ROUND(AI$7*$F605,2),$G605,0)","v":0},0,0,0,0,{"$f":"IF($I605=AO$7,$E605,0)","v":0},{"$f":"IF($K605=ROUND(AO$7*$F605,2),$G605,0)","v":0},0,0,0,0,{"$f":"IF($I605=AU$7,$E605,0)","v":0},{"$f":"IF($K605=ROUND(AU$7*$F605,2),$G605,0)","v":0},0,0,0,0,{"$f":"IF($I605=BA$7,$E605,0)","v":0},{"$f":"IF($K605=ROUND(BA$7*$F605,2),$G605,0)","v":0},0,0,0,0,null,0,null,null,null,0]
["Гр.               Цаплин          Иван Сергеевич","",{"$f":"C607","v":7},"03-4-23.796(333)",0,1.5,0,0,{"$f":"SUMIF(Y$14:BA$14,C606,Y$6:BA$6)","v":2166.8000000000002},{"$f":"IF(H606=0,ROUND(E606*I606,2),ROUND(H606*E606,2))","v":0},{"$f":"ROUND(F606*I606,2)","v":3250.2},{"$f":"IF(H606=0,ROUND(ROUND(F606*I606,2)*G606,2),ROUND(G606*H606,2))","v":0},{"$f":"L606-ROUND(G606*I606,2)","v":0},null,{"$f":"J606+L606+N606","v":0},null,405.07,{"$f":"ROUND(Q606*E606,2)","v":0},{"$f":"ROUND(F606*Q606,2)","v":607.61},{"$f":"ROUND(S606*G606,2)","v":0},{"$f":"T606-ROUND(Q606*G606,2)","v":0},null,{"$f":"R606+T606+V606","v":0},null,null,null,null,null,null,null,null,null,null,null,{"$f":"IF($I606=AI$6,$E606,0)","v":0},{"$f":"IF($K606=ROUND(AI$6*$F606,2),$G606,0)","v":0},{"$f":"IF($H606>0,AI606,0)","v":0},{"$f":"IF(AK606>0,1,0)","v":0},{"$f":"IF($H606>0,AJ606,0)","v":0},{"$f":"IF(AM606>0,1,0)","v":0},{"$f":"IF($I606=AO$6,$E606,0)","v":0},{"$f":"IF($K606=ROUND(AO$6*$F606,2),$G606,0)","v":0},{"$f":"IF($H606>0,AO606,0)","v":0},{"$f":"IF(AQ606>0,1,0)","v":0},{"$f":"IF($H606>0,AP606,0)","v":0},{"$f":"IF(AS606>0,1,0)","v":0},{"$f":"IF($I606=AU$6,$E606,0)","v":0},{"$f":"IF($K606=ROUND(AU$6*$F606,2),$G606,0)","v":0},{"$f":"IF($H606>0,AU606,0)","v":0},{"$f":"IF(AW606>0,1,0)","v":0},{"$f":"IF($H606>0,AV606,0)","v":0},{"$f":"IF(AY606>0,1,0)","v":0},{"$f":"IF($I606=BA$6,$E606,0)","v":0},{"$f":"IF($K606=ROUND(BA$6*$F606,2),$G606,0)","v":0},{"$f":"IF($H606>0,BA606,0)","v":0},{"$f":"IF(BC606>0,1,0)","v":0},{"$f":"IF($H606>0,BB606,0)","v":0},{"$f":"IF(BE606>0,1,0)","v":0},null,0,0.30599999999999999,null,null,0]
[{"$f":"IF(E607+G607>0,A606,\"\")","v":""},{"$f":"IF(E607+G607>0,B606,\"\")","v":""},7,"03-4-23.796(333)",0,1.1000000000000001,0,0,{"$f":"SUMIF(Y$14:BA$14,C607,Y$6:BA$6)","v":2166.8000000000002},{"$f":"IF(H607=0,ROUND(E607*I607,2),ROUND(H607*E607,2))","v":0},{"$f":"ROUND(F607*I607,2)","v":2383.48},{"$f":"IF(H607=0,ROUND(ROUND(F607*I607,2)*G607,2),ROUND(G607*H607,2))","v":0},{"$f":"L607-ROUND(G607*I607,2)","v":0},null,{"$f":"J607+L607+N607","v":0},null,405.07,{"$f":"ROUND(Q607*E607,2)","v":0},{"$f":"ROUND(F607*Q607,2)","v":445.58},{"$f":"ROUND(S607*G607,2)","v":0},{"$f":"T607-ROUND(Q607*G607,2)","v":0},null,{"$f":"R607+T607+V607","v":0},null,null,null,null,null,null,null,null,null,null,null,{"$f":"IF($I607=AI$6,$E607,0)","v":0},0,{"$f":"IF($H607>0,AI607,0)","v":0},{"$f":"IF(AK607>0,1,0)","v":0},{"$f":"IF($H607>0,AJ607,0)","v":0},{"$f":"IF(AM607>0,1,0)","v":0},{"$f":"IF($I607=AO$6,$E607,0)","v":0},0,{"$f":"IF($H607>0,AO607,0)","v":0},{"$f":"IF(AQ607>0,1,0)","v":0},{"$f":"IF($H607>0,AP607,0)","v":0},{"$f":"IF(AS607>0,1,0)","v":0},{"$f":"IF($I607=AU$6,$E607,0)","v":0},0,{"$f":"IF($H607>0,AU607,0)","v":0},{"$f":"IF(AW607>0,1,0)","v":0},{"$f":"IF($H607>0,AV607,0)","v":0},{"$f":"IF(AY607>0,1,0)","v":0},{"$f":"IF($I607=BA$6,$E607,0)","v":0},0,{"$f":"IF($H607>0,BA607,0)","v":0},{"$f":"IF(BC607>0,1,0)","v":0},{"$f":"IF($H607>0,BB607,0)","v":0},{"$f":"IF(BE607>0,1,0)","v":0},null,0,null,null,null,0]
[{"$f":"IF(E608+G608>0,A606,\"\")","v":""},{"$f":"IF(E608+G608>0,B606,\"\")","v":""},{"$f":"C607","v":7},"03-4-23.796(333)",0,1.5,0,0,{"$f":"SUMIF(Y$14:BA$14,C608,Y$7:BA$7)","v":0},0,0,0,0,null,0,null,405.07,0,607.61,0,0,null,0,null,null,null,null,null,null,null,null,null,null,null,{"$f":"IF($I608=AI$7,$E608,0)","v":0},{"$f":"IF($K608=ROUND(AI$7*$F608,2),$G608,0)","v":0},0,0,0,0,{"$f":"IF($I608=AO$7,$E608,0)","v":0},{"$f":"IF($K608=ROUND(AO$7*$F608,2),$G608,0)","v":0},0,0,0,0,{"$f":"IF($I608=AU$7,$E608,0)","v":0},{"$f":"IF($K608=ROUND(AU$7*$F608,2),$G608,0)","v":0},0,0,0,0,{"$f":"IF($I608=BA$7,$E608,0)","v":0},{"$f":"IF($K608=ROUND(BA$7*$F608,2),$G608,0)","v":0},0,0,0,0,null,0,null,null,null,0]
[{"$f":"IF(E609+G609>0,A606,\"\")","v":""},{"$f":"IF(E609+G609>0,B606,\"\")","v":""},{"$f":"C607","v":7},"03-4-23.796(333)",0,1.1000000000000001,0,0,{"$f":"SUMIF(Y$14:BA$14,C609,Y$7:BA$7)","v":0},0,0,0,0,null,0,null,405.07,0,445.58,0,0,null,0,null,null,null,null,null,null,null,null,null,null,null,{"$f":"IF($I609=AI$7,$E609,0)","v":0},{"$f":"IF($K609=ROUND(AI$7*$F609,2),$G609,0)","v":0},0,0,0,0,{"$f":"IF($I609=AO$7,$E609,0)","v":0},{"$f":"IF($K609=ROUND(AO$7*$F609,2),$G609,0)","v":0},0,0,0,0,{"$f":"IF($I609=AU$7,$E609,0)","v":0},{"$f":"IF($K609=ROUND(AU$7*$F609,2),$G609,0)","v":0},0,0,0,0,{"$f":"IF($I609=BA$7,$E609,0)","v":0},{"$f":"IF($K609=ROUND(BA$7*$F609,2),$G609,0)","v":0},0,0,0,0,null,0,null,null,null,0]
["ООО          \"Вельская неделя\"","",{"$f":"C611","v":6},"03-4-23.802(333)",1.21,1.5,0.09,1.3,{"$f":"SUMIF(Y$14:BA$14,C610,Y$6:BA$6)","v":1733.45},{"$f":"IF(H610=0,ROUND(E610*I610,2),ROUND(H610*E610,2))","v":1.57},{"$f":"ROUND(F610*I610,2)","v":2600.1799999999998},{"$f":"IF(H610=0,ROUND(ROUND(F610*I610,2)*G610,2),ROUND(G610*H610,2))","v":0.12},{"$f":"L610-ROUND(G610*I610,2)","v":-155.88999999999999},null,{"$f":"J610+L610+N610","v":1.69},null,405.07,{"$f":"ROUND(Q610*E610,2)","v":490.13},{"$f":"ROUND(F610*Q610,2)","v":607.61},{"$f":"ROUND(S610*G610,2)","v":54.68},{"$f":"T610-ROUND(Q610*G610,2)","v":18.22},null,{"$f":"R610+T610+V610","v":544.80999999999995},null,null,null,null,null,null,null,null,null,null,null,{"$f":"IF($I610=AI$6,$E610,0)","v":0},{"$f":"IF($K610=ROUND(AI$6*$F610,2),$G610,0)","v":0},{"$f":"IF($H610>0,AI610,0)","v":0},{"$f":"IF(AK610>0,1,0)","v":0},{"$f":"IF($H610>0,AJ610,0)","v":0},{"$f":"IF(AM610>0,1,0)","v":0},{"$f":"IF($I610=AO$6,$E610,0)","v":0},{"$f":"IF($K610=ROUND(AO$6*$F610,2),$G610,0)","v":0},{"$f":"IF($H610>0,AO610,0)","v":0},{"$f":"IF(AQ610>0,1,0)","v":0},{"$f":"IF($H610>0,AP610,0)","v":0},{"$f":"IF(AS610>0,1,0)","v":0},{"$f":"IF($I610=AU$6,$E610,0)","v":1.21},{"$f":"IF($K610=ROUND(AU$6*$F610,2),$G610,0)","v":0.09},{"$f":"IF($H610>0,AU610,0)","v":1.21},{"$f":"IF(AW610>0,1,0)","v":1},{"$f":"IF($H610>0,AV610,0)","v":0.09},{"$f":"IF(AY610>0,1,0)","v":1},{"$f":"IF($I610=BA$6,$E610,0)","v":0},{"$f":"IF($K610=ROUND(BA$6*$F610,2),$G610,0)","v":0},{"$f":"IF($H610>0,BA610,0)","v":0},{"$f":"IF(BC610>0,1,0)","v":0},{"$f":"IF($H610>0,BB610,0)","v":0},{"$f":"IF(BE610>0,1,0)","v":0},null,1.2999999999999999E-3,1.1000000000000001,null,null,0]
[{"$f":"IF(E611+G611>0,A610,\"\")","v":""},{"$f":"IF(E611+G611>0,B610,\"\")","v":""},6,"03-4-23.802(333)",0,1.1000000000000001,0,0,{"$f":"SUMIF(Y$14:BA$14,C611,Y$6:BA$6)","v":1733.45},{"$f":"IF(H611=0,ROUND(E611*I611,2),ROUND(H611*E611,2))","v":0},{"$f":"ROUND(F611*I611,2)","v":1906.8},{"$f":"IF(H611=0,ROUND(ROUND(F611*I611,2)*G611,2),ROUND(G611*H611,2))","v":0},{"$f":"L611-ROUND(G611*I611,2)","v":0},null,{"$f":"J611+L611+N611","v":0},null,405.07,{"$f":"ROUND(Q611*E611,2)","v":0},{"$f":"ROUND(F611*Q611,2)","v":445.58},{"$f":"ROUND(S611*G611,2)","v":0},{"$f":"T611-ROUND(Q611*G611,2)","v":0},null,{"$f":"R611+T611+V611","v":0},null,null,null,null,null,null,null,null,null,null,null,{"$f":"IF($I611=AI$6,$E611,0)","v":0},0,{"$f":"IF($H611>0,AI611,0)","v":0},{"$f":"IF(AK611>0,1,0)","v":0},{"$f":"IF($H611>0,AJ611,0)","v":0},{"$f":"IF(AM611>0,1,0)","v":0},{"$f":"IF($I611=AO$6,$E611,0)","v":0},0,{"$f":"IF($H611>0,AO611,0)","v":0},{"$f":"IF(AQ611>0,1,0)","v":0},{"$f":"IF($H611>0,AP611,0)","v":0},{"$f":"IF(AS611>0,1,0)","v":0},{"$f":"IF($I611=AU$6,$E611,0)","v":0},0,{"$f":"IF($H611>0,AU611,0)","v":0},{"$f":"IF(AW611>0,1,0)","v":0},{"$f":"IF($H611>0,AV611,0)","v":0},{"$f":"IF(AY611>0,1,0)","v":0},{"$f":"IF($I611=BA$6,$E611,0)","v":0},0,{"$f":"IF($H611>0,BA611,0)","v":0},{"$f":"IF(BC611>0,1,0)","v":0},{"$f":"IF($H611>0,BB611,0)","v":0},{"$f":"IF(BE611>0,1,0)","v":0},null,0,null,null,null,0]
[{"$f":"IF(E612+G612>0,A610,\"\")","v":""},{"$f":"IF(E612+G612>0,B610,\"\")","v":""},{"$f":"C611","v":6},"03-4-23.802(333)",0,1.5,0,0,{"$f":"SUMIF(Y$14:BA$14,C612,Y$7:BA$7)","v":0},0,0,0,0,null,0,null,405.07,0,607.61,0,0,null,0,null,null,null,null,null,null,null,null,null,null,null,{"$f":"IF($I612=AI$7,$E612,0)","v":0},{"$f":"IF($K612=ROUND(AI$7*$F612,2),$G612,0)","v":0},0,0,0,0,{"$f":"IF($I612=AO$7,$E612,0)","v":0},{"$f":"IF($K612=ROUND(AO$7*$F612,2),$G612,0)","v":0},0,0,0,0,{"$f":"IF($I612=AU$7,$E612,0)","v":0},{"$f":"IF($K612=ROUND(AU$7*$F612,2),$G612,0)","v":0},0,0,0,0,{"$f":"IF($I612=BA$7,$E612,0)","v":0},{"$f":"IF($K612=ROUND(BA$7*$F612,2),$G612,0)","v":0},0,0,0,0,null,0,null,null,null,0]
[{"$f":"IF(E613+G613>0,A610,\"\")","v":""},{"$f":"IF(E613+G613>0,B610,\"\")","v":""},{"$f":"C611","v":6},"03-4-23.802(333)",0,1.1000000000000001,0,0,{"$f":"SUMIF(Y$14:BA$14,C613,Y$7:BA$7)","v":0},0,0,0,0,null,0,null,405.07,0,445.58,0,0,null,0,null,null,null,null,null,null,null,null,null,null,null,{"$f":"IF($I613=AI$7,$E613,0)","v":0},{"$f":"IF($K613=ROUND(AI$7*$F613,2),$G613,0)","v":0},0,0,0,0,{"$f":"IF($I613=AO$7,$E613,0)","v":0},{"$f":"IF($K613=ROUND(AO$7*$F613,2),$G613,0)","v":0},0,0,0,0,{"$f":"IF($I613=AU$7,$E613,0)","v":0},{"$f":"IF($K613=ROUND(AU$7*$F613,2),$G613,0)","v":0},0,0,0,0,{"$f":"IF($I613=BA$7,$E613,0)","v":0},{"$f":"IF($K613=ROUND(BA$7*$F613,2),$G613,0)","v":0},0,0,0,0,null,0,null,null,null,0]
["Гр.               Сухоруков      Анатолий Николаевич        (до 01.04  -  гр.Шухтина М.А.) ","",{"$f":"C615","v":7},"03-4-23.1111(333)/03-4-23.805(333)",0.29199999999999998,1.5,0,0.29199999999999998,{"$f":"SUMIF(Y$14:BA$14,C614,Y$6:BA$6)","v":2166.8000000000002},{"$f":"IF(H614=0,ROUND(E614*I614,2),ROUND(H614*E614,2))","v":0.09},{"$f":"ROUND(F614*I614,2)","v":3250.2},{"$f":"IF(H614=0,ROUND(ROUND(F614*I614,2)*G614,2),ROUND(G614*H614,2))","v":0},{"$f":"L614-ROUND(G614*I614,2)","v":0},null,{"$f":"J614+L614+N614","v":0.09},null,405.07,{"$f":"ROUND(Q614*E614,2)","v":118.28},{"$f":"ROUND(F614*Q614,2)","v":607.61},{"$f":"ROUND(S614*G614,2)","v":0},{"$f":"T614-ROUND(Q614*G614,2)","v":0},null,{"$f":"R614+T614+V614","v":118.28},null,null,null,null,null,null,null,null,null,null,null,{"$f":"IF($I614=AI$6,$E614,0)","v":0},{"$f":"IF($K614=ROUND(AI$6*$F614,2),$G614,0)","v":0},{"$f":"IF($H614>0,AI614,0)","v":0},{"$f":"IF(AK614>0,1,0)","v":0},{"$f":"IF($H614>0,AJ614,0)","v":0},{"$f":"IF(AM614>0,1,0)","v":0},{"$f":"IF($I614=AO$6,$E614,0)","v":0},{"$f":"IF($K614=ROUND(AO$6*$F614,2),$G614,0)","v":0},{"$f":"IF($H614>0,AO614,0)","v":0},{"$f":"IF(AQ614>0,1,0)","v":0},{"$f":"IF($H614>0,AP614,0)","v":0},{"$f":"IF(AS614>0,1,0)","v":0},{"$f":"IF($I614=AU$6,$E614,0)","v":0},{"$f":"IF($K614=ROUND(AU$6*$F614,2),$G614,0)","v":0},{"$f":"IF($H614>0,AU614,0)","v":0},{"$f":"IF(AW614>0,1,0)","v":0},{"$f":"IF($H614>0,AV614,0)","v":0},{"$f":"IF(AY614>0,1,0)","v":0},{"$f":"IF($I614=BA$6,$E614,0)","v":0.29199999999999998},{"$f":"IF($K614=ROUND(BA$6*$F614,2),$G614,0)","v":0},{"$f":"IF($H614>0,BA614,0)","v":0.29199999999999998},{"$f":"IF(BC614>0,1,0)","v":1},{"$f":"IF($H614>0,BB614,0)","v":0},{"$f":"IF(BE614>0,1,0)","v":0},null,2.92E-4,1,null,null,0]
[{"$f":"IF(E615+G615>0,A614,\"\")","v":""},{"$f":"IF(E615+G615>0,B614,\"\")","v":""},7,"03-4-23.1111(333)/03-4-23.805(333)",0,1.1000000000000001,0,0,{"$f":"SUMIF(Y$14:BA$14,C615,Y$6:BA$6)","v":2166.8000000000002},{"$f":"IF(H615=0,ROUND(E615*I615,2),ROUND(H615*E615,2))","v":0},{"$f":"ROUND(F615*I615,2)","v":2383.48},{"$f":"IF(H615=0,ROUND(ROUND(F615*I615,2)*G615,2),ROUND(G615*H615,2))","v":0},{"$f":"L615-ROUND(G615*I615,2)","v":0},null,{"$f":"J615+L615+N615","v":0},null,405.07,{"$f":"ROUND(Q615*E615,2)","v":0},{"$f":"ROUND(F615*Q615,2)","v":445.58},{"$f":"ROUND(S615*G615,2)","v":0},{"$f":"T615-ROUND(Q615*G615,2)","v":0},null,{"$f":"R615+T615+V615","v":0},null,null,null,null,null,null,null,null,null,null,null,{"$f":"IF($I615=AI$6,$E615,0)","v":0},0,{"$f":"IF($H615>0,AI615,0)","v":0},{"$f":"IF(AK615>0,1,0)","v":0},{"$f":"IF($H615>0,AJ615,0)","v":0},{"$f":"IF(AM615>0,1,0)","v":0},{"$f":"IF($I615=AO$6,$E615,0)","v":0},0,{"$f":"IF($H615>0,AO615,0)","v":0},{"$f":"IF(AQ615>0,1,0)","v":0},{"$f":"IF($H615>0,AP615,0)","v":0},{"$f":"IF(AS615>0,1,0)","v":0},{"$f":"IF($I615=AU$6,$E615,0)","v":0},0,{"$f":"IF($H615>0,AU615,0)","v":0},{"$f":"IF(AW615>0,1,0)","v":0},{"$f":"IF($H615>0,AV615,0)","v":0},{"$f":"IF(AY615>0,1,0)","v":0},{"$f":"IF($I615=BA$6,$E615,0)","v":0},0,{"$f":"IF($H615>0,BA615,0)","v":0},{"$f":"IF(BC615>0,1,0)","v":0},{"$f":"IF($H615>0,BB615,0)","v":0},{"$f":"IF(BE615>0,1,0)","v":0},null,0,null,null,null,0]
[{"$f":"IF(E616+G616>0,A614,\"\")","v":""},{"$f":"IF(E616+G616>0,B614,\"\")","v":""},{"$f":"C615","v":7},"03-4-23.1111(333)/03-4-23.805(333)",0,1.5,0,0,{"$f":"SUMIF(Y$14:BA$14,C616,Y$7:BA$7)","v":0},0,0,0,0,null,0,null,405.07,0,607.61,0,0,null,0,null,null,null,null,null,null,null,null,null,null,null,{"$f":"IF($I616=AI$7,$E616,0)","v":0},{"$f":"IF($K616=ROUND(AI$7*$F616,2),$G616,0)","v":0},0,0,0,0,{"$f":"IF($I616=AO$7,$E616,0)","v":0},{"$f":"IF($K616=ROUND(AO$7*$F616,2),$G616,0)","v":0},0,0,0,0,{"$f":"IF($I616=AU$7,$E616,0)","v":0},{"$f":"IF($K616=ROUND(AU$7*$F616,2),$G616,0)","v":0},0,0,0,0,{"$f":"IF($I616=BA$7,$E616,0)","v":0},{"$f":"IF($K616=ROUND(BA$7*$F616,2),$G616,0)","v":0},0,0,0,0,null,0,null,null,null,0]
[{"$f":"IF(E617+G617>0,A614,\"\")","v":""},{"$f":"IF(E617+G617>0,B614,\"\")","v":""},{"$f":"C615","v":7},"03-4-23.1111(333)/03-4-23.805(333)",0,1.1000000000000001,0,0,{"$f":"SUMIF(Y$14:BA$14,C617,Y$7:BA$7)","v":0},0,0,0,0,null,0,null,405.07,0,445.58,0,0,null,0,null,null,null,null,null,null,null,null,null,null,null,{"$f":"IF($I617=AI$7,$E617,0)","v":0},{"$f":"IF($K617=ROUND(AI$7*$F617,2),$G617,0)","v":0},0,0,0,0,{"$f":"IF($I617=AO$7,$E617,0)","v":0},{"$f":"IF($K617=ROUND(AO$7*$F617,2),$G617,0)","v":0},0,0,0,0,{"$f":"IF($I617=AU$7,$E617,0)","v":0},{"$f":"IF($K617=ROUND(AU$7*$F617,2),$G617,0)","v":0},0,0,0,0,{"$f":"IF($I617=BA$7,$E617,0)","v":0},{"$f":"IF($K617=ROUND(BA$7*$F617,2),$G617,0)","v":0},0,0,0,0,null,0,null,null,null,0]
["Гр.               Кудрявцев      Сергей Владимирович","д.Лукинская, ул.Шоссейная-1",{"$f":"C619","v":7},"03-4-23.806(333)",0.44,1.5,0,0.44,{"$f":"SUMIF(Y$14:BA$14,C618,Y$6:BA$6)","v":2166.8000000000002},{"$f":"IF(H618=0,ROUND(E618*I618,2),ROUND(H618*E618,2))","v":0.19},{"$f":"ROUND(F618*I618,2)","v":3250.2},{"$f":"IF(H618=0,ROUND(ROUND(F618*I618,2)*G618,2),ROUND(G618*H618,2))","v":0},{"$f":"L618-ROUND(G618*I618,2)","v":0},null,{"$f":"J618+L618+N618","v":0.19},null,405.07,{"$f":"ROUND(Q618*E618,2)","v":178.23},{"$f":"ROUND(F618*Q618,2)","v":607.61},{"$f":"ROUND(S618*G618,2)","v":0},{"$f":"T618-ROUND(Q618*G618,2)","v":0},null,{"$f":"R618+T618+V618","v":178.23},null,null,null,null,null,null,null,null,null,null,null,{"$f":"IF($I618=AI$6,$E618,0)","v":0},{"$f":"IF($K618=ROUND(AI$6*$F618,2),$G618,0)","v":0},{"$f":"IF($H618>0,AI618,0)","v":0},{"$f":"IF(AK618>0,1,0)","v":0},{"$f":"IF($H618>0,AJ618,0)","v":0},{"$f":"IF(AM618>0,1,0)","v":0},{"$f":"IF($I618=AO$6,$E618,0)","v":0},{"$f":"IF($K618=ROUND(AO$6*$F618,2),$G618,0)","v":0},{"$f":"IF($H618>0,AO618,0)","v":0},{"$f":"IF(AQ618>0,1,0)","v":0},{"$f":"IF($H618>0,AP618,0)","v":0},{"$f":"IF(AS618>0,1,0)","v":0},{"$f":"IF($I618=AU$6,$E618,0)","v":0},{"$f":"IF($K618=ROUND(AU$6*$F618,2),$G618,0)","v":0},{"$f":"IF($H618>0,AU618,0)","v":0},{"$f":"IF(AW618>0,1,0)","v":0},{"$f":"IF($H618>0,AV618,0)","v":0},{"$f":"IF(AY618>0,1,0)","v":0},{"$f":"IF($I618=BA$6,$E618,0)","v":0.44},{"$f":"IF($K618=ROUND(BA$6*$F618,2),$G618,0)","v":0},{"$f":"IF($H618>0,BA618,0)","v":0.44},{"$f":"IF(BC618>0,1,0)","v":1},{"$f":"IF($H618>0,BB618,0)","v":0},{"$f":"IF(BE618>0,1,0)","v":0},null,4.4000000000000002E-4,0.7,null,null,0]
[{"$f":"IF(E619+G619>0,A618,\"\")","v":""},{"$f":"IF(E619+G619>0,B618,\"\")","v":""},7,"03-4-23.806(333)",0,1.1000000000000001,0,0,{"$f":"SUMIF(Y$14:BA$14,C619,Y$6:BA$6)","v":2166.8000000000002},{"$f":"IF(H619=0,ROUND(E619*I619,2),ROUND(H619*E619,2))","v":0},{"$f":"ROUND(F619*I619,2)","v":2383.48},{"$f":"IF(H619=0,ROUND(ROUND(F619*I619,2)*G619,2),ROUND(G619*H619,2))","v":0},{"$f":"L619-ROUND(G619*I619,2)","v":0},null,{"$f":"J619+L619+N619","v":0},null,405.07,{"$f":"ROUND(Q619*E619,2)","v":0},{"$f":"ROUND(F619*Q619,2)","v":445.58},{"$f":"ROUND(S619*G619,2)","v":0},{"$f":"T619-ROUND(Q619*G619,2)","v":0},null,{"$f":"R619+T619+V619","v":0},null,null,null,null,null,null,null,null,null,null,null,{"$f":"IF($I619=AI$6,$E619,0)","v":0},0,{"$f":"IF($H619>0,AI619,0)","v":0},{"$f":"IF(AK619>0,1,0)","v":0},{"$f":"IF($H619>0,AJ619,0)","v":0},{"$f":"IF(AM619>0,1,0)","v":0},{"$f":"IF($I619=AO$6,$E619,0)","v":0},0,{"$f":"IF($H619>0,AO619,0)","v":0},{"$f":"IF(AQ619>0,1,0)","v":0},{"$f":"IF($H619>0,AP619,0)","v":0},{"$f":"IF(AS619>0,1,0)","v":0},{"$f":"IF($I619=AU$6,$E619,0)","v":0},0,{"$f":"IF($H619>0,AU619,0)","v":0},{"$f":"IF(AW619>0,1,0)","v":0},{"$f":"IF($H619>0,AV619,0)","v":0},{"$f":"IF(AY619>0,1,0)","v":0},{"$f":"IF($I619=BA$6,$E619,0)","v":0},0,{"$f":"IF($H619>0,BA619,0)","v":0},{"$f":"IF(BC619>0,1,0)","v":0},{"$f":"IF($H619>0,BB619,0)","v":0},{"$f":"IF(BE619>0,1,0)","v":0},null,0,null,null,null,0]
[{"$f":"IF(E620+G620>0,A618,\"\")","v":""},{"$f":"IF(E620+G620>0,B618,\"\")","v":""},{"$f":"C619","v":7},"03-4-23.806(333)",0,1.5,0,0,{"$f":"SUMIF(Y$14:BA$14,C620,Y$7:BA$7)","v":0},0,0,0,0,null,0,null,405.07,0,607.61,0,0,null,0,null,null,null,null,null,null,null,null,null,null,null,{"$f":"IF($I620=AI$7,$E620,0)","v":0},{"$f":"IF($K620=ROUND(AI$7*$F620,2),$G620,0)","v":0},0,0,0,0,{"$f":"IF($I620=AO$7,$E620,0)","v":0},{"$f":"IF($K620=ROUND(AO$7*$F620,2),$G620,0)","v":0},0,0,0,0,{"$f":"IF($I620=AU$7,$E620,0)","v":0},{"$f":"IF($K620=ROUND(AU$7*$F620,2),$G620,0)","v":0},0,0,0,0,{"$f":"IF($I620=BA$7,$E620,0)","v":0},{"$f":"IF($K620=ROUND(BA$7*$F620,2),$G620,0)","v":0},0,0,0,0,null,0,null,null,null,0]
[{"$f":"IF(E621+G621>0,A618,\"\")","v":""},{"$f":"IF(E621+G621>0,B618,\"\")","v":""},{"$f":"C619","v":7},"03-4-23.806(333)",0,1.1000000000000001,0,0,{"$f":"SUMIF(Y$14:BA$14,C621,Y$7:BA$7)","v":0},0,0,0,0,null,0,null,405.07,0,445.58,0,0,null,0,null,null,null,null,null,null,null,null,null,null,null,{"$f":"IF($I621=AI$7,$E621,0)","v":0},{"$f":"IF($K621=ROUND(AI$7*$F621,2),$G621,0)","v":0},0,0,0,0,{"$f":"IF($I621=AO$7,$E621,0)","v":0},{"$f":"IF($K621=ROUND(AO$7*$F621,2),$G621,0)","v":0},0,0,0,0,{"$f":"IF($I621=AU$7,$E621,0)","v":0},{"$f":"IF($K621=ROUND(AU$7*$F621,2),$G621,0)","v":0},0,0,0,0,{"$f":"IF($I621=BA$7,$E621,0)","v":0},{"$f":"IF($K621=ROUND(BA$7*$F621,2),$G621,0)","v":0},0,0,0,0,null,0,null,null,null,0]
["Гр.               Кудрявцев      Сергей Владимирович","Вельск, ул.Пушкина-39А",{"$f":"C623","v":7},"03-4-23.806(333)",0.27300000000000002,1.5,0,0.27300000000000002,{"$f":"SUMIF(Y$14:BA$14,C622,Y$6:BA$6)","v":2166.8000000000002},{"$f":"IF(H622=0,ROUND(E622*I622,2),ROUND(H622*E622,2))","v":7.0000000000000007E-2},{"$f":"ROUND(F622*I622,2)","v":3250.2},{"$f":"IF(H622=0,ROUND(ROUND(F622*I622,2)*G622,2),ROUND(G622*H622,2))","v":0},{"$f":"L622-ROUND(G622*I622,2)","v":0},null,{"$f":"J622+L622+N622","v":7.0000000000000007E-2},null,405.07,{"$f":"ROUND(Q622*E622,2)","v":110.58},{"$f":"ROUND(F622*Q622,2)","v":607.61},{"$f":"ROUND(S622*G622,2)","v":0},{"$f":"T622-ROUND(Q622*G622,2)","v":0},null,{"$f":"R622+T622+V622","v":110.58},null,null,null,null,null,null,null,null,null,null,null,{"$f":"IF($I622=AI$6,$E622,0)","v":0},{"$f":"IF($K622=ROUND(AI$6*$F622,2),$G622,0)","v":0},{"$f":"IF($H622>0,AI622,0)","v":0},{"$f":"IF(AK622>0,1,0)","v":0},{"$f":"IF($H622>0,AJ622,0)","v":0},{"$f":"IF(AM622>0,1,0)","v":0},{"$f":"IF($I622=AO$6,$E622,0)","v":0},{"$f":"IF($K622=ROUND(AO$6*$F622,2),$G622,0)","v":0},{"$f":"IF($H622>0,AO622,0)","v":0},{"$f":"IF(AQ622>0,1,0)","v":0},{"$f":"IF($H622>0,AP622,0)","v":0},{"$f":"IF(AS622>0,1,0)","v":0},{"$f":"IF($I622=AU$6,$E622,0)","v":0},{"$f":"IF($K622=ROUND(AU$6*$F622,2),$G622,0)","v":0},{"$f":"IF($H622>0,AU622,0)","v":0},{"$f":"IF(AW622>0,1,0)","v":0},{"$f":"IF($H622>0,AV622,0)","v":0},{"$f":"IF(AY622>0,1,0)","v":0},{"$f":"IF($I622=BA$6,$E622,0)","v":0.27300000000000002},{"$f":"IF($K622=ROUND(BA$6*$F622,2),$G622,0)","v":0},{"$f":"IF($H622>0,BA622,0)","v":0.27300000000000002},{"$f":"IF(BC622>0,1,0)","v":1},{"$f":"IF($H622>0,BB622,0)","v":0},{"$f":"IF(BE622>0,1,0)","v":0},null,2.7300000000000002E-4,0.55000000000000004,null,null,0]
[{"$f":"IF(E623+G623>0,A622,\"\")","v":""},{"$f":"IF(E623+G623>0,B622,\"\")","v":""},7,"03-4-23.806(333)",0,1.1000000000000001,0,0,{"$f":"SUMIF(Y$14:BA$14,C623,Y$6:BA$6)","v":2166.8000000000002},{"$f":"IF(H623=0,ROUND(E623*I623,2),ROUND(H623*E623,2))","v":0},{"$f":"ROUND(F623*I623,2)","v":2383.48},{"$f":"IF(H623=0,ROUND(ROUND(F623*I623,2)*G623,2),ROUND(G623*H623,2))","v":0},{"$f":"L623-ROUND(G623*I623,2)","v":0},null,{"$f":"J623+L623+N623","v":0},null,405.07,{"$f":"ROUND(Q623*E623,2)","v":0},{"$f":"ROUND(F623*Q623,2)","v":445.58},{"$f":"ROUND(S623*G623,2)","v":0},{"$f":"T623-ROUND(Q623*G623,2)","v":0},null,{"$f":"R623+T623+V623","v":0},null,null,null,null,null,null,null,null,null,null,null,{"$f":"IF($I623=AI$6,$E623,0)","v":0},0,{"$f":"IF($H623>0,AI623,0)","v":0},{"$f":"IF(AK623>0,1,0)","v":0},{"$f":"IF($H623>0,AJ623,0)","v":0},{"$f":"IF(AM623>0,1,0)","v":0},{"$f":"IF($I623=AO$6,$E623,0)","v":0},0,{"$f":"IF($H623>0,AO623,0)","v":0},{"$f":"IF(AQ623>0,1,0)","v":0},{"$f":"IF($H623>0,AP623,0)","v":0},{"$f":"IF(AS623>0,1,0)","v":0},{"$f":"IF($I623=AU$6,$E623,0)","v":0},0,{"$f":"IF($H623>0,AU623,0)","v":0},{"$f":"IF(AW623>0,1,0)","v":0},{"$f":"IF($H623>0,AV623,0)","v":0},{"$f":"IF(AY623>0,1,0)","v":0},{"$f":"IF($I623=BA$6,$E623,0)","v":0},0,{"$f":"IF($H623>0,BA623,0)","v":0},{"$f":"IF(BC623>0,1,0)","v":0},{"$f":"IF($H623>0,BB623,0)","v":0},{"$f":"IF(BE623>0,1,0)","v":0},null,0,null,null,null,0]
[{"$f":"IF(E624+G624>0,A622,\"\")","v":""},{"$f":"IF(E624+G624>0,B622,\"\")","v":""},{"$f":"C623","v":7},"03-4-23.806(333)",0,1.5,0,0,{"$f":"SUMIF(Y$14:BA$14,C624,Y$7:BA$7)","v":0},0,0,0,0,null,0,null,405.07,0,607.61,0,0,null,0,null,null,null,null,null,null,null,null,null,null,null,{"$f":"IF($I624=AI$7,$E624,0)","v":0},{"$f":"IF($K624=ROUND(AI$7*$F624,2),$G624,0)","v":0},0,0,0,0,{"$f":"IF($I624=AO$7,$E624,0)","v":0},{"$f":"IF($K624=ROUND(AO$7*$F624,2),$G624,0)","v":0},0,0,0,0,{"$f":"IF($I624=AU$7,$E624,0)","v":0},{"$f":"IF($K624=ROUND(AU$7*$F624,2),$G624,0)","v":0},0,0,0,0,{"$f":"IF($I624=BA$7,$E624,0)","v":0},{"$f":"IF($K624=ROUND(BA$7*$F624,2),$G624,0)","v":0},0,0,0,0,null,0,null,null,null,0]
[{"$f":"IF(E625+G625>0,A622,\"\")","v":""},{"$f":"IF(E625+G625>0,B622,\"\")","v":""},{"$f":"C623","v":7},"03-4-23.806(333)",0,1.1000000000000001,0,0,{"$f":"SUMIF(Y$14:BA$14,C625,Y$7:BA$7)","v":0},0,0,0,0,null,0,null,405.07,0,445.58,0,0,null,0,null,null,null,null,null,null,null,null,null,null,null,{"$f":"IF($I625=AI$7,$E625,0)","v":0},{"$f":"IF($K625=ROUND(AI$7*$F625,2),$G625,0)","v":0},0,0,0,0,{"$f":"IF($I625=AO$7,$E625,0)","v":0},{"$f":"IF($K625=ROUND(AO$7*$F625,2),$G625,0)","v":0},0,0,0,0,{"$f":"IF($I625=AU$7,$E625,0)","v":0},{"$f":"IF($K625=ROUND(AU$7*$F625,2),$G625,0)","v":0},0,0,0,0,{"$f":"IF($I625=BA$7,$E625,0)","v":0},{"$f":"IF($K625=ROUND(BA$7*$F625,2),$G625,0)","v":0},0,0,0,0,null,0,null,null,null,0]
["МБУ ДО     \"Вельская спортивная школа\"","",{"$f":"C627","v":6},"03-4-23.814(333)",0.51,1.5,0,0.51,{"$f":"SUMIF(Y$14:BA$14,C626,Y$6:BA$6)","v":1733.45},{"$f":"IF(H626=0,ROUND(E626*I626,2),ROUND(H626*E626,2))","v":0.26},{"$f":"ROUND(F626*I626,2)","v":2600.1799999999998},{"$f":"IF(H626=0,ROUND(ROUND(F626*I626,2)*G626,2),ROUND(G626*H626,2))","v":0},{"$f":"L626-ROUND(G626*I626,2)","v":0},null,{"$f":"J626+L626+N626","v":0.26},null,405.07,{"$f":"ROUND(Q626*E626,2)","v":206.59},{"$f":"ROUND(F626*Q626,2)","v":607.61},{"$f":"ROUND(S626*G626,2)","v":0},{"$f":"T626-ROUND(Q626*G626,2)","v":0},null,{"$f":"R626+T626+V626","v":206.59},null,null,null,null,null,null,null,null,null,null,null,{"$f":"IF($I626=AI$6,$E626,0)","v":0},{"$f":"IF($K626=ROUND(AI$6*$F626,2),$G626,0)","v":0},{"$f":"IF($H626>0,AI626,0)","v":0},{"$f":"IF(AK626>0,1,0)","v":0},{"$f":"IF($H626>0,AJ626,0)","v":0},{"$f":"IF(AM626>0,1,0)","v":0},{"$f":"IF($I626=AO$6,$E626,0)","v":0},{"$f":"IF($K626=ROUND(AO$6*$F626,2),$G626,0)","v":0},{"$f":"IF($H626>0,AO626,0)","v":0},{"$f":"IF(AQ626>0,1,0)","v":0},{"$f":"IF($H626>0,AP626,0)","v":0},{"$f":"IF(AS626>0,1,0)","v":0},{"$f":"IF($I626=AU$6,$E626,0)","v":0.51},{"$f":"IF($K626=ROUND(AU$6*$F626,2),$G626,0)","v":0},{"$f":"IF($H626>0,AU626,0)","v":0.51},{"$f":"IF(AW626>0,1,0)","v":1},{"$f":"IF($H626>0,AV626,0)","v":0},{"$f":"IF(AY626>0,1,0)","v":0},{"$f":"IF($I626=BA$6,$E626,0)","v":0},{"$f":"IF($K626=ROUND(BA$6*$F626,2),$G626,0)","v":0},{"$f":"IF($H626>0,BA626,0)","v":0},{"$f":"IF(BC626>0,1,0)","v":0},{"$f":"IF($H626>0,BB626,0)","v":0},{"$f":"IF(BE626>0,1,0)","v":0},null,5.1000000000000004E-4,1.7,null,null,0]
[{"$f":"IF(E627+G627>0,A626,\"\")","v":""},{"$f":"IF(E627+G627>0,B626,\"\")","v":""},6,"03-4-23.814(333)",0,1.1000000000000001,0,0,{"$f":"SUMIF(Y$14:BA$14,C627,Y$6:BA$6)","v":1733.45},{"$f":"IF(H627=0,ROUND(E627*I627,2),ROUND(H627*E627,2))","v":0},{"$f":"ROUND(F627*I627,2)","v":1906.8},{"$f":"IF(H627=0,ROUND(ROUND(F627*I627,2)*G627,2),ROUND(G627*H627,2))","v":0},{"$f":"L627-ROUND(G627*I627,2)","v":0},null,{"$f":"J627+L627+N627","v":0},null,405.07,{"$f":"ROUND(Q627*E627,2)","v":0},{"$f":"ROUND(F627*Q627,2)","v":445.58},{"$f":"ROUND(S627*G627,2)","v":0},{"$f":"T627-ROUND(Q627*G627,2)","v":0},null,{"$f":"R627+T627+V627","v":0},null,null,null,null,null,null,null,null,null,null,null,{"$f":"IF($I627=AI$6,$E627,0)","v":0},0,{"$f":"IF($H627>0,AI627,0)","v":0},{"$f":"IF(AK627>0,1,0)","v":0},{"$f":"IF($H627>0,AJ627,0)","v":0},{"$f":"IF(AM627>0,1,0)","v":0},{"$f":"IF($I627=AO$6,$E627,0)","v":0},0,{"$f":"IF($H627>0,AO627,0)","v":0},{"$f":"IF(AQ627>0,1,0)","v":0},{"$f":"IF($H627>0,AP627,0)","v":0},{"$f":"IF(AS627>0,1,0)","v":0},{"$f":"IF($I627=AU$6,$E627,0)","v":0},0,{"$f":"IF($H627>0,AU627,0)","v":0},{"$f":"IF(AW627>0,1,0)","v":0},{"$f":"IF($H627>0,AV627,0)","v":0},{"$f":"IF(AY627>0,1,0)","v":0},{"$f":"IF($I627=BA$6,$E627,0)","v":0},0,{"$f":"IF($H627>0,BA627,0)","v":0},{"$f":"IF(BC627>0,1,0)","v":0},{"$f":"IF($H627>0,BB627,0)","v":0},{"$f":"IF(BE627>0,1,0)","v":0},null,0,null,null,null,0]
[{"$f":"IF(E628+G628>0,A626,\"\")","v":""},{"$f":"IF(E628+G628>0,B626,\"\")","v":""},{"$f":"C627","v":6},"03-4-23.814(333)",0,1.5,0,0,{"$f":"SUMIF(Y$14:BA$14,C628,Y$7:BA$7)","v":0},0,0,0,0,null,0,null,405.07,0,607.61,0,0,null,0,null,null,null,null,null,null,null,null,null,null,null,{"$f":"IF($I628=AI$7,$E628,0)","v":0},{"$f":"IF($K628=ROUND(AI$7*$F628,2),$G628,0)","v":0},0,0,0,0,{"$f":"IF($I628=AO$7,$E628,0)","v":0},{"$f":"IF($K628=ROUND(AO$7*$F628,2),$G628,0)","v":0},0,0,0,0,{"$f":"IF($I628=AU$7,$E628,0)","v":0},{"$f":"IF($K628=ROUND(AU$7*$F628,2),$G628,0)","v":0},0,0,0,0,{"$f":"IF($I628=BA$7,$E628,0)","v":0},{"$f":"IF($K628=ROUND(BA$7*$F628,2),$G628,0)","v":0},0,0,0,0,null,0,null,null,null,0]
[{"$f":"IF(E629+G629>0,A626,\"\")","v":""},{"$f":"IF(E629+G629>0,B626,\"\")","v":""},{"$f":"C627","v":6},"03-4-23.814(333)",0,1.1000000000000001,0,0,{"$f":"SUMIF(Y$14:BA$14,C629,Y$7:BA$7)","v":0},0,0,0,0,null,0,null,405.07,0,445.58,0,0,null,0,null,null,null,null,null,null,null,null,null,null,null,{"$f":"IF($I629=AI$7,$E629,0)","v":0},{"$f":"IF($K629=ROUND(AI$7*$F629,2),$G629,0)","v":0},0,0,0,0,{"$f":"IF($I629=AO$7,$E629,0)","v":0},{"$f":"IF($K629=ROUND(AO$7*$F629,2),$G629,0)","v":0},0,0,0,0,{"$f":"IF($I629=AU$7,$E629,0)","v":0},{"$f":"IF($K629=ROUND(AU$7*$F629,2),$G629,0)","v":0},0,0,0,0,{"$f":"IF($I629=BA$7,$E629,0)","v":0},{"$f":"IF($K629=ROUND(BA$7*$F629,2),$G629,0)","v":0},0,0,0,0,null,0,null,null,null,0]
["ООО          \"Династия\"","",{"$f":"C631","v":7},"03-4-23.819(333)",0.28000000000000003,1.5,0,0.28000000000000003,{"$f":"SUMIF(Y$14:BA$14,C630,Y$6:BA$6)","v":2166.8000000000002},{"$f":"IF(H630=0,ROUND(E630*I630,2),ROUND(H630*E630,2))","v":0.08},{"$f":"ROUND(F630*I630,2)","v":3250.2},{"$f":"IF(H630=0,ROUND(ROUND(F630*I630,2)*G630,2),ROUND(G630*H630,2))","v":0},{"$f":"L630-ROUND(G630*I630,2)","v":0},null,{"$f":"J630+L630+N630","v":0.08},null,405.07,{"$f":"ROUND(Q630*E630,2)","v":113.42},{"$f":"ROUND(F630*Q630,2)","v":607.61},{"$f":"ROUND(S630*G630,2)","v":0},{"$f":"T630-ROUND(Q630*G630,2)","v":0},null,{"$f":"R630+T630+V630","v":113.42},null,null,null,null,null,null,null,null,null,null,null,{"$f":"IF($I630=AI$6,$E630,0)","v":0},{"$f":"IF($K630=ROUND(AI$6*$F630,2),$G630,0)","v":0},{"$f":"IF($H630>0,AI630,0)","v":0},{"$f":"IF(AK630>0,1,0)","v":0},{"$f":"IF($H630>0,AJ630,0)","v":0},{"$f":"IF(AM630>0,1,0)","v":0},{"$f":"IF($I630=AO$6,$E630,0)","v":0},{"$f":"IF($K630=ROUND(AO$6*$F630,2),$G630,0)","v":0},{"$f":"IF($H630>0,AO630,0)","v":0},{"$f":"IF(AQ630>0,1,0)","v":0},{"$f":"IF($H630>0,AP630,0)","v":0},{"$f":"IF(AS630>0,1,0)","v":0},{"$f":"IF($I630=AU$6,$E630,0)","v":0},{"$f":"IF($K630=ROUND(AU$6*$F630,2),$G630,0)","v":0},{"$f":"IF($H630>0,AU630,0)","v":0},{"$f":"IF(AW630>0,1,0)","v":0},{"$f":"IF($H630>0,AV630,0)","v":0},{"$f":"IF(AY630>0,1,0)","v":0},{"$f":"IF($I630=BA$6,$E630,0)","v":0.28000000000000003},{"$f":"IF($K630=ROUND(BA$6*$F630,2),$G630,0)","v":0},{"$f":"IF($H630>0,BA630,0)","v":0.28000000000000003},{"$f":"IF(BC630>0,1,0)","v":1},{"$f":"IF($H630>0,BB630,0)","v":0},{"$f":"IF(BE630>0,1,0)","v":0},null,2.8000000000000003E-4,0.4,null,null,0]
[{"$f":"IF(E631+G631>0,A630,\"\")","v":""},{"$f":"IF(E631+G631>0,B630,\"\")","v":""},7,"03-4-23.819(333)",0,1.1000000000000001,0,0,{"$f":"SUMIF(Y$14:BA$14,C631,Y$6:BA$6)","v":2166.8000000000002},{"$f":"IF(H631=0,ROUND(E631*I631,2),ROUND(H631*E631,2))","v":0},{"$f":"ROUND(F631*I631,2)","v":2383.48},{"$f":"IF(H631=0,ROUND(ROUND(F631*I631,2)*G631,2),ROUND(G631*H631,2))","v":0},{"$f":"L631-ROUND(G631*I631,2)","v":0},null,{"$f":"J631+L631+N631","v":0},null,405.07,{"$f":"ROUND(Q631*E631,2)","v":0},{"$f":"ROUND(F631*Q631,2)","v":445.58},{"$f":"ROUND(S631*G631,2)","v":0},{"$f":"T631-ROUND(Q631*G631,2)","v":0},null,{"$f":"R631+T631+V631","v":0},null,null,null,null,null,null,null,null,null,null,null,{"$f":"IF($I631=AI$6,$E631,0)","v":0},0,{"$f":"IF($H631>0,AI631,0)","v":0},{"$f":"IF(AK631>0,1,0)","v":0},{"$f":"IF($H631>0,AJ631,0)","v":0},{"$f":"IF(AM631>0,1,0)","v":0},{"$f":"IF($I631=AO$6,$E631,0)","v":0},0,{"$f":"IF($H631>0,AO631,0)","v":0},{"$f":"IF(AQ631>0,1,0)","v":0},{"$f":"IF($H631>0,AP631,0)","v":0},{"$f":"IF(AS631>0,1,0)","v":0},{"$f":"IF($I631=AU$6,$E631,0)","v":0},0,{"$f":"IF($H631>0,AU631,0)","v":0},{"$f":"IF(AW631>0,1,0)","v":0},{"$f":"IF($H631>0,AV631,0)","v":0},{"$f":"IF(AY631>0,1,0)","v":0},{"$f":"IF($I631=BA$6,$E631,0)","v":0},0,{"$f":"IF($H631>0,BA631,0)","v":0},{"$f":"IF(BC631>0,1,0)","v":0},{"$f":"IF($H631>0,BB631,0)","v":0},{"$f":"IF(BE631>0,1,0)","v":0},null,0,null,null,null,0]
[{"$f":"IF(E632+G632>0,A630,\"\")","v":""},{"$f":"IF(E632+G632>0,B630,\"\")","v":""},{"$f":"C631","v":7},"03-4-23.819(333)",0,1.5,0,0,{"$f":"SUMIF(Y$14:BA$14,C632,Y$7:BA$7)","v":0},0,0,0,0,null,0,null,405.07,0,607.61,0,0,null,0,null,null,null,null,null,null,null,null,null,null,null,{"$f":"IF($I632=AI$7,$E632,0)","v":0},{"$f":"IF($K632=ROUND(AI$7*$F632,2),$G632,0)","v":0},0,0,0,0,{"$f":"IF($I632=AO$7,$E632,0)","v":0},{"$f":"IF($K632=ROUND(AO$7*$F632,2),$G632,0)","v":0},0,0,0,0,{"$f":"IF($I632=AU$7,$E632,0)","v":0},{"$f":"IF($K632=ROUND(AU$7*$F632,2),$G632,0)","v":0},0,0,0,0,{"$f":"IF($I632=BA$7,$E632,0)","v":0},{"$f":"IF($K632=ROUND(BA$7*$F632,2),$G632,0)","v":0},0,0,0,0,null,0,null,null,null,0]
[{"$f":"IF(E633+G633>0,A630,\"\")","v":""},{"$f":"IF(E633+G633>0,B630,\"\")","v":""},{"$f":"C631","v":7},"03-4-23.819(333)",0,1.1000000000000001,0,0,{"$f":"SUMIF(Y$14:BA$14,C633,Y$7:BA$7)","v":0},0,0,0,0,null,0,null,405.07,0,445.58,0,0,null,0,null,null,null,null,null,null,null,null,null,null,null,{"$f":"IF($I633=AI$7,$E633,0)","v":0},{"$f":"IF($K633=ROUND(AI$7*$F633,2),$G633,0)","v":0},0,0,0,0,{"$f":"IF($I633=AO$7,$E633,0)","v":0},{"$f":"IF($K633=ROUND(AO$7*$F633,2),$G633,0)","v":0},0,0,0,0,{"$f":"IF($I633=AU$7,$E633,0)","v":0},{"$f":"IF($K633=ROUND(AU$7*$F633,2),$G633,0)","v":0},0,0,0,0,{"$f":"IF($I633=BA$7,$E633,0)","v":0},{"$f":"IF($K633=ROUND(BA$7*$F633,2),$G633,0)","v":0},0,0,0,0,null,0,null,null,null,0]
["ИП               Марденгский  Михаил Владимирович","Вельск, ул.Тракторная-14 ",{"$f":"C635","v":7},"03-4-23.833(333)",0,1.5,0,0,{"$f":"SUMIF(Y$14:BA$14,C634,Y$6:BA$6)","v":2166.8000000000002},{"$f":"IF(H634=0,ROUND(E634*I634,2),ROUND(H634*E634,2))","v":0},{"$f":"ROUND(F634*I634,2)","v":3250.2},{"$f":"IF(H634=0,ROUND(ROUND(F634*I634,2)*G634,2),ROUND(G634*H634,2))","v":0},{"$f":"L634-ROUND(G634*I634,2)","v":0},null,{"$f":"J634+L634+N634","v":0},null,405.07,{"$f":"ROUND(Q634*E634,2)","v":0},{"$f":"ROUND(F634*Q634,2)","v":607.61},{"$f":"ROUND(S634*G634,2)","v":0},{"$f":"T634-ROUND(Q634*G634,2)","v":0},null,{"$f":"R634+T634+V634","v":0},null,null,null,null,null,null,null,null,null,null,null,{"$f":"IF($I634=AI$6,$E634,0)","v":0},{"$f":"IF($K634=ROUND(AI$6*$F634,2),$G634,0)","v":0},{"$f":"IF($H634>0,AI634,0)","v":0},{"$f":"IF(AK634>0,1,0)","v":0},{"$f":"IF($H634>0,AJ634,0)","v":0},{"$f":"IF(AM634>0,1,0)","v":0},{"$f":"IF($I634=AO$6,$E634,0)","v":0},{"$f":"IF($K634=ROUND(AO$6*$F634,2),$G634,0)","v":0},{"$f":"IF($H634>0,AO634,0)","v":0},{"$f":"IF(AQ634>0,1,0)","v":0},{"$f":"IF($H634>0,AP634,0)","v":0},{"$f":"IF(AS634>0,1,0)","v":0},{"$f":"IF($I634=AU$6,$E634,0)","v":0},{"$f":"IF($K634=ROUND(AU$6*$F634,2),$G634,0)","v":0},{"$f":"IF($H634>0,AU634,0)","v":0},{"$f":"IF(AW634>0,1,0)","v":0},{"$f":"IF($H634>0,AV634,0)","v":0},{"$f":"IF(AY634>0,1,0)","v":0},{"$f":"IF($I634=BA$6,$E634,0)","v":0},{"$f":"IF($K634=ROUND(BA$6*$F634,2),$G634,0)","v":0},{"$f":"IF($H634>0,BA634,0)","v":0},{"$f":"IF(BC634>0,1,0)","v":0},{"$f":"IF($H634>0,BB634,0)","v":0},{"$f":"IF(BE634>0,1,0)","v":0},null,0,1,null,null,0]
[{"$f":"IF(E635+G635>0,A634,\"\")","v":""},{"$f":"IF(E635+G635>0,B634,\"\")","v":""},7,"03-4-23.833(333)",0,1.1000000000000001,0,0,{"$f":"SUMIF(Y$14:BA$14,C635,Y$6:BA$6)","v":2166.8000000000002},{"$f":"IF(H635=0,ROUND(E635*I635,2),ROUND(H635*E635,2))","v":0},{"$f":"ROUND(F635*I635,2)","v":2383.48},{"$f":"IF(H635=0,ROUND(ROUND(F635*I635,2)*G635,2),ROUND(G635*H635,2))","v":0},{"$f":"L635-ROUND(G635*I635,2)","v":0},null,{"$f":"J635+L635+N635","v":0},null,405.07,{"$f":"ROUND(Q635*E635,2)","v":0},{"$f":"ROUND(F635*Q635,2)","v":445.58},{"$f":"ROUND(S635*G635,2)","v":0},{"$f":"T635-ROUND(Q635*G635,2)","v":0},null,{"$f":"R635+T635+V635","v":0},null,null,null,null,null,null,null,null,null,null,null,{"$f":"IF($I635=AI$6,$E635,0)","v":0},0,{"$f":"IF($H635>0,AI635,0)","v":0},{"$f":"IF(AK635>0,1,0)","v":0},{"$f":"IF($H635>0,AJ635,0)","v":0},{"$f":"IF(AM635>0,1,0)","v":0},{"$f":"IF($I635=AO$6,$E635,0)","v":0},0,{"$f":"IF($H635>0,AO635,0)","v":0},{"$f":"IF(AQ635>0,1,0)","v":0},{"$f":"IF($H635>0,AP635,0)","v":0},{"$f":"IF(AS635>0,1,0)","v":0},{"$f":"IF($I635=AU$6,$E635,0)","v":0},0,{"$f":"IF($H635>0,AU635,0)","v":0},{"$f":"IF(AW635>0,1,0)","v":0},{"$f":"IF($H635>0,AV635,0)","v":0},{"$f":"IF(AY635>0,1,0)","v":0},{"$f":"IF($I635=BA$6,$E635,0)","v":0},0,{"$f":"IF($H635>0,BA635,0)","v":0},{"$f":"IF(BC635>0,1,0)","v":0},{"$f":"IF($H635>0,BB635,0)","v":0},{"$f":"IF(BE635>0,1,0)","v":0},null,0,null,null,null,0]
[{"$f":"IF(E636+G636>0,A634,\"\")","v":""},{"$f":"IF(E636+G636>0,B634,\"\")","v":""},{"$f":"C635","v":7},"03-4-23.833(333)",0,1.5,0,0,{"$f":"SUMIF(Y$14:BA$14,C636,Y$7:BA$7)","v":0},0,0,0,0,null,0,null,405.07,0,607.61,0,0,null,0,null,null,null,null,null,null,null,null,null,null,null,{"$f":"IF($I636=AI$7,$E636,0)","v":0},{"$f":"IF($K636=ROUND(AI$7*$F636,2),$G636,0)","v":0},0,0,0,0,{"$f":"IF($I636=AO$7,$E636,0)","v":0},{"$f":"IF($K636=ROUND(AO$7*$F636,2),$G636,0)","v":0},0,0,0,0,{"$f":"IF($I636=AU$7,$E636,0)","v":0},{"$f":"IF($K636=ROUND(AU$7*$F636,2),$G636,0)","v":0},0,0,0,0,{"$f":"IF($I636=BA$7,$E636,0)","v":0},{"$f":"IF($K636=ROUND(BA$7*$F636,2),$G636,0)","v":0},0,0,0,0,null,0,null,null,null,0]
[{"$f":"IF(E637+G637>0,A634,\"\")","v":""},{"$f":"IF(E637+G637>0,B634,\"\")","v":""},{"$f":"C635","v":7},"03-4-23.833(333)",0,1.1000000000000001,0,0,{"$f":"SUMIF(Y$14:BA$14,C637,Y$7:BA$7)","v":0},0,0,0,0,null,0,null,405.07,0,445.58,0,0,null,0,null,null,null,null,null,null,null,null,null,null,null,{"$f":"IF($I637=AI$7,$E637,0)","v":0},{"$f":"IF($K637=ROUND(AI$7*$F637,2),$G637,0)","v":0},0,0,0,0,{"$f":"IF($I637=AO$7,$E637,0)","v":0},{"$f":"IF($K637=ROUND(AO$7*$F637,2),$G637,0)","v":0},0,0,0,0,{"$f":"IF($I637=AU$7,$E637,0)","v":0},{"$f":"IF($K637=ROUND(AU$7*$F637,2),$G637,0)","v":0},0,0,0,0,{"$f":"IF($I637=BA$7,$E637,0)","v":0},{"$f":"IF($K637=ROUND(BA$7*$F637,2),$G637,0)","v":0},0,0,0,0,null,0,null,null,null,0]
["ИП               Марденгский  Михаил Владимирович","Вельск, ул.Тракторная-14/5",{"$f":"C639","v":6},"03-4-23.833(333)",0,1.5,0,0,{"$f":"SUMIF(Y$14:BA$14,C638,Y$6:BA$6)","v":1733.45},{"$f":"IF(H638=0,ROUND(E638*I638,2),ROUND(H638*E638,2))","v":0},{"$f":"ROUND(F638*I638,2)","v":2600.1799999999998},{"$f":"IF(H638=0,ROUND(ROUND(F638*I638,2)*G638,2),ROUND(G638*H638,2))","v":0},{"$f":"L638-ROUND(G638*I638,2)","v":0},null,{"$f":"J638+L638+N638","v":0},null,405.07,{"$f":"ROUND(Q638*E638,2)","v":0},{"$f":"ROUND(F638*Q638,2)","v":607.61},{"$f":"ROUND(S638*G638,2)","v":0},{"$f":"T638-ROUND(Q638*G638,2)","v":0},null,{"$f":"R638+T638+V638","v":0},null,null,null,null,null,null,null,null,null,null,null,{"$f":"IF($I638=AI$6,$E638,0)","v":0},{"$f":"IF($K638=ROUND(AI$6*$F638,2),$G638,0)","v":0},{"$f":"IF($H638>0,AI638,0)","v":0},{"$f":"IF(AK638>0,1,0)","v":0},{"$f":"IF($H638>0,AJ638,0)","v":0},{"$f":"IF(AM638>0,1,0)","v":0},{"$f":"IF($I638=AO$6,$E638,0)","v":0},{"$f":"IF($K638=ROUND(AO$6*$F638,2),$G638,0)","v":0},{"$f":"IF($H638>0,AO638,0)","v":0},{"$f":"IF(AQ638>0,1,0)","v":0},{"$f":"IF($H638>0,AP638,0)","v":0},{"$f":"IF(AS638>0,1,0)","v":0},{"$f":"IF($I638=AU$6,$E638,0)","v":0},{"$f":"IF($K638=ROUND(AU$6*$F638,2),$G638,0)","v":0},{"$f":"IF($H638>0,AU638,0)","v":0},{"$f":"IF(AW638>0,1,0)","v":0},{"$f":"IF($H638>0,AV638,0)","v":0},{"$f":"IF(AY638>0,1,0)","v":0},{"$f":"IF($I638=BA$6,$E638,0)","v":0},{"$f":"IF($K638=ROUND(BA$6*$F638,2),$G638,0)","v":0},{"$f":"IF($H638>0,BA638,0)","v":0},{"$f":"IF(BC638>0,1,0)","v":0},{"$f":"IF($H638>0,BB638,0)","v":0},{"$f":"IF(BE638>0,1,0)","v":0},null,0,1,null,null,0]
[{"$f":"IF(E639+G639>0,A638,\"\")","v":""},{"$f":"IF(E639+G639>0,B638,\"\")","v":""},6,"03-4-23.833(333)",0,1.1000000000000001,0,0,{"$f":"SUMIF(Y$14:BA$14,C639,Y$6:BA$6)","v":1733.45},{"$f":"IF(H639=0,ROUND(E639*I639,2),ROUND(H639*E639,2))","v":0},{"$f":"ROUND(F639*I639,2)","v":1906.8},{"$f":"IF(H639=0,ROUND(ROUND(F639*I639,2)*G639,2),ROUND(G639*H639,2))","v":0},{"$f":"L639-ROUND(G639*I639,2)","v":0},null,{"$f":"J639+L639+N639","v":0},null,405.07,{"$f":"ROUND(Q639*E639,2)","v":0},{"$f":"ROUND(F639*Q639,2)","v":445.58},{"$f":"ROUND(S639*G639,2)","v":0},{"$f":"T639-ROUND(Q639*G639,2)","v":0},null,{"$f":"R639+T639+V639","v":0},null,null,null,null,null,null,null,null,null,null,null,{"$f":"IF($I639=AI$6,$E639,0)","v":0},0,{"$f":"IF($H639>0,AI639,0)","v":0},{"$f":"IF(AK639>0,1,0)","v":0},{"$f":"IF($H639>0,AJ639,0)","v":0},{"$f":"IF(AM639>0,1,0)","v":0},{"$f":"IF($I639=AO$6,$E639,0)","v":0},0,{"$f":"IF($H639>0,AO639,0)","v":0},{"$f":"IF(AQ639>0,1,0)","v":0},{"$f":"IF($H639>0,AP639,0)","v":0},{"$f":"IF(AS639>0,1,0)","v":0},{"$f":"IF($I639=AU$6,$E639,0)","v":0},0,{"$f":"IF($H639>0,AU639,0)","v":0},{"$f":"IF(AW639>0,1,0)","v":0},{"$f":"IF($H639>0,AV639,0)","v":0},{"$f":"IF(AY639>0,1,0)","v":0},{"$f":"IF($I639=BA$6,$E639,0)","v":0},0,{"$f":"IF($H639>0,BA639,0)","v":0},{"$f":"IF(BC639>0,1,0)","v":0},{"$f":"IF($H639>0,BB639,0)","v":0},{"$f":"IF(BE639>0,1,0)","v":0},null,0,null,null,null,0]
[{"$f":"IF(E640+G640>0,A638,\"\")","v":""},{"$f":"IF(E640+G640>0,B638,\"\")","v":""},{"$f":"C639","v":6},"03-4-23.833(333)",0,1.5,0,0,{"$f":"SUMIF(Y$14:BA$14,C640,Y$7:BA$7)","v":0},0,0,0,0,null,0,null,405.07,0,607.61,0,0,null,0,null,null,null,null,null,null,null,null,null,null,null,{"$f":"IF($I640=AI$7,$E640,0)","v":0},{"$f":"IF($K640=ROUND(AI$7*$F640,2),$G640,0)","v":0},0,0,0,0,{"$f":"IF($I640=AO$7,$E640,0)","v":0},{"$f":"IF($K640=ROUND(AO$7*$F640,2),$G640,0)","v":0},0,0,0,0,{"$f":"IF($I640=AU$7,$E640,0)","v":0},{"$f":"IF($K640=ROUND(AU$7*$F640,2),$G640,0)","v":0},0,0,0,0,{"$f":"IF($I640=BA$7,$E640,0)","v":0},{"$f":"IF($K640=ROUND(BA$7*$F640,2),$G640,0)","v":0},0,0,0,0,null,0,null,null,null,0]
[{"$f":"IF(E641+G641>0,A638,\"\")","v":""},{"$f":"IF(E641+G641>0,B638,\"\")","v":""},{"$f":"C639","v":6},"03-4-23.833(333)",0,1.1000000000000001,0,0,{"$f":"SUMIF(Y$14:BA$14,C641,Y$7:BA$7)","v":0},0,0,0,0,null,0,null,405.07,0,445.58,0,0,null,0,null,null,null,null,null,null,null,null,null,null,null,{"$f":"IF($I641=AI$7,$E641,0)","v":0},{"$f":"IF($K641=ROUND(AI$7*$F641,2),$G641,0)","v":0},0,0,0,0,{"$f":"IF($I641=AO$7,$E641,0)","v":0},{"$f":"IF($K641=ROUND(AO$7*$F641,2),$G641,0)","v":0},0,0,0,0,{"$f":"IF($I641=AU$7,$E641,0)","v":0},{"$f":"IF($K641=ROUND(AU$7*$F641,2),$G641,0)","v":0},0,0,0,0,{"$f":"IF($I641=BA$7,$E641,0)","v":0},{"$f":"IF($K641=ROUND(BA$7*$F641,2),$G641,0)","v":0},0,0,0,0,null,0,null,null,null,0]
["РУ ФСБ России по Архангельской области","",{"$f":"C643","v":6},"03-4-23.834Б(333)/48",0.84,1.5,0,0.84,{"$f":"SUMIF(Y$14:BA$14,C642,Y$6:BA$6)","v":1733.45},{"$f":"IF(H642=0,ROUND(E642*I642,2),ROUND(H642*E642,2))","v":0.71},{"$f":"ROUND(F642*I642,2)","v":2600.1799999999998},{"$f":"IF(H642=0,ROUND(ROUND(F642*I642,2)*G642,2),ROUND(G642*H642,2))","v":0},{"$f":"L642-ROUND(G642*I642,2)","v":0},null,{"$f":"J642+L642+N642","v":0.71},null,405.07,{"$f":"ROUND(Q642*E642,2)","v":340.26},{"$f":"ROUND(F642*Q642,2)","v":607.61},{"$f":"ROUND(S642*G642,2)","v":0},{"$f":"T642-ROUND(Q642*G642,2)","v":0},null,{"$f":"R642+T642+V642","v":340.26},null,null,null,null,null,null,null,null,null,null,null,{"$f":"IF($I642=AI$6,$E642,0)","v":0},{"$f":"IF($K642=ROUND(AI$6*$F642,2),$G642,0)","v":0},{"$f":"IF($H642>0,AI642,0)","v":0},{"$f":"IF(AK642>0,1,0)","v":0},{"$f":"IF($H642>0,AJ642,0)","v":0},{"$f":"IF(AM642>0,1,0)","v":0},{"$f":"IF($I642=AO$6,$E642,0)","v":0},{"$f":"IF($K642=ROUND(AO$6*$F642,2),$G642,0)","v":0},{"$f":"IF($H642>0,AO642,0)","v":0},{"$f":"IF(AQ642>0,1,0)","v":0},{"$f":"IF($H642>0,AP642,0)","v":0},{"$f":"IF(AS642>0,1,0)","v":0},{"$f":"IF($I642=AU$6,$E642,0)","v":0.84},{"$f":"IF($K642=ROUND(AU$6*$F642,2),$G642,0)","v":0},{"$f":"IF($H642>0,AU642,0)","v":0.84},{"$f":"IF(AW642>0,1,0)","v":1},{"$f":"IF($H642>0,AV642,0)","v":0},{"$f":"IF(AY642>0,1,0)","v":0},{"$f":"IF($I642=BA$6,$E642,0)","v":0},{"$f":"IF($K642=ROUND(BA$6*$F642,2),$G642,0)","v":0},{"$f":"IF($H642>0,BA642,0)","v":0},{"$f":"IF(BC642>0,1,0)","v":0},{"$f":"IF($H642>0,BB642,0)","v":0},{"$f":"IF(BE642>0,1,0)","v":0},null,8.3999999999999993E-4,1,null,null,0]
[{"$f":"IF(E643+G643>0,A642,\"\")","v":""},{"$f":"IF(E643+G643>0,B642,\"\")","v":""},6,"03-4-23.834Б(333)/48",0,1.1000000000000001,0,0,{"$f":"SUMIF(Y$14:BA$14,C643,Y$6:BA$6)","v":1733.45},{"$f":"IF(H643=0,ROUND(E643*I643,2),ROUND(H643*E643,2))","v":0},{"$f":"ROUND(F643*I643,2)","v":1906.8},{"$f":"IF(H643=0,ROUND(ROUND(F643*I643,2)*G643,2),ROUND(G643*H643,2))","v":0},{"$f":"L643-ROUND(G643*I643,2)","v":0},null,{"$f":"J643+L643+N643","v":0},null,405.07,{"$f":"ROUND(Q643*E643,2)","v":0},{"$f":"ROUND(F643*Q643,2)","v":445.58},{"$f":"ROUND(S643*G643,2)","v":0},{"$f":"T643-ROUND(Q643*G643,2)","v":0},null,{"$f":"R643+T643+V643","v":0},null,null,null,null,null,null,null,null,null,null,null,{"$f":"IF($I643=AI$6,$E643,0)","v":0},0,{"$f":"IF($H643>0,AI643,0)","v":0},{"$f":"IF(AK643>0,1,0)","v":0},{"$f":"IF($H643>0,AJ643,0)","v":0},{"$f":"IF(AM643>0,1,0)","v":0},{"$f":"IF($I643=AO$6,$E643,0)","v":0},0,{"$f":"IF($H643>0,AO643,0)","v":0},{"$f":"IF(AQ643>0,1,0)","v":0},{"$f":"IF($H643>0,AP643,0)","v":0},{"$f":"IF(AS643>0,1,0)","v":0},{"$f":"IF($I643=AU$6,$E643,0)","v":0},0,{"$f":"IF($H643>0,AU643,0)","v":0},{"$f":"IF(AW643>0,1,0)","v":0},{"$f":"IF($H643>0,AV643,0)","v":0},{"$f":"IF(AY643>0,1,0)","v":0},{"$f":"IF($I643=BA$6,$E643,0)","v":0},0,{"$f":"IF($H643>0,BA643,0)","v":0},{"$f":"IF(BC643>0,1,0)","v":0},{"$f":"IF($H643>0,BB643,0)","v":0},{"$f":"IF(BE643>0,1,0)","v":0},null,0,null,null,null,0]
[{"$f":"IF(E644+G644>0,A642,\"\")","v":""},{"$f":"IF(E644+G644>0,B642,\"\")","v":""},{"$f":"C643","v":6},"03-4-23.834Б(333)/48",0,1.5,0,0,{"$f":"SUMIF(Y$14:BA$14,C644,Y$7:BA$7)","v":0},0,0,0,0,null,0,null,405.07,0,607.61,0,0,null,0,null,null,null,null,null,null,null,null,null,null,null,{"$f":"IF($I644=AI$7,$E644,0)","v":0},{"$f":"IF($K644=ROUND(AI$7*$F644,2),$G644,0)","v":0},0,0,0,0,{"$f":"IF($I644=AO$7,$E644,0)","v":0},{"$f":"IF($K644=ROUND(AO$7*$F644,2),$G644,0)","v":0},0,0,0,0,{"$f":"IF($I644=AU$7,$E644,0)","v":0},{"$f":"IF($K644=ROUND(AU$7*$F644,2),$G644,0)","v":0},0,0,0,0,{"$f":"IF($I644=BA$7,$E644,0)","v":0},{"$f":"IF($K644=ROUND(BA$7*$F644,2),$G644,0)","v":0},0,0,0,0,null,0,null,null,null,0]
[{"$f":"IF(E645+G645>0,A642,\"\")","v":""},{"$f":"IF(E645+G645>0,B642,\"\")","v":""},{"$f":"C643","v":6},"03-4-23.834Б(333)/48",0,1.1000000000000001,0,0,{"$f":"SUMIF(Y$14:BA$14,C645,Y$7:BA$7)","v":0},0,0,0,0,null,0,null,405.07,0,445.58,0,0,null,0,null,null,null,null,null,null,null,null,null,null,null,{"$f":"IF($I645=AI$7,$E645,0)","v":0},{"$f":"IF($K645=ROUND(AI$7*$F645,2),$G645,0)","v":0},0,0,0,0,{"$f":"IF($I645=AO$7,$E645,0)","v":0},{"$f":"IF($K645=ROUND(AO$7*$F645,2),$G645,0)","v":0},0,0,0,0,{"$f":"IF($I645=AU$7,$E645,0)","v":0},{"$f":"IF($K645=ROUND(AU$7*$F645,2),$G645,0)","v":0},0,0,0,0,{"$f":"IF($I645=BA$7,$E645,0)","v":0},{"$f":"IF($K645=ROUND(BA$7*$F645,2),$G645,0)","v":0},0,0,0,0,null,0,null,null,null,0]
["Гр.               Петухов            Алексей Александрович","",{"$f":"C647","v":7},"03-4-23.837(333)",0.877,1.5,0,0.877,{"$f":"SUMIF(Y$14:BA$14,C646,Y$6:BA$6)","v":2166.8000000000002},{"$f":"IF(H646=0,ROUND(E646*I646,2),ROUND(H646*E646,2))","v":0.77},{"$f":"ROUND(F646*I646,2)","v":3250.2},{"$f":"IF(H646=0,ROUND(ROUND(F646*I646,2)*G646,2),ROUND(G646*H646,2))","v":0},{"$f":"L646-ROUND(G646*I646,2)","v":0},null,{"$f":"J646+L646+N646","v":0.77},null,405.07,{"$f":"ROUND(Q646*E646,2)","v":355.25},{"$f":"ROUND(F646*Q646,2)","v":607.61},{"$f":"ROUND(S646*G646,2)","v":0},{"$f":"T646-ROUND(Q646*G646,2)","v":0},null,{"$f":"R646+T646+V646","v":355.25},null,null,null,null,null,null,null,null,null,null,null,{"$f":"IF($I646=AI$6,$E646,0)","v":0},{"$f":"IF($K646=ROUND(AI$6*$F646,2),$G646,0)","v":0},{"$f":"IF($H646>0,AI646,0)","v":0},{"$f":"IF(AK646>0,1,0)","v":0},{"$f":"IF($H646>0,AJ646,0)","v":0},{"$f":"IF(AM646>0,1,0)","v":0},{"$f":"IF($I646=AO$6,$E646,0)","v":0},{"$f":"IF($K646=ROUND(AO$6*$F646,2),$G646,0)","v":0},{"$f":"IF($H646>0,AO646,0)","v":0},{"$f":"IF(AQ646>0,1,0)","v":0},{"$f":"IF($H646>0,AP646,0)","v":0},{"$f":"IF(AS646>0,1,0)","v":0},{"$f":"IF($I646=AU$6,$E646,0)","v":0},{"$f":"IF($K646=ROUND(AU$6*$F646,2),$G646,0)","v":0},{"$f":"IF($H646>0,AU646,0)","v":0},{"$f":"IF(AW646>0,1,0)","v":0},{"$f":"IF($H646>0,AV646,0)","v":0},{"$f":"IF(AY646>0,1,0)","v":0},{"$f":"IF($I646=BA$6,$E646,0)","v":0.877},{"$f":"IF($K646=ROUND(BA$6*$F646,2),$G646,0)","v":0},{"$f":"IF($H646>0,BA646,0)","v":0.877},{"$f":"IF(BC646>0,1,0)","v":1},{"$f":"IF($H646>0,BB646,0)","v":0},{"$f":"IF(BE646>0,1,0)","v":0},null,8.7699999999999996E-4,0.8,null,null,0]
[{"$f":"IF(E647+G647>0,A646,\"\")","v":""},{"$f":"IF(E647+G647>0,B646,\"\")","v":""},7,"03-4-23.837(333)",0,1.1000000000000001,0,0,{"$f":"SUMIF(Y$14:BA$14,C647,Y$6:BA$6)","v":2166.8000000000002},{"$f":"IF(H647=0,ROUND(E647*I647,2),ROUND(H647*E647,2))","v":0},{"$f":"ROUND(F647*I647,2)","v":2383.48},{"$f":"IF(H647=0,ROUND(ROUND(F647*I647,2)*G647,2),ROUND(G647*H647,2))","v":0},{"$f":"L647-ROUND(G647*I647,2)","v":0},null,{"$f":"J647+L647+N647","v":0},null,405.07,{"$f":"ROUND(Q647*E647,2)","v":0},{"$f":"ROUND(F647*Q647,2)","v":445.58},{"$f":"ROUND(S647*G647,2)","v":0},{"$f":"T647-ROUND(Q647*G647,2)","v":0},null,{"$f":"R647+T647+V647","v":0},null,null,null,null,null,null,null,null,null,null,null,{"$f":"IF($I647=AI$6,$E647,0)","v":0},0,{"$f":"IF($H647>0,AI647,0)","v":0},{"$f":"IF(AK647>0,1,0)","v":0},{"$f":"IF($H647>0,AJ647,0)","v":0},{"$f":"IF(AM647>0,1,0)","v":0},{"$f":"IF($I647=AO$6,$E647,0)","v":0},0,{"$f":"IF($H647>0,AO647,0)","v":0},{"$f":"IF(AQ647>0,1,0)","v":0},{"$f":"IF($H647>0,AP647,0)","v":0},{"$f":"IF(AS647>0,1,0)","v":0},{"$f":"IF($I647=AU$6,$E647,0)","v":0},0,{"$f":"IF($H647>0,AU647,0)","v":0},{"$f":"IF(AW647>0,1,0)","v":0},{"$f":"IF($H647>0,AV647,0)","v":0},{"$f":"IF(AY647>0,1,0)","v":0},{"$f":"IF($I647=BA$6,$E647,0)","v":0},0,{"$f":"IF($H647>0,BA647,0)","v":0},{"$f":"IF(BC647>0,1,0)","v":0},{"$f":"IF($H647>0,BB647,0)","v":0},{"$f":"IF(BE647>0,1,0)","v":0},null,0,null,null,null,0]
[{"$f":"IF(E648+G648>0,A646,\"\")","v":""},{"$f":"IF(E648+G648>0,B646,\"\")","v":""},{"$f":"C647","v":7},"03-4-23.837(333)",0,1.5,0,0,{"$f":"SUMIF(Y$14:BA$14,C648,Y$7:BA$7)","v":0},0,0,0,0,null,0,null,405.07,0,607.61,0,0,null,0,null,null,null,null,null,null,null,null,null,null,null,{"$f":"IF($I648=AI$7,$E648,0)","v":0},{"$f":"IF($K648=ROUND(AI$7*$F648,2),$G648,0)","v":0},0,0,0,0,{"$f":"IF($I648=AO$7,$E648,0)","v":0},{"$f":"IF($K648=ROUND(AO$7*$F648,2),$G648,0)","v":0},0,0,0,0,{"$f":"IF($I648=AU$7,$E648,0)","v":0},{"$f":"IF($K648=ROUND(AU$7*$F648,2),$G648,0)","v":0},0,0,0,0,{"$f":"IF($I648=BA$7,$E648,0)","v":0},{"$f":"IF($K648=ROUND(BA$7*$F648,2),$G648,0)","v":0},0,0,0,0,null,0,null,null,null,0]
[{"$f":"IF(E649+G649>0,A646,\"\")","v":""},{"$f":"IF(E649+G649>0,B646,\"\")","v":""},{"$f":"C647","v":7},"03-4-23.837(333)",0,1.1000000000000001,0,0,{"$f":"SUMIF(Y$14:BA$14,C649,Y$7:BA$7)","v":0},0,0,0,0,null,0,null,405.07,0,445.58,0,0,null,0,null,null,null,null,null,null,null,null,null,null,null,{"$f":"IF($I649=AI$7,$E649,0)","v":0},{"$f":"IF($K649=ROUND(AI$7*$F649,2),$G649,0)","v":0},0,0,0,0,{"$f":"IF($I649=AO$7,$E649,0)","v":0},{"$f":"IF($K649=ROUND(AO$7*$F649,2),$G649,0)","v":0},0,0,0,0,{"$f":"IF($I649=AU$7,$E649,0)","v":0},{"$f":"IF($K649=ROUND(AU$7*$F649,2),$G649,0)","v":0},0,0,0,0,{"$f":"IF($I649=BA$7,$E649,0)","v":0},{"$f":"IF($K649=ROUND(BA$7*$F649,2),$G649,0)","v":0},0,0,0,0,null,0,null,null,null,0]
["ИП               Новоселов       Сергей Владимирович.","",{"$f":"C651","v":6},"03-4-23.842(333)",0.3,1.5,0,0.3,{"$f":"SUMIF(Y$14:BA$14,C650,Y$6:BA$6)","v":1733.45},{"$f":"IF(H650=0,ROUND(E650*I650,2),ROUND(H650*E650,2))","v":0.09},{"$f":"ROUND(F650*I650,2)","v":2600.1799999999998},{"$f":"IF(H650=0,ROUND(ROUND(F650*I650,2)*G650,2),ROUND(G650*H650,2))","v":0},{"$f":"L650-ROUND(G650*I650,2)","v":0},null,{"$f":"J650+L650+N650","v":0.09},null,405.07,{"$f":"ROUND(Q650*E650,2)","v":121.52},{"$f":"ROUND(F650*Q650,2)","v":607.61},{"$f":"ROUND(S650*G650,2)","v":0},{"$f":"T650-ROUND(Q650*G650,2)","v":0},null,{"$f":"R650+T650+V650","v":121.52},null,null,null,null,null,null,null,null,null,null,null,{"$f":"IF($I650=AI$6,$E650,0)","v":0},{"$f":"IF($K650=ROUND(AI$6*$F650,2),$G650,0)","v":0},{"$f":"IF($H650>0,AI650,0)","v":0},{"$f":"IF(AK650>0,1,0)","v":0},{"$f":"IF($H650>0,AJ650,0)","v":0},{"$f":"IF(AM650>0,1,0)","v":0},{"$f":"IF($I650=AO$6,$E650,0)","v":0},{"$f":"IF($K650=ROUND(AO$6*$F650,2),$G650,0)","v":0},{"$f":"IF($H650>0,AO650,0)","v":0},{"$f":"IF(AQ650>0,1,0)","v":0},{"$f":"IF($H650>0,AP650,0)","v":0},{"$f":"IF(AS650>0,1,0)","v":0},{"$f":"IF($I650=AU$6,$E650,0)","v":0.3},{"$f":"IF($K650=ROUND(AU$6*$F650,2),$G650,0)","v":0},{"$f":"IF($H650>0,AU650,0)","v":0.3},{"$f":"IF(AW650>0,1,0)","v":1},{"$f":"IF($H650>0,AV650,0)","v":0},{"$f":"IF(AY650>0,1,0)","v":0},{"$f":"IF($I650=BA$6,$E650,0)","v":0},{"$f":"IF($K650=ROUND(BA$6*$F650,2),$G650,0)","v":0},{"$f":"IF($H650>0,BA650,0)","v":0},{"$f":"IF(BC650>0,1,0)","v":0},{"$f":"IF($H650>0,BB650,0)","v":0},{"$f":"IF(BE650>0,1,0)","v":0},null,2.9999999999999997E-4,1.3,null,null,0]
[{"$f":"IF(E651+G651>0,A650,\"\")","v":""},{"$f":"IF(E651+G651>0,B650,\"\")","v":""},6,"03-4-23.842(333)",0,1.1000000000000001,0,0,{"$f":"SUMIF(Y$14:BA$14,C651,Y$6:BA$6)","v":1733.45},{"$f":"IF(H651=0,ROUND(E651*I651,2),ROUND(H651*E651,2))","v":0},{"$f":"ROUND(F651*I651,2)","v":1906.8},{"$f":"IF(H651=0,ROUND(ROUND(F651*I651,2)*G651,2),ROUND(G651*H651,2))","v":0},{"$f":"L651-ROUND(G651*I651,2)","v":0},null,{"$f":"J651+L651+N651","v":0},null,405.07,{"$f":"ROUND(Q651*E651,2)","v":0},{"$f":"ROUND(F651*Q651,2)","v":445.58},{"$f":"ROUND(S651*G651,2)","v":0},{"$f":"T651-ROUND(Q651*G651,2)","v":0},null,{"$f":"R651+T651+V651","v":0},null,null,null,null,null,null,null,null,null,null,null,{"$f":"IF($I651=AI$6,$E651,0)","v":0},0,{"$f":"IF($H651>0,AI651,0)","v":0},{"$f":"IF(AK651>0,1,0)","v":0},{"$f":"IF($H651>0,AJ651,0)","v":0},{"$f":"IF(AM651>0,1,0)","v":0},{"$f":"IF($I651=AO$6,$E651,0)","v":0},0,{"$f":"IF($H651>0,AO651,0)","v":0},{"$f":"IF(AQ651>0,1,0)","v":0},{"$f":"IF($H651>0,AP651,0)","v":0},{"$f":"IF(AS651>0,1,0)","v":0},{"$f":"IF($I651=AU$6,$E651,0)","v":0},0,{"$f":"IF($H651>0,AU651,0)","v":0},{"$f":"IF(AW651>0,1,0)","v":0},{"$f":"IF($H651>0,AV651,0)","v":0},{"$f":"IF(AY651>0,1,0)","v":0},{"$f":"IF($I651=BA$6,$E651,0)","v":0},0,{"$f":"IF($H651>0,BA651,0)","v":0},{"$f":"IF(BC651>0,1,0)","v":0},{"$f":"IF($H651>0,BB651,0)","v":0},{"$f":"IF(BE651>0,1,0)","v":0},null,0,null,null,null,0]
[{"$f":"IF(E652+G652>0,A650,\"\")","v":""},{"$f":"IF(E652+G652>0,B650,\"\")","v":""},{"$f":"C651","v":6},"03-4-23.842(333)",0,1.5,0,0,{"$f":"SUMIF(Y$14:BA$14,C652,Y$7:BA$7)","v":0},0,0,0,0,null,0,null,405.07,0,607.61,0,0,null,0,null,null,null,null,null,null,null,null,null,null,null,{"$f":"IF($I652=AI$7,$E652,0)","v":0},{"$f":"IF($K652=ROUND(AI$7*$F652,2),$G652,0)","v":0},0,0,0,0,{"$f":"IF($I652=AO$7,$E652,0)","v":0},{"$f":"IF($K652=ROUND(AO$7*$F652,2),$G652,0)","v":0},0,0,0,0,{"$f":"IF($I652=AU$7,$E652,0)","v":0},{"$f":"IF($K652=ROUND(AU$7*$F652,2),$G652,0)","v":0},0,0,0,0,{"$f":"IF($I652=BA$7,$E652,0)","v":0},{"$f":"IF($K652=ROUND(BA$7*$F652,2),$G652,0)","v":0},0,0,0,0,null,0,null,null,null,0]
[{"$f":"IF(E653+G653>0,A650,\"\")","v":""},{"$f":"IF(E653+G653>0,B650,\"\")","v":""},{"$f":"C651","v":6},"03-4-23.842(333)",0,1.1000000000000001,0,0,{"$f":"SUMIF(Y$14:BA$14,C653,Y$7:BA$7)","v":0},0,0,0,0,null,0,null,405.07,0,445.58,0,0,null,0,null,null,null,null,null,null,null,null,null,null,null,{"$f":"IF($I653=AI$7,$E653,0)","v":0},{"$f":"IF($K653=ROUND(AI$7*$F653,2),$G653,0)","v":0},0,0,0,0,{"$f":"IF($I653=AO$7,$E653,0)","v":0},{"$f":"IF($K653=ROUND(AO$7*$F653,2),$G653,0)","v":0},0,0,0,0,{"$f":"IF($I653=AU$7,$E653,0)","v":0},{"$f":"IF($K653=ROUND(AU$7*$F653,2),$G653,0)","v":0},0,0,0,0,{"$f":"IF($I653=BA$7,$E653,0)","v":0},{"$f":"IF($K653=ROUND(BA$7*$F653,2),$G653,0)","v":0},0,0,0,0,null,0,null,null,null,0]
["Гр.               Кошутин           Денис Михайлович","",{"$f":"C655","v":6},"03-4-23.845(333)",0,1.5,0,0,{"$f":"SUMIF(Y$14:BA$14,C654,Y$6:BA$6)","v":1733.45},{"$f":"IF(H654=0,ROUND(E654*I654,2),ROUND(H654*E654,2))","v":0},{"$f":"ROUND(F654*I654,2)","v":2600.1799999999998},{"$f":"IF(H654=0,ROUND(ROUND(F654*I654,2)*G654,2),ROUND(G654*H654,2))","v":0},{"$f":"L654-ROUND(G654*I654,2)","v":0},null,{"$f":"J654+L654+N654","v":0},null,405.07,{"$f":"ROUND(Q654*E654,2)","v":0},{"$f":"ROUND(F654*Q654,2)","v":607.61},{"$f":"ROUND(S654*G654,2)","v":0},{"$f":"T654-ROUND(Q654*G654,2)","v":0},null,{"$f":"R654+T654+V654","v":0},null,null,null,null,null,null,null,null,null,null,null,{"$f":"IF($I654=AI$6,$E654,0)","v":0},{"$f":"IF($K654=ROUND(AI$6*$F654,2),$G654,0)","v":0},{"$f":"IF($H654>0,AI654,0)","v":0},{"$f":"IF(AK654>0,1,0)","v":0},{"$f":"IF($H654>0,AJ654,0)","v":0},{"$f":"IF(AM654>0,1,0)","v":0},{"$f":"IF($I654=AO$6,$E654,0)","v":0},{"$f":"IF($K654=ROUND(AO$6*$F654,2),$G654,0)","v":0},{"$f":"IF($H654>0,AO654,0)","v":0},{"$f":"IF(AQ654>0,1,0)","v":0},{"$f":"IF($H654>0,AP654,0)","v":0},{"$f":"IF(AS654>0,1,0)","v":0},{"$f":"IF($I654=AU$6,$E654,0)","v":0},{"$f":"IF($K654=ROUND(AU$6*$F654,2),$G654,0)","v":0},{"$f":"IF($H654>0,AU654,0)","v":0},{"$f":"IF(AW654>0,1,0)","v":0},{"$f":"IF($H654>0,AV654,0)","v":0},{"$f":"IF(AY654>0,1,0)","v":0},{"$f":"IF($I654=BA$6,$E654,0)","v":0},{"$f":"IF($K654=ROUND(BA$6*$F654,2),$G654,0)","v":0},{"$f":"IF($H654>0,BA654,0)","v":0},{"$f":"IF(BC654>0,1,0)","v":0},{"$f":"IF($H654>0,BB654,0)","v":0},{"$f":"IF(BE654>0,1,0)","v":0},null,0,1.6,null,null,0]
[{"$f":"IF(E655+G655>0,A654,\"\")","v":""},{"$f":"IF(E655+G655>0,B654,\"\")","v":""},6,"03-4-23.845(333)",0,1.1000000000000001,0,0,{"$f":"SUMIF(Y$14:BA$14,C655,Y$6:BA$6)","v":1733.45},{"$f":"IF(H655=0,ROUND(E655*I655,2),ROUND(H655*E655,2))","v":0},{"$f":"ROUND(F655*I655,2)","v":1906.8},{"$f":"IF(H655=0,ROUND(ROUND(F655*I655,2)*G655,2),ROUND(G655*H655,2))","v":0},{"$f":"L655-ROUND(G655*I655,2)","v":0},null,{"$f":"J655+L655+N655","v":0},null,405.07,{"$f":"ROUND(Q655*E655,2)","v":0},{"$f":"ROUND(F655*Q655,2)","v":445.58},{"$f":"ROUND(S655*G655,2)","v":0},{"$f":"T655-ROUND(Q655*G655,2)","v":0},null,{"$f":"R655+T655+V655","v":0},null,null,null,null,null,null,null,null,null,null,null,{"$f":"IF($I655=AI$6,$E655,0)","v":0},0,{"$f":"IF($H655>0,AI655,0)","v":0},{"$f":"IF(AK655>0,1,0)","v":0},{"$f":"IF($H655>0,AJ655,0)","v":0},{"$f":"IF(AM655>0,1,0)","v":0},{"$f":"IF($I655=AO$6,$E655,0)","v":0},0,{"$f":"IF($H655>0,AO655,0)","v":0},{"$f":"IF(AQ655>0,1,0)","v":0},{"$f":"IF($H655>0,AP655,0)","v":0},{"$f":"IF(AS655>0,1,0)","v":0},{"$f":"IF($I655=AU$6,$E655,0)","v":0},0,{"$f":"IF($H655>0,AU655,0)","v":0},{"$f":"IF(AW655>0,1,0)","v":0},{"$f":"IF($H655>0,AV655,0)","v":0},{"$f":"IF(AY655>0,1,0)","v":0},{"$f":"IF($I655=BA$6,$E655,0)","v":0},0,{"$f":"IF($H655>0,BA655,0)","v":0},{"$f":"IF(BC655>0,1,0)","v":0},{"$f":"IF($H655>0,BB655,0)","v":0},{"$f":"IF(BE655>0,1,0)","v":0},null,0,null,null,null,0]
[{"$f":"IF(E656+G656>0,A654,\"\")","v":""},{"$f":"IF(E656+G656>0,B654,\"\")","v":""},{"$f":"C655","v":6},"03-4-23.845(333)",0,1.5,0,0,{"$f":"SUMIF(Y$14:BA$14,C656,Y$7:BA$7)","v":0},0,0,0,0,null,0,null,{"$f":"IF(BI656>0,Q$6,Q$6)","v":405.07},0,607.61,0,0,null,0,null,null,null,null,null,null,null,null,null,null,null,{"$f":"IF($I656=AI$7,$E656,0)","v":0},{"$f":"IF($K656=ROUND(AI$7*$F656,2),$G656,0)","v":0},0,0,0,0,{"$f":"IF($I656=AO$7,$E656,0)","v":0},{"$f":"IF($K656=ROUND(AO$7*$F656,2),$G656,0)","v":0},0,0,0,0,{"$f":"IF($I656=AU$7,$E656,0)","v":0},{"$f":"IF($K656=ROUND(AU$7*$F656,2),$G656,0)","v":0},0,0,0,0,{"$f":"IF($I656=BA$7,$E656,0)","v":0},{"$f":"IF($K656=ROUND(BA$7*$F656,2),$G656,0)","v":0},0,0,0,0,null,0,null,null,null,0]
[{"$f":"IF(E657+G657>0,A654,\"\")","v":""},{"$f":"IF(E657+G657>0,B654,\"\")","v":""},{"$f":"C655","v":6},"03-4-23.845(333)",0,1.1000000000000001,0,{"$f":"E657+G657","v":0},{"$f":"SUMIF(Y$14:BA$14,C657,Y$7:BA$7)","v":0},0,0,0,0,null,0,null,405.07,0,445.58,0,0,null,0,null,null,null,null,null,null,null,null,null,null,null,{"$f":"IF($I657=AI$7,$E657,0)","v":0},{"$f":"IF($K657=ROUND(AI$7*$F657,2),$G657,0)","v":0},0,0,0,0,{"$f":"IF($I657=AO$7,$E657,0)","v":0},{"$f":"IF($K657=ROUND(AO$7*$F657,2),$G657,0)","v":0},0,0,0,0,{"$f":"IF($I657=AU$7,$E657,0)","v":0},{"$f":"IF($K657=ROUND(AU$7*$F657,2),$G657,0)","v":0},0,0,0,0,{"$f":"IF($I657=BA$7,$E657,0)","v":0},{"$f":"IF($K657=ROUND(BA$7*$F657,2),$G657,0)","v":0},0,0,0,0,null,{"$f":"H657/1000","v":0},null,null,null,{"$f":"E657-SUM(AI657,AO657,AU657,BA657)","v":0}]
["ИП               Бегунов           Дмитрий Андреевич","",{"$f":"C659","v":6},"03-4-23.848(333)",4.452,1.5,0,4.452,{"$f":"SUMIF(Y$14:BA$14,C658,Y$6:BA$6)","v":1733.45},{"$f":"IF(H658=0,ROUND(E658*I658,2),ROUND(H658*E658,2))","v":19.82},{"$f":"ROUND(F658*I658,2)","v":2600.1799999999998},{"$f":"IF(H658=0,ROUND(ROUND(F658*I658,2)*G658,2),ROUND(G658*H658,2))","v":0},{"$f":"L658-ROUND(G658*I658,2)","v":0},null,{"$f":"J658+L658+N658","v":19.82},null,405.07,{"$f":"ROUND(Q658*E658,2)","v":1803.37},{"$f":"ROUND(F658*Q658,2)","v":607.61},{"$f":"ROUND(S658*G658,2)","v":0},{"$f":"T658-ROUND(Q658*G658,2)","v":0},null,{"$f":"R658+T658+V658","v":1803.37},null,null,null,null,null,null,null,null,null,null,null,{"$f":"IF($I658=AI$6,$E658,0)","v":0},{"$f":"IF($K658=ROUND(AI$6*$F658,2),$G658,0)","v":0},{"$f":"IF($H658>0,AI658,0)","v":0},{"$f":"IF(AK658>0,1,0)","v":0},{"$f":"IF($H658>0,AJ658,0)","v":0},{"$f":"IF(AM658>0,1,0)","v":0},{"$f":"IF($I658=AO$6,$E658,0)","v":0},{"$f":"IF($K658=ROUND(AO$6*$F658,2),$G658,0)","v":0},{"$f":"IF($H658>0,AO658,0)","v":0},{"$f":"IF(AQ658>0,1,0)","v":0},{"$f":"IF($H658>0,AP658,0)","v":0},{"$f":"IF(AS658>0,1,0)","v":0},{"$f":"IF($I658=AU$6,$E658,0)","v":4.452},{"$f":"IF($K658=ROUND(AU$6*$F658,2),$G658,0)","v":0},{"$f":"IF($H658>0,AU658,0)","v":4.452},{"$f":"IF(AW658>0,1,0)","v":1},{"$f":"IF($H658>0,AV658,0)","v":0},{"$f":"IF(AY658>0,1,0)","v":0},{"$f":"IF($I658=BA$6,$E658,0)","v":0},{"$f":"IF($K658=ROUND(BA$6*$F658,2),$G658,0)","v":0},{"$f":"IF($H658>0,BA658,0)","v":0},{"$f":"IF(BC658>0,1,0)","v":0},{"$f":"IF($H658>0,BB658,0)","v":0},{"$f":"IF(BE658>0,1,0)","v":0},null,4.4520000000000002E-3,9,null,null,0]
[{"$f":"IF(E659+G659>0,A658,\"\")","v":""},{"$f":"IF(E659+G659>0,B658,\"\")","v":""},6,"03-4-23.848(333)",0,1.1000000000000001,0,0,{"$f":"SUMIF(Y$14:BA$14,C659,Y$6:BA$6)","v":1733.45},{"$f":"IF(H659=0,ROUND(E659*I659,2),ROUND(H659*E659,2))","v":0},{"$f":"ROUND(F659*I659,2)","v":1906.8},{"$f":"IF(H659=0,ROUND(ROUND(F659*I659,2)*G659,2),ROUND(G659*H659,2))","v":0},{"$f":"L659-ROUND(G659*I659,2)","v":0},null,{"$f":"J659+L659+N659","v":0},null,405.07,{"$f":"ROUND(Q659*E659,2)","v":0},{"$f":"ROUND(F659*Q659,2)","v":445.58},{"$f":"ROUND(S659*G659,2)","v":0},{"$f":"T659-ROUND(Q659*G659,2)","v":0},null,{"$f":"R659+T659+V659","v":0},null,null,null,null,null,null,null,null,null,null,null,{"$f":"IF($I659=AI$6,$E659,0)","v":0},0,{"$f":"IF($H659>0,AI659,0)","v":0},{"$f":"IF(AK659>0,1,0)","v":0},{"$f":"IF($H659>0,AJ659,0)","v":0},{"$f":"IF(AM659>0,1,0)","v":0},{"$f":"IF($I659=AO$6,$E659,0)","v":0},0,{"$f":"IF($H659>0,AO659,0)","v":0},{"$f":"IF(AQ659>0,1,0)","v":0},{"$f":"IF($H659>0,AP659,0)","v":0},{"$f":"IF(AS659>0,1,0)","v":0},{"$f":"IF($I659=AU$6,$E659,0)","v":0},0,{"$f":"IF($H659>0,AU659,0)","v":0},{"$f":"IF(AW659>0,1,0)","v":0},{"$f":"IF($H659>0,AV659,0)","v":0},{"$f":"IF(AY659>0,1,0)","v":0},{"$f":"IF($I659=BA$6,$E659,0)","v":0},0,{"$f":"IF($H659>0,BA659,0)","v":0},{"$f":"IF(BC659>0,1,0)","v":0},{"$f":"IF($H659>0,BB659,0)","v":0},{"$f":"IF(BE659>0,1,0)","v":0},null,0,null,null,null,0]
[{"$f":"IF(E660+G660>0,A658,\"\")","v":""},{"$f":"IF(E660+G660>0,B658,\"\")","v":""},{"$f":"C659","v":6},"03-4-23.848(333)",0,1.5,0,0,{"$f":"SUMIF(Y$14:BA$14,C660,Y$7:BA$7)","v":0},0,0,0,0,null,0,null,405.07,0,607.61,0,0,null,0,null,null,null,null,null,null,null,null,null,null,null,{"$f":"IF($I660=AI$7,$E660,0)","v":0},{"$f":"IF($K660=ROUND(AI$7*$F660,2),$G660,0)","v":0},0,0,0,0,{"$f":"IF($I660=AO$7,$E660,0)","v":0},{"$f":"IF($K660=ROUND(AO$7*$F660,2),$G660,0)","v":0},0,0,0,0,{"$f":"IF($I660=AU$7,$E660,0)","v":0},{"$f":"IF($K660=ROUND(AU$7*$F660,2),$G660,0)","v":0},0,0,0,0,{"$f":"IF($I660=BA$7,$E660,0)","v":0},{"$f":"IF($K660=ROUND(BA$7*$F660,2),$G660,0)","v":0},0,0,0,0,null,0,null,null,null,0]
[{"$f":"IF(E661+G661>0,A658,\"\")","v":""},{"$f":"IF(E661+G661>0,B658,\"\")","v":""},{"$f":"C659","v":6},"03-4-23.848(333)",0,1.1000000000000001,0,0,{"$f":"SUMIF(Y$14:BA$14,C661,Y$7:BA$7)","v":0},0,0,0,0,null,0,null,405.07,0,445.58,0,0,null,0,null,null,null,null,null,null,null,null,null,null,null,{"$f":"IF($I661=AI$7,$E661,0)","v":0},{"$f":"IF($K661=ROUND(AI$7*$F661,2),$G661,0)","v":0},0,0,0,0,{"$f":"IF($I661=AO$7,$E661,0)","v":0},{"$f":"IF($K661=ROUND(AO$7*$F661,2),$G661,0)","v":0},0,0,0,0,{"$f":"IF($I661=AU$7,$E661,0)","v":0},{"$f":"IF($K661=ROUND(AU$7*$F661,2),$G661,0)","v":0},0,0,0,0,{"$f":"IF($I661=BA$7,$E661,0)","v":0},{"$f":"IF($K661=ROUND(BA$7*$F661,2),$G661,0)","v":0},0,0,0,0,null,0,null,null,null,0]
["Гр.               Михалев          Василий Иванович","",{"$f":"C663","v":7},"03-4-23.850(333)",0.48599999999999999,1.5,0,0.48599999999999999,{"$f":"SUMIF(Y$14:BA$14,C662,Y$6:BA$6)","v":2166.8000000000002},{"$f":"IF(H662=0,ROUND(E662*I662,2),ROUND(H662*E662,2))","v":0.24},{"$f":"ROUND(F662*I662,2)","v":3250.2},{"$f":"IF(H662=0,ROUND(ROUND(F662*I662,2)*G662,2),ROUND(G662*H662,2))","v":0},{"$f":"L662-ROUND(G662*I662,2)","v":0},null,{"$f":"J662+L662+N662","v":0.24},null,405.07,{"$f":"ROUND(Q662*E662,2)","v":196.86},{"$f":"ROUND(F662*Q662,2)","v":607.61},{"$f":"ROUND(S662*G662,2)","v":0},{"$f":"T662-ROUND(Q662*G662,2)","v":0},null,{"$f":"R662+T662+V662","v":196.86},null,null,null,null,null,null,null,null,null,null,null,{"$f":"IF($I662=AI$6,$E662,0)","v":0},{"$f":"IF($K662=ROUND(AI$6*$F662,2),$G662,0)","v":0},{"$f":"IF($H662>0,AI662,0)","v":0},{"$f":"IF(AK662>0,1,0)","v":0},{"$f":"IF($H662>0,AJ662,0)","v":0},{"$f":"IF(AM662>0,1,0)","v":0},{"$f":"IF($I662=AO$6,$E662,0)","v":0},{"$f":"IF($K662=ROUND(AO$6*$F662,2),$G662,0)","v":0},{"$f":"IF($H662>0,AO662,0)","v":0},{"$f":"IF(AQ662>0,1,0)","v":0},{"$f":"IF($H662>0,AP662,0)","v":0},{"$f":"IF(AS662>0,1,0)","v":0},{"$f":"IF($I662=AU$6,$E662,0)","v":0},{"$f":"IF($K662=ROUND(AU$6*$F662,2),$G662,0)","v":0},{"$f":"IF($H662>0,AU662,0)","v":0},{"$f":"IF(AW662>0,1,0)","v":0},{"$f":"IF($H662>0,AV662,0)","v":0},{"$f":"IF(AY662>0,1,0)","v":0},{"$f":"IF($I662=BA$6,$E662,0)","v":0.48599999999999999},{"$f":"IF($K662=ROUND(BA$6*$F662,2),$G662,0)","v":0},{"$f":"IF($H662>0,BA662,0)","v":0.48599999999999999},{"$f":"IF(BC662>0,1,0)","v":1},{"$f":"IF($H662>0,BB662,0)","v":0},{"$f":"IF(BE662>0,1,0)","v":0},null,4.86E-4,0.9,null,null,0]
[{"$f":"IF(E663+G663>0,A662,\"\")","v":""},{"$f":"IF(E663+G663>0,B662,\"\")","v":""},7,"03-4-23.850(333)",0,1.1000000000000001,0,0,{"$f":"SUMIF(Y$14:BA$14,C663,Y$6:BA$6)","v":2166.8000000000002},{"$f":"IF(H663=0,ROUND(E663*I663,2),ROUND(H663*E663,2))","v":0},{"$f":"ROUND(F663*I663,2)","v":2383.48},{"$f":"IF(H663=0,ROUND(ROUND(F663*I663,2)*G663,2),ROUND(G663*H663,2))","v":0},{"$f":"L663-ROUND(G663*I663,2)","v":0},null,{"$f":"J663+L663+N663","v":0},null,405.07,{"$f":"ROUND(Q663*E663,2)","v":0},{"$f":"ROUND(F663*Q663,2)","v":445.58},{"$f":"ROUND(S663*G663,2)","v":0},{"$f":"T663-ROUND(Q663*G663,2)","v":0},null,{"$f":"R663+T663+V663","v":0},null,null,null,null,null,null,null,null,null,null,null,{"$f":"IF($I663=AI$6,$E663,0)","v":0},0,{"$f":"IF($H663>0,AI663,0)","v":0},{"$f":"IF(AK663>0,1,0)","v":0},{"$f":"IF($H663>0,AJ663,0)","v":0},{"$f":"IF(AM663>0,1,0)","v":0},{"$f":"IF($I663=AO$6,$E663,0)","v":0},0,{"$f":"IF($H663>0,AO663,0)","v":0},{"$f":"IF(AQ663>0,1,0)","v":0},{"$f":"IF($H663>0,AP663,0)","v":0},{"$f":"IF(AS663>0,1,0)","v":0},{"$f":"IF($I663=AU$6,$E663,0)","v":0},0,{"$f":"IF($H663>0,AU663,0)","v":0},{"$f":"IF(AW663>0,1,0)","v":0},{"$f":"IF($H663>0,AV663,0)","v":0},{"$f":"IF(AY663>0,1,0)","v":0},{"$f":"IF($I663=BA$6,$E663,0)","v":0},0,{"$f":"IF($H663>0,BA663,0)","v":0},{"$f":"IF(BC663>0,1,0)","v":0},{"$f":"IF($H663>0,BB663,0)","v":0},{"$f":"IF(BE663>0,1,0)","v":0},null,0,null,null,null,0]
[{"$f":"IF(E664+G664>0,A662,\"\")","v":""},{"$f":"IF(E664+G664>0,B662,\"\")","v":""},{"$f":"C663","v":7},"03-4-23.850(333)",0,1.5,0,0,{"$f":"SUMIF(Y$14:BA$14,C664,Y$7:BA$7)","v":0},0,0,0,0,null,0,null,405.07,0,607.61,0,0,null,0,null,null,null,null,null,null,null,null,null,null,null,{"$f":"IF($I664=AI$7,$E664,0)","v":0},{"$f":"IF($K664=ROUND(AI$7*$F664,2),$G664,0)","v":0},0,0,0,0,{"$f":"IF($I664=AO$7,$E664,0)","v":0},{"$f":"IF($K664=ROUND(AO$7*$F664,2),$G664,0)","v":0},0,0,0,0,{"$f":"IF($I664=AU$7,$E664,0)","v":0},{"$f":"IF($K664=ROUND(AU$7*$F664,2),$G664,0)","v":0},0,0,0,0,{"$f":"IF($I664=BA$7,$E664,0)","v":0},{"$f":"IF($K664=ROUND(BA$7*$F664,2),$G664,0)","v":0},0,0,0,0,null,0,null,null,null,0]
[{"$f":"IF(E665+G665>0,A662,\"\")","v":""},{"$f":"IF(E665+G665>0,B662,\"\")","v":""},{"$f":"C663","v":7},"03-4-23.850(333)",0,1.1000000000000001,0,0,{"$f":"SUMIF(Y$14:BA$14,C665,Y$7:BA$7)","v":0},0,0,0,0,null,0,null,405.07,0,445.58,0,0,null,0,null,null,null,null,null,null,null,null,null,null,null,{"$f":"IF($I665=AI$7,$E665,0)","v":0},{"$f":"IF($K665=ROUND(AI$7*$F665,2),$G665,0)","v":0},0,0,0,0,{"$f":"IF($I665=AO$7,$E665,0)","v":0},{"$f":"IF($K665=ROUND(AO$7*$F665,2),$G665,0)","v":0},0,0,0,0,{"$f":"IF($I665=AU$7,$E665,0)","v":0},{"$f":"IF($K665=ROUND(AU$7*$F665,2),$G665,0)","v":0},0,0,0,0,{"$f":"IF($I665=BA$7,$E665,0)","v":0},{"$f":"IF($K665=ROUND(BA$7*$F665,2),$G665,0)","v":0},0,0,0,0,null,0,null,null,null,0]
["Гр.               Ибрагимов      Рафаил Гейдар оглы","Вельск, ул.Дзержинского-58",{"$f":"C667","v":6},"03-4-23.854(333)",2.7320000000000002,1.5,0,2.7320000000000002,{"$f":"SUMIF(Y$14:BA$14,C666,Y$6:BA$6)","v":1733.45},{"$f":"IF(H666=0,ROUND(E666*I666,2),ROUND(H666*E666,2))","v":7.46},{"$f":"ROUND(F666*I666,2)","v":2600.1799999999998},{"$f":"IF(H666=0,ROUND(ROUND(F666*I666,2)*G666,2),ROUND(G666*H666,2))","v":0},{"$f":"L666-ROUND(G666*I666,2)","v":0},null,{"$f":"J666+L666+N666","v":7.46},null,405.07,{"$f":"ROUND(Q666*E666,2)","v":1106.6500000000001},{"$f":"ROUND(F666*Q666,2)","v":607.61},{"$f":"ROUND(S666*G666,2)","v":0},{"$f":"T666-ROUND(Q666*G666,2)","v":0},null,{"$f":"R666+T666+V666","v":1106.6500000000001},null,null,null,null,null,null,null,null,null,null,null,{"$f":"IF($I666=AI$6,$E666,0)","v":0},{"$f":"IF($K666=ROUND(AI$6*$F666,2),$G666,0)","v":0},{"$f":"IF($H666>0,AI666,0)","v":0},{"$f":"IF(AK666>0,1,0)","v":0},{"$f":"IF($H666>0,AJ666,0)","v":0},{"$f":"IF(AM666>0,1,0)","v":0},{"$f":"IF($I666=AO$6,$E666,0)","v":0},{"$f":"IF($K666=ROUND(AO$6*$F666,2),$G666,0)","v":0},{"$f":"IF($H666>0,AO666,0)","v":0},{"$f":"IF(AQ666>0,1,0)","v":0},{"$f":"IF($H666>0,AP666,0)","v":0},{"$f":"IF(AS666>0,1,0)","v":0},{"$f":"IF($I666=AU$6,$E666,0)","v":2.7320000000000002},{"$f":"IF($K666=ROUND(AU$6*$F666,2),$G666,0)","v":0},{"$f":"IF($H666>0,AU666,0)","v":2.7320000000000002},{"$f":"IF(AW666>0,1,0)","v":1},{"$f":"IF($H666>0,AV666,0)","v":0},{"$f":"IF(AY666>0,1,0)","v":0},{"$f":"IF($I666=BA$6,$E666,0)","v":0},{"$f":"IF($K666=ROUND(BA$6*$F666,2),$G666,0)","v":0},{"$f":"IF($H666>0,BA666,0)","v":0},{"$f":"IF(BC666>0,1,0)","v":0},{"$f":"IF($H666>0,BB666,0)","v":0},{"$f":"IF(BE666>0,1,0)","v":0},null,2.7320000000000001E-3,2.6,null,null,0]
[{"$f":"IF(E667+G667>0,A666,\"\")","v":""},{"$f":"IF(E667+G667>0,B666,\"\")","v":""},6,"03-4-23.854(333)",0,1.1000000000000001,0,0,{"$f":"SUMIF(Y$14:BA$14,C667,Y$6:BA$6)","v":1733.45},{"$f":"IF(H667=0,ROUND(E667*I667,2),ROUND(H667*E667,2))","v":0},{"$f":"ROUND(F667*I667,2)","v":1906.8},{"$f":"IF(H667=0,ROUND(ROUND(F667*I667,2)*G667,2),ROUND(G667*H667,2))","v":0},{"$f":"L667-ROUND(G667*I667,2)","v":0},null,{"$f":"J667+L667+N667","v":0},null,405.07,{"$f":"ROUND(Q667*E667,2)","v":0},{"$f":"ROUND(F667*Q667,2)","v":445.58},{"$f":"ROUND(S667*G667,2)","v":0},{"$f":"T667-ROUND(Q667*G667,2)","v":0},null,{"$f":"R667+T667+V667","v":0},null,null,null,null,null,null,null,null,null,null,null,{"$f":"IF($I667=AI$6,$E667,0)","v":0},0,{"$f":"IF($H667>0,AI667,0)","v":0},{"$f":"IF(AK667>0,1,0)","v":0},{"$f":"IF($H667>0,AJ667,0)","v":0},{"$f":"IF(AM667>0,1,0)","v":0},{"$f":"IF($I667=AO$6,$E667,0)","v":0},0,{"$f":"IF($H667>0,AO667,0)","v":0},{"$f":"IF(AQ667>0,1,0)","v":0},{"$f":"IF($H667>0,AP667,0)","v":0},{"$f":"IF(AS667>0,1,0)","v":0},{"$f":"IF($I667=AU$6,$E667,0)","v":0},0,{"$f":"IF($H667>0,AU667,0)","v":0},{"$f":"IF(AW667>0,1,0)","v":0},{"$f":"IF($H667>0,AV667,0)","v":0},{"$f":"IF(AY667>0,1,0)","v":0},{"$f":"IF($I667=BA$6,$E667,0)","v":0},0,{"$f":"IF($H667>0,BA667,0)","v":0},{"$f":"IF(BC667>0,1,0)","v":0},{"$f":"IF($H667>0,BB667,0)","v":0},{"$f":"IF(BE667>0,1,0)","v":0},null,0,null,null,null,0]
[{"$f":"IF(E668+G668>0,A666,\"\")","v":""},{"$f":"IF(E668+G668>0,B666,\"\")","v":""},{"$f":"C667","v":6},"03-4-23.854(333)",0,1.5,0,0,{"$f":"SUMIF(Y$14:BA$14,C668,Y$7:BA$7)","v":0},0,0,0,0,null,0,null,405.07,0,607.61,0,0,null,0,null,null,null,null,null,null,null,null,null,null,null,{"$f":"IF($I668=AI$7,$E668,0)","v":0},{"$f":"IF($K668=ROUND(AI$7*$F668,2),$G668,0)","v":0},0,0,0,0,{"$f":"IF($I668=AO$7,$E668,0)","v":0},{"$f":"IF($K668=ROUND(AO$7*$F668,2),$G668,0)","v":0},0,0,0,0,{"$f":"IF($I668=AU$7,$E668,0)","v":0},{"$f":"IF($K668=ROUND(AU$7*$F668,2),$G668,0)","v":0},0,0,0,0,{"$f":"IF($I668=BA$7,$E668,0)","v":0},{"$f":"IF($K668=ROUND(BA$7*$F668,2),$G668,0)","v":0},0,0,0,0,null,0,null,null,null,0]
[{"$f":"IF(E669+G669>0,A666,\"\")","v":""},{"$f":"IF(E669+G669>0,B666,\"\")","v":""},{"$f":"C667","v":6},"03-4-23.854(333)",0,1.1000000000000001,0,0,{"$f":"SUMIF(Y$14:BA$14,C669,Y$7:BA$7)","v":0},0,0,0,0,null,0,null,405.07,0,445.58,0,0,null,0,null,null,null,null,null,null,null,null,null,null,null,{"$f":"IF($I669=AI$7,$E669,0)","v":0},{"$f":"IF($K669=ROUND(AI$7*$F669,2),$G669,0)","v":0},0,0,0,0,{"$f":"IF($I669=AO$7,$E669,0)","v":0},{"$f":"IF($K669=ROUND(AO$7*$F669,2),$G669,0)","v":0},0,0,0,0,{"$f":"IF($I669=AU$7,$E669,0)","v":0},{"$f":"IF($K669=ROUND(AU$7*$F669,2),$G669,0)","v":0},0,0,0,0,{"$f":"IF($I669=BA$7,$E669,0)","v":0},{"$f":"IF($K669=ROUND(BA$7*$F669,2),$G669,0)","v":0},0,0,0,0,null,0,null,null,null,0]
["Гр.               Ибрагимов      Рафаил Гейдар оглы","Вельск, ул.Привокзальная-9",{"$f":"C671","v":6},"03-4-23.854(333)",0.66800000000000004,1.5,0,0.66800000000000004,{"$f":"SUMIF(Y$14:BA$14,C670,Y$6:BA$6)","v":1733.45},{"$f":"IF(H670=0,ROUND(E670*I670,2),ROUND(H670*E670,2))","v":0.45},{"$f":"ROUND(F670*I670,2)","v":2600.1799999999998},{"$f":"IF(H670=0,ROUND(ROUND(F670*I670,2)*G670,2),ROUND(G670*H670,2))","v":0},{"$f":"L670-ROUND(G670*I670,2)","v":0},null,{"$f":"J670+L670+N670","v":0.45},null,405.07,{"$f":"ROUND(Q670*E670,2)","v":270.58999999999997},{"$f":"ROUND(F670*Q670,2)","v":607.61},{"$f":"ROUND(S670*G670,2)","v":0},{"$f":"T670-ROUND(Q670*G670,2)","v":0},null,{"$f":"R670+T670+V670","v":270.58999999999997},null,null,null,null,null,null,null,null,null,null,null,{"$f":"IF($I670=AI$6,$E670,0)","v":0},{"$f":"IF($K670=ROUND(AI$6*$F670,2),$G670,0)","v":0},{"$f":"IF($H670>0,AI670,0)","v":0},{"$f":"IF(AK670>0,1,0)","v":0},{"$f":"IF($H670>0,AJ670,0)","v":0},{"$f":"IF(AM670>0,1,0)","v":0},{"$f":"IF($I670=AO$6,$E670,0)","v":0},{"$f":"IF($K670=ROUND(AO$6*$F670,2),$G670,0)","v":0},{"$f":"IF($H670>0,AO670,0)","v":0},{"$f":"IF(AQ670>0,1,0)","v":0},{"$f":"IF($H670>0,AP670,0)","v":0},{"$f":"IF(AS670>0,1,0)","v":0},{"$f":"IF($I670=AU$6,$E670,0)","v":0.66800000000000004},{"$f":"IF($K670=ROUND(AU$6*$F670,2),$G670,0)","v":0},{"$f":"IF($H670>0,AU670,0)","v":0.66800000000000004},{"$f":"IF(AW670>0,1,0)","v":1},{"$f":"IF($H670>0,AV670,0)","v":0},{"$f":"IF(AY670>0,1,0)","v":0},{"$f":"IF($I670=BA$6,$E670,0)","v":0},{"$f":"IF($K670=ROUND(BA$6*$F670,2),$G670,0)","v":0},{"$f":"IF($H670>0,BA670,0)","v":0},{"$f":"IF(BC670>0,1,0)","v":0},{"$f":"IF($H670>0,BB670,0)","v":0},{"$f":"IF(BE670>0,1,0)","v":0},null,6.6800000000000008E-4,1.9,null,null,0]
[{"$f":"IF(E671+G671>0,A670,\"\")","v":""},{"$f":"IF(E671+G671>0,B670,\"\")","v":""},6,"03-4-23.854(333)",0,1.1000000000000001,0,0,{"$f":"SUMIF(Y$14:BA$14,C671,Y$6:BA$6)","v":1733.45},{"$f":"IF(H671=0,ROUND(E671*I671,2),ROUND(H671*E671,2))","v":0},{"$f":"ROUND(F671*I671,2)","v":1906.8},{"$f":"IF(H671=0,ROUND(ROUND(F671*I671,2)*G671,2),ROUND(G671*H671,2))","v":0},{"$f":"L671-ROUND(G671*I671,2)","v":0},null,{"$f":"J671+L671+N671","v":0},null,405.07,{"$f":"ROUND(Q671*E671,2)","v":0},{"$f":"ROUND(F671*Q671,2)","v":445.58},{"$f":"ROUND(S671*G671,2)","v":0},{"$f":"T671-ROUND(Q671*G671,2)","v":0},null,{"$f":"R671+T671+V671","v":0},null,null,null,null,null,null,null,null,null,null,null,{"$f":"IF($I671=AI$6,$E671,0)","v":0},0,{"$f":"IF($H671>0,AI671,0)","v":0},{"$f":"IF(AK671>0,1,0)","v":0},{"$f":"IF($H671>0,AJ671,0)","v":0},{"$f":"IF(AM671>0,1,0)","v":0},{"$f":"IF($I671=AO$6,$E671,0)","v":0},0,{"$f":"IF($H671>0,AO671,0)","v":0},{"$f":"IF(AQ671>0,1,0)","v":0},{"$f":"IF($H671>0,AP671,0)","v":0},{"$f":"IF(AS671>0,1,0)","v":0},{"$f":"IF($I671=AU$6,$E671,0)","v":0},0,{"$f":"IF($H671>0,AU671,0)","v":0},{"$f":"IF(AW671>0,1,0)","v":0},{"$f":"IF($H671>0,AV671,0)","v":0},{"$f":"IF(AY671>0,1,0)","v":0},{"$f":"IF($I671=BA$6,$E671,0)","v":0},0,{"$f":"IF($H671>0,BA671,0)","v":0},{"$f":"IF(BC671>0,1,0)","v":0},{"$f":"IF($H671>0,BB671,0)","v":0},{"$f":"IF(BE671>0,1,0)","v":0},null,0,null,null,null,0]
[{"$f":"IF(E672+G672>0,A670,\"\")","v":""},{"$f":"IF(E672+G672>0,B670,\"\")","v":""},{"$f":"C671","v":6},"03-4-23.854(333)",0,1.5,0,0,{"$f":"SUMIF(Y$14:BA$14,C672,Y$7:BA$7)","v":0},0,0,0,0,null,0,null,405.07,0,607.61,0,0,null,0,null,null,null,null,null,null,null,null,null,null,null,{"$f":"IF($I672=AI$7,$E672,0)","v":0},{"$f":"IF($K672=ROUND(AI$7*$F672,2),$G672,0)","v":0},0,0,0,0,{"$f":"IF($I672=AO$7,$E672,0)","v":0},{"$f":"IF($K672=ROUND(AO$7*$F672,2),$G672,0)","v":0},0,0,0,0,{"$f":"IF($I672=AU$7,$E672,0)","v":0},{"$f":"IF($K672=ROUND(AU$7*$F672,2),$G672,0)","v":0},0,0,0,0,{"$f":"IF($I672=BA$7,$E672,0)","v":0},{"$f":"IF($K672=ROUND(BA$7*$F672,2),$G672,0)","v":0},0,0,0,0,null,0,null,null,null,0]
[{"$f":"IF(E673+G673>0,A670,\"\")","v":""},{"$f":"IF(E673+G673>0,B670,\"\")","v":""},{"$f":"C671","v":6},"03-4-23.854(333)",0,1.1000000000000001,0,0,{"$f":"SUMIF(Y$14:BA$14,C673,Y$7:BA$7)","v":0},0,0,0,0,null,0,null,405.07,0,445.58,0,0,null,0,null,null,null,null,null,null,null,null,null,null,null,{"$f":"IF($I673=AI$7,$E673,0)","v":0},{"$f":"IF($K673=ROUND(AI$7*$F673,2),$G673,0)","v":0},0,0,0,0,{"$f":"IF($I673=AO$7,$E673,0)","v":0},{"$f":"IF($K673=ROUND(AO$7*$F673,2),$G673,0)","v":0},0,0,0,0,{"$f":"IF($I673=AU$7,$E673,0)","v":0},{"$f":"IF($K673=ROUND(AU$7*$F673,2),$G673,0)","v":0},0,0,0,0,{"$f":"IF($I673=BA$7,$E673,0)","v":0},{"$f":"IF($K673=ROUND(BA$7*$F673,2),$G673,0)","v":0},0,0,0,0,null,0,null,null,null,0]
["Гр.               Ибрагимов      Рафаил Гейдар оглы","Вельск, ул.1 мая-7",{"$f":"C675","v":6},"03-4-23.854(333)",0.88,1.5,0,0.88,{"$f":"SUMIF(Y$14:BA$14,C674,Y$6:BA$6)","v":1733.45},{"$f":"IF(H674=0,ROUND(E674*I674,2),ROUND(H674*E674,2))","v":0.77},{"$f":"ROUND(F674*I674,2)","v":2600.1799999999998},{"$f":"IF(H674=0,ROUND(ROUND(F674*I674,2)*G674,2),ROUND(G674*H674,2))","v":0},{"$f":"L674-ROUND(G674*I674,2)","v":0},null,{"$f":"J674+L674+N674","v":0.77},null,405.07,{"$f":"ROUND(Q674*E674,2)","v":356.46},{"$f":"ROUND(F674*Q674,2)","v":607.61},{"$f":"ROUND(S674*G674,2)","v":0},{"$f":"T674-ROUND(Q674*G674,2)","v":0},null,{"$f":"R674+T674+V674","v":356.46},null,null,null,null,null,null,null,null,null,null,null,{"$f":"IF($I674=AI$6,$E674,0)","v":0},{"$f":"IF($K674=ROUND(AI$6*$F674,2),$G674,0)","v":0},{"$f":"IF($H674>0,AI674,0)","v":0},{"$f":"IF(AK674>0,1,0)","v":0},{"$f":"IF($H674>0,AJ674,0)","v":0},{"$f":"IF(AM674>0,1,0)","v":0},{"$f":"IF($I674=AO$6,$E674,0)","v":0},{"$f":"IF($K674=ROUND(AO$6*$F674,2),$G674,0)","v":0},{"$f":"IF($H674>0,AO674,0)","v":0},{"$f":"IF(AQ674>0,1,0)","v":0},{"$f":"IF($H674>0,AP674,0)","v":0},{"$f":"IF(AS674>0,1,0)","v":0},{"$f":"IF($I674=AU$6,$E674,0)","v":0.88},{"$f":"IF($K674=ROUND(AU$6*$F674,2),$G674,0)","v":0},{"$f":"IF($H674>0,AU674,0)","v":0.88},{"$f":"IF(AW674>0,1,0)","v":1},{"$f":"IF($H674>0,AV674,0)","v":0},{"$f":"IF(AY674>0,1,0)","v":0},{"$f":"IF($I674=BA$6,$E674,0)","v":0},{"$f":"IF($K674=ROUND(BA$6*$F674,2),$G674,0)","v":0},{"$f":"IF($H674>0,BA674,0)","v":0},{"$f":"IF(BC674>0,1,0)","v":0},{"$f":"IF($H674>0,BB674,0)","v":0},{"$f":"IF(BE674>0,1,0)","v":0},null,8.8000000000000003E-4,2.2999999999999998,null,null,0]
[{"$f":"IF(E675+G675>0,A674,\"\")","v":""},{"$f":"IF(E675+G675>0,B674,\"\")","v":""},6,"03-4-23.854(333)",0,1.1000000000000001,0,0,{"$f":"SUMIF(Y$14:BA$14,C675,Y$6:BA$6)","v":1733.45},{"$f":"IF(H675=0,ROUND(E675*I675,2),ROUND(H675*E675,2))","v":0},{"$f":"ROUND(F675*I675,2)","v":1906.8},{"$f":"IF(H675=0,ROUND(ROUND(F675*I675,2)*G675,2),ROUND(G675*H675,2))","v":0},{"$f":"L675-ROUND(G675*I675,2)","v":0},null,{"$f":"J675+L675+N675","v":0},null,405.07,{"$f":"ROUND(Q675*E675,2)","v":0},{"$f":"ROUND(F675*Q675,2)","v":445.58},{"$f":"ROUND(S675*G675,2)","v":0},{"$f":"T675-ROUND(Q675*G675,2)","v":0},null,{"$f":"R675+T675+V675","v":0},null,null,null,null,null,null,null,null,null,null,null,{"$f":"IF($I675=AI$6,$E675,0)","v":0},0,{"$f":"IF($H675>0,AI675,0)","v":0},{"$f":"IF(AK675>0,1,0)","v":0},{"$f":"IF($H675>0,AJ675,0)","v":0},{"$f":"IF(AM675>0,1,0)","v":0},{"$f":"IF($I675=AO$6,$E675,0)","v":0},0,{"$f":"IF($H675>0,AO675,0)","v":0},{"$f":"IF(AQ675>0,1,0)","v":0},{"$f":"IF($H675>0,AP675,0)","v":0},{"$f":"IF(AS675>0,1,0)","v":0},{"$f":"IF($I675=AU$6,$E675,0)","v":0},0,{"$f":"IF($H675>0,AU675,0)","v":0},{"$f":"IF(AW675>0,1,0)","v":0},{"$f":"IF($H675>0,AV675,0)","v":0},{"$f":"IF(AY675>0,1,0)","v":0},{"$f":"IF($I675=BA$6,$E675,0)","v":0},0,{"$f":"IF($H675>0,BA675,0)","v":0},{"$f":"IF(BC675>0,1,0)","v":0},{"$f":"IF($H675>0,BB675,0)","v":0},{"$f":"IF(BE675>0,1,0)","v":0},null,0,null,null,null,0]
[{"$f":"IF(E676+G676>0,A674,\"\")","v":""},{"$f":"IF(E676+G676>0,B674,\"\")","v":""},{"$f":"C675","v":6},"03-4-23.854(333)",0,1.5,0,0,{"$f":"SUMIF(Y$14:BA$14,C676,Y$7:BA$7)","v":0},0,0,0,0,null,0,null,405.07,0,607.61,0,0,null,0,null,null,null,null,null,null,null,null,null,null,null,{"$f":"IF($I676=AI$7,$E676,0)","v":0},{"$f":"IF($K676=ROUND(AI$7*$F676,2),$G676,0)","v":0},0,0,0,0,{"$f":"IF($I676=AO$7,$E676,0)","v":0},{"$f":"IF($K676=ROUND(AO$7*$F676,2),$G676,0)","v":0},0,0,0,0,{"$f":"IF($I676=AU$7,$E676,0)","v":0},{"$f":"IF($K676=ROUND(AU$7*$F676,2),$G676,0)","v":0},0,0,0,0,{"$f":"IF($I676=BA$7,$E676,0)","v":0},{"$f":"IF($K676=ROUND(BA$7*$F676,2),$G676,0)","v":0},0,0,0,0,null,0,null,null,null,0]
[{"$f":"IF(E677+G677>0,A674,\"\")","v":""},{"$f":"IF(E677+G677>0,B674,\"\")","v":""},{"$f":"C675","v":6},"03-4-23.854(333)",0,1.1000000000000001,0,0,{"$f":"SUMIF(Y$14:BA$14,C677,Y$7:BA$7)","v":0},0,0,0,0,null,0,null,405.07,0,445.58,0,0,null,0,null,null,null,null,null,null,null,null,null,null,null,{"$f":"IF($I677=AI$7,$E677,0)","v":0},{"$f":"IF($K677=ROUND(AI$7*$F677,2),$G677,0)","v":0},0,0,0,0,{"$f":"IF($I677=AO$7,$E677,0)","v":0},{"$f":"IF($K677=ROUND(AO$7*$F677,2),$G677,0)","v":0},0,0,0,0,{"$f":"IF($I677=AU$7,$E677,0)","v":0},{"$f":"IF($K677=ROUND(AU$7*$F677,2),$G677,0)","v":0},0,0,0,0,{"$f":"IF($I677=BA$7,$E677,0)","v":0},{"$f":"IF($K677=ROUND(BA$7*$F677,2),$G677,0)","v":0},0,0,0,0,null,0,null,null,null,0]
["ИП               Крылова         Алена Николаевна","",{"$f":"C679","v":6},"03-4-22.855(333)",0.60199999999999998,1.5,0,0.60199999999999998,{"$f":"SUMIF(Y$14:BA$14,C678,Y$6:BA$6)","v":1733.45},{"$f":"IF(H678=0,ROUND(E678*I678,2),ROUND(H678*E678,2))","v":0.36},{"$f":"ROUND(F678*I678,2)","v":2600.1799999999998},{"$f":"IF(H678=0,ROUND(ROUND(F678*I678,2)*G678,2),ROUND(G678*H678,2))","v":0},{"$f":"L678-ROUND(G678*I678,2)","v":0},null,{"$f":"J678+L678+N678","v":0.36},null,405.07,{"$f":"ROUND(Q678*E678,2)","v":243.85},{"$f":"ROUND(F678*Q678,2)","v":607.61},{"$f":"ROUND(S678*G678,2)","v":0},{"$f":"T678-ROUND(Q678*G678,2)","v":0},null,{"$f":"R678+T678+V678","v":243.85},null,null,null,null,null,null,null,null,null,null,null,{"$f":"IF($I678=AI$6,$E678,0)","v":0},{"$f":"IF($K678=ROUND(AI$6*$F678,2),$G678,0)","v":0},{"$f":"IF($H678>0,AI678,0)","v":0},{"$f":"IF(AK678>0,1,0)","v":0},{"$f":"IF($H678>0,AJ678,0)","v":0},{"$f":"IF(AM678>0,1,0)","v":0},{"$f":"IF($I678=AO$6,$E678,0)","v":0},{"$f":"IF($K678=ROUND(AO$6*$F678,2),$G678,0)","v":0},{"$f":"IF($H678>0,AO678,0)","v":0},{"$f":"IF(AQ678>0,1,0)","v":0},{"$f":"IF($H678>0,AP678,0)","v":0},{"$f":"IF(AS678>0,1,0)","v":0},{"$f":"IF($I678=AU$6,$E678,0)","v":0.60199999999999998},{"$f":"IF($K678=ROUND(AU$6*$F678,2),$G678,0)","v":0},{"$f":"IF($H678>0,AU678,0)","v":0.60199999999999998},{"$f":"IF(AW678>0,1,0)","v":1},{"$f":"IF($H678>0,AV678,0)","v":0},{"$f":"IF(AY678>0,1,0)","v":0},{"$f":"IF($I678=BA$6,$E678,0)","v":0},{"$f":"IF($K678=ROUND(BA$6*$F678,2),$G678,0)","v":0},{"$f":"IF($H678>0,BA678,0)","v":0},{"$f":"IF(BC678>0,1,0)","v":0},{"$f":"IF($H678>0,BB678,0)","v":0},{"$f":"IF(BE678>0,1,0)","v":0},null,6.02E-4,6.2,null,null,0]
[{"$f":"IF(E679+G679>0,A678,\"\")","v":""},{"$f":"IF(E679+G679>0,B678,\"\")","v":""},6,"03-4-22.855(333)",0,1.1000000000000001,0,0,{"$f":"SUMIF(Y$14:BA$14,C679,Y$6:BA$6)","v":1733.45},{"$f":"IF(H679=0,ROUND(E679*I679,2),ROUND(H679*E679,2))","v":0},{"$f":"ROUND(F679*I679,2)","v":1906.8},{"$f":"IF(H679=0,ROUND(ROUND(F679*I679,2)*G679,2),ROUND(G679*H679,2))","v":0},{"$f":"L679-ROUND(G679*I679,2)","v":0},null,{"$f":"J679+L679+N679","v":0},null,405.07,{"$f":"ROUND(Q679*E679,2)","v":0},{"$f":"ROUND(F679*Q679,2)","v":445.58},{"$f":"ROUND(S679*G679,2)","v":0},{"$f":"T679-ROUND(Q679*G679,2)","v":0},null,{"$f":"R679+T679+V679","v":0},null,null,null,null,null,null,null,null,null,null,null,{"$f":"IF($I679=AI$6,$E679,0)","v":0},0,{"$f":"IF($H679>0,AI679,0)","v":0},{"$f":"IF(AK679>0,1,0)","v":0},{"$f":"IF($H679>0,AJ679,0)","v":0},{"$f":"IF(AM679>0,1,0)","v":0},{"$f":"IF($I679=AO$6,$E679,0)","v":0},0,{"$f":"IF($H679>0,AO679,0)","v":0},{"$f":"IF(AQ679>0,1,0)","v":0},{"$f":"IF($H679>0,AP679,0)","v":0},{"$f":"IF(AS679>0,1,0)","v":0},{"$f":"IF($I679=AU$6,$E679,0)","v":0},0,{"$f":"IF($H679>0,AU679,0)","v":0},{"$f":"IF(AW679>0,1,0)","v":0},{"$f":"IF($H679>0,AV679,0)","v":0},{"$f":"IF(AY679>0,1,0)","v":0},{"$f":"IF($I679=BA$6,$E679,0)","v":0},0,{"$f":"IF($H679>0,BA679,0)","v":0},{"$f":"IF(BC679>0,1,0)","v":0},{"$f":"IF($H679>0,BB679,0)","v":0},{"$f":"IF(BE679>0,1,0)","v":0},null,0,null,null,null,0]
[{"$f":"IF(E680+G680>0,A678,\"\")","v":""},{"$f":"IF(E680+G680>0,B678,\"\")","v":""},{"$f":"C679","v":6},"03-4-22.855(333)",0,1.5,0,0,{"$f":"SUMIF(Y$14:BA$14,C680,Y$7:BA$7)","v":0},0,0,0,0,null,0,null,405.07,0,607.61,0,0,null,0,null,null,null,null,null,null,null,null,null,null,null,{"$f":"IF($I680=AI$7,$E680,0)","v":0},{"$f":"IF($K680=ROUND(AI$7*$F680,2),$G680,0)","v":0},0,0,0,0,{"$f":"IF($I680=AO$7,$E680,0)","v":0},{"$f":"IF($K680=ROUND(AO$7*$F680,2),$G680,0)","v":0},0,0,0,0,{"$f":"IF($I680=AU$7,$E680,0)","v":0},{"$f":"IF($K680=ROUND(AU$7*$F680,2),$G680,0)","v":0},0,0,0,0,{"$f":"IF($I680=BA$7,$E680,0)","v":0},{"$f":"IF($K680=ROUND(BA$7*$F680,2),$G680,0)","v":0},0,0,0,0,null,0,null,null,null,0]
[{"$f":"IF(E681+G681>0,A678,\"\")","v":""},{"$f":"IF(E681+G681>0,B678,\"\")","v":""},{"$f":"C679","v":6},"03-4-22.855(333)",0,1.1000000000000001,0,0,{"$f":"SUMIF(Y$14:BA$14,C681,Y$7:BA$7)","v":0},0,0,0,0,null,0,null,405.07,0,445.58,0,0,null,0,null,null,null,null,null,null,null,null,null,null,null,{"$f":"IF($I681=AI$7,$E681,0)","v":0},{"$f":"IF($K681=ROUND(AI$7*$F681,2),$G681,0)","v":0},0,0,0,0,{"$f":"IF($I681=AO$7,$E681,0)","v":0},{"$f":"IF($K681=ROUND(AO$7*$F681,2),$G681,0)","v":0},0,0,0,0,{"$f":"IF($I681=AU$7,$E681,0)","v":0},{"$f":"IF($K681=ROUND(AU$7*$F681,2),$G681,0)","v":0},0,0,0,0,{"$f":"IF($I681=BA$7,$E681,0)","v":0},{"$f":"IF($K681=ROUND(BA$7*$F681,2),$G681,0)","v":0},0,0,0,0,null,0,null,null,null,0]
["Гр.               Верещагин     Роман Сергеевич","",{"$f":"C683","v":7},"03-4-23.859(333)",0.35499999999999998,1.5,0,0.35499999999999998,{"$f":"SUMIF(Y$14:BA$14,C682,Y$6:BA$6)","v":2166.8000000000002},{"$f":"IF(H682=0,ROUND(E682*I682,2),ROUND(H682*E682,2))","v":0.13},{"$f":"ROUND(F682*I682,2)","v":3250.2},{"$f":"IF(H682=0,ROUND(ROUND(F682*I682,2)*G682,2),ROUND(G682*H682,2))","v":0},{"$f":"L682-ROUND(G682*I682,2)","v":0},null,{"$f":"J682+L682+N682","v":0.13},null,405.07,{"$f":"ROUND(Q682*E682,2)","v":143.80000000000001},{"$f":"ROUND(F682*Q682,2)","v":607.61},{"$f":"ROUND(S682*G682,2)","v":0},{"$f":"T682-ROUND(Q682*G682,2)","v":0},null,{"$f":"R682+T682+V682","v":143.80000000000001},null,null,null,null,null,null,null,null,null,null,null,{"$f":"IF($I682=AI$6,$E682,0)","v":0},{"$f":"IF($K682=ROUND(AI$6*$F682,2),$G682,0)","v":0},{"$f":"IF($H682>0,AI682,0)","v":0},{"$f":"IF(AK682>0,1,0)","v":0},{"$f":"IF($H682>0,AJ682,0)","v":0},{"$f":"IF(AM682>0,1,0)","v":0},{"$f":"IF($I682=AO$6,$E682,0)","v":0},{"$f":"IF($K682=ROUND(AO$6*$F682,2),$G682,0)","v":0},{"$f":"IF($H682>0,AO682,0)","v":0},{"$f":"IF(AQ682>0,1,0)","v":0},{"$f":"IF($H682>0,AP682,0)","v":0},{"$f":"IF(AS682>0,1,0)","v":0},{"$f":"IF($I682=AU$6,$E682,0)","v":0},{"$f":"IF($K682=ROUND(AU$6*$F682,2),$G682,0)","v":0},{"$f":"IF($H682>0,AU682,0)","v":0},{"$f":"IF(AW682>0,1,0)","v":0},{"$f":"IF($H682>0,AV682,0)","v":0},{"$f":"IF(AY682>0,1,0)","v":0},{"$f":"IF($I682=BA$6,$E682,0)","v":0.35499999999999998},{"$f":"IF($K682=ROUND(BA$6*$F682,2),$G682,0)","v":0},{"$f":"IF($H682>0,BA682,0)","v":0.35499999999999998},{"$f":"IF(BC682>0,1,0)","v":1},{"$f":"IF($H682>0,BB682,0)","v":0},{"$f":"IF(BE682>0,1,0)","v":0},null,3.5499999999999996E-4,0.6,null,null,0]
[{"$f":"IF(E683+G683>0,A682,\"\")","v":""},{"$f":"IF(E683+G683>0,B682,\"\")","v":""},7,"03-4-23.859(333)",0,1.1000000000000001,0,0,{"$f":"SUMIF(Y$14:BA$14,C683,Y$6:BA$6)","v":2166.8000000000002},{"$f":"IF(H683=0,ROUND(E683*I683,2),ROUND(H683*E683,2))","v":0},{"$f":"ROUND(F683*I683,2)","v":2383.48},{"$f":"IF(H683=0,ROUND(ROUND(F683*I683,2)*G683,2),ROUND(G683*H683,2))","v":0},{"$f":"L683-ROUND(G683*I683,2)","v":0},null,{"$f":"J683+L683+N683","v":0},null,405.07,{"$f":"ROUND(Q683*E683,2)","v":0},{"$f":"ROUND(F683*Q683,2)","v":445.58},{"$f":"ROUND(S683*G683,2)","v":0},{"$f":"T683-ROUND(Q683*G683,2)","v":0},null,{"$f":"R683+T683+V683","v":0},null,null,null,null,null,null,null,null,null,null,null,{"$f":"IF($I683=AI$6,$E683,0)","v":0},0,{"$f":"IF($H683>0,AI683,0)","v":0},{"$f":"IF(AK683>0,1,0)","v":0},{"$f":"IF($H683>0,AJ683,0)","v":0},{"$f":"IF(AM683>0,1,0)","v":0},{"$f":"IF($I683=AO$6,$E683,0)","v":0},0,{"$f":"IF($H683>0,AO683,0)","v":0},{"$f":"IF(AQ683>0,1,0)","v":0},{"$f":"IF($H683>0,AP683,0)","v":0},{"$f":"IF(AS683>0,1,0)","v":0},{"$f":"IF($I683=AU$6,$E683,0)","v":0},0,{"$f":"IF($H683>0,AU683,0)","v":0},{"$f":"IF(AW683>0,1,0)","v":0},{"$f":"IF($H683>0,AV683,0)","v":0},{"$f":"IF(AY683>0,1,0)","v":0},{"$f":"IF($I683=BA$6,$E683,0)","v":0},0,{"$f":"IF($H683>0,BA683,0)","v":0},{"$f":"IF(BC683>0,1,0)","v":0},{"$f":"IF($H683>0,BB683,0)","v":0},{"$f":"IF(BE683>0,1,0)","v":0},null,0,null,null,null,0]
[{"$f":"IF(E684+G684>0,A682,\"\")","v":""},{"$f":"IF(E684+G684>0,B682,\"\")","v":""},{"$f":"C683","v":7},"03-4-23.859(333)",0,1.5,0,0,{"$f":"SUMIF(Y$14:BA$14,C684,Y$7:BA$7)","v":0},0,0,0,0,null,0,null,405.07,0,607.61,0,0,null,0,null,null,null,null,null,null,null,null,null,null,null,{"$f":"IF($I684=AI$7,$E684,0)","v":0},{"$f":"IF($K684=ROUND(AI$7*$F684,2),$G684,0)","v":0},0,0,0,0,{"$f":"IF($I684=AO$7,$E684,0)","v":0},{"$f":"IF($K684=ROUND(AO$7*$F684,2),$G684,0)","v":0},0,0,0,0,{"$f":"IF($I684=AU$7,$E684,0)","v":0},{"$f":"IF($K684=ROUND(AU$7*$F684,2),$G684,0)","v":0},0,0,0,0,{"$f":"IF($I684=BA$7,$E684,0)","v":0},{"$f":"IF($K684=ROUND(BA$7*$F684,2),$G684,0)","v":0},0,0,0,0,null,0,null,null,null,0]
[{"$f":"IF(E685+G685>0,A682,\"\")","v":""},{"$f":"IF(E685+G685>0,B682,\"\")","v":""},{"$f":"C683","v":7},"03-4-23.859(333)",0,1.1000000000000001,0,0,{"$f":"SUMIF(Y$14:BA$14,C685,Y$7:BA$7)","v":0},0,0,0,0,null,0,null,405.07,0,445.58,0,0,null,0,null,null,null,null,null,null,null,null,null,null,null,{"$f":"IF($I685=AI$7,$E685,0)","v":0},{"$f":"IF($K685=ROUND(AI$7*$F685,2),$G685,0)","v":0},0,0,0,0,{"$f":"IF($I685=AO$7,$E685,0)","v":0},{"$f":"IF($K685=ROUND(AO$7*$F685,2),$G685,0)","v":0},0,0,0,0,{"$f":"IF($I685=AU$7,$E685,0)","v":0},{"$f":"IF($K685=ROUND(AU$7*$F685,2),$G685,0)","v":0},0,0,0,0,{"$f":"IF($I685=BA$7,$E685,0)","v":0},{"$f":"IF($K685=ROUND(BA$7*$F685,2),$G685,0)","v":0},0,0,0,0,null,0,null,null,null,0]
["ООО          \"Русская Баня\"","",{"$f":"C687","v":6},"03-4-23.860(333)",2.75,1.5,0.25,3,{"$f":"SUMIF(Y$14:BA$14,C686,Y$6:BA$6)","v":1733.45},{"$f":"IF(H686=0,ROUND(E686*I686,2),ROUND(H686*E686,2))","v":8.25},{"$f":"ROUND(F686*I686,2)","v":2600.1799999999998},{"$f":"IF(H686=0,ROUND(ROUND(F686*I686,2)*G686,2),ROUND(G686*H686,2))","v":0.75},{"$f":"L686-ROUND(G686*I686,2)","v":-432.61},null,{"$f":"J686+L686+N686","v":9},null,405.07,{"$f":"ROUND(Q686*E686,2)","v":1113.94},{"$f":"ROUND(F686*Q686,2)","v":607.61},{"$f":"ROUND(S686*G686,2)","v":151.9},{"$f":"T686-ROUND(Q686*G686,2)","v":50.63000000000001},null,{"$f":"R686+T686+V686","v":1265.8400000000001},null,null,null,null,null,null,null,null,null,null,null,{"$f":"IF($I686=AI$6,$E686,0)","v":0},{"$f":"IF($K686=ROUND(AI$6*$F686,2),$G686,0)","v":0},{"$f":"IF($H686>0,AI686,0)","v":0},{"$f":"IF(AK686>0,1,0)","v":0},{"$f":"IF($H686>0,AJ686,0)","v":0},{"$f":"IF(AM686>0,1,0)","v":0},{"$f":"IF($I686=AO$6,$E686,0)","v":0},{"$f":"IF($K686=ROUND(AO$6*$F686,2),$G686,0)","v":0},{"$f":"IF($H686>0,AO686,0)","v":0},{"$f":"IF(AQ686>0,1,0)","v":0},{"$f":"IF($H686>0,AP686,0)","v":0},{"$f":"IF(AS686>0,1,0)","v":0},{"$f":"IF($I686=AU$6,$E686,0)","v":2.75},{"$f":"IF($K686=ROUND(AU$6*$F686,2),$G686,0)","v":0.25},{"$f":"IF($H686>0,AU686,0)","v":2.75},{"$f":"IF(AW686>0,1,0)","v":1},{"$f":"IF($H686>0,AV686,0)","v":0.25},{"$f":"IF(AY686>0,1,0)","v":1},{"$f":"IF($I686=BA$6,$E686,0)","v":0},{"$f":"IF($K686=ROUND(BA$6*$F686,2),$G686,0)","v":0},{"$f":"IF($H686>0,BA686,0)","v":0},{"$f":"IF(BC686>0,1,0)","v":0},{"$f":"IF($H686>0,BB686,0)","v":0},{"$f":"IF(BE686>0,1,0)","v":0},null,3.0000000000000001E-3,2.5,null,null,0]
[{"$f":"IF(E687+G687>0,A686,\"\")","v":""},{"$f":"IF(E687+G687>0,B686,\"\")","v":""},6,"03-4-23.860(333)",0,1.1000000000000001,0,0,{"$f":"SUMIF(Y$14:BA$14,C687,Y$6:BA$6)","v":1733.45},{"$f":"IF(H687=0,ROUND(E687*I687,2),ROUND(H687*E687,2))","v":0},{"$f":"ROUND(F687*I687,2)","v":1906.8},{"$f":"IF(H687=0,ROUND(ROUND(F687*I687,2)*G687,2),ROUND(G687*H687,2))","v":0},{"$f":"L687-ROUND(G687*I687,2)","v":0},null,{"$f":"J687+L687+N687","v":0},null,405.07,{"$f":"ROUND(Q687*E687,2)","v":0},{"$f":"ROUND(F687*Q687,2)","v":445.58},{"$f":"ROUND(S687*G687,2)","v":0},{"$f":"T687-ROUND(Q687*G687,2)","v":0},null,{"$f":"R687+T687+V687","v":0},null,null,null,null,null,null,null,null,null,null,null,{"$f":"IF($I687=AI$6,$E687,0)","v":0},0,{"$f":"IF($H687>0,AI687,0)","v":0},{"$f":"IF(AK687>0,1,0)","v":0},{"$f":"IF($H687>0,AJ687,0)","v":0},{"$f":"IF(AM687>0,1,0)","v":0},{"$f":"IF($I687=AO$6,$E687,0)","v":0},0,{"$f":"IF($H687>0,AO687,0)","v":0},{"$f":"IF(AQ687>0,1,0)","v":0},{"$f":"IF($H687>0,AP687,0)","v":0},{"$f":"IF(AS687>0,1,0)","v":0},{"$f":"IF($I687=AU$6,$E687,0)","v":0},0,{"$f":"IF($H687>0,AU687,0)","v":0},{"$f":"IF(AW687>0,1,0)","v":0},{"$f":"IF($H687>0,AV687,0)","v":0},{"$f":"IF(AY687>0,1,0)","v":0},{"$f":"IF($I687=BA$6,$E687,0)","v":0},0,{"$f":"IF($H687>0,BA687,0)","v":0},{"$f":"IF(BC687>0,1,0)","v":0},{"$f":"IF($H687>0,BB687,0)","v":0},{"$f":"IF(BE687>0,1,0)","v":0},null,0,null,null,null,0]
[{"$f":"IF(E688+G688>0,A686,\"\")","v":""},{"$f":"IF(E688+G688>0,B686,\"\")","v":""},{"$f":"C687","v":6},"03-4-23.860(333)",0,1.5,0,0,{"$f":"SUMIF(Y$14:BA$14,C688,Y$7:BA$7)","v":0},0,0,0,0,null,0,null,405.07,0,607.61,0,0,null,0,null,null,null,null,null,null,null,null,null,null,null,{"$f":"IF($I688=AI$7,$E688,0)","v":0},{"$f":"IF($K688=ROUND(AI$7*$F688,2),$G688,0)","v":0},0,0,0,0,{"$f":"IF($I688=AO$7,$E688,0)","v":0},{"$f":"IF($K688=ROUND(AO$7*$F688,2),$G688,0)","v":0},0,0,0,0,{"$f":"IF($I688=AU$7,$E688,0)","v":0},{"$f":"IF($K688=ROUND(AU$7*$F688,2),$G688,0)","v":0},0,0,0,0,{"$f":"IF($I688=BA$7,$E688,0)","v":0},{"$f":"IF($K688=ROUND(BA$7*$F688,2),$G688,0)","v":0},0,0,0,0,null,0,null,null,null,0]
[{"$f":"IF(E689+G689>0,A686,\"\")","v":""},{"$f":"IF(E689+G689>0,B686,\"\")","v":""},{"$f":"C687","v":6},"03-4-23.860(333)",0,1.1000000000000001,0,0,{"$f":"SUMIF(Y$14:BA$14,C689,Y$7:BA$7)","v":0},0,0,0,0,null,0,null,405.07,0,445.58,0,0,null,0,null,null,null,null,null,null,null,null,null,null,null,{"$f":"IF($I689=AI$7,$E689,0)","v":0},{"$f":"IF($K689=ROUND(AI$7*$F689,2),$G689,0)","v":0},0,0,0,0,{"$f":"IF($I689=AO$7,$E689,0)","v":0},{"$f":"IF($K689=ROUND(AO$7*$F689,2),$G689,0)","v":0},0,0,0,0,{"$f":"IF($I689=AU$7,$E689,0)","v":0},{"$f":"IF($K689=ROUND(AU$7*$F689,2),$G689,0)","v":0},0,0,0,0,{"$f":"IF($I689=BA$7,$E689,0)","v":0},{"$f":"IF($K689=ROUND(BA$7*$F689,2),$G689,0)","v":0},0,0,0,0,null,0,null,null,null,0]
["Гр.               Сафоновский Владимир Николаевич","д.Лукинская",{"$f":"C691","v":7},"03-4-23.861(333)",0.29299999999999998,1.5,0,0.29299999999999998,{"$f":"SUMIF(Y$14:BA$14,C690,Y$6:BA$6)","v":2166.8000000000002},{"$f":"IF(H690=0,ROUND(E690*I690,2),ROUND(H690*E690,2))","v":0.09},{"$f":"ROUND(F690*I690,2)","v":3250.2},{"$f":"IF(H690=0,ROUND(ROUND(F690*I690,2)*G690,2),ROUND(G690*H690,2))","v":0},{"$f":"L690-ROUND(G690*I690,2)","v":0},null,{"$f":"J690+L690+N690","v":0.09},null,405.07,{"$f":"ROUND(Q690*E690,2)","v":118.69},{"$f":"ROUND(F690*Q690,2)","v":607.61},{"$f":"ROUND(S690*G690,2)","v":0},{"$f":"T690-ROUND(Q690*G690,2)","v":0},null,{"$f":"R690+T690+V690","v":118.69},null,null,null,null,null,null,null,null,null,null,null,{"$f":"IF($I690=AI$6,$E690,0)","v":0},{"$f":"IF($K690=ROUND(AI$6*$F690,2),$G690,0)","v":0},{"$f":"IF($H690>0,AI690,0)","v":0},{"$f":"IF(AK690>0,1,0)","v":0},{"$f":"IF($H690>0,AJ690,0)","v":0},{"$f":"IF(AM690>0,1,0)","v":0},{"$f":"IF($I690=AO$6,$E690,0)","v":0},{"$f":"IF($K690=ROUND(AO$6*$F690,2),$G690,0)","v":0},{"$f":"IF($H690>0,AO690,0)","v":0},{"$f":"IF(AQ690>0,1,0)","v":0},{"$f":"IF($H690>0,AP690,0)","v":0},{"$f":"IF(AS690>0,1,0)","v":0},{"$f":"IF($I690=AU$6,$E690,0)","v":0},{"$f":"IF($K690=ROUND(AU$6*$F690,2),$G690,0)","v":0},{"$f":"IF($H690>0,AU690,0)","v":0},{"$f":"IF(AW690>0,1,0)","v":0},{"$f":"IF($H690>0,AV690,0)","v":0},{"$f":"IF(AY690>0,1,0)","v":0},{"$f":"IF($I690=BA$6,$E690,0)","v":0.29299999999999998},{"$f":"IF($K690=ROUND(BA$6*$F690,2),$G690,0)","v":0},{"$f":"IF($H690>0,BA690,0)","v":0.29299999999999998},{"$f":"IF(BC690>0,1,0)","v":1},{"$f":"IF($H690>0,BB690,0)","v":0},{"$f":"IF(BE690>0,1,0)","v":0},null,2.9299999999999997E-4,3,null,null,0]
[{"$f":"IF(E691+G691>0,A690,\"\")","v":""},{"$f":"IF(E691+G691>0,B690,\"\")","v":""},7,"03-4-23.861(333)",0,1.1000000000000001,0,0,{"$f":"SUMIF(Y$14:BA$14,C691,Y$6:BA$6)","v":2166.8000000000002},{"$f":"IF(H691=0,ROUND(E691*I691,2),ROUND(H691*E691,2))","v":0},{"$f":"ROUND(F691*I691,2)","v":2383.48},{"$f":"IF(H691=0,ROUND(ROUND(F691*I691,2)*G691,2),ROUND(G691*H691,2))","v":0},{"$f":"L691-ROUND(G691*I691,2)","v":0},null,{"$f":"J691+L691+N691","v":0},null,405.07,{"$f":"ROUND(Q691*E691,2)","v":0},{"$f":"ROUND(F691*Q691,2)","v":445.58},{"$f":"ROUND(S691*G691,2)","v":0},{"$f":"T691-ROUND(Q691*G691,2)","v":0},null,{"$f":"R691+T691+V691","v":0},null,null,null,null,null,null,null,null,null,null,null,{"$f":"IF($I691=AI$6,$E691,0)","v":0},0,{"$f":"IF($H691>0,AI691,0)","v":0},{"$f":"IF(AK691>0,1,0)","v":0},{"$f":"IF($H691>0,AJ691,0)","v":0},{"$f":"IF(AM691>0,1,0)","v":0},{"$f":"IF($I691=AO$6,$E691,0)","v":0},0,{"$f":"IF($H691>0,AO691,0)","v":0},{"$f":"IF(AQ691>0,1,0)","v":0},{"$f":"IF($H691>0,AP691,0)","v":0},{"$f":"IF(AS691>0,1,0)","v":0},{"$f":"IF($I691=AU$6,$E691,0)","v":0},0,{"$f":"IF($H691>0,AU691,0)","v":0},{"$f":"IF(AW691>0,1,0)","v":0},{"$f":"IF($H691>0,AV691,0)","v":0},{"$f":"IF(AY691>0,1,0)","v":0},{"$f":"IF($I691=BA$6,$E691,0)","v":0},0,{"$f":"IF($H691>0,BA691,0)","v":0},{"$f":"IF(BC691>0,1,0)","v":0},{"$f":"IF($H691>0,BB691,0)","v":0},{"$f":"IF(BE691>0,1,0)","v":0},null,0,null,null,null,0]
[{"$f":"IF(E692+G692>0,A690,\"\")","v":""},{"$f":"IF(E692+G692>0,B690,\"\")","v":""},{"$f":"C691","v":7},"03-4-23.861(333)",0,1.5,0,0,{"$f":"SUMIF(Y$14:BA$14,C692,Y$7:BA$7)","v":0},0,0,0,0,null,0,null,405.07,0,607.61,0,0,null,0,null,null,null,null,null,null,null,null,null,null,null,{"$f":"IF($I692=AI$7,$E692,0)","v":0},{"$f":"IF($K692=ROUND(AI$7*$F692,2),$G692,0)","v":0},0,0,0,0,{"$f":"IF($I692=AO$7,$E692,0)","v":0},{"$f":"IF($K692=ROUND(AO$7*$F692,2),$G692,0)","v":0},0,0,0,0,{"$f":"IF($I692=AU$7,$E692,0)","v":0},{"$f":"IF($K692=ROUND(AU$7*$F692,2),$G692,0)","v":0},0,0,0,0,{"$f":"IF($I692=BA$7,$E692,0)","v":0},{"$f":"IF($K692=ROUND(BA$7*$F692,2),$G692,0)","v":0},0,0,0,0,null,0,null,null,null,0]
[{"$f":"IF(E693+G693>0,A690,\"\")","v":""},{"$f":"IF(E693+G693>0,B690,\"\")","v":""},{"$f":"C691","v":7},"03-4-23.861(333)",0,1.1000000000000001,0,0,{"$f":"SUMIF(Y$14:BA$14,C693,Y$7:BA$7)","v":0},0,0,0,0,null,0,null,405.07,0,445.58,0,0,null,0,null,null,null,null,null,null,null,null,null,null,null,{"$f":"IF($I693=AI$7,$E693,0)","v":0},{"$f":"IF($K693=ROUND(AI$7*$F693,2),$G693,0)","v":0},0,0,0,0,{"$f":"IF($I693=AO$7,$E693,0)","v":0},{"$f":"IF($K693=ROUND(AO$7*$F693,2),$G693,0)","v":0},0,0,0,0,{"$f":"IF($I693=AU$7,$E693,0)","v":0},{"$f":"IF($K693=ROUND(AU$7*$F693,2),$G693,0)","v":0},0,0,0,0,{"$f":"IF($I693=BA$7,$E693,0)","v":0},{"$f":"IF($K693=ROUND(BA$7*$F693,2),$G693,0)","v":0},0,0,0,0,null,0,null,null,null,0]
["МУП          \"ЖЭУ\"  г.Вельск","Вельск, ул.Тракторная-18А (гараж)",{"$f":"C695","v":6},"03-4-23.863(333)",0.998,1.5,0,0.998,{"$f":"SUMIF(Y$14:BA$14,C694,Y$6:BA$6)","v":1733.45},{"$f":"IF(H694=0,ROUND(E694*I694,2),ROUND(H694*E694,2))","v":1},{"$f":"ROUND(F694*I694,2)","v":2600.1799999999998},{"$f":"IF(H694=0,ROUND(ROUND(F694*I694,2)*G694,2),ROUND(G694*H694,2))","v":0},{"$f":"L694-ROUND(G694*I694,2)","v":0},null,{"$f":"J694+L694+N694","v":1},null,405.07,{"$f":"ROUND(Q694*E694,2)","v":404.26},{"$f":"ROUND(F694*Q694,2)","v":607.61},{"$f":"ROUND(S694*G694,2)","v":0},{"$f":"T694-ROUND(Q694*G694,2)","v":0},null,{"$f":"R694+T694+V694","v":404.26},null,null,null,null,null,null,null,null,null,null,null,{"$f":"IF($I694=AI$6,$E694,0)","v":0},{"$f":"IF($K694=ROUND(AI$6*$F694,2),$G694,0)","v":0},{"$f":"IF($H694>0,AI694,0)","v":0},{"$f":"IF(AK694>0,1,0)","v":0},{"$f":"IF($H694>0,AJ694,0)","v":0},{"$f":"IF(AM694>0,1,0)","v":0},{"$f":"IF($I694=AO$6,$E694,0)","v":0},{"$f":"IF($K694=ROUND(AO$6*$F694,2),$G694,0)","v":0},{"$f":"IF($H694>0,AO694,0)","v":0},{"$f":"IF(AQ694>0,1,0)","v":0},{"$f":"IF($H694>0,AP694,0)","v":0},{"$f":"IF(AS694>0,1,0)","v":0},{"$f":"IF($I694=AU$6,$E694,0)","v":0.998},{"$f":"IF($K694=ROUND(AU$6*$F694,2),$G694,0)","v":0},{"$f":"IF($H694>0,AU694,0)","v":0.998},{"$f":"IF(AW694>0,1,0)","v":1},{"$f":"IF($H694>0,AV694,0)","v":0},{"$f":"IF(AY694>0,1,0)","v":0},{"$f":"IF($I694=BA$6,$E694,0)","v":0},{"$f":"IF($K694=ROUND(BA$6*$F694,2),$G694,0)","v":0},{"$f":"IF($H694>0,BA694,0)","v":0},{"$f":"IF(BC694>0,1,0)","v":0},{"$f":"IF($H694>0,BB694,0)","v":0},{"$f":"IF(BE694>0,1,0)","v":0},null,9.9799999999999997E-4,2.2000000000000002,null,null,0]
[{"$f":"IF(E695+G695>0,A694,\"\")","v":""},{"$f":"IF(E695+G695>0,B694,\"\")","v":""},6,"03-4-23.863(333)",0,1.1000000000000001,0,0,{"$f":"SUMIF(Y$14:BA$14,C695,Y$6:BA$6)","v":1733.45},{"$f":"IF(H695=0,ROUND(E695*I695,2),ROUND(H695*E695,2))","v":0},{"$f":"ROUND(F695*I695,2)","v":1906.8},{"$f":"IF(H695=0,ROUND(ROUND(F695*I695,2)*G695,2),ROUND(G695*H695,2))","v":0},{"$f":"L695-ROUND(G695*I695,2)","v":0},null,{"$f":"J695+L695+N695","v":0},null,405.07,{"$f":"ROUND(Q695*E695,2)","v":0},{"$f":"ROUND(F695*Q695,2)","v":445.58},{"$f":"ROUND(S695*G695,2)","v":0},{"$f":"T695-ROUND(Q695*G695,2)","v":0},null,{"$f":"R695+T695+V695","v":0},null,null,null,null,null,null,null,null,null,null,null,{"$f":"IF($I695=AI$6,$E695,0)","v":0},0,{"$f":"IF($H695>0,AI695,0)","v":0},{"$f":"IF(AK695>0,1,0)","v":0},{"$f":"IF($H695>0,AJ695,0)","v":0},{"$f":"IF(AM695>0,1,0)","v":0},{"$f":"IF($I695=AO$6,$E695,0)","v":0},0,{"$f":"IF($H695>0,AO695,0)","v":0},{"$f":"IF(AQ695>0,1,0)","v":0},{"$f":"IF($H695>0,AP695,0)","v":0},{"$f":"IF(AS695>0,1,0)","v":0},{"$f":"IF($I695=AU$6,$E695,0)","v":0},0,{"$f":"IF($H695>0,AU695,0)","v":0},{"$f":"IF(AW695>0,1,0)","v":0},{"$f":"IF($H695>0,AV695,0)","v":0},{"$f":"IF(AY695>0,1,0)","v":0},{"$f":"IF($I695=BA$6,$E695,0)","v":0},0,{"$f":"IF($H695>0,BA695,0)","v":0},{"$f":"IF(BC695>0,1,0)","v":0},{"$f":"IF($H695>0,BB695,0)","v":0},{"$f":"IF(BE695>0,1,0)","v":0},null,0,null,null,null,0]
[{"$f":"IF(E696+G696>0,A694,\"\")","v":""},{"$f":"IF(E696+G696>0,B694,\"\")","v":""},{"$f":"C695","v":6},"03-4-23.863(333)",0,1.5,0,0,{"$f":"SUMIF(Y$14:BA$14,C696,Y$7:BA$7)","v":0},0,0,0,0,null,0,null,405.07,0,607.61,0,0,null,0,null,null,null,null,null,null,null,null,null,null,null,{"$f":"IF($I696=AI$7,$E696,0)","v":0},{"$f":"IF($K696=ROUND(AI$7*$F696,2),$G696,0)","v":0},0,0,0,0,{"$f":"IF($I696=AO$7,$E696,0)","v":0},{"$f":"IF($K696=ROUND(AO$7*$F696,2),$G696,0)","v":0},0,0,0,0,{"$f":"IF($I696=AU$7,$E696,0)","v":0},{"$f":"IF($K696=ROUND(AU$7*$F696,2),$G696,0)","v":0},0,0,0,0,{"$f":"IF($I696=BA$7,$E696,0)","v":0},{"$f":"IF($K696=ROUND(BA$7*$F696,2),$G696,0)","v":0},0,0,0,0,null,0,null,null,null,0]
[{"$f":"IF(E697+G697>0,A694,\"\")","v":""},{"$f":"IF(E697+G697>0,B694,\"\")","v":""},{"$f":"C695","v":6},"03-4-23.863(333)",0,1.1000000000000001,0,0,{"$f":"SUMIF(Y$14:BA$14,C697,Y$7:BA$7)","v":0},0,0,0,0,null,0,null,405.07,0,445.58,0,0,null,0,null,null,null,null,null,null,null,null,null,null,null,{"$f":"IF($I697=AI$7,$E697,0)","v":0},{"$f":"IF($K697=ROUND(AI$7*$F697,2),$G697,0)","v":0},0,0,0,0,{"$f":"IF($I697=AO$7,$E697,0)","v":0},{"$f":"IF($K697=ROUND(AO$7*$F697,2),$G697,0)","v":0},0,0,0,0,{"$f":"IF($I697=AU$7,$E697,0)","v":0},{"$f":"IF($K697=ROUND(AU$7*$F697,2),$G697,0)","v":0},0,0,0,0,{"$f":"IF($I697=BA$7,$E697,0)","v":0},{"$f":"IF($K697=ROUND(BA$7*$F697,2),$G697,0)","v":0},0,0,0,0,null,0,null,null,null,0]
["МУП          \"ЖЭУ\"  г.Вельск","Вельск, ул.Нечаевского-3 (адм.здание)",{"$f":"C699","v":6},"03-4-23.863(333)",0.50600000000000001,1.5,0,0.50600000000000001,{"$f":"SUMIF(Y$14:BA$14,C698,Y$6:BA$6)","v":1733.45},{"$f":"IF(H698=0,ROUND(E698*I698,2),ROUND(H698*E698,2))","v":0.26},{"$f":"ROUND(F698*I698,2)","v":2600.1799999999998},{"$f":"IF(H698=0,ROUND(ROUND(F698*I698,2)*G698,2),ROUND(G698*H698,2))","v":0},{"$f":"L698-ROUND(G698*I698,2)","v":0},null,{"$f":"J698+L698+N698","v":0.26},null,405.07,{"$f":"ROUND(Q698*E698,2)","v":204.97},{"$f":"ROUND(F698*Q698,2)","v":607.61},{"$f":"ROUND(S698*G698,2)","v":0},{"$f":"T698-ROUND(Q698*G698,2)","v":0},null,{"$f":"R698+T698+V698","v":204.97},null,null,null,null,null,null,null,null,null,null,null,{"$f":"IF($I698=AI$6,$E698,0)","v":0},{"$f":"IF($K698=ROUND(AI$6*$F698,2),$G698,0)","v":0},{"$f":"IF($H698>0,AI698,0)","v":0},{"$f":"IF(AK698>0,1,0)","v":0},{"$f":"IF($H698>0,AJ698,0)","v":0},{"$f":"IF(AM698>0,1,0)","v":0},{"$f":"IF($I698=AO$6,$E698,0)","v":0},{"$f":"IF($K698=ROUND(AO$6*$F698,2),$G698,0)","v":0},{"$f":"IF($H698>0,AO698,0)","v":0},{"$f":"IF(AQ698>0,1,0)","v":0},{"$f":"IF($H698>0,AP698,0)","v":0},{"$f":"IF(AS698>0,1,0)","v":0},{"$f":"IF($I698=AU$6,$E698,0)","v":0.50600000000000001},{"$f":"IF($K698=ROUND(AU$6*$F698,2),$G698,0)","v":0},{"$f":"IF($H698>0,AU698,0)","v":0.50600000000000001},{"$f":"IF(AW698>0,1,0)","v":1},{"$f":"IF($H698>0,AV698,0)","v":0},{"$f":"IF(AY698>0,1,0)","v":0},{"$f":"IF($I698=BA$6,$E698,0)","v":0},{"$f":"IF($K698=ROUND(BA$6*$F698,2),$G698,0)","v":0},{"$f":"IF($H698>0,BA698,0)","v":0},{"$f":"IF(BC698>0,1,0)","v":0},{"$f":"IF($H698>0,BB698,0)","v":0},{"$f":"IF(BE698>0,1,0)","v":0},null,5.0600000000000005E-4,1.2,null,null,0]
[{"$f":"IF(E699+G699>0,A698,\"\")","v":""},{"$f":"IF(E699+G699>0,B698,\"\")","v":""},6,"03-4-23.863(333)",0,1.1000000000000001,0,0,{"$f":"SUMIF(Y$14:BA$14,C699,Y$6:BA$6)","v":1733.45},{"$f":"IF(H699=0,ROUND(E699*I699,2),ROUND(H699*E699,2))","v":0},{"$f":"ROUND(F699*I699,2)","v":1906.8},{"$f":"IF(H699=0,ROUND(ROUND(F699*I699,2)*G699,2),ROUND(G699*H699,2))","v":0},{"$f":"L699-ROUND(G699*I699,2)","v":0},null,{"$f":"J699+L699+N699","v":0},null,405.07,{"$f":"ROUND(Q699*E699,2)","v":0},{"$f":"ROUND(F699*Q699,2)","v":445.58},{"$f":"ROUND(S699*G699,2)","v":0},{"$f":"T699-ROUND(Q699*G699,2)","v":0},null,{"$f":"R699+T699+V699","v":0},null,null,null,null,null,null,null,null,null,null,null,{"$f":"IF($I699=AI$6,$E699,0)","v":0},0,{"$f":"IF($H699>0,AI699,0)","v":0},{"$f":"IF(AK699>0,1,0)","v":0},{"$f":"IF($H699>0,AJ699,0)","v":0},{"$f":"IF(AM699>0,1,0)","v":0},{"$f":"IF($I699=AO$6,$E699,0)","v":0},0,{"$f":"IF($H699>0,AO699,0)","v":0},{"$f":"IF(AQ699>0,1,0)","v":0},{"$f":"IF($H699>0,AP699,0)","v":0},{"$f":"IF(AS699>0,1,0)","v":0},{"$f":"IF($I699=AU$6,$E699,0)","v":0},0,{"$f":"IF($H699>0,AU699,0)","v":0},{"$f":"IF(AW699>0,1,0)","v":0},{"$f":"IF($H699>0,AV699,0)","v":0},{"$f":"IF(AY699>0,1,0)","v":0},{"$f":"IF($I699=BA$6,$E699,0)","v":0},0,{"$f":"IF($H699>0,BA699,0)","v":0},{"$f":"IF(BC699>0,1,0)","v":0},{"$f":"IF($H699>0,BB699,0)","v":0},{"$f":"IF(BE699>0,1,0)","v":0},null,0,null,null,null,0]
[{"$f":"IF(E700+G700>0,A698,\"\")","v":""},{"$f":"IF(E700+G700>0,B698,\"\")","v":""},{"$f":"C699","v":6},"03-4-23.863(333)",0,1.5,0,0,{"$f":"SUMIF(Y$14:BA$14,C700,Y$7:BA$7)","v":0},0,0,0,0,null,0,null,405.07,0,607.61,0,0,null,0,null,null,null,null,null,null,null,null,null,null,null,{"$f":"IF($I700=AI$7,$E700,0)","v":0},{"$f":"IF($K700=ROUND(AI$7*$F700,2),$G700,0)","v":0},0,0,0,0,{"$f":"IF($I700=AO$7,$E700,0)","v":0},{"$f":"IF($K700=ROUND(AO$7*$F700,2),$G700,0)","v":0},0,0,0,0,{"$f":"IF($I700=AU$7,$E700,0)","v":0},{"$f":"IF($K700=ROUND(AU$7*$F700,2),$G700,0)","v":0},0,0,0,0,{"$f":"IF($I700=BA$7,$E700,0)","v":0},{"$f":"IF($K700=ROUND(BA$7*$F700,2),$G700,0)","v":0},0,0,0,0,null,0,null,null,null,0]
[{"$f":"IF(E701+G701>0,A698,\"\")","v":""},{"$f":"IF(E701+G701>0,B698,\"\")","v":""},{"$f":"C699","v":6},"03-4-23.863(333)",0,1.1000000000000001,0,0,{"$f":"SUMIF(Y$14:BA$14,C701,Y$7:BA$7)","v":0},0,0,0,0,null,0,null,405.07,0,445.58,0,0,null,0,null,null,null,null,null,null,null,null,null,null,null,{"$f":"IF($I701=AI$7,$E701,0)","v":0},{"$f":"IF($K701=ROUND(AI$7*$F701,2),$G701,0)","v":0},0,0,0,0,{"$f":"IF($I701=AO$7,$E701,0)","v":0},{"$f":"IF($K701=ROUND(AO$7*$F701,2),$G701,0)","v":0},0,0,0,0,{"$f":"IF($I701=AU$7,$E701,0)","v":0},{"$f":"IF($K701=ROUND(AU$7*$F701,2),$G701,0)","v":0},0,0,0,0,{"$f":"IF($I701=BA$7,$E701,0)","v":0},{"$f":"IF($K701=ROUND(BA$7*$F701,2),$G701,0)","v":0},0,0,0,0,null,0,null,null,null,0]
["ООО          \"Торговая фирма\"","Вельск, ул.Горького-15",{"$f":"C703","v":6},"03-4-23.867(333)",1.0349999999999999,1.5,0,1.0349999999999999,{"$f":"SUMIF(Y$14:BA$14,C702,Y$6:BA$6)","v":1733.45},{"$f":"IF(H702=0,ROUND(E702*I702,2),ROUND(H702*E702,2))","v":1.07},{"$f":"ROUND(F702*I702,2)","v":2600.1799999999998},{"$f":"IF(H702=0,ROUND(ROUND(F702*I702,2)*G702,2),ROUND(G702*H702,2))","v":0},{"$f":"L702-ROUND(G702*I702,2)","v":0},null,{"$f":"J702+L702+N702","v":1.07},null,405.07,{"$f":"ROUND(Q702*E702,2)","v":419.25},{"$f":"ROUND(F702*Q702,2)","v":607.61},{"$f":"ROUND(S702*G702,2)","v":0},{"$f":"T702-ROUND(Q702*G702,2)","v":0},null,{"$f":"R702+T702+V702","v":419.25},null,null,null,null,null,null,null,null,null,null,null,{"$f":"IF($I702=AI$6,$E702,0)","v":0},{"$f":"IF($K702=ROUND(AI$6*$F702,2),$G702,0)","v":0},{"$f":"IF($H702>0,AI702,0)","v":0},{"$f":"IF(AK702>0,1,0)","v":0},{"$f":"IF($H702>0,AJ702,0)","v":0},{"$f":"IF(AM702>0,1,0)","v":0},{"$f":"IF($I702=AO$6,$E702,0)","v":0},{"$f":"IF($K702=ROUND(AO$6*$F702,2),$G702,0)","v":0},{"$f":"IF($H702>0,AO702,0)","v":0},{"$f":"IF(AQ702>0,1,0)","v":0},{"$f":"IF($H702>0,AP702,0)","v":0},{"$f":"IF(AS702>0,1,0)","v":0},{"$f":"IF($I702=AU$6,$E702,0)","v":1.0349999999999999},{"$f":"IF($K702=ROUND(AU$6*$F702,2),$G702,0)","v":0},{"$f":"IF($H702>0,AU702,0)","v":1.0349999999999999},{"$f":"IF(AW702>0,1,0)","v":1},{"$f":"IF($H702>0,AV702,0)","v":0},{"$f":"IF(AY702>0,1,0)","v":0},{"$f":"IF($I702=BA$6,$E702,0)","v":0},{"$f":"IF($K702=ROUND(BA$6*$F702,2),$G702,0)","v":0},{"$f":"IF($H702>0,BA702,0)","v":0},{"$f":"IF(BC702>0,1,0)","v":0},{"$f":"IF($H702>0,BB702,0)","v":0},{"$f":"IF(BE702>0,1,0)","v":0},null,1.0349999999999999E-3,1.2,null,null,0]
[{"$f":"IF(E703+G703>0,A702,\"\")","v":""},{"$f":"IF(E703+G703>0,B702,\"\")","v":""},6,"03-4-23.867(333)",0,1.1000000000000001,0,0,{"$f":"SUMIF(Y$14:BA$14,C703,Y$6:BA$6)","v":1733.45},{"$f":"IF(H703=0,ROUND(E703*I703,2),ROUND(H703*E703,2))","v":0},{"$f":"ROUND(F703*I703,2)","v":1906.8},{"$f":"IF(H703=0,ROUND(ROUND(F703*I703,2)*G703,2),ROUND(G703*H703,2))","v":0},{"$f":"L703-ROUND(G703*I703,2)","v":0},null,{"$f":"J703+L703+N703","v":0},null,405.07,{"$f":"ROUND(Q703*E703,2)","v":0},{"$f":"ROUND(F703*Q703,2)","v":445.58},{"$f":"ROUND(S703*G703,2)","v":0},{"$f":"T703-ROUND(Q703*G703,2)","v":0},null,{"$f":"R703+T703+V703","v":0},null,null,null,null,null,null,null,null,null,null,null,{"$f":"IF($I703=AI$6,$E703,0)","v":0},0,{"$f":"IF($H703>0,AI703,0)","v":0},{"$f":"IF(AK703>0,1,0)","v":0},{"$f":"IF($H703>0,AJ703,0)","v":0},{"$f":"IF(AM703>0,1,0)","v":0},{"$f":"IF($I703=AO$6,$E703,0)","v":0},0,{"$f":"IF($H703>0,AO703,0)","v":0},{"$f":"IF(AQ703>0,1,0)","v":0},{"$f":"IF($H703>0,AP703,0)","v":0},{"$f":"IF(AS703>0,1,0)","v":0},{"$f":"IF($I703=AU$6,$E703,0)","v":0},0,{"$f":"IF($H703>0,AU703,0)","v":0},{"$f":"IF(AW703>0,1,0)","v":0},{"$f":"IF($H703>0,AV703,0)","v":0},{"$f":"IF(AY703>0,1,0)","v":0},{"$f":"IF($I703=BA$6,$E703,0)","v":0},0,{"$f":"IF($H703>0,BA703,0)","v":0},{"$f":"IF(BC703>0,1,0)","v":0},{"$f":"IF($H703>0,BB703,0)","v":0},{"$f":"IF(BE703>0,1,0)","v":0},null,0,null,null,null,0]
[{"$f":"IF(E704+G704>0,A702,\"\")","v":""},{"$f":"IF(E704+G704>0,B702,\"\")","v":""},{"$f":"C703","v":6},"03-4-23.867(333)",0,1.5,0,0,{"$f":"SUMIF(Y$14:BA$14,C704,Y$7:BA$7)","v":0},0,0,0,0,null,0,null,405.07,0,607.61,0,0,null,0,null,null,null,null,null,null,null,null,null,null,null,{"$f":"IF($I704=AI$7,$E704,0)","v":0},{"$f":"IF($K704=ROUND(AI$7*$F704,2),$G704,0)","v":0},0,0,0,0,{"$f":"IF($I704=AO$7,$E704,0)","v":0},{"$f":"IF($K704=ROUND(AO$7*$F704,2),$G704,0)","v":0},0,0,0,0,{"$f":"IF($I704=AU$7,$E704,0)","v":0},{"$f":"IF($K704=ROUND(AU$7*$F704,2),$G704,0)","v":0},0,0,0,0,{"$f":"IF($I704=BA$7,$E704,0)","v":0},{"$f":"IF($K704=ROUND(BA$7*$F704,2),$G704,0)","v":0},0,0,0,0,null,0,null,null,null,0]
[{"$f":"IF(E705+G705>0,A702,\"\")","v":""},{"$f":"IF(E705+G705>0,B702,\"\")","v":""},{"$f":"C703","v":6},"03-4-23.867(333)",0,1.1000000000000001,0,0,{"$f":"SUMIF(Y$14:BA$14,C705,Y$7:BA$7)","v":0},0,0,0,0,null,0,null,405.07,0,445.58,0,0,null,0,null,null,null,null,null,null,null,null,null,null,null,{"$f":"IF($I705=AI$7,$E705,0)","v":0},{"$f":"IF($K705=ROUND(AI$7*$F705,2),$G705,0)","v":0},0,0,0,0,{"$f":"IF($I705=AO$7,$E705,0)","v":0},{"$f":"IF($K705=ROUND(AO$7*$F705,2),$G705,0)","v":0},0,0,0,0,{"$f":"IF($I705=AU$7,$E705,0)","v":0},{"$f":"IF($K705=ROUND(AU$7*$F705,2),$G705,0)","v":0},0,0,0,0,{"$f":"IF($I705=BA$7,$E705,0)","v":0},{"$f":"IF($K705=ROUND(BA$7*$F705,2),$G705,0)","v":0},0,0,0,0,null,0,null,null,null,0]
["ООО          \"Торговая фирма\"","Вельск, ул.Чехова-10а",{"$f":"C707","v":6},"03-4-23.867(333)",1.2,1.5,0,1.2,{"$f":"SUMIF(Y$14:BA$14,C706,Y$6:BA$6)","v":1733.45},{"$f":"IF(H706=0,ROUND(E706*I706,2),ROUND(H706*E706,2))","v":1.44},{"$f":"ROUND(F706*I706,2)","v":2600.1799999999998},{"$f":"IF(H706=0,ROUND(ROUND(F706*I706,2)*G706,2),ROUND(G706*H706,2))","v":0},{"$f":"L706-ROUND(G706*I706,2)","v":0},null,{"$f":"J706+L706+N706","v":1.44},null,405.07,{"$f":"ROUND(Q706*E706,2)","v":486.08},{"$f":"ROUND(F706*Q706,2)","v":607.61},{"$f":"ROUND(S706*G706,2)","v":0},{"$f":"T706-ROUND(Q706*G706,2)","v":0},null,{"$f":"R706+T706+V706","v":486.08},null,null,null,null,null,null,null,null,null,null,null,{"$f":"IF($I706=AI$6,$E706,0)","v":0},{"$f":"IF($K706=ROUND(AI$6*$F706,2),$G706,0)","v":0},{"$f":"IF($H706>0,AI706,0)","v":0},{"$f":"IF(AK706>0,1,0)","v":0},{"$f":"IF($H706>0,AJ706,0)","v":0},{"$f":"IF(AM706>0,1,0)","v":0},{"$f":"IF($I706=AO$6,$E706,0)","v":0},{"$f":"IF($K706=ROUND(AO$6*$F706,2),$G706,0)","v":0},{"$f":"IF($H706>0,AO706,0)","v":0},{"$f":"IF(AQ706>0,1,0)","v":0},{"$f":"IF($H706>0,AP706,0)","v":0},{"$f":"IF(AS706>0,1,0)","v":0},{"$f":"IF($I706=AU$6,$E706,0)","v":1.2},{"$f":"IF($K706=ROUND(AU$6*$F706,2),$G706,0)","v":0},{"$f":"IF($H706>0,AU706,0)","v":1.2},{"$f":"IF(AW706>0,1,0)","v":1},{"$f":"IF($H706>0,AV706,0)","v":0},{"$f":"IF(AY706>0,1,0)","v":0},{"$f":"IF($I706=BA$6,$E706,0)","v":0},{"$f":"IF($K706=ROUND(BA$6*$F706,2),$G706,0)","v":0},{"$f":"IF($H706>0,BA706,0)","v":0},{"$f":"IF(BC706>0,1,0)","v":0},{"$f":"IF($H706>0,BB706,0)","v":0},{"$f":"IF(BE706>0,1,0)","v":0},null,1.1999999999999999E-3,1.7,null,null,0]
[{"$f":"IF(E707+G707>0,A706,\"\")","v":""},{"$f":"IF(E707+G707>0,B706,\"\")","v":""},6,"03-4-23.867(333)",0,1.1000000000000001,0,0,{"$f":"SUMIF(Y$14:BA$14,C707,Y$6:BA$6)","v":1733.45},{"$f":"IF(H707=0,ROUND(E707*I707,2),ROUND(H707*E707,2))","v":0},{"$f":"ROUND(F707*I707,2)","v":1906.8},{"$f":"IF(H707=0,ROUND(ROUND(F707*I707,2)*G707,2),ROUND(G707*H707,2))","v":0},{"$f":"L707-ROUND(G707*I707,2)","v":0},null,{"$f":"J707+L707+N707","v":0},null,405.07,{"$f":"ROUND(Q707*E707,2)","v":0},{"$f":"ROUND(F707*Q707,2)","v":445.58},{"$f":"ROUND(S707*G707,2)","v":0},{"$f":"T707-ROUND(Q707*G707,2)","v":0},null,{"$f":"R707+T707+V707","v":0},null,null,null,null,null,null,null,null,null,null,null,{"$f":"IF($I707=AI$6,$E707,0)","v":0},0,{"$f":"IF($H707>0,AI707,0)","v":0},{"$f":"IF(AK707>0,1,0)","v":0},{"$f":"IF($H707>0,AJ707,0)","v":0},{"$f":"IF(AM707>0,1,0)","v":0},{"$f":"IF($I707=AO$6,$E707,0)","v":0},0,{"$f":"IF($H707>0,AO707,0)","v":0},{"$f":"IF(AQ707>0,1,0)","v":0},{"$f":"IF($H707>0,AP707,0)","v":0},{"$f":"IF(AS707>0,1,0)","v":0},{"$f":"IF($I707=AU$6,$E707,0)","v":0},0,{"$f":"IF($H707>0,AU707,0)","v":0},{"$f":"IF(AW707>0,1,0)","v":0},{"$f":"IF($H707>0,AV707,0)","v":0},{"$f":"IF(AY707>0,1,0)","v":0},{"$f":"IF($I707=BA$6,$E707,0)","v":0},0,{"$f":"IF($H707>0,BA707,0)","v":0},{"$f":"IF(BC707>0,1,0)","v":0},{"$f":"IF($H707>0,BB707,0)","v":0},{"$f":"IF(BE707>0,1,0)","v":0},null,0,null,null,null,0]
[{"$f":"IF(E708+G708>0,A706,\"\")","v":""},{"$f":"IF(E708+G708>0,B706,\"\")","v":""},{"$f":"C707","v":6},"03-4-23.867(333)",0,1.5,0,0,{"$f":"SUMIF(Y$14:BA$14,C708,Y$7:BA$7)","v":0},0,0,0,0,null,0,null,405.07,0,607.61,0,0,null,0,null,null,null,null,null,null,null,null,null,null,null,{"$f":"IF($I708=AI$7,$E708,0)","v":0},{"$f":"IF($K708=ROUND(AI$7*$F708,2),$G708,0)","v":0},0,0,0,0,{"$f":"IF($I708=AO$7,$E708,0)","v":0},{"$f":"IF($K708=ROUND(AO$7*$F708,2),$G708,0)","v":0},0,0,0,0,{"$f":"IF($I708=AU$7,$E708,0)","v":0},{"$f":"IF($K708=ROUND(AU$7*$F708,2),$G708,0)","v":0},0,0,0,0,{"$f":"IF($I708=BA$7,$E708,0)","v":0},{"$f":"IF($K708=ROUND(BA$7*$F708,2),$G708,0)","v":0},0,0,0,0,null,0,null,null,null,0]
[{"$f":"IF(E709+G709>0,A706,\"\")","v":""},{"$f":"IF(E709+G709>0,B706,\"\")","v":""},{"$f":"C707","v":6},"03-4-23.867(333)",0,1.1000000000000001,0,0,{"$f":"SUMIF(Y$14:BA$14,C709,Y$7:BA$7)","v":0},0,0,0,0,null,0,null,405.07,0,445.58,0,0,null,0,null,null,null,null,null,null,null,null,null,null,null,{"$f":"IF($I709=AI$7,$E709,0)","v":0},{"$f":"IF($K709=ROUND(AI$7*$F709,2),$G709,0)","v":0},0,0,0,0,{"$f":"IF($I709=AO$7,$E709,0)","v":0},{"$f":"IF($K709=ROUND(AO$7*$F709,2),$G709,0)","v":0},0,0,0,0,{"$f":"IF($I709=AU$7,$E709,0)","v":0},{"$f":"IF($K709=ROUND(AU$7*$F709,2),$G709,0)","v":0},0,0,0,0,{"$f":"IF($I709=BA$7,$E709,0)","v":0},{"$f":"IF($K709=ROUND(BA$7*$F709,2),$G709,0)","v":0},0,0,0,0,null,0,null,null,null,0]
["ИП               Осекина        Людмила Петровна","",{"$f":"C711","v":7},"03-4-23.870(333)",0.32,1.5,0,0.32,{"$f":"SUMIF(Y$14:BA$14,C710,Y$6:BA$6)","v":2166.8000000000002},{"$f":"IF(H710=0,ROUND(E710*I710,2),ROUND(H710*E710,2))","v":0.1},{"$f":"ROUND(F710*I710,2)","v":3250.2},{"$f":"IF(H710=0,ROUND(ROUND(F710*I710,2)*G710,2),ROUND(G710*H710,2))","v":0},{"$f":"L710-ROUND(G710*I710,2)","v":0},null,{"$f":"J710+L710+N710","v":0.1},null,405.07,{"$f":"ROUND(Q710*E710,2)","v":129.62},{"$f":"ROUND(F710*Q710,2)","v":607.61},{"$f":"ROUND(S710*G710,2)","v":0},{"$f":"T710-ROUND(Q710*G710,2)","v":0},null,{"$f":"R710+T710+V710","v":129.62},null,null,null,null,null,null,null,null,null,null,null,{"$f":"IF($I710=AI$6,$E710,0)","v":0},{"$f":"IF($K710=ROUND(AI$6*$F710,2),$G710,0)","v":0},{"$f":"IF($H710>0,AI710,0)","v":0},{"$f":"IF(AK710>0,1,0)","v":0},{"$f":"IF($H710>0,AJ710,0)","v":0},{"$f":"IF(AM710>0,1,0)","v":0},{"$f":"IF($I710=AO$6,$E710,0)","v":0},{"$f":"IF($K710=ROUND(AO$6*$F710,2),$G710,0)","v":0},{"$f":"IF($H710>0,AO710,0)","v":0},{"$f":"IF(AQ710>0,1,0)","v":0},{"$f":"IF($H710>0,AP710,0)","v":0},{"$f":"IF(AS710>0,1,0)","v":0},{"$f":"IF($I710=AU$6,$E710,0)","v":0},{"$f":"IF($K710=ROUND(AU$6*$F710,2),$G710,0)","v":0},{"$f":"IF($H710>0,AU710,0)","v":0},{"$f":"IF(AW710>0,1,0)","v":0},{"$f":"IF($H710>0,AV710,0)","v":0},{"$f":"IF(AY710>0,1,0)","v":0},{"$f":"IF($I710=BA$6,$E710,0)","v":0.32},{"$f":"IF($K710=ROUND(BA$6*$F710,2),$G710,0)","v":0},{"$f":"IF($H710>0,BA710,0)","v":0.32},{"$f":"IF(BC710>0,1,0)","v":1},{"$f":"IF($H710>0,BB710,0)","v":0},{"$f":"IF(BE710>0,1,0)","v":0},null,3.2000000000000003E-4,0.32,null,null,0]
[{"$f":"IF(E711+G711>0,A710,\"\")","v":""},{"$f":"IF(E711+G711>0,B710,\"\")","v":""},7,"03-4-23.870(333)",0,1.1000000000000001,0,0,{"$f":"SUMIF(Y$14:BA$14,C711,Y$6:BA$6)","v":2166.8000000000002},{"$f":"IF(H711=0,ROUND(E711*I711,2),ROUND(H711*E711,2))","v":0},{"$f":"ROUND(F711*I711,2)","v":2383.48},{"$f":"IF(H711=0,ROUND(ROUND(F711*I711,2)*G711,2),ROUND(G711*H711,2))","v":0},{"$f":"L711-ROUND(G711*I711,2)","v":0},null,{"$f":"J711+L711+N711","v":0},null,405.07,{"$f":"ROUND(Q711*E711,2)","v":0},{"$f":"ROUND(F711*Q711,2)","v":445.58},{"$f":"ROUND(S711*G711,2)","v":0},{"$f":"T711-ROUND(Q711*G711,2)","v":0},null,{"$f":"R711+T711+V711","v":0},null,null,null,null,null,null,null,null,null,null,null,{"$f":"IF($I711=AI$6,$E711,0)","v":0},0,{"$f":"IF($H711>0,AI711,0)","v":0},{"$f":"IF(AK711>0,1,0)","v":0},{"$f":"IF($H711>0,AJ711,0)","v":0},{"$f":"IF(AM711>0,1,0)","v":0},{"$f":"IF($I711=AO$6,$E711,0)","v":0},0,{"$f":"IF($H711>0,AO711,0)","v":0},{"$f":"IF(AQ711>0,1,0)","v":0},{"$f":"IF($H711>0,AP711,0)","v":0},{"$f":"IF(AS711>0,1,0)","v":0},{"$f":"IF($I711=AU$6,$E711,0)","v":0},0,{"$f":"IF($H711>0,AU711,0)","v":0},{"$f":"IF(AW711>0,1,0)","v":0},{"$f":"IF($H711>0,AV711,0)","v":0},{"$f":"IF(AY711>0,1,0)","v":0},{"$f":"IF($I711=BA$6,$E711,0)","v":0},0,{"$f":"IF($H711>0,BA711,0)","v":0},{"$f":"IF(BC711>0,1,0)","v":0},{"$f":"IF($H711>0,BB711,0)","v":0},{"$f":"IF(BE711>0,1,0)","v":0},null,0,null,null,null,0]
[{"$f":"IF(E712+G712>0,A710,\"\")","v":""},{"$f":"IF(E712+G712>0,B710,\"\")","v":""},{"$f":"C711","v":7},"03-4-23.870(333)",0,1.5,0,0,{"$f":"SUMIF(Y$14:BA$14,C712,Y$7:BA$7)","v":0},0,0,0,0,null,0,null,405.07,0,607.61,0,0,null,0,null,null,null,null,null,null,null,null,null,null,null,{"$f":"IF($I712=AI$7,$E712,0)","v":0},{"$f":"IF($K712=ROUND(AI$7*$F712,2),$G712,0)","v":0},0,0,0,0,{"$f":"IF($I712=AO$7,$E712,0)","v":0},{"$f":"IF($K712=ROUND(AO$7*$F712,2),$G712,0)","v":0},0,0,0,0,{"$f":"IF($I712=AU$7,$E712,0)","v":0},{"$f":"IF($K712=ROUND(AU$7*$F712,2),$G712,0)","v":0},0,0,0,0,{"$f":"IF($I712=BA$7,$E712,0)","v":0},{"$f":"IF($K712=ROUND(BA$7*$F712,2),$G712,0)","v":0},0,0,0,0,null,0,null,null,null,0]
[{"$f":"IF(E713+G713>0,A710,\"\")","v":""},{"$f":"IF(E713+G713>0,B710,\"\")","v":""},{"$f":"C711","v":7},"03-4-23.870(333)",0,1.1000000000000001,0,0,{"$f":"SUMIF(Y$14:BA$14,C713,Y$7:BA$7)","v":0},0,0,0,0,null,0,null,405.07,0,445.58,0,0,null,0,null,null,null,null,null,null,null,null,null,null,null,{"$f":"IF($I713=AI$7,$E713,0)","v":0},{"$f":"IF($K713=ROUND(AI$7*$F713,2),$G713,0)","v":0},0,0,0,0,{"$f":"IF($I713=AO$7,$E713,0)","v":0},{"$f":"IF($K713=ROUND(AO$7*$F713,2),$G713,0)","v":0},0,0,0,0,{"$f":"IF($I713=AU$7,$E713,0)","v":0},{"$f":"IF($K713=ROUND(AU$7*$F713,2),$G713,0)","v":0},0,0,0,0,{"$f":"IF($I713=BA$7,$E713,0)","v":0},{"$f":"IF($K713=ROUND(BA$7*$F713,2),$G713,0)","v":0},0,0,0,0,null,0,null,null,null,0]
["ИП                Шишова        Наталия Владимировна","",{"$f":"C715","v":6},"03-4-23.871(333)",0.88,1.5,0,0.88,{"$f":"SUMIF(Y$14:BA$14,C714,Y$6:BA$6)","v":1733.45},{"$f":"IF(H714=0,ROUND(E714*I714,2),ROUND(H714*E714,2))","v":0.77},{"$f":"ROUND(F714*I714,2)","v":2600.1799999999998},{"$f":"IF(H714=0,ROUND(ROUND(F714*I714,2)*G714,2),ROUND(G714*H714,2))","v":0},{"$f":"L714-ROUND(G714*I714,2)","v":0},null,{"$f":"J714+L714+N714","v":0.77},null,405.07,{"$f":"ROUND(Q714*E714,2)","v":356.46},{"$f":"ROUND(F714*Q714,2)","v":607.61},{"$f":"ROUND(S714*G714,2)","v":0},{"$f":"T714-ROUND(Q714*G714,2)","v":0},null,{"$f":"R714+T714+V714","v":356.46},null,null,null,null,null,null,null,null,null,null,null,{"$f":"IF($I714=AI$6,$E714,0)","v":0},{"$f":"IF($K714=ROUND(AI$6*$F714,2),$G714,0)","v":0},{"$f":"IF($H714>0,AI714,0)","v":0},{"$f":"IF(AK714>0,1,0)","v":0},{"$f":"IF($H714>0,AJ714,0)","v":0},{"$f":"IF(AM714>0,1,0)","v":0},{"$f":"IF($I714=AO$6,$E714,0)","v":0},{"$f":"IF($K714=ROUND(AO$6*$F714,2),$G714,0)","v":0},{"$f":"IF($H714>0,AO714,0)","v":0},{"$f":"IF(AQ714>0,1,0)","v":0},{"$f":"IF($H714>0,AP714,0)","v":0},{"$f":"IF(AS714>0,1,0)","v":0},{"$f":"IF($I714=AU$6,$E714,0)","v":0.88},{"$f":"IF($K714=ROUND(AU$6*$F714,2),$G714,0)","v":0},{"$f":"IF($H714>0,AU714,0)","v":0.88},{"$f":"IF(AW714>0,1,0)","v":1},{"$f":"IF($H714>0,AV714,0)","v":0},{"$f":"IF(AY714>0,1,0)","v":0},{"$f":"IF($I714=BA$6,$E714,0)","v":0},{"$f":"IF($K714=ROUND(BA$6*$F714,2),$G714,0)","v":0},{"$f":"IF($H714>0,BA714,0)","v":0},{"$f":"IF(BC714>0,1,0)","v":0},{"$f":"IF($H714>0,BB714,0)","v":0},{"$f":"IF(BE714>0,1,0)","v":0},null,8.8000000000000003E-4,2,null,null,0]
[{"$f":"IF(E715+G715>0,A714,\"\")","v":""},{"$f":"IF(E715+G715>0,B714,\"\")","v":""},6,"03-4-23.871(333)",0,1.1000000000000001,0,0,{"$f":"SUMIF(Y$14:BA$14,C715,Y$6:BA$6)","v":1733.45},{"$f":"IF(H715=0,ROUND(E715*I715,2),ROUND(H715*E715,2))","v":0},{"$f":"ROUND(F715*I715,2)","v":1906.8},{"$f":"IF(H715=0,ROUND(ROUND(F715*I715,2)*G715,2),ROUND(G715*H715,2))","v":0},{"$f":"L715-ROUND(G715*I715,2)","v":0},null,{"$f":"J715+L715+N715","v":0},null,405.07,{"$f":"ROUND(Q715*E715,2)","v":0},{"$f":"ROUND(F715*Q715,2)","v":445.58},{"$f":"ROUND(S715*G715,2)","v":0},{"$f":"T715-ROUND(Q715*G715,2)","v":0},null,{"$f":"R715+T715+V715","v":0},null,null,null,null,null,null,null,null,null,null,null,{"$f":"IF($I715=AI$6,$E715,0)","v":0},0,{"$f":"IF($H715>0,AI715,0)","v":0},{"$f":"IF(AK715>0,1,0)","v":0},{"$f":"IF($H715>0,AJ715,0)","v":0},{"$f":"IF(AM715>0,1,0)","v":0},{"$f":"IF($I715=AO$6,$E715,0)","v":0},0,{"$f":"IF($H715>0,AO715,0)","v":0},{"$f":"IF(AQ715>0,1,0)","v":0},{"$f":"IF($H715>0,AP715,0)","v":0},{"$f":"IF(AS715>0,1,0)","v":0},{"$f":"IF($I715=AU$6,$E715,0)","v":0},0,{"$f":"IF($H715>0,AU715,0)","v":0},{"$f":"IF(AW715>0,1,0)","v":0},{"$f":"IF($H715>0,AV715,0)","v":0},{"$f":"IF(AY715>0,1,0)","v":0},{"$f":"IF($I715=BA$6,$E715,0)","v":0},0,{"$f":"IF($H715>0,BA715,0)","v":0},{"$f":"IF(BC715>0,1,0)","v":0},{"$f":"IF($H715>0,BB715,0)","v":0},{"$f":"IF(BE715>0,1,0)","v":0},null,0,null,null,null,0]
[{"$f":"IF(E716+G716>0,A714,\"\")","v":""},{"$f":"IF(E716+G716>0,B714,\"\")","v":""},{"$f":"C715","v":6},"03-4-23.871(333)",0,1.5,0,0,{"$f":"SUMIF(Y$14:BA$14,C716,Y$7:BA$7)","v":0},0,0,0,0,null,0,null,405.07,0,607.61,0,0,null,0,null,null,null,null,null,null,null,null,null,null,null,{"$f":"IF($I716=AI$7,$E716,0)","v":0},{"$f":"IF($K716=ROUND(AI$7*$F716,2),$G716,0)","v":0},0,0,0,0,{"$f":"IF($I716=AO$7,$E716,0)","v":0},{"$f":"IF($K716=ROUND(AO$7*$F716,2),$G716,0)","v":0},0,0,0,0,{"$f":"IF($I716=AU$7,$E716,0)","v":0},{"$f":"IF($K716=ROUND(AU$7*$F716,2),$G716,0)","v":0},0,0,0,0,{"$f":"IF($I716=BA$7,$E716,0)","v":0},{"$f":"IF($K716=ROUND(BA$7*$F716,2),$G716,0)","v":0},0,0,0,0,null,0,null,null,null,0]
[{"$f":"IF(E717+G717>0,A714,\"\")","v":""},{"$f":"IF(E717+G717>0,B714,\"\")","v":""},{"$f":"C715","v":6},"03-4-23.871(333)",0,1.1000000000000001,0,0,{"$f":"SUMIF(Y$14:BA$14,C717,Y$7:BA$7)","v":0},0,0,0,0,null,0,null,405.07,0,445.58,0,0,null,0,null,null,null,null,null,null,null,null,null,null,null,{"$f":"IF($I717=AI$7,$E717,0)","v":0},{"$f":"IF($K717=ROUND(AI$7*$F717,2),$G717,0)","v":0},0,0,0,0,{"$f":"IF($I717=AO$7,$E717,0)","v":0},{"$f":"IF($K717=ROUND(AO$7*$F717,2),$G717,0)","v":0},0,0,0,0,{"$f":"IF($I717=AU$7,$E717,0)","v":0},{"$f":"IF($K717=ROUND(AU$7*$F717,2),$G717,0)","v":0},0,0,0,0,{"$f":"IF($I717=BA$7,$E717,0)","v":0},{"$f":"IF($K717=ROUND(BA$7*$F717,2),$G717,0)","v":0},0,0,0,0,null,0,null,null,null,0]
["МБОУ         \"Гимназия №4 г.Вельска\"","",{"$f":"C719","v":6},"03-4-23.877(333)",5.0090000000000003,1.5,0,5.0090000000000003,{"$f":"SUMIF(Y$14:BA$14,C718,Y$6:BA$6)","v":1733.45},{"$f":"IF(H718=0,ROUND(E718*I718,2),ROUND(H718*E718,2))","v":25.09},{"$f":"ROUND(F718*I718,2)","v":2600.1799999999998},{"$f":"IF(H718=0,ROUND(ROUND(F718*I718,2)*G718,2),ROUND(G718*H718,2))","v":0},{"$f":"L718-ROUND(G718*I718,2)","v":0},null,{"$f":"J718+L718+N718","v":25.09},null,405.07,{"$f":"ROUND(Q718*E718,2)","v":2029},{"$f":"ROUND(F718*Q718,2)","v":607.61},{"$f":"ROUND(S718*G718,2)","v":0},{"$f":"T718-ROUND(Q718*G718,2)","v":0},null,{"$f":"R718+T718+V718","v":2029},null,null,null,null,null,null,null,null,null,null,null,{"$f":"IF($I718=AI$6,$E718,0)","v":0},{"$f":"IF($K718=ROUND(AI$6*$F718,2),$G718,0)","v":0},{"$f":"IF($H718>0,AI718,0)","v":0},{"$f":"IF(AK718>0,1,0)","v":0},{"$f":"IF($H718>0,AJ718,0)","v":0},{"$f":"IF(AM718>0,1,0)","v":0},{"$f":"IF($I718=AO$6,$E718,0)","v":0},{"$f":"IF($K718=ROUND(AO$6*$F718,2),$G718,0)","v":0},{"$f":"IF($H718>0,AO718,0)","v":0},{"$f":"IF(AQ718>0,1,0)","v":0},{"$f":"IF($H718>0,AP718,0)","v":0},{"$f":"IF(AS718>0,1,0)","v":0},{"$f":"IF($I718=AU$6,$E718,0)","v":5.0090000000000003},{"$f":"IF($K718=ROUND(AU$6*$F718,2),$G718,0)","v":0},{"$f":"IF($H718>0,AU718,0)","v":5.0090000000000003},{"$f":"IF(AW718>0,1,0)","v":1},{"$f":"IF($H718>0,AV718,0)","v":0},{"$f":"IF(AY718>0,1,0)","v":0},{"$f":"IF($I718=BA$6,$E718,0)","v":0},{"$f":"IF($K718=ROUND(BA$6*$F718,2),$G718,0)","v":0},{"$f":"IF($H718>0,BA718,0)","v":0},{"$f":"IF(BC718>0,1,0)","v":0},{"$f":"IF($H718>0,BB718,0)","v":0},{"$f":"IF(BE718>0,1,0)","v":0},null,5.0090000000000004E-3,4,null,null,0]
[{"$f":"IF(E719+G719>0,A718,\"\")","v":""},{"$f":"IF(E719+G719>0,B718,\"\")","v":""},6,"03-4-23.877(333)",0,1.1000000000000001,0,0,{"$f":"SUMIF(Y$14:BA$14,C719,Y$6:BA$6)","v":1733.45},{"$f":"IF(H719=0,ROUND(E719*I719,2),ROUND(H719*E719,2))","v":0},{"$f":"ROUND(F719*I719,2)","v":1906.8},{"$f":"IF(H719=0,ROUND(ROUND(F719*I719,2)*G719,2),ROUND(G719*H719,2))","v":0},{"$f":"L719-ROUND(G719*I719,2)","v":0},null,{"$f":"J719+L719+N719","v":0},null,405.07,{"$f":"ROUND(Q719*E719,2)","v":0},{"$f":"ROUND(F719*Q719,2)","v":445.58},{"$f":"ROUND(S719*G719,2)","v":0},{"$f":"T719-ROUND(Q719*G719,2)","v":0},null,{"$f":"R719+T719+V719","v":0},null,null,null,null,null,null,null,null,null,null,null,{"$f":"IF($I719=AI$6,$E719,0)","v":0},0,{"$f":"IF($H719>0,AI719,0)","v":0},{"$f":"IF(AK719>0,1,0)","v":0},{"$f":"IF($H719>0,AJ719,0)","v":0},{"$f":"IF(AM719>0,1,0)","v":0},{"$f":"IF($I719=AO$6,$E719,0)","v":0},0,{"$f":"IF($H719>0,AO719,0)","v":0},{"$f":"IF(AQ719>0,1,0)","v":0},{"$f":"IF($H719>0,AP719,0)","v":0},{"$f":"IF(AS719>0,1,0)","v":0},{"$f":"IF($I719=AU$6,$E719,0)","v":0},0,{"$f":"IF($H719>0,AU719,0)","v":0},{"$f":"IF(AW719>0,1,0)","v":0},{"$f":"IF($H719>0,AV719,0)","v":0},{"$f":"IF(AY719>0,1,0)","v":0},{"$f":"IF($I719=BA$6,$E719,0)","v":0},0,{"$f":"IF($H719>0,BA719,0)","v":0},{"$f":"IF(BC719>0,1,0)","v":0},{"$f":"IF($H719>0,BB719,0)","v":0},{"$f":"IF(BE719>0,1,0)","v":0},null,0,null,null,null,0]
[{"$f":"IF(E720+G720>0,A718,\"\")","v":""},{"$f":"IF(E720+G720>0,B718,\"\")","v":""},{"$f":"C719","v":6},"03-4-23.877(333)",0,1.5,0,0,{"$f":"SUMIF(Y$14:BA$14,C720,Y$7:BA$7)","v":0},0,0,0,0,null,0,null,{"$f":"IF(BI720>0,Q$6,Q$6)","v":405.07},0,607.61,0,0,null,0,null,null,null,null,null,null,null,null,null,null,null,{"$f":"IF($I720=AI$7,$E720,0)","v":0},{"$f":"IF($K720=ROUND(AI$7*$F720,2),$G720,0)","v":0},0,0,0,0,{"$f":"IF($I720=AO$7,$E720,0)","v":0},{"$f":"IF($K720=ROUND(AO$7*$F720,2),$G720,0)","v":0},0,0,0,0,{"$f":"IF($I720=AU$7,$E720,0)","v":0},{"$f":"IF($K720=ROUND(AU$7*$F720,2),$G720,0)","v":0},0,0,0,0,{"$f":"IF($I720=BA$7,$E720,0)","v":0},{"$f":"IF($K720=ROUND(BA$7*$F720,2),$G720,0)","v":0},0,0,0,0,null,0,null,null,null,0]
[{"$f":"IF(E721+G721>0,A718,\"\")","v":""},{"$f":"IF(E721+G721>0,B718,\"\")","v":""},{"$f":"C719","v":6},"03-4-23.877(333)",0,1.1000000000000001,0,{"$f":"E721+G721","v":0},{"$f":"SUMIF(Y$14:BA$14,C721,Y$7:BA$7)","v":0},0,0,0,0,null,0,null,405.07,0,445.58,0,0,null,0,null,null,null,null,null,null,null,null,null,null,null,{"$f":"IF($I721=AI$7,$E721,0)","v":0},{"$f":"IF($K721=ROUND(AI$7*$F721,2),$G721,0)","v":0},0,0,0,0,{"$f":"IF($I721=AO$7,$E721,0)","v":0},{"$f":"IF($K721=ROUND(AO$7*$F721,2),$G721,0)","v":0},0,0,0,0,{"$f":"IF($I721=AU$7,$E721,0)","v":0},{"$f":"IF($K721=ROUND(AU$7*$F721,2),$G721,0)","v":0},0,0,0,0,{"$f":"IF($I721=BA$7,$E721,0)","v":0},{"$f":"IF($K721=ROUND(BA$7*$F721,2),$G721,0)","v":0},0,0,0,0,null,{"$f":"H721/1000","v":0},null,null,null,0]
["Гр.              Макаров        Евгений Валерьевич","",{"$f":"C723","v":7},"03-4-23.881(333)",0.77,1.5,0,0.77,{"$f":"SUMIF(Y$14:BA$14,C722,Y$6:BA$6)","v":2166.8000000000002},{"$f":"IF(H722=0,ROUND(E722*I722,2),ROUND(H722*E722,2))","v":0.59},{"$f":"ROUND(F722*I722,2)","v":3250.2},{"$f":"IF(H722=0,ROUND(ROUND(F722*I722,2)*G722,2),ROUND(G722*H722,2))","v":0},{"$f":"L722-ROUND(G722*I722,2)","v":0},null,{"$f":"J722+L722+N722","v":0.59},null,405.07,{"$f":"ROUND(Q722*E722,2)","v":311.89999999999998},{"$f":"ROUND(F722*Q722,2)","v":607.61},{"$f":"ROUND(S722*G722,2)","v":0},{"$f":"T722-ROUND(Q722*G722,2)","v":0},null,{"$f":"R722+T722+V722","v":311.89999999999998},null,null,null,null,null,null,null,null,null,null,null,{"$f":"IF($I722=AI$6,$E722,0)","v":0},{"$f":"IF($K722=ROUND(AI$6*$F722,2),$G722,0)","v":0},{"$f":"IF($H722>0,AI722,0)","v":0},{"$f":"IF(AK722>0,1,0)","v":0},{"$f":"IF($H722>0,AJ722,0)","v":0},{"$f":"IF(AM722>0,1,0)","v":0},{"$f":"IF($I722=AO$6,$E722,0)","v":0},{"$f":"IF($K722=ROUND(AO$6*$F722,2),$G722,0)","v":0},{"$f":"IF($H722>0,AO722,0)","v":0},{"$f":"IF(AQ722>0,1,0)","v":0},{"$f":"IF($H722>0,AP722,0)","v":0},{"$f":"IF(AS722>0,1,0)","v":0},{"$f":"IF($I722=AU$6,$E722,0)","v":0},{"$f":"IF($K722=ROUND(AU$6*$F722,2),$G722,0)","v":0},{"$f":"IF($H722>0,AU722,0)","v":0},{"$f":"IF(AW722>0,1,0)","v":0},{"$f":"IF($H722>0,AV722,0)","v":0},{"$f":"IF(AY722>0,1,0)","v":0},{"$f":"IF($I722=BA$6,$E722,0)","v":0.77},{"$f":"IF($K722=ROUND(BA$6*$F722,2),$G722,0)","v":0},{"$f":"IF($H722>0,BA722,0)","v":0.77},{"$f":"IF(BC722>0,1,0)","v":1},{"$f":"IF($H722>0,BB722,0)","v":0},{"$f":"IF(BE722>0,1,0)","v":0},null,7.7000000000000007E-4,0.9,null,null,{"$f":"E722-SUM(AI722,AO722,AU722,BA722)","v":0}]
[{"$f":"IF(E723+G723>0,A722,\"\")","v":""},{"$f":"IF(E723+G723>0,B722,\"\")","v":""},7,"03-4-23.881(333)",0,1.1000000000000001,0,0,{"$f":"SUMIF(Y$14:BA$14,C723,Y$6:BA$6)","v":2166.8000000000002},{"$f":"IF(H723=0,ROUND(E723*I723,2),ROUND(H723*E723,2))","v":0},{"$f":"ROUND(F723*I723,2)","v":2383.48},{"$f":"IF(H723=0,ROUND(ROUND(F723*I723,2)*G723,2),ROUND(G723*H723,2))","v":0},{"$f":"L723-ROUND(G723*I723,2)","v":0},null,{"$f":"J723+L723+N723","v":0},null,405.07,{"$f":"ROUND(Q723*E723,2)","v":0},{"$f":"ROUND(F723*Q723,2)","v":445.58},{"$f":"ROUND(S723*G723,2)","v":0},{"$f":"T723-ROUND(Q723*G723,2)","v":0},null,{"$f":"R723+T723+V723","v":0},null,null,null,null,null,null,null,null,null,null,null,{"$f":"IF($I723=AI$6,$E723,0)","v":0},0,{"$f":"IF($H723>0,AI723,0)","v":0},{"$f":"IF(AK723>0,1,0)","v":0},{"$f":"IF($H723>0,AJ723,0)","v":0},{"$f":"IF(AM723>0,1,0)","v":0},{"$f":"IF($I723=AO$6,$E723,0)","v":0},0,{"$f":"IF($H723>0,AO723,0)","v":0},{"$f":"IF(AQ723>0,1,0)","v":0},{"$f":"IF($H723>0,AP723,0)","v":0},{"$f":"IF(AS723>0,1,0)","v":0},{"$f":"IF($I723=AU$6,$E723,0)","v":0},0,{"$f":"IF($H723>0,AU723,0)","v":0},{"$f":"IF(AW723>0,1,0)","v":0},{"$f":"IF($H723>0,AV723,0)","v":0},{"$f":"IF(AY723>0,1,0)","v":0},{"$f":"IF($I723=BA$6,$E723,0)","v":0},0,{"$f":"IF($H723>0,BA723,0)","v":0},{"$f":"IF(BC723>0,1,0)","v":0},{"$f":"IF($H723>0,BB723,0)","v":0},{"$f":"IF(BE723>0,1,0)","v":0},null,0,null,null,null,0]
[{"$f":"IF(E724+G724>0,A722,\"\")","v":""},{"$f":"IF(E724+G724>0,B722,\"\")","v":""},{"$f":"C723","v":7},"03-4-23.881(333)",0,1.5,0,0,{"$f":"SUMIF(Y$14:BA$14,C724,Y$7:BA$7)","v":0},0,0,0,0,null,0,null,405.07,0,607.61,0,0,null,0,null,null,null,null,null,null,null,null,null,null,null,{"$f":"IF($I724=AI$7,$E724,0)","v":0},{"$f":"IF($K724=ROUND(AI$7*$F724,2),$G724,0)","v":0},0,0,0,0,{"$f":"IF($I724=AO$7,$E724,0)","v":0},{"$f":"IF($K724=ROUND(AO$7*$F724,2),$G724,0)","v":0},0,0,0,0,{"$f":"IF($I724=AU$7,$E724,0)","v":0},{"$f":"IF($K724=ROUND(AU$7*$F724,2),$G724,0)","v":0},0,0,0,0,{"$f":"IF($I724=BA$7,$E724,0)","v":0},{"$f":"IF($K724=ROUND(BA$7*$F724,2),$G724,0)","v":0},0,0,0,0,null,0,null,null,null,0]
[{"$f":"IF(E725+G725>0,A722,\"\")","v":""},{"$f":"IF(E725+G725>0,B722,\"\")","v":""},{"$f":"C723","v":7},"03-4-23.881(333)",0,1.1000000000000001,0,0,{"$f":"SUMIF(Y$14:BA$14,C725,Y$7:BA$7)","v":0},0,0,0,0,null,0,null,405.07,0,445.58,0,0,null,0,null,null,null,null,null,null,null,null,null,null,null,{"$f":"IF($I725=AI$7,$E725,0)","v":0},{"$f":"IF($K725=ROUND(AI$7*$F725,2),$G725,0)","v":0},0,0,0,0,{"$f":"IF($I725=AO$7,$E725,0)","v":0},{"$f":"IF($K725=ROUND(AO$7*$F725,2),$G725,0)","v":0},0,0,0,0,{"$f":"IF($I725=AU$7,$E725,0)","v":0},{"$f":"IF($K725=ROUND(AU$7*$F725,2),$G725,0)","v":0},0,0,0,0,{"$f":"IF($I725=BA$7,$E725,0)","v":0},{"$f":"IF($K725=ROUND(BA$7*$F725,2),$G725,0)","v":0},0,0,0,0,null,0,null,null,null,0]
["ИП              Зубов            Александр Михайлович","",{"$f":"C727","v":7},"03-4-23.882",0.46300000000000002,1.5,0,0.46300000000000002,{"$f":"SUMIF(Y$14:BA$14,C726,Y$6:BA$6)","v":2166.8000000000002},{"$f":"IF(H726=0,ROUND(E726*I726,2),ROUND(H726*E726,2))","v":0.21},{"$f":"ROUND(F726*I726,2)","v":3250.2},{"$f":"IF(H726=0,ROUND(ROUND(F726*I726,2)*G726,2),ROUND(G726*H726,2))","v":0},{"$f":"L726-ROUND(G726*I726,2)","v":0},null,{"$f":"J726+L726+N726","v":0.21},null,405.07,{"$f":"ROUND(Q726*E726,2)","v":187.55},{"$f":"ROUND(F726*Q726,2)","v":607.61},{"$f":"ROUND(S726*G726,2)","v":0},{"$f":"T726-ROUND(Q726*G726,2)","v":0},null,{"$f":"R726+T726+V726","v":187.55},null,null,null,null,null,null,null,null,null,null,null,{"$f":"IF($I726=AI$6,$E726,0)","v":0},{"$f":"IF($K726=ROUND(AI$6*$F726,2),$G726,0)","v":0},{"$f":"IF($H726>0,AI726,0)","v":0},{"$f":"IF(AK726>0,1,0)","v":0},{"$f":"IF($H726>0,AJ726,0)","v":0},{"$f":"IF(AM726>0,1,0)","v":0},{"$f":"IF($I726=AO$6,$E726,0)","v":0},{"$f":"IF($K726=ROUND(AO$6*$F726,2),$G726,0)","v":0},{"$f":"IF($H726>0,AO726,0)","v":0},{"$f":"IF(AQ726>0,1,0)","v":0},{"$f":"IF($H726>0,AP726,0)","v":0},{"$f":"IF(AS726>0,1,0)","v":0},{"$f":"IF($I726=AU$6,$E726,0)","v":0},{"$f":"IF($K726=ROUND(AU$6*$F726,2),$G726,0)","v":0},{"$f":"IF($H726>0,AU726,0)","v":0},{"$f":"IF(AW726>0,1,0)","v":0},{"$f":"IF($H726>0,AV726,0)","v":0},{"$f":"IF(AY726>0,1,0)","v":0},{"$f":"IF($I726=BA$6,$E726,0)","v":0.46300000000000002},{"$f":"IF($K726=ROUND(BA$6*$F726,2),$G726,0)","v":0},{"$f":"IF($H726>0,BA726,0)","v":0.46300000000000002},{"$f":"IF(BC726>0,1,0)","v":1},{"$f":"IF($H726>0,BB726,0)","v":0},{"$f":"IF(BE726>0,1,0)","v":0},null,4.6300000000000003E-4,0.67,null,null,0]
[{"$f":"IF(E727+G727>0,A726,\"\")","v":""},{"$f":"IF(E727+G727>0,B726,\"\")","v":""},7,"03-4-23.882",0,1.1000000000000001,0,0,{"$f":"SUMIF(Y$14:BA$14,C727,Y$6:BA$6)","v":2166.8000000000002},{"$f":"IF(H727=0,ROUND(E727*I727,2),ROUND(H727*E727,2))","v":0},{"$f":"ROUND(F727*I727,2)","v":2383.48},{"$f":"IF(H727=0,ROUND(ROUND(F727*I727,2)*G727,2),ROUND(G727*H727,2))","v":0},{"$f":"L727-ROUND(G727*I727,2)","v":0},null,{"$f":"J727+L727+N727","v":0},null,405.07,{"$f":"ROUND(Q727*E727,2)","v":0},{"$f":"ROUND(F727*Q727,2)","v":445.58},{"$f":"ROUND(S727*G727,2)","v":0},{"$f":"T727-ROUND(Q727*G727,2)","v":0},null,{"$f":"R727+T727+V727","v":0},null,null,null,null,null,null,null,null,null,null,null,{"$f":"IF($I727=AI$6,$E727,0)","v":0},0,{"$f":"IF($H727>0,AI727,0)","v":0},{"$f":"IF(AK727>0,1,0)","v":0},{"$f":"IF($H727>0,AJ727,0)","v":0},{"$f":"IF(AM727>0,1,0)","v":0},{"$f":"IF($I727=AO$6,$E727,0)","v":0},0,{"$f":"IF($H727>0,AO727,0)","v":0},{"$f":"IF(AQ727>0,1,0)","v":0},{"$f":"IF($H727>0,AP727,0)","v":0},{"$f":"IF(AS727>0,1,0)","v":0},{"$f":"IF($I727=AU$6,$E727,0)","v":0},0,{"$f":"IF($H727>0,AU727,0)","v":0},{"$f":"IF(AW727>0,1,0)","v":0},{"$f":"IF($H727>0,AV727,0)","v":0},{"$f":"IF(AY727>0,1,0)","v":0},{"$f":"IF($I727=BA$6,$E727,0)","v":0},0,{"$f":"IF($H727>0,BA727,0)","v":0},{"$f":"IF(BC727>0,1,0)","v":0},{"$f":"IF($H727>0,BB727,0)","v":0},{"$f":"IF(BE727>0,1,0)","v":0},null,0,null,null,null,0]
[{"$f":"IF(E728+G728>0,A726,\"\")","v":""},{"$f":"IF(E728+G728>0,B726,\"\")","v":""},{"$f":"C727","v":7},"03-4-23.882",0,1.5,0,0,{"$f":"SUMIF(Y$14:BA$14,C728,Y$7:BA$7)","v":0},0,0,0,0,null,0,null,405.07,0,607.61,0,0,null,0,null,null,null,null,null,null,null,null,null,null,null,{"$f":"IF($I728=AI$7,$E728,0)","v":0},{"$f":"IF($K728=ROUND(AI$7*$F728,2),$G728,0)","v":0},0,0,0,0,{"$f":"IF($I728=AO$7,$E728,0)","v":0},{"$f":"IF($K728=ROUND(AO$7*$F728,2),$G728,0)","v":0},0,0,0,0,{"$f":"IF($I728=AU$7,$E728,0)","v":0},{"$f":"IF($K728=ROUND(AU$7*$F728,2),$G728,0)","v":0},0,0,0,0,{"$f":"IF($I728=BA$7,$E728,0)","v":0},{"$f":"IF($K728=ROUND(BA$7*$F728,2),$G728,0)","v":0},0,0,0,0,null,0,null,null,null,0]
[{"$f":"IF(E729+G729>0,A726,\"\")","v":""},{"$f":"IF(E729+G729>0,B726,\"\")","v":""},{"$f":"C727","v":7},"03-4-23.882",0,1.1000000000000001,0,0,{"$f":"SUMIF(Y$14:BA$14,C729,Y$7:BA$7)","v":0},0,0,0,0,null,0,null,405.07,0,445.58,0,0,null,0,null,null,null,null,null,null,null,null,null,null,null,{"$f":"IF($I729=AI$7,$E729,0)","v":0},{"$f":"IF($K729=ROUND(AI$7*$F729,2),$G729,0)","v":0},0,0,0,0,{"$f":"IF($I729=AO$7,$E729,0)","v":0},{"$f":"IF($K729=ROUND(AO$7*$F729,2),$G729,0)","v":0},0,0,0,0,{"$f":"IF($I729=AU$7,$E729,0)","v":0},{"$f":"IF($K729=ROUND(AU$7*$F729,2),$G729,0)","v":0},0,0,0,0,{"$f":"IF($I729=BA$7,$E729,0)","v":0},{"$f":"IF($K729=ROUND(BA$7*$F729,2),$G729,0)","v":0},0,0,0,0,null,0,null,null,null,0]
["ООО          \"Торговый дом \"УМК\"                               (до 01.08  -  ООО \"УПК\")","",{"$f":"C731","v":5},"03-4-23.1127/03-4-23.890",38.406999999999996,1.5,0,38.406999999999996,{"$f":"SUMIF(Y$14:BA$14,C730,Y$6:BA$6)","v":1386.75},{"$f":"IF(H730=0,ROUND(E730*I730,2),ROUND(H730*E730,2))","v":1475.1},{"$f":"ROUND(F730*I730,2)","v":2080.13},{"$f":"IF(H730=0,ROUND(ROUND(F730*I730,2)*G730,2),ROUND(G730*H730,2))","v":0},{"$f":"L730-ROUND(G730*I730,2)","v":0},null,{"$f":"J730+L730+N730","v":1475.1},null,405.07,{"$f":"ROUND(Q730*E730,2)","v":15557.52},{"$f":"ROUND(F730*Q730,2)","v":607.61},{"$f":"ROUND(S730*G730,2)","v":0},{"$f":"T730-ROUND(Q730*G730,2)","v":0},null,{"$f":"R730+T730+V730","v":15557.52},null,null,null,null,null,null,null,null,null,null,null,{"$f":"IF($I730=AI$6,$E730,0)","v":0},{"$f":"IF($K730=ROUND(AI$6*$F730,2),$G730,0)","v":0},{"$f":"IF($H730>0,AI730,0)","v":0},{"$f":"IF(AK730>0,1,0)","v":0},{"$f":"IF($H730>0,AJ730,0)","v":0},{"$f":"IF(AM730>0,1,0)","v":0},{"$f":"IF($I730=AO$6,$E730,0)","v":38.406999999999996},{"$f":"IF($K730=ROUND(AO$6*$F730,2),$G730,0)","v":0},{"$f":"IF($H730>0,AO730,0)","v":38.406999999999996},{"$f":"IF(AQ730>0,1,0)","v":1},{"$f":"IF($H730>0,AP730,0)","v":0},{"$f":"IF(AS730>0,1,0)","v":0},{"$f":"IF($I730=AU$6,$E730,0)","v":0},{"$f":"IF($K730=ROUND(AU$6*$F730,2),$G730,0)","v":0},{"$f":"IF($H730>0,AU730,0)","v":0},{"$f":"IF(AW730>0,1,0)","v":0},{"$f":"IF($H730>0,AV730,0)","v":0},{"$f":"IF(AY730>0,1,0)","v":0},{"$f":"IF($I730=BA$6,$E730,0)","v":0},{"$f":"IF($K730=ROUND(BA$6*$F730,2),$G730,0)","v":0},{"$f":"IF($H730>0,BA730,0)","v":0},{"$f":"IF(BC730>0,1,0)","v":0},{"$f":"IF($H730>0,BB730,0)","v":0},{"$f":"IF(BE730>0,1,0)","v":0},null,3.8406999999999997E-2,38,null,null,0]
[{"$f":"IF(E731+G731>0,A730,\"\")","v":""},{"$f":"IF(E731+G731>0,B730,\"\")","v":""},5,"03-4-23.1127/03-4-23.890",0,1.1000000000000001,0,0,{"$f":"SUMIF(Y$14:BA$14,C731,Y$6:BA$6)","v":1386.75},{"$f":"IF(H731=0,ROUND(E731*I731,2),ROUND(H731*E731,2))","v":0},{"$f":"ROUND(F731*I731,2)","v":1525.43},{"$f":"IF(H731=0,ROUND(ROUND(F731*I731,2)*G731,2),ROUND(G731*H731,2))","v":0},{"$f":"L731-ROUND(G731*I731,2)","v":0},null,{"$f":"J731+L731+N731","v":0},null,405.07,{"$f":"ROUND(Q731*E731,2)","v":0},{"$f":"ROUND(F731*Q731,2)","v":445.58},{"$f":"ROUND(S731*G731,2)","v":0},{"$f":"T731-ROUND(Q731*G731,2)","v":0},null,{"$f":"R731+T731+V731","v":0},null,null,null,null,null,null,null,null,null,null,null,{"$f":"IF($I731=AI$6,$E731,0)","v":0},0,{"$f":"IF($H731>0,AI731,0)","v":0},{"$f":"IF(AK731>0,1,0)","v":0},{"$f":"IF($H731>0,AJ731,0)","v":0},{"$f":"IF(AM731>0,1,0)","v":0},{"$f":"IF($I731=AO$6,$E731,0)","v":0},0,{"$f":"IF($H731>0,AO731,0)","v":0},{"$f":"IF(AQ731>0,1,0)","v":0},{"$f":"IF($H731>0,AP731,0)","v":0},{"$f":"IF(AS731>0,1,0)","v":0},{"$f":"IF($I731=AU$6,$E731,0)","v":0},0,{"$f":"IF($H731>0,AU731,0)","v":0},{"$f":"IF(AW731>0,1,0)","v":0},{"$f":"IF($H731>0,AV731,0)","v":0},{"$f":"IF(AY731>0,1,0)","v":0},{"$f":"IF($I731=BA$6,$E731,0)","v":0},0,{"$f":"IF($H731>0,BA731,0)","v":0},{"$f":"IF(BC731>0,1,0)","v":0},{"$f":"IF($H731>0,BB731,0)","v":0},{"$f":"IF(BE731>0,1,0)","v":0},null,0,null,null,null,0]
[{"$f":"IF(E732+G732>0,A730,\"\")","v":""},{"$f":"IF(E732+G732>0,B730,\"\")","v":""},{"$f":"C731","v":5},"03-4-23.1127/03-4-23.890",0,1.5,0,0,{"$f":"SUMIF(Y$14:BA$14,C732,Y$7:BA$7)","v":0},0,0,0,0,null,0,null,405.07,0,607.61,0,0,null,0,null,null,null,null,null,null,null,null,null,null,null,{"$f":"IF($I732=AI$7,$E732,0)","v":0},{"$f":"IF($K732=ROUND(AI$7*$F732,2),$G732,0)","v":0},0,0,0,0,{"$f":"IF($I732=AO$7,$E732,0)","v":0},{"$f":"IF($K732=ROUND(AO$7*$F732,2),$G732,0)","v":0},0,0,0,0,{"$f":"IF($I732=AU$7,$E732,0)","v":0},{"$f":"IF($K732=ROUND(AU$7*$F732,2),$G732,0)","v":0},0,0,0,0,{"$f":"IF($I732=BA$7,$E732,0)","v":0},{"$f":"IF($K732=ROUND(BA$7*$F732,2),$G732,0)","v":0},0,0,0,0,null,0,null,null,null,0]
[{"$f":"IF(E733+G733>0,A730,\"\")","v":""},{"$f":"IF(E733+G733>0,B730,\"\")","v":""},{"$f":"C731","v":5},"03-4-23.1127/03-4-23.890",0,1.1000000000000001,0,0,{"$f":"SUMIF(Y$14:BA$14,C733,Y$7:BA$7)","v":0},0,0,0,0,null,0,null,405.07,0,445.58,0,0,null,0,null,null,null,null,null,null,null,null,null,null,null,{"$f":"IF($I733=AI$7,$E733,0)","v":0},{"$f":"IF($K733=ROUND(AI$7*$F733,2),$G733,0)","v":0},0,0,0,0,{"$f":"IF($I733=AO$7,$E733,0)","v":0},{"$f":"IF($K733=ROUND(AO$7*$F733,2),$G733,0)","v":0},0,0,0,0,{"$f":"IF($I733=AU$7,$E733,0)","v":0},{"$f":"IF($K733=ROUND(AU$7*$F733,2),$G733,0)","v":0},0,0,0,0,{"$f":"IF($I733=BA$7,$E733,0)","v":0},{"$f":"IF($K733=ROUND(BA$7*$F733,2),$G733,0)","v":0},0,0,0,0,null,0,null,null,null,0]
["ООО          \"ВельскТеплоКом\"","Вельск, ул.Фефилова-31 (с 01.03  -  ул.1 мая)",{"$f":"C735","v":6},"03-4-23.893(333)",0,1.5,0,0,{"$f":"SUMIF(Y$14:BA$14,C734,Y$6:BA$6)","v":1733.45},{"$f":"IF(H734=0,ROUND(E734*I734,2),ROUND(H734*E734,2))","v":0},{"$f":"ROUND(F734*I734,2)","v":2600.1799999999998},{"$f":"IF(H734=0,ROUND(ROUND(F734*I734,2)*G734,2),ROUND(G734*H734,2))","v":0},{"$f":"L734-ROUND(G734*I734,2)","v":0},null,{"$f":"J734+L734+N734","v":0},null,405.07,{"$f":"ROUND(Q734*E734,2)","v":0},{"$f":"ROUND(F734*Q734,2)","v":607.61},{"$f":"ROUND(S734*G734,2)","v":0},{"$f":"T734-ROUND(Q734*G734,2)","v":0},null,{"$f":"R734+T734+V734","v":0},null,null,null,null,null,null,null,null,null,null,null,{"$f":"IF($I734=AI$6,$E734,0)","v":0},{"$f":"IF($K734=ROUND(AI$6*$F734,2),$G734,0)","v":0},{"$f":"IF($H734>0,AI734,0)","v":0},{"$f":"IF(AK734>0,1,0)","v":0},{"$f":"IF($H734>0,AJ734,0)","v":0},{"$f":"IF(AM734>0,1,0)","v":0},{"$f":"IF($I734=AO$6,$E734,0)","v":0},{"$f":"IF($K734=ROUND(AO$6*$F734,2),$G734,0)","v":0},{"$f":"IF($H734>0,AO734,0)","v":0},{"$f":"IF(AQ734>0,1,0)","v":0},{"$f":"IF($H734>0,AP734,0)","v":0},{"$f":"IF(AS734>0,1,0)","v":0},{"$f":"IF($I734=AU$6,$E734,0)","v":0},{"$f":"IF($K734=ROUND(AU$6*$F734,2),$G734,0)","v":0},{"$f":"IF($H734>0,AU734,0)","v":0},{"$f":"IF(AW734>0,1,0)","v":0},{"$f":"IF($H734>0,AV734,0)","v":0},{"$f":"IF(AY734>0,1,0)","v":0},{"$f":"IF($I734=BA$6,$E734,0)","v":0},{"$f":"IF($K734=ROUND(BA$6*$F734,2),$G734,0)","v":0},{"$f":"IF($H734>0,BA734,0)","v":0},{"$f":"IF(BC734>0,1,0)","v":0},{"$f":"IF($H734>0,BB734,0)","v":0},{"$f":"IF(BE734>0,1,0)","v":0},null,0,null,null,null,0]
[{"$f":"IF(E735+G735>0,A734,\"\")","v":""},{"$f":"IF(E735+G735>0,B734,\"\")","v":""},6,"03-4-23.893(333)",0,1.1000000000000001,0,0,{"$f":"SUMIF(Y$14:BA$14,C735,Y$6:BA$6)","v":1733.45},{"$f":"IF(H735=0,ROUND(E735*I735,2),ROUND(H735*E735,2))","v":0},{"$f":"ROUND(F735*I735,2)","v":1906.8},{"$f":"IF(H735=0,ROUND(ROUND(F735*I735,2)*G735,2),ROUND(G735*H735,2))","v":0},{"$f":"L735-ROUND(G735*I735,2)","v":0},null,{"$f":"J735+L735+N735","v":0},null,405.07,{"$f":"ROUND(Q735*E735,2)","v":0},{"$f":"ROUND(F735*Q735,2)","v":445.58},{"$f":"ROUND(S735*G735,2)","v":0},{"$f":"T735-ROUND(Q735*G735,2)","v":0},null,{"$f":"R735+T735+V735","v":0},null,null,null,null,null,null,null,null,null,null,null,{"$f":"IF($I735=AI$6,$E735,0)","v":0},0,{"$f":"IF($H735>0,AI735,0)","v":0},{"$f":"IF(AK735>0,1,0)","v":0},{"$f":"IF($H735>0,AJ735,0)","v":0},{"$f":"IF(AM735>0,1,0)","v":0},{"$f":"IF($I735=AO$6,$E735,0)","v":0},0,{"$f":"IF($H735>0,AO735,0)","v":0},{"$f":"IF(AQ735>0,1,0)","v":0},{"$f":"IF($H735>0,AP735,0)","v":0},{"$f":"IF(AS735>0,1,0)","v":0},{"$f":"IF($I735=AU$6,$E735,0)","v":0},0,{"$f":"IF($H735>0,AU735,0)","v":0},{"$f":"IF(AW735>0,1,0)","v":0},{"$f":"IF($H735>0,AV735,0)","v":0},{"$f":"IF(AY735>0,1,0)","v":0},{"$f":"IF($I735=BA$6,$E735,0)","v":0},0,{"$f":"IF($H735>0,BA735,0)","v":0},{"$f":"IF(BC735>0,1,0)","v":0},{"$f":"IF($H735>0,BB735,0)","v":0},{"$f":"IF(BE735>0,1,0)","v":0},null,0,null,null,null,0]
[{"$f":"IF(E736+G736>0,A734,\"\")","v":"ООО          \"ВельскТеплоКом\""},"Вельск, ул.Белинского-53",{"$f":"C735","v":6},"03-4-23.893(333)",9.4770000000000003,1.5,0,9.4770000000000003,1733.45,89.81,2600.1799999999998,0,0,null,89.81,null,405.07,3838.85,607.61,0,0,null,3838.85,null,null,null,null,null,null,null,null,null,null,null,0,0,0,0,0,0,0,0,0,0,0,0,9.4770000000000003,0,9.4770000000000003,1,0,0,0,0,0,0,0,0,null,9.477000000000001E-3,9,null,null,0]
[{"$f":"IF(E737+G737>0,A734,\"\")","v":""},{"$f":"IF(E737+G737>0,B734,\"\")","v":""},{"$f":"C735","v":6},"03-4-23.893(333)",0,1.1000000000000001,0,0,1733.45,0,1906.8,0,0,null,0,null,405.07,0,445.58,0,0,null,0,null,null,null,null,null,null,null,null,null,null,null,0,0,0,0,0,0,0,0,0,0,0,0,0,0,0,0,0,0,0,0,0,0,0,0,null,0,null,null,null,0]
["ООО          \"ВельскТеплоКом\"","Вельск, (ул.Белинского-53 + ул.1 мая/ул.К.Маркса, кв.47)",{"$f":"C739","v":6},"03-4-23.893(333)",0,1.5,0,0,1733.45,{"$f":"IF(H738=0,ROUND(E738*I738,2),ROUND(H738*E738,2))","v":0},{"$f":"ROUND(F738*I738,2)","v":2600.1799999999998},{"$f":"IF(H738=0,ROUND(ROUND(F738*I738,2)*G738,2),ROUND(G738*H738,2))","v":0},{"$f":"L738-ROUND(G738*I738,2)","v":0},null,{"$f":"J738+L738+N738","v":0},null,405.07,{"$f":"ROUND(Q738*E738,2)","v":0},{"$f":"ROUND(F738*Q738,2)","v":607.61},{"$f":"ROUND(S738*G738,2)","v":0},{"$f":"T738-ROUND(Q738*G738,2)","v":0},null,{"$f":"R738+T738+V738","v":0},null,null,null,null,null,null,null,null,null,null,null,0,0,0,0,0,0,0,0,0,0,0,0,0,0,0,0,0,0,0,0,{"$f":"IF($H738>0,BA738,0)","v":0},{"$f":"IF(BC738>0,1,0)","v":0},{"$f":"IF($H738>0,BB738,0)","v":0},{"$f":"IF(BE738>0,1,0)","v":0},null,0,null,null,null,0]
[{"$f":"IF(E739+G739>0,A738,\"\")","v":""},{"$f":"IF(E739+G739>0,B738,\"\")","v":""},6,"03-4-23.893(333)",0,1.1000000000000001,0,0,1733.45,{"$f":"IF(H739=0,ROUND(E739*I739,2),ROUND(H739*E739,2))","v":0},{"$f":"ROUND(F739*I739,2)","v":1906.8},{"$f":"IF(H739=0,ROUND(ROUND(F739*I739,2)*G739,2),ROUND(G739*H739,2))","v":0},{"$f":"L739-ROUND(G739*I739,2)","v":0},null,{"$f":"J739+L739+N739","v":0},null,405.07,{"$f":"ROUND(Q739*E739,2)","v":0},{"$f":"ROUND(F739*Q739,2)","v":445.58},{"$f":"ROUND(S739*G739,2)","v":0},{"$f":"T739-ROUND(Q739*G739,2)","v":0},null,{"$f":"R739+T739+V739","v":0},null,null,null,null,null,null,null,null,null,null,null,0,0,0,0,0,0,0,0,0,0,0,0,0,0,0,0,0,0,0,0,{"$f":"IF($H739>0,BA739,0)","v":0},{"$f":"IF(BC739>0,1,0)","v":0},{"$f":"IF($H739>0,BB739,0)","v":0},{"$f":"IF(BE739>0,1,0)","v":0},null,0,null,null,null,0]
[{"$f":"IF(E740+G740>0,A738,\"\")","v":"ООО          \"ВельскТеплоКом\""},"Вельск, ул.1 мая/ул.К.Маркса, квартал 47",{"$f":"C739","v":6},"03-4-23.893(333)",6.1,1.5,0,6.1,1733.45,37.21,2600.1799999999998,0,0,null,37.21,null,405.07,2470.9299999999998,607.61,0,0,null,2470.9299999999998,null,null,null,null,null,null,null,null,null,null,null,0,0,0,0,0,0,0,0,0,0,0,0,6.1,0,6.1,1,0,0,0,0,0,0,0,0,null,6.0999999999999995E-3,8,null,null,0]
[{"$f":"IF(E741+G741>0,A738,\"\")","v":""},{"$f":"IF(E741+G741>0,B738,\"\")","v":""},{"$f":"C739","v":6},"03-4-23.893(333)",0,1.1000000000000001,0,0,1733.45,0,1906.8,0,0,null,0,null,405.07,0,445.58,0,0,null,0,null,null,null,null,null,null,null,null,null,null,null,0,0,0,0,0,0,0,0,0,0,0,0,0,0,0,0,0,0,0,0,0,0,0,0,null,0,null,null,null,0]
["ООО          \"ВельскТеплоКом\"","пст.Аргуновский, ул.Мира-5",{"$f":"C743","v":6},"03-4-23.893(333)",0,1.5,0,0,1733.45,{"$f":"IF(H742=0,ROUND(E742*I742,2),ROUND(H742*E742,2))","v":0},{"$f":"ROUND(F742*I742,2)","v":2600.1799999999998},{"$f":"IF(H742=0,ROUND(ROUND(F742*I742,2)*G742,2),ROUND(G742*H742,2))","v":0},{"$f":"L742-ROUND(G742*I742,2)","v":0},null,{"$f":"J742+L742+N742","v":0},null,405.07,{"$f":"ROUND(Q742*E742,2)","v":0},{"$f":"ROUND(F742*Q742,2)","v":607.61},{"$f":"ROUND(S742*G742,2)","v":0},{"$f":"T742-ROUND(Q742*G742,2)","v":0},null,{"$f":"R742+T742+V742","v":0},null,null,null,null,null,null,null,null,null,null,null,0,0,0,0,0,0,0,0,0,0,0,0,0,0,0,0,0,0,0,0,{"$f":"IF($H742>0,BA742,0)","v":0},{"$f":"IF(BC742>0,1,0)","v":0},{"$f":"IF($H742>0,BB742,0)","v":0},{"$f":"IF(BE742>0,1,0)","v":0},null,0,null,null,null,0]
[{"$f":"IF(E743+G743>0,A742,\"\")","v":""},{"$f":"IF(E743+G743>0,B742,\"\")","v":""},6,"03-4-23.893(333)",0,1.1000000000000001,0,0,1733.45,{"$f":"IF(H743=0,ROUND(E743*I743,2),ROUND(H743*E743,2))","v":0},{"$f":"ROUND(F743*I743,2)","v":1906.8},{"$f":"IF(H743=0,ROUND(ROUND(F743*I743,2)*G743,2),ROUND(G743*H743,2))","v":0},{"$f":"L743-ROUND(G743*I743,2)","v":0},null,{"$f":"J743+L743+N743","v":0},null,405.07,{"$f":"ROUND(Q743*E743,2)","v":0},{"$f":"ROUND(F743*Q743,2)","v":445.58},{"$f":"ROUND(S743*G743,2)","v":0},{"$f":"T743-ROUND(Q743*G743,2)","v":0},null,{"$f":"R743+T743+V743","v":0},null,null,null,null,null,null,null,null,null,null,null,0,0,0,0,0,0,0,0,0,0,0,0,0,0,0,0,0,0,0,0,{"$f":"IF($H743>0,BA743,0)","v":0},{"$f":"IF(BC743>0,1,0)","v":0},{"$f":"IF($H743>0,BB743,0)","v":0},{"$f":"IF(BE743>0,1,0)","v":0},null,0,null,null,null,0]
[{"$f":"IF(E744+G744>0,A742,\"\")","v":"ООО          \"ВельскТеплоКом\""},"пст.Аргуновский, ул.Мира-5",{"$f":"C743","v":6},"03-4-23.893(333)",5.4,1.5,0,5.4,1733.45,29.16,2600.1799999999998,0,0,null,29.16,null,405.07,2187.38,607.61,0,0,null,2187.38,null,null,null,null,null,null,null,null,null,null,null,0,0,0,0,0,0,0,0,0,0,0,0,5.4,0,5.4,1,0,0,0,0,0,0,0,0,null,5.4000000000000003E-3,5.5,null,null,0]
[{"$f":"IF(E745+G745>0,A742,\"\")","v":""},{"$f":"IF(E745+G745>0,B742,\"\")","v":""},{"$f":"C743","v":6},"03-4-23.893(333)",0,1.1000000000000001,0,0,1733.45,0,1906.8,0,0,null,0,null,405.07,0,445.58,0,0,null,0,null,null,null,null,null,null,null,null,null,null,null,0,0,0,0,0,0,0,0,0,0,0,0,0,0,0,0,0,0,0,0,0,0,0,0,null,0,null,null,null,0]
["ООО          \"Торговый дом \"Устьялес\"","Вельск, (ул.Красная-24а + ул.Революционная-1а с 01.09)",{"$f":"C747","v":6},"03-4-23.1099(333)",1.69,1.5,0,1.69,{"$f":"SUMIF(Y$14:BA$14,C746,Y$6:BA$6)","v":1733.45},{"$f":"IF(H746=0,ROUND(E746*I746,2),ROUND(H746*E746,2))","v":2.86},{"$f":"ROUND(F746*I746,2)","v":2600.1799999999998},{"$f":"IF(H746=0,ROUND(ROUND(F746*I746,2)*G746,2),ROUND(G746*H746,2))","v":0},{"$f":"L746-ROUND(G746*I746,2)","v":0},null,{"$f":"J746+L746+N746","v":2.86},null,405.07,{"$f":"ROUND(Q746*E746,2)","v":684.57},{"$f":"ROUND(F746*Q746,2)","v":607.61},{"$f":"ROUND(S746*G746,2)","v":0},{"$f":"T746-ROUND(Q746*G746,2)","v":0},null,{"$f":"R746+T746+V746","v":684.57},null,null,null,null,null,null,null,null,null,null,null,{"$f":"IF($I746=AI$6,$E746,0)","v":0},0,{"$f":"IF($H746>0,AI746,0)","v":0},{"$f":"IF(AK746>0,1,0)","v":0},{"$f":"IF($H746>0,AJ746,0)","v":0},{"$f":"IF(AM746>0,1,0)","v":0},{"$f":"IF($I746=AO$6,$E746,0)","v":0},0,{"$f":"IF($H746>0,AO746,0)","v":0},{"$f":"IF(AQ746>0,1,0)","v":0},{"$f":"IF($H746>0,AP746,0)","v":0},{"$f":"IF(AS746>0,1,0)","v":0},{"$f":"IF($I746=AU$6,$E746,0)","v":1.69},0,{"$f":"IF($H746>0,AU746,0)","v":1.69},{"$f":"IF(AW746>0,1,0)","v":1},{"$f":"IF($H746>0,AV746,0)","v":0},{"$f":"IF(AY746>0,1,0)","v":0},{"$f":"IF($I746=BA$6,$E746,0)","v":0},0,{"$f":"IF($H746>0,BA746,0)","v":0},{"$f":"IF(BC746>0,1,0)","v":0},{"$f":"IF($H746>0,BB746,0)","v":0},{"$f":"IF(BE746>0,1,0)","v":0},null,1.6899999999999999E-3,6.4,null,null,0]
[{"$f":"IF(E747+G747>0,A746,\"\")","v":""},{"$f":"IF(E747+G747>0,B746,\"\")","v":""},6,"03-4-23.1099(333)",0,1.1000000000000001,0,0,{"$f":"SUMIF(Y$14:BA$14,C747,Y$6:BA$6)","v":1733.45},{"$f":"IF(H747=0,ROUND(E747*I747,2),ROUND(H747*E747,2))","v":0},{"$f":"ROUND(F747*I747,2)","v":1906.8},{"$f":"IF(H747=0,ROUND(ROUND(F747*I747,2)*G747,2),ROUND(G747*H747,2))","v":0},{"$f":"L747-ROUND(G747*I747,2)","v":0},null,{"$f":"J747+L747+N747","v":0},null,405.07,{"$f":"ROUND(Q747*E747,2)","v":0},{"$f":"ROUND(F747*Q747,2)","v":445.58},{"$f":"ROUND(S747*G747,2)","v":0},{"$f":"T747-ROUND(Q747*G747,2)","v":0},null,{"$f":"R747+T747+V747","v":0},null,null,null,null,null,null,null,null,null,null,null,{"$f":"IF($I747=AI$6,$E747,0)","v":0},0,{"$f":"IF($H747>0,AI747,0)","v":0},{"$f":"IF(AK747>0,1,0)","v":0},{"$f":"IF($H747>0,AJ747,0)","v":0},{"$f":"IF(AM747>0,1,0)","v":0},{"$f":"IF($I747=AO$6,$E747,0)","v":0},0,{"$f":"IF($H747>0,AO747,0)","v":0},{"$f":"IF(AQ747>0,1,0)","v":0},{"$f":"IF($H747>0,AP747,0)","v":0},{"$f":"IF(AS747>0,1,0)","v":0},{"$f":"IF($I747=AU$6,$E747,0)","v":0},0,{"$f":"IF($H747>0,AU747,0)","v":0},{"$f":"IF(AW747>0,1,0)","v":0},{"$f":"IF($H747>0,AV747,0)","v":0},{"$f":"IF(AY747>0,1,0)","v":0},{"$f":"IF($I747=BA$6,$E747,0)","v":0},0,{"$f":"IF($H747>0,BA747,0)","v":0},{"$f":"IF(BC747>0,1,0)","v":0},{"$f":"IF($H747>0,BB747,0)","v":0},{"$f":"IF(BE747>0,1,0)","v":0},null,0,null,null,null,0]
[{"$f":"IF(E748+G748>0,A746,\"\")","v":""},{"$f":"IF(E748+G748>0,B746,\"\")","v":""},{"$f":"C747","v":6},"03-4-23.1099(333)",0,1.5,0,0,{"$f":"SUMIF(Y$14:BA$14,C748,Y$7:BA$7)","v":0},0,0,0,0,null,0,null,405.07,0,607.61,0,0,null,0,null,null,null,null,null,null,null,null,null,null,null,{"$f":"IF($I748=AI$7,$E748,0)","v":0},{"$f":"IF($K748=ROUND(AI$7*$F748,2),$G748,0)","v":0},0,0,0,0,{"$f":"IF($I748=AO$7,$E748,0)","v":0},{"$f":"IF($K748=ROUND(AO$7*$F748,2),$G748,0)","v":0},0,0,0,0,{"$f":"IF($I748=AU$7,$E748,0)","v":0},{"$f":"IF($K748=ROUND(AU$7*$F748,2),$G748,0)","v":0},0,0,0,0,{"$f":"IF($I748=BA$7,$E748,0)","v":0},{"$f":"IF($K748=ROUND(BA$7*$F748,2),$G748,0)","v":0},0,0,0,0,null,0,null,null,null,0]
[{"$f":"IF(E749+G749>0,A746,\"\")","v":""},{"$f":"IF(E749+G749>0,B746,\"\")","v":""},{"$f":"C747","v":6},"03-4-23.1099(333)",0,1.1000000000000001,0,0,{"$f":"SUMIF(Y$14:BA$14,C749,Y$7:BA$7)","v":0},0,0,0,0,null,0,null,405.07,0,445.58,0,0,null,0,null,null,null,null,null,null,null,null,null,null,null,{"$f":"IF($I749=AI$7,$E749,0)","v":0},{"$f":"IF($K749=ROUND(AI$7*$F749,2),$G749,0)","v":0},0,0,0,0,{"$f":"IF($I749=AO$7,$E749,0)","v":0},{"$f":"IF($K749=ROUND(AO$7*$F749,2),$G749,0)","v":0},0,0,0,0,{"$f":"IF($I749=AU$7,$E749,0)","v":0},{"$f":"IF($K749=ROUND(AU$7*$F749,2),$G749,0)","v":0},0,0,0,0,{"$f":"IF($I749=BA$7,$E749,0)","v":0},{"$f":"IF($K749=ROUND(BA$7*$F749,2),$G749,0)","v":0},0,0,0,0,null,0,null,null,null,0]
["МБУК         \"Районный культурный центр\"","д.Горка Муравьевская, КСК",{"$f":"C751","v":6},"03-4-23.897(333)",4.4909999999999997,1.5,0,4.4909999999999997,{"$f":"SUMIF(Y$14:BA$14,C750,Y$6:BA$6)","v":1733.45},{"$f":"IF(H750=0,ROUND(E750*I750,2),ROUND(H750*E750,2))","v":20.170000000000002},{"$f":"ROUND(F750*I750,2)","v":2600.1799999999998},{"$f":"IF(H750=0,ROUND(ROUND(F750*I750,2)*G750,2),ROUND(G750*H750,2))","v":0},{"$f":"L750-ROUND(G750*I750,2)","v":0},null,{"$f":"J750+L750+N750","v":20.170000000000002},null,405.07,{"$f":"ROUND(Q750*E750,2)","v":1819.17},{"$f":"ROUND(F750*Q750,2)","v":607.61},{"$f":"ROUND(S750*G750,2)","v":0},{"$f":"T750-ROUND(Q750*G750,2)","v":0},null,{"$f":"R750+T750+V750","v":1819.17},null,null,null,null,null,null,null,null,null,null,null,{"$f":"IF($I750=AI$6,$E750,0)","v":0},{"$f":"IF($K750=ROUND(AI$6*$F750,2),$G750,0)","v":0},{"$f":"IF($H750>0,AI750,0)","v":0},{"$f":"IF(AK750>0,1,0)","v":0},{"$f":"IF($H750>0,AJ750,0)","v":0},{"$f":"IF(AM750>0,1,0)","v":0},{"$f":"IF($I750=AO$6,$E750,0)","v":0},{"$f":"IF($K750=ROUND(AO$6*$F750,2),$G750,0)","v":0},{"$f":"IF($H750>0,AO750,0)","v":0},{"$f":"IF(AQ750>0,1,0)","v":0},{"$f":"IF($H750>0,AP750,0)","v":0},{"$f":"IF(AS750>0,1,0)","v":0},{"$f":"IF($I750=AU$6,$E750,0)","v":4.4909999999999997},{"$f":"IF($K750=ROUND(AU$6*$F750,2),$G750,0)","v":0},{"$f":"IF($H750>0,AU750,0)","v":4.4909999999999997},{"$f":"IF(AW750>0,1,0)","v":1},{"$f":"IF($H750>0,AV750,0)","v":0},{"$f":"IF(AY750>0,1,0)","v":0},{"$f":"IF($I750=BA$6,$E750,0)","v":0},{"$f":"IF($K750=ROUND(BA$6*$F750,2),$G750,0)","v":0},{"$f":"IF($H750>0,BA750,0)","v":0},{"$f":"IF(BC750>0,1,0)","v":0},{"$f":"IF($H750>0,BB750,0)","v":0},{"$f":"IF(BE750>0,1,0)","v":0},null,4.4909999999999993E-3,2.6,null,null,0]
[{"$f":"IF(E751+G751>0,A750,\"\")","v":""},{"$f":"IF(E751+G751>0,B750,\"\")","v":""},6,"03-4-23.897(333)",0,1.1000000000000001,0,0,{"$f":"SUMIF(Y$14:BA$14,C751,Y$6:BA$6)","v":1733.45},{"$f":"IF(H751=0,ROUND(E751*I751,2),ROUND(H751*E751,2))","v":0},{"$f":"ROUND(F751*I751,2)","v":1906.8},{"$f":"IF(H751=0,ROUND(ROUND(F751*I751,2)*G751,2),ROUND(G751*H751,2))","v":0},{"$f":"L751-ROUND(G751*I751,2)","v":0},null,{"$f":"J751+L751+N751","v":0},null,405.07,{"$f":"ROUND(Q751*E751,2)","v":0},{"$f":"ROUND(F751*Q751,2)","v":445.58},{"$f":"ROUND(S751*G751,2)","v":0},{"$f":"T751-ROUND(Q751*G751,2)","v":0},null,{"$f":"R751+T751+V751","v":0},null,null,null,null,null,null,null,null,null,null,null,{"$f":"IF($I751=AI$6,$E751,0)","v":0},0,{"$f":"IF($H751>0,AI751,0)","v":0},{"$f":"IF(AK751>0,1,0)","v":0},{"$f":"IF($H751>0,AJ751,0)","v":0},{"$f":"IF(AM751>0,1,0)","v":0},{"$f":"IF($I751=AO$6,$E751,0)","v":0},0,{"$f":"IF($H751>0,AO751,0)","v":0},{"$f":"IF(AQ751>0,1,0)","v":0},{"$f":"IF($H751>0,AP751,0)","v":0},{"$f":"IF(AS751>0,1,0)","v":0},{"$f":"IF($I751=AU$6,$E751,0)","v":0},0,{"$f":"IF($H751>0,AU751,0)","v":0},{"$f":"IF(AW751>0,1,0)","v":0},{"$f":"IF($H751>0,AV751,0)","v":0},{"$f":"IF(AY751>0,1,0)","v":0},{"$f":"IF($I751=BA$6,$E751,0)","v":0},0,{"$f":"IF($H751>0,BA751,0)","v":0},{"$f":"IF(BC751>0,1,0)","v":0},{"$f":"IF($H751>0,BB751,0)","v":0},{"$f":"IF(BE751>0,1,0)","v":0},null,0,null,null,null,0]
[{"$f":"IF(E752+G752>0,A750,\"\")","v":""},{"$f":"IF(E752+G752>0,B750,\"\")","v":""},{"$f":"C751","v":6},"03-4-23.897(333)",0,1.5,0,0,{"$f":"SUMIF(Y$14:BA$14,C752,Y$7:BA$7)","v":0},0,0,0,0,null,0,null,405.07,0,607.61,0,0,null,0,null,null,null,null,null,null,null,null,null,null,null,{"$f":"IF($I752=AI$7,$E752,0)","v":0},{"$f":"IF($K752=ROUND(AI$7*$F752,2),$G752,0)","v":0},0,0,0,0,{"$f":"IF($I752=AO$7,$E752,0)","v":0},{"$f":"IF($K752=ROUND(AO$7*$F752,2),$G752,0)","v":0},0,0,0,0,{"$f":"IF($I752=AU$7,$E752,0)","v":0},{"$f":"IF($K752=ROUND(AU$7*$F752,2),$G752,0)","v":0},0,0,0,0,{"$f":"IF($I752=BA$7,$E752,0)","v":0},{"$f":"IF($K752=ROUND(BA$7*$F752,2),$G752,0)","v":0},0,0,0,0,null,0,null,null,null,0]
[{"$f":"IF(E753+G753>0,A750,\"\")","v":""},{"$f":"IF(E753+G753>0,B750,\"\")","v":""},{"$f":"C751","v":6},"03-4-23.897(333)",0,1.1000000000000001,0,0,{"$f":"SUMIF(Y$14:BA$14,C753,Y$7:BA$7)","v":0},0,0,0,0,null,0,null,405.07,0,445.58,0,0,null,0,null,null,null,null,null,null,null,null,null,null,null,{"$f":"IF($I753=AI$7,$E753,0)","v":0},{"$f":"IF($K753=ROUND(AI$7*$F753,2),$G753,0)","v":0},0,0,0,0,{"$f":"IF($I753=AO$7,$E753,0)","v":0},{"$f":"IF($K753=ROUND(AO$7*$F753,2),$G753,0)","v":0},0,0,0,0,{"$f":"IF($I753=AU$7,$E753,0)","v":0},{"$f":"IF($K753=ROUND(AU$7*$F753,2),$G753,0)","v":0},0,0,0,0,{"$f":"IF($I753=BA$7,$E753,0)","v":0},{"$f":"IF($K753=ROUND(BA$7*$F753,2),$G753,0)","v":0},0,0,0,0,null,0,null,null,null,0]
["ГБУК АО    \"Вельский краеведческий музей\" ","",{"$f":"C755","v":6},"03-4-23.899(333)",3.351,1.5,0,3.351,{"$f":"SUMIF(Y$14:BA$14,C754,Y$6:BA$6)","v":1733.45},{"$f":"IF(H754=0,ROUND(E754*I754,2),ROUND(H754*E754,2))","v":11.23},{"$f":"ROUND(F754*I754,2)","v":2600.1799999999998},{"$f":"IF(H754=0,ROUND(ROUND(F754*I754,2)*G754,2),ROUND(G754*H754,2))","v":0},{"$f":"L754-ROUND(G754*I754,2)","v":0},null,{"$f":"J754+L754+N754","v":11.23},null,405.07,{"$f":"ROUND(Q754*E754,2)","v":1357.39},{"$f":"ROUND(F754*Q754,2)","v":607.61},{"$f":"ROUND(S754*G754,2)","v":0},{"$f":"T754-ROUND(Q754*G754,2)","v":0},null,{"$f":"R754+T754+V754","v":1357.39},null,null,null,null,null,null,null,null,null,null,null,{"$f":"IF($I754=AI$6,$E754,0)","v":0},{"$f":"IF($K754=ROUND(AI$6*$F754,2),$G754,0)","v":0},{"$f":"IF($H754>0,AI754,0)","v":0},{"$f":"IF(AK754>0,1,0)","v":0},{"$f":"IF($H754>0,AJ754,0)","v":0},{"$f":"IF(AM754>0,1,0)","v":0},{"$f":"IF($I754=AO$6,$E754,0)","v":0},{"$f":"IF($K754=ROUND(AO$6*$F754,2),$G754,0)","v":0},{"$f":"IF($H754>0,AO754,0)","v":0},{"$f":"IF(AQ754>0,1,0)","v":0},{"$f":"IF($H754>0,AP754,0)","v":0},{"$f":"IF(AS754>0,1,0)","v":0},{"$f":"IF($I754=AU$6,$E754,0)","v":3.351},{"$f":"IF($K754=ROUND(AU$6*$F754,2),$G754,0)","v":0},{"$f":"IF($H754>0,AU754,0)","v":3.351},{"$f":"IF(AW754>0,1,0)","v":1},{"$f":"IF($H754>0,AV754,0)","v":0},{"$f":"IF(AY754>0,1,0)","v":0},{"$f":"IF($I754=BA$6,$E754,0)","v":0},{"$f":"IF($K754=ROUND(BA$6*$F754,2),$G754,0)","v":0},{"$f":"IF($H754>0,BA754,0)","v":0},{"$f":"IF(BC754>0,1,0)","v":0},{"$f":"IF($H754>0,BB754,0)","v":0},{"$f":"IF(BE754>0,1,0)","v":0},null,3.3509999999999998E-3,4.8,null,null,0]
[{"$f":"IF(E755+G755>0,A754,\"\")","v":""},{"$f":"IF(E755+G755>0,B754,\"\")","v":""},6,"03-4-23.899(333)",0,1.1000000000000001,0,0,{"$f":"SUMIF(Y$14:BA$14,C755,Y$6:BA$6)","v":1733.45},{"$f":"IF(H755=0,ROUND(E755*I755,2),ROUND(H755*E755,2))","v":0},{"$f":"ROUND(F755*I755,2)","v":1906.8},{"$f":"IF(H755=0,ROUND(ROUND(F755*I755,2)*G755,2),ROUND(G755*H755,2))","v":0},{"$f":"L755-ROUND(G755*I755,2)","v":0},null,{"$f":"J755+L755+N755","v":0},null,405.07,{"$f":"ROUND(Q755*E755,2)","v":0},{"$f":"ROUND(F755*Q755,2)","v":445.58},{"$f":"ROUND(S755*G755,2)","v":0},{"$f":"T755-ROUND(Q755*G755,2)","v":0},null,{"$f":"R755+T755+V755","v":0},null,null,null,null,null,null,null,null,null,null,null,{"$f":"IF($I755=AI$6,$E755,0)","v":0},0,{"$f":"IF($H755>0,AI755,0)","v":0},{"$f":"IF(AK755>0,1,0)","v":0},{"$f":"IF($H755>0,AJ755,0)","v":0},{"$f":"IF(AM755>0,1,0)","v":0},{"$f":"IF($I755=AO$6,$E755,0)","v":0},0,{"$f":"IF($H755>0,AO755,0)","v":0},{"$f":"IF(AQ755>0,1,0)","v":0},{"$f":"IF($H755>0,AP755,0)","v":0},{"$f":"IF(AS755>0,1,0)","v":0},{"$f":"IF($I755=AU$6,$E755,0)","v":0},0,{"$f":"IF($H755>0,AU755,0)","v":0},{"$f":"IF(AW755>0,1,0)","v":0},{"$f":"IF($H755>0,AV755,0)","v":0},{"$f":"IF(AY755>0,1,0)","v":0},{"$f":"IF($I755=BA$6,$E755,0)","v":0},0,{"$f":"IF($H755>0,BA755,0)","v":0},{"$f":"IF(BC755>0,1,0)","v":0},{"$f":"IF($H755>0,BB755,0)","v":0},{"$f":"IF(BE755>0,1,0)","v":0},null,0,null,null,null,0]
[{"$f":"IF(E756+G756>0,A754,\"\")","v":""},{"$f":"IF(E756+G756>0,B754,\"\")","v":""},{"$f":"C755","v":6},"03-4-23.899(333)",0,1.5,0,0,{"$f":"SUMIF(Y$14:BA$14,C756,Y$7:BA$7)","v":0},0,0,0,0,null,0,null,405.07,0,607.61,0,0,null,0,null,null,null,null,null,null,null,null,null,null,null,{"$f":"IF($I756=AI$7,$E756,0)","v":0},{"$f":"IF($K756=ROUND(AI$7*$F756,2),$G756,0)","v":0},0,0,0,0,{"$f":"IF($I756=AO$7,$E756,0)","v":0},{"$f":"IF($K756=ROUND(AO$7*$F756,2),$G756,0)","v":0},0,0,0,0,{"$f":"IF($I756=AU$7,$E756,0)","v":0},{"$f":"IF($K756=ROUND(AU$7*$F756,2),$G756,0)","v":0},0,0,0,0,{"$f":"IF($I756=BA$7,$E756,0)","v":0},{"$f":"IF($K756=ROUND(BA$7*$F756,2),$G756,0)","v":0},0,0,0,0,null,0,null,null,null,0]
[{"$f":"IF(E757+G757>0,A754,\"\")","v":""},{"$f":"IF(E757+G757>0,B754,\"\")","v":""},{"$f":"C755","v":6},"03-4-23.899(333)",0,1.1000000000000001,0,0,{"$f":"SUMIF(Y$14:BA$14,C757,Y$7:BA$7)","v":0},0,0,0,0,null,0,null,405.07,0,445.58,0,0,null,0,null,null,null,null,null,null,null,null,null,null,null,{"$f":"IF($I757=AI$7,$E757,0)","v":0},{"$f":"IF($K757=ROUND(AI$7*$F757,2),$G757,0)","v":0},0,0,0,0,{"$f":"IF($I757=AO$7,$E757,0)","v":0},{"$f":"IF($K757=ROUND(AO$7*$F757,2),$G757,0)","v":0},0,0,0,0,{"$f":"IF($I757=AU$7,$E757,0)","v":0},{"$f":"IF($K757=ROUND(AU$7*$F757,2),$G757,0)","v":0},0,0,0,0,{"$f":"IF($I757=BA$7,$E757,0)","v":0},{"$f":"IF($K757=ROUND(BA$7*$F757,2),$G757,0)","v":0},0,0,0,0,null,0,null,null,null,0]
["ИП              Кордумов        Алексей Федорович","",{"$f":"C759","v":7},"03-4-23.909(333)",0.57299999999999995,1.5,0,0.57299999999999995,{"$f":"SUMIF(Y$14:BA$14,C758,Y$6:BA$6)","v":2166.8000000000002},{"$f":"IF(H758=0,ROUND(E758*I758,2),ROUND(H758*E758,2))","v":0.33},{"$f":"ROUND(F758*I758,2)","v":3250.2},{"$f":"IF(H758=0,ROUND(ROUND(F758*I758,2)*G758,2),ROUND(G758*H758,2))","v":0},{"$f":"L758-ROUND(G758*I758,2)","v":0},null,{"$f":"J758+L758+N758","v":0.33},null,405.07,{"$f":"ROUND(Q758*E758,2)","v":232.11},{"$f":"ROUND(F758*Q758,2)","v":607.61},{"$f":"ROUND(S758*G758,2)","v":0},{"$f":"T758-ROUND(Q758*G758,2)","v":0},null,{"$f":"R758+T758+V758","v":232.11},null,null,null,null,null,null,null,null,null,null,null,{"$f":"IF($I758=AI$6,$E758,0)","v":0},{"$f":"IF($K758=ROUND(AI$6*$F758,2),$G758,0)","v":0},{"$f":"IF($H758>0,AI758,0)","v":0},{"$f":"IF(AK758>0,1,0)","v":0},{"$f":"IF($H758>0,AJ758,0)","v":0},{"$f":"IF(AM758>0,1,0)","v":0},{"$f":"IF($I758=AO$6,$E758,0)","v":0},{"$f":"IF($K758=ROUND(AO$6*$F758,2),$G758,0)","v":0},{"$f":"IF($H758>0,AO758,0)","v":0},{"$f":"IF(AQ758>0,1,0)","v":0},{"$f":"IF($H758>0,AP758,0)","v":0},{"$f":"IF(AS758>0,1,0)","v":0},{"$f":"IF($I758=AU$6,$E758,0)","v":0},{"$f":"IF($K758=ROUND(AU$6*$F758,2),$G758,0)","v":0},{"$f":"IF($H758>0,AU758,0)","v":0},{"$f":"IF(AW758>0,1,0)","v":0},{"$f":"IF($H758>0,AV758,0)","v":0},{"$f":"IF(AY758>0,1,0)","v":0},{"$f":"IF($I758=BA$6,$E758,0)","v":0.57299999999999995},{"$f":"IF($K758=ROUND(BA$6*$F758,2),$G758,0)","v":0},{"$f":"IF($H758>0,BA758,0)","v":0.57299999999999995},{"$f":"IF(BC758>0,1,0)","v":1},{"$f":"IF($H758>0,BB758,0)","v":0},{"$f":"IF(BE758>0,1,0)","v":0},null,5.7299999999999994E-4,0.7,null,null,0]
[{"$f":"IF(E759+G759>0,A758,\"\")","v":""},{"$f":"IF(E759+G759>0,B758,\"\")","v":""},7,"03-4-23.909(333)",0,1.1000000000000001,0,0,{"$f":"SUMIF(Y$14:BA$14,C759,Y$6:BA$6)","v":2166.8000000000002},{"$f":"IF(H759=0,ROUND(E759*I759,2),ROUND(H759*E759,2))","v":0},{"$f":"ROUND(F759*I759,2)","v":2383.48},{"$f":"IF(H759=0,ROUND(ROUND(F759*I759,2)*G759,2),ROUND(G759*H759,2))","v":0},{"$f":"L759-ROUND(G759*I759,2)","v":0},null,{"$f":"J759+L759+N759","v":0},null,405.07,{"$f":"ROUND(Q759*E759,2)","v":0},{"$f":"ROUND(F759*Q759,2)","v":445.58},{"$f":"ROUND(S759*G759,2)","v":0},{"$f":"T759-ROUND(Q759*G759,2)","v":0},null,{"$f":"R759+T759+V759","v":0},null,null,null,null,null,null,null,null,null,null,null,{"$f":"IF($I759=AI$6,$E759,0)","v":0},0,{"$f":"IF($H759>0,AI759,0)","v":0},{"$f":"IF(AK759>0,1,0)","v":0},{"$f":"IF($H759>0,AJ759,0)","v":0},{"$f":"IF(AM759>0,1,0)","v":0},{"$f":"IF($I759=AO$6,$E759,0)","v":0},0,{"$f":"IF($H759>0,AO759,0)","v":0},{"$f":"IF(AQ759>0,1,0)","v":0},{"$f":"IF($H759>0,AP759,0)","v":0},{"$f":"IF(AS759>0,1,0)","v":0},{"$f":"IF($I759=AU$6,$E759,0)","v":0},0,{"$f":"IF($H759>0,AU759,0)","v":0},{"$f":"IF(AW759>0,1,0)","v":0},{"$f":"IF($H759>0,AV759,0)","v":0},{"$f":"IF(AY759>0,1,0)","v":0},{"$f":"IF($I759=BA$6,$E759,0)","v":0},0,{"$f":"IF($H759>0,BA759,0)","v":0},{"$f":"IF(BC759>0,1,0)","v":0},{"$f":"IF($H759>0,BB759,0)","v":0},{"$f":"IF(BE759>0,1,0)","v":0},null,0,null,null,null,0]
[{"$f":"IF(E760+G760>0,A758,\"\")","v":""},{"$f":"IF(E760+G760>0,B758,\"\")","v":""},{"$f":"C759","v":7},"03-4-23.909(333)",0,1.5,0,0,{"$f":"SUMIF(Y$14:BA$14,C760,Y$7:BA$7)","v":0},0,0,0,0,null,0,null,405.07,0,607.61,0,0,null,0,null,null,null,null,null,null,null,null,null,null,null,{"$f":"IF($I760=AI$7,$E760,0)","v":0},{"$f":"IF($K760=ROUND(AI$7*$F760,2),$G760,0)","v":0},0,0,0,0,{"$f":"IF($I760=AO$7,$E760,0)","v":0},{"$f":"IF($K760=ROUND(AO$7*$F760,2),$G760,0)","v":0},0,0,0,0,{"$f":"IF($I760=AU$7,$E760,0)","v":0},{"$f":"IF($K760=ROUND(AU$7*$F760,2),$G760,0)","v":0},0,0,0,0,{"$f":"IF($I760=BA$7,$E760,0)","v":0},{"$f":"IF($K760=ROUND(BA$7*$F760,2),$G760,0)","v":0},0,0,0,0,null,0,null,null,null,0]
[{"$f":"IF(E761+G761>0,A758,\"\")","v":""},{"$f":"IF(E761+G761>0,B758,\"\")","v":""},{"$f":"C759","v":7},"03-4-23.909(333)",0,1.1000000000000001,0,0,{"$f":"SUMIF(Y$14:BA$14,C761,Y$7:BA$7)","v":0},0,0,0,0,null,0,null,405.07,0,445.58,0,0,null,0,null,null,null,null,null,null,null,null,null,null,null,{"$f":"IF($I761=AI$7,$E761,0)","v":0},{"$f":"IF($K761=ROUND(AI$7*$F761,2),$G761,0)","v":0},0,0,0,0,{"$f":"IF($I761=AO$7,$E761,0)","v":0},{"$f":"IF($K761=ROUND(AO$7*$F761,2),$G761,0)","v":0},0,0,0,0,{"$f":"IF($I761=AU$7,$E761,0)","v":0},{"$f":"IF($K761=ROUND(AU$7*$F761,2),$G761,0)","v":0},0,0,0,0,{"$f":"IF($I761=BA$7,$E761,0)","v":0},{"$f":"IF($K761=ROUND(BA$7*$F761,2),$G761,0)","v":0},0,0,0,0,null,0,null,null,null,0]
["ООО          \"Вельск Магнум\"","",{"$f":"C763","v":6},"03-4-23.911(333)",0.877,1.5,0,0.877,{"$f":"SUMIF(Y$14:BA$14,C762,Y$6:BA$6)","v":1733.45},{"$f":"IF(H762=0,ROUND(E762*I762,2),ROUND(H762*E762,2))","v":0.77},{"$f":"ROUND(F762*I762,2)","v":2600.1799999999998},{"$f":"IF(H762=0,ROUND(ROUND(F762*I762,2)*G762,2),ROUND(G762*H762,2))","v":0},{"$f":"L762-ROUND(G762*I762,2)","v":0},null,{"$f":"J762+L762+N762","v":0.77},null,405.07,{"$f":"ROUND(Q762*E762,2)","v":355.25},{"$f":"ROUND(F762*Q762,2)","v":607.61},{"$f":"ROUND(S762*G762,2)","v":0},{"$f":"T762-ROUND(Q762*G762,2)","v":0},null,{"$f":"R762+T762+V762","v":355.25},null,null,null,null,null,null,null,null,null,null,null,{"$f":"IF($I762=AI$6,$E762,0)","v":0},{"$f":"IF($K762=ROUND(AI$6*$F762,2),$G762,0)","v":0},{"$f":"IF($H762>0,AI762,0)","v":0},{"$f":"IF(AK762>0,1,0)","v":0},{"$f":"IF($H762>0,AJ762,0)","v":0},{"$f":"IF(AM762>0,1,0)","v":0},{"$f":"IF($I762=AO$6,$E762,0)","v":0},{"$f":"IF($K762=ROUND(AO$6*$F762,2),$G762,0)","v":0},{"$f":"IF($H762>0,AO762,0)","v":0},{"$f":"IF(AQ762>0,1,0)","v":0},{"$f":"IF($H762>0,AP762,0)","v":0},{"$f":"IF(AS762>0,1,0)","v":0},{"$f":"IF($I762=AU$6,$E762,0)","v":0.877},{"$f":"IF($K762=ROUND(AU$6*$F762,2),$G762,0)","v":0},{"$f":"IF($H762>0,AU762,0)","v":0.877},{"$f":"IF(AW762>0,1,0)","v":1},{"$f":"IF($H762>0,AV762,0)","v":0},{"$f":"IF(AY762>0,1,0)","v":0},{"$f":"IF($I762=BA$6,$E762,0)","v":0},{"$f":"IF($K762=ROUND(BA$6*$F762,2),$G762,0)","v":0},{"$f":"IF($H762>0,BA762,0)","v":0},{"$f":"IF(BC762>0,1,0)","v":0},{"$f":"IF($H762>0,BB762,0)","v":0},{"$f":"IF(BE762>0,1,0)","v":0},null,8.7699999999999996E-4,1.2,null,null,0]
[{"$f":"IF(E763+G763>0,A762,\"\")","v":""},{"$f":"IF(E763+G763>0,B762,\"\")","v":""},6,"03-4-23.911(333)",0,1.1000000000000001,0,0,{"$f":"SUMIF(Y$14:BA$14,C763,Y$6:BA$6)","v":1733.45},{"$f":"IF(H763=0,ROUND(E763*I763,2),ROUND(H763*E763,2))","v":0},{"$f":"ROUND(F763*I763,2)","v":1906.8},{"$f":"IF(H763=0,ROUND(ROUND(F763*I763,2)*G763,2),ROUND(G763*H763,2))","v":0},{"$f":"L763-ROUND(G763*I763,2)","v":0},null,{"$f":"J763+L763+N763","v":0},null,405.07,{"$f":"ROUND(Q763*E763,2)","v":0},{"$f":"ROUND(F763*Q763,2)","v":445.58},{"$f":"ROUND(S763*G763,2)","v":0},{"$f":"T763-ROUND(Q763*G763,2)","v":0},null,{"$f":"R763+T763+V763","v":0},null,null,null,null,null,null,null,null,null,null,null,{"$f":"IF($I763=AI$6,$E763,0)","v":0},0,{"$f":"IF($H763>0,AI763,0)","v":0},{"$f":"IF(AK763>0,1,0)","v":0},{"$f":"IF($H763>0,AJ763,0)","v":0},{"$f":"IF(AM763>0,1,0)","v":0},{"$f":"IF($I763=AO$6,$E763,0)","v":0},0,{"$f":"IF($H763>0,AO763,0)","v":0},{"$f":"IF(AQ763>0,1,0)","v":0},{"$f":"IF($H763>0,AP763,0)","v":0},{"$f":"IF(AS763>0,1,0)","v":0},{"$f":"IF($I763=AU$6,$E763,0)","v":0},0,{"$f":"IF($H763>0,AU763,0)","v":0},{"$f":"IF(AW763>0,1,0)","v":0},{"$f":"IF($H763>0,AV763,0)","v":0},{"$f":"IF(AY763>0,1,0)","v":0},{"$f":"IF($I763=BA$6,$E763,0)","v":0},0,{"$f":"IF($H763>0,BA763,0)","v":0},{"$f":"IF(BC763>0,1,0)","v":0},{"$f":"IF($H763>0,BB763,0)","v":0},{"$f":"IF(BE763>0,1,0)","v":0},null,0]
[{"$f":"IF(E764+G764>0,A762,\"\")","v":""},{"$f":"IF(E764+G764>0,B762,\"\")","v":""},{"$f":"C763","v":6},"03-4-23.911(333)",0,1.5,0,0,{"$f":"SUMIF(Y$14:BA$14,C764,Y$7:BA$7)","v":0},0,0,0,0,null,0,null,405.07,0,607.61,0,0,null,0,null,null,null,null,null,null,null,null,null,null,null,{"$f":"IF($I764=AI$7,$E764,0)","v":0},{"$f":"IF($K764=ROUND(AI$7*$F764,2),$G764,0)","v":0},0,0,0,0,{"$f":"IF($I764=AO$7,$E764,0)","v":0},{"$f":"IF($K764=ROUND(AO$7*$F764,2),$G764,0)","v":0},0,0,0,0,{"$f":"IF($I764=AU$7,$E764,0)","v":0},{"$f":"IF($K764=ROUND(AU$7*$F764,2),$G764,0)","v":0},0,0,0,0,{"$f":"IF($I764=BA$7,$E764,0)","v":0},{"$f":"IF($K764=ROUND(BA$7*$F764,2),$G764,0)","v":0},0,0,0,0,null,0]
[{"$f":"IF(E765+G765>0,A762,\"\")","v":""},{"$f":"IF(E765+G765>0,B762,\"\")","v":""},{"$f":"C763","v":6},"03-4-23.911(333)",0,1.1000000000000001,0,0,{"$f":"SUMIF(Y$14:BA$14,C765,Y$7:BA$7)","v":0},0,0,0,0,null,0,null,405.07,0,445.58,0,0,null,0,null,null,null,null,null,null,null,null,null,null,null,{"$f":"IF($I765=AI$7,$E765,0)","v":0},{"$f":"IF($K765=ROUND(AI$7*$F765,2),$G765,0)","v":0},0,0,0,0,{"$f":"IF($I765=AO$7,$E765,0)","v":0},{"$f":"IF($K765=ROUND(AO$7*$F765,2),$G765,0)","v":0},0,0,0,0,{"$f":"IF($I765=AU$7,$E765,0)","v":0},{"$f":"IF($K765=ROUND(AU$7*$F765,2),$G765,0)","v":0},0,0,0,0,{"$f":"IF($I765=BA$7,$E765,0)","v":0},{"$f":"IF($K765=ROUND(BA$7*$F765,2),$G765,0)","v":0},0,0,0,0,null,0]
["ООО          \"Альбион-2002\"  ","",{"$f":"C767","v":7},"03-4-23.912(333)",0.17199999999999999,1.5,0,0.17199999999999999,{"$f":"SUMIF(Y$14:BA$14,C766,Y$6:BA$6)","v":2166.8000000000002},{"$f":"IF(H766=0,ROUND(E766*I766,2),ROUND(H766*E766,2))","v":0.03},{"$f":"ROUND(F766*I766,2)","v":3250.2},{"$f":"IF(H766=0,ROUND(ROUND(F766*I766,2)*G766,2),ROUND(G766*H766,2))","v":0},{"$f":"L766-ROUND(G766*I766,2)","v":0},null,{"$f":"J766+L766+N766","v":0.03},null,405.07,{"$f":"ROUND(Q766*E766,2)","v":69.67},{"$f":"ROUND(F766*Q766,2)","v":607.61},{"$f":"ROUND(S766*G766,2)","v":0},{"$f":"T766-ROUND(Q766*G766,2)","v":0},null,{"$f":"R766+T766+V766","v":69.67},null,null,null,null,null,null,null,null,null,null,null,{"$f":"IF($I766=AI$6,$E766,0)","v":0},{"$f":"IF($K766=ROUND(AI$6*$F766,2),$G766,0)","v":0},{"$f":"IF($H766>0,AI766,0)","v":0},{"$f":"IF(AK766>0,1,0)","v":0},{"$f":"IF($H766>0,AJ766,0)","v":0},{"$f":"IF(AM766>0,1,0)","v":0},{"$f":"IF($I766=AO$6,$E766,0)","v":0},{"$f":"IF($K766=ROUND(AO$6*$F766,2),$G766,0)","v":0},{"$f":"IF($H766>0,AO766,0)","v":0},{"$f":"IF(AQ766>0,1,0)","v":0},{"$f":"IF($H766>0,AP766,0)","v":0},{"$f":"IF(AS766>0,1,0)","v":0},{"$f":"IF($I766=AU$6,$E766,0)","v":0},{"$f":"IF($K766=ROUND(AU$6*$F766,2),$G766,0)","v":0},{"$f":"IF($H766>0,AU766,0)","v":0},{"$f":"IF(AW766>0,1,0)","v":0},{"$f":"IF($H766>0,AV766,0)","v":0},{"$f":"IF(AY766>0,1,0)","v":0},{"$f":"IF($I766=BA$6,$E766,0)","v":0.17199999999999999},{"$f":"IF($K766=ROUND(BA$6*$F766,2),$G766,0)","v":0},{"$f":"IF($H766>0,BA766,0)","v":0.17199999999999999},{"$f":"IF(BC766>0,1,0)","v":1},{"$f":"IF($H766>0,BB766,0)","v":0},{"$f":"IF(BE766>0,1,0)","v":0},null,1.7199999999999998E-4,1]
[{"$f":"IF(E767+G767>0,A766,\"\")","v":""},{"$f":"IF(E767+G767>0,B766,\"\")","v":""},7,"03-4-23.912(333)",0,1.1000000000000001,0,0,{"$f":"SUMIF(Y$14:BA$14,C767,Y$6:BA$6)","v":2166.8000000000002},{"$f":"IF(H767=0,ROUND(E767*I767,2),ROUND(H767*E767,2))","v":0},{"$f":"ROUND(F767*I767,2)","v":2383.48},{"$f":"IF(H767=0,ROUND(ROUND(F767*I767,2)*G767,2),ROUND(G767*H767,2))","v":0},{"$f":"L767-ROUND(G767*I767,2)","v":0},null,{"$f":"J767+L767+N767","v":0},null,405.07,{"$f":"ROUND(Q767*E767,2)","v":0},{"$f":"ROUND(F767*Q767,2)","v":445.58},{"$f":"ROUND(S767*G767,2)","v":0},{"$f":"T767-ROUND(Q767*G767,2)","v":0},null,{"$f":"R767+T767+V767","v":0},null,null,null,null,null,null,null,null,null,null,null,{"$f":"IF($I767=AI$6,$E767,0)","v":0},0,{"$f":"IF($H767>0,AI767,0)","v":0},{"$f":"IF(AK767>0,1,0)","v":0},{"$f":"IF($H767>0,AJ767,0)","v":0},{"$f":"IF(AM767>0,1,0)","v":0},{"$f":"IF($I767=AO$6,$E767,0)","v":0},0,{"$f":"IF($H767>0,AO767,0)","v":0},{"$f":"IF(AQ767>0,1,0)","v":0},{"$f":"IF($H767>0,AP767,0)","v":0},{"$f":"IF(AS767>0,1,0)","v":0},{"$f":"IF($I767=AU$6,$E767,0)","v":0},0,{"$f":"IF($H767>0,AU767,0)","v":0},{"$f":"IF(AW767>0,1,0)","v":0},{"$f":"IF($H767>0,AV767,0)","v":0},{"$f":"IF(AY767>0,1,0)","v":0},{"$f":"IF($I767=BA$6,$E767,0)","v":0},0,{"$f":"IF($H767>0,BA767,0)","v":0},{"$f":"IF(BC767>0,1,0)","v":0},{"$f":"IF($H767>0,BB767,0)","v":0},{"$f":"IF(BE767>0,1,0)","v":0},null,0]
[{"$f":"IF(E768+G768>0,A766,\"\")","v":""},{"$f":"IF(E768+G768>0,B766,\"\")","v":""},{"$f":"C767","v":7},"03-4-23.912(333)",0,1.5,0,0,{"$f":"SUMIF(Y$14:BA$14,C768,Y$7:BA$7)","v":0},0,0,0,0,null,0,null,405.07,0,607.61,0,0,null,0,null,null,null,null,null,null,null,null,null,null,null,{"$f":"IF($I768=AI$7,$E768,0)","v":0},{"$f":"IF($K768=ROUND(AI$7*$F768,2),$G768,0)","v":0},0,0,0,0,{"$f":"IF($I768=AO$7,$E768,0)","v":0},{"$f":"IF($K768=ROUND(AO$7*$F768,2),$G768,0)","v":0},0,0,0,0,{"$f":"IF($I768=AU$7,$E768,0)","v":0},{"$f":"IF($K768=ROUND(AU$7*$F768,2),$G768,0)","v":0},0,0,0,0,{"$f":"IF($I768=BA$7,$E768,0)","v":0},{"$f":"IF($K768=ROUND(BA$7*$F768,2),$G768,0)","v":0},0,0,0,0,null,0]
[{"$f":"IF(E769+G769>0,A766,\"\")","v":""},{"$f":"IF(E769+G769>0,B766,\"\")","v":""},{"$f":"C767","v":7},"03-4-23.912(333)",0,1.1000000000000001,0,0,{"$f":"SUMIF(Y$14:BA$14,C769,Y$7:BA$7)","v":0},0,0,0,0,null,0,null,405.07,0,445.58,0,0,null,0,null,null,null,null,null,null,null,null,null,null,null,{"$f":"IF($I769=AI$7,$E769,0)","v":0},{"$f":"IF($K769=ROUND(AI$7*$F769,2),$G769,0)","v":0},0,0,0,0,{"$f":"IF($I769=AO$7,$E769,0)","v":0},{"$f":"IF($K769=ROUND(AO$7*$F769,2),$G769,0)","v":0},0,0,0,0,{"$f":"IF($I769=AU$7,$E769,0)","v":0},{"$f":"IF($K769=ROUND(AU$7*$F769,2),$G769,0)","v":0},0,0,0,0,{"$f":"IF($I769=BA$7,$E769,0)","v":0},{"$f":"IF($K769=ROUND(BA$7*$F769,2),$G769,0)","v":0},0,0,0,0,null,0]
["ООО          \"ТГК-2 Энергосбыт\"","",{"$f":"C771","v":6},"03-4-23.913(333)",1.5,1.5,0,1.5,{"$f":"SUMIF(Y$14:BA$14,C770,Y$6:BA$6)","v":1733.45},{"$f":"IF(H770=0,ROUND(E770*I770,2),ROUND(H770*E770,2))","v":2.25},{"$f":"ROUND(F770*I770,2)","v":2600.1799999999998},{"$f":"IF(H770=0,ROUND(ROUND(F770*I770,2)*G770,2),ROUND(G770*H770,2))","v":0},{"$f":"L770-ROUND(G770*I770,2)","v":0},null,{"$f":"J770+L770+N770","v":2.25},null,405.07,{"$f":"ROUND(Q770*E770,2)","v":607.61},{"$f":"ROUND(F770*Q770,2)","v":607.61},{"$f":"ROUND(S770*G770,2)","v":0},{"$f":"T770-ROUND(Q770*G770,2)","v":0},null,{"$f":"R770+T770+V770","v":607.61},null,null,null,null,null,null,null,null,null,null,null,{"$f":"IF($I770=AI$6,$E770,0)","v":0},{"$f":"IF($K770=ROUND(AI$6*$F770,2),$G770,0)","v":0},{"$f":"IF($H770>0,AI770,0)","v":0},{"$f":"IF(AK770>0,1,0)","v":0},{"$f":"IF($H770>0,AJ770,0)","v":0},{"$f":"IF(AM770>0,1,0)","v":0},{"$f":"IF($I770=AO$6,$E770,0)","v":0},{"$f":"IF($K770=ROUND(AO$6*$F770,2),$G770,0)","v":0},{"$f":"IF($H770>0,AO770,0)","v":0},{"$f":"IF(AQ770>0,1,0)","v":0},{"$f":"IF($H770>0,AP770,0)","v":0},{"$f":"IF(AS770>0,1,0)","v":0},{"$f":"IF($I770=AU$6,$E770,0)","v":1.5},{"$f":"IF($K770=ROUND(AU$6*$F770,2),$G770,0)","v":0},{"$f":"IF($H770>0,AU770,0)","v":1.5},{"$f":"IF(AW770>0,1,0)","v":1},{"$f":"IF($H770>0,AV770,0)","v":0},{"$f":"IF(AY770>0,1,0)","v":0},{"$f":"IF($I770=BA$6,$E770,0)","v":0},{"$f":"IF($K770=ROUND(BA$6*$F770,2),$G770,0)","v":0},{"$f":"IF($H770>0,BA770,0)","v":0},{"$f":"IF(BC770>0,1,0)","v":0},{"$f":"IF($H770>0,BB770,0)","v":0},{"$f":"IF(BE770>0,1,0)","v":0},null,1.5E-3,2.72]
[{"$f":"IF(E771+G771>0,A770,\"\")","v":""},{"$f":"IF(E771+G771>0,B770,\"\")","v":""},6,"03-4-23.913(333)",0,1.1000000000000001,0,0,{"$f":"SUMIF(Y$14:BA$14,C771,Y$6:BA$6)","v":1733.45},{"$f":"IF(H771=0,ROUND(E771*I771,2),ROUND(H771*E771,2))","v":0},{"$f":"ROUND(F771*I771,2)","v":1906.8},{"$f":"IF(H771=0,ROUND(ROUND(F771*I771,2)*G771,2),ROUND(G771*H771,2))","v":0},{"$f":"L771-ROUND(G771*I771,2)","v":0},null,{"$f":"J771+L771+N771","v":0},null,405.07,{"$f":"ROUND(Q771*E771,2)","v":0},{"$f":"ROUND(F771*Q771,2)","v":445.58},{"$f":"ROUND(S771*G771,2)","v":0},{"$f":"T771-ROUND(Q771*G771,2)","v":0},null,{"$f":"R771+T771+V771","v":0},null,null,null,null,null,null,null,null,null,null,null,{"$f":"IF($I771=AI$6,$E771,0)","v":0},0,{"$f":"IF($H771>0,AI771,0)","v":0},{"$f":"IF(AK771>0,1,0)","v":0},{"$f":"IF($H771>0,AJ771,0)","v":0},{"$f":"IF(AM771>0,1,0)","v":0},{"$f":"IF($I771=AO$6,$E771,0)","v":0},0,{"$f":"IF($H771>0,AO771,0)","v":0},{"$f":"IF(AQ771>0,1,0)","v":0},{"$f":"IF($H771>0,AP771,0)","v":0},{"$f":"IF(AS771>0,1,0)","v":0},{"$f":"IF($I771=AU$6,$E771,0)","v":0},0,{"$f":"IF($H771>0,AU771,0)","v":0},{"$f":"IF(AW771>0,1,0)","v":0},{"$f":"IF($H771>0,AV771,0)","v":0},{"$f":"IF(AY771>0,1,0)","v":0},{"$f":"IF($I771=BA$6,$E771,0)","v":0},0,{"$f":"IF($H771>0,BA771,0)","v":0},{"$f":"IF(BC771>0,1,0)","v":0},{"$f":"IF($H771>0,BB771,0)","v":0},{"$f":"IF(BE771>0,1,0)","v":0},null,0]
[{"$f":"IF(E772+G772>0,A770,\"\")","v":""},{"$f":"IF(E772+G772>0,B770,\"\")","v":""},{"$f":"C771","v":6},"03-4-23.913(333)",0,1.5,0,0,{"$f":"SUMIF(Y$14:BA$14,C772,Y$7:BA$7)","v":0},0,0,0,0,null,0,null,405.07,0,607.61,0,0,null,0,null,null,null,null,null,null,null,null,null,null,null,{"$f":"IF($I772=AI$7,$E772,0)","v":0},{"$f":"IF($K772=ROUND(AI$7*$F772,2),$G772,0)","v":0},0,0,0,0,{"$f":"IF($I772=AO$7,$E772,0)","v":0},{"$f":"IF($K772=ROUND(AO$7*$F772,2),$G772,0)","v":0},0,0,0,0,{"$f":"IF($I772=AU$7,$E772,0)","v":0},{"$f":"IF($K772=ROUND(AU$7*$F772,2),$G772,0)","v":0},0,0,0,0,{"$f":"IF($I772=BA$7,$E772,0)","v":0},{"$f":"IF($K772=ROUND(BA$7*$F772,2),$G772,0)","v":0},0,0,0,0,null,0]
[{"$f":"IF(E773+G773>0,A770,\"\")","v":""},{"$f":"IF(E773+G773>0,B770,\"\")","v":""},{"$f":"C771","v":6},"03-4-23.913(333)",0,1.1000000000000001,0,0,{"$f":"SUMIF(Y$14:BA$14,C773,Y$7:BA$7)","v":0},0,0,0,0,null,0,null,405.07,0,445.58,0,0,null,0,null,null,null,null,null,null,null,null,null,null,null,{"$f":"IF($I773=AI$7,$E773,0)","v":0},{"$f":"IF($K773=ROUND(AI$7*$F773,2),$G773,0)","v":0},0,0,0,0,{"$f":"IF($I773=AO$7,$E773,0)","v":0},{"$f":"IF($K773=ROUND(AO$7*$F773,2),$G773,0)","v":0},0,0,0,0,{"$f":"IF($I773=AU$7,$E773,0)","v":0},{"$f":"IF($K773=ROUND(AU$7*$F773,2),$G773,0)","v":0},0,0,0,0,{"$f":"IF($I773=BA$7,$E773,0)","v":0},{"$f":"IF($K773=ROUND(BA$7*$F773,2),$G773,0)","v":0},0,0,0,0,null,0]
["АО             \"Агрофирма \"Вельская\"","",{"$f":"C775","v":5},"03-4-23.915(333)",11.66,1.5,1.946,13.606,{"$f":"SUMIF(Y$14:BA$14,C774,Y$6:BA$6)","v":1386.75},{"$f":"IF(H774=0,ROUND(E774*I774,2),ROUND(H774*E774,2))","v":158.65},{"$f":"ROUND(F774*I774,2)","v":2080.13},{"$f":"IF(H774=0,ROUND(ROUND(F774*I774,2)*G774,2),ROUND(G774*H774,2))","v":26.48},{"$f":"L774-ROUND(G774*I774,2)","v":-2672.14},null,{"$f":"J774+L774+N774","v":185.13},null,405.07,{"$f":"ROUND(Q774*E774,2)","v":4723.12},{"$f":"ROUND(F774*Q774,2)","v":607.61},{"$f":"ROUND(S774*G774,2)","v":1182.4100000000001},{"$f":"T774-ROUND(Q774*G774,2)","v":394.1400000000001},null,{"$f":"R774+T774+V774","v":5905.53},null,null,null,null,null,null,null,null,null,null,null,{"$f":"IF($I774=AI$6,$E774,0)","v":0},{"$f":"IF($K774=ROUND(AI$6*$F774,2),$G774,0)","v":0},{"$f":"IF($H774>0,AI774,0)","v":0},{"$f":"IF(AK774>0,1,0)","v":0},{"$f":"IF($H774>0,AJ774,0)","v":0},{"$f":"IF(AM774>0,1,0)","v":0},{"$f":"IF($I774=AO$6,$E774,0)","v":11.66},{"$f":"IF($K774=ROUND(AO$6*$F774,2),$G774,0)","v":1.946},{"$f":"IF($H774>0,AO774,0)","v":11.66},{"$f":"IF(AQ774>0,1,0)","v":1},{"$f":"IF($H774>0,AP774,0)","v":1.946},{"$f":"IF(AS774>0,1,0)","v":1},{"$f":"IF($I774=AU$6,$E774,0)","v":0},{"$f":"IF($K774=ROUND(AU$6*$F774,2),$G774,0)","v":0},{"$f":"IF($H774>0,AU774,0)","v":0},{"$f":"IF(AW774>0,1,0)","v":0},{"$f":"IF($H774>0,AV774,0)","v":0},{"$f":"IF(AY774>0,1,0)","v":0},{"$f":"IF($I774=BA$6,$E774,0)","v":0},{"$f":"IF($K774=ROUND(BA$6*$F774,2),$G774,0)","v":0},{"$f":"IF($H774>0,BA774,0)","v":0},{"$f":"IF(BC774>0,1,0)","v":0},{"$f":"IF($H774>0,BB774,0)","v":0},{"$f":"IF(BE774>0,1,0)","v":0},null,1.3606E-2,10.6]
[{"$f":"IF(E775+G775>0,A774,\"\")","v":""},{"$f":"IF(E775+G775>0,B774,\"\")","v":""},5,"03-4-23.915(333)",0,1.1000000000000001,0,0,{"$f":"SUMIF(Y$14:BA$14,C775,Y$6:BA$6)","v":1386.75},{"$f":"IF(H775=0,ROUND(E775*I775,2),ROUND(H775*E775,2))","v":0},{"$f":"ROUND(F775*I775,2)","v":1525.43},{"$f":"IF(H775=0,ROUND(ROUND(F775*I775,2)*G775,2),ROUND(G775*H775,2))","v":0},{"$f":"L775-ROUND(G775*I775,2)","v":0},null,{"$f":"J775+L775+N775","v":0},null,405.07,{"$f":"ROUND(Q775*E775,2)","v":0},{"$f":"ROUND(F775*Q775,2)","v":445.58},{"$f":"ROUND(S775*G775,2)","v":0},{"$f":"T775-ROUND(Q775*G775,2)","v":0},null,{"$f":"R775+T775+V775","v":0},null,null,null,null,null,null,null,null,null,null,null,{"$f":"IF($I775=AI$6,$E775,0)","v":0},0,{"$f":"IF($H775>0,AI775,0)","v":0},{"$f":"IF(AK775>0,1,0)","v":0},{"$f":"IF($H775>0,AJ775,0)","v":0},{"$f":"IF(AM775>0,1,0)","v":0},{"$f":"IF($I775=AO$6,$E775,0)","v":0},0,{"$f":"IF($H775>0,AO775,0)","v":0},{"$f":"IF(AQ775>0,1,0)","v":0},{"$f":"IF($H775>0,AP775,0)","v":0},{"$f":"IF(AS775>0,1,0)","v":0},{"$f":"IF($I775=AU$6,$E775,0)","v":0},0,{"$f":"IF($H775>0,AU775,0)","v":0},{"$f":"IF(AW775>0,1,0)","v":0},{"$f":"IF($H775>0,AV775,0)","v":0},{"$f":"IF(AY775>0,1,0)","v":0},{"$f":"IF($I775=BA$6,$E775,0)","v":0},0,{"$f":"IF($H775>0,BA775,0)","v":0},{"$f":"IF(BC775>0,1,0)","v":0},{"$f":"IF($H775>0,BB775,0)","v":0},{"$f":"IF(BE775>0,1,0)","v":0},null,0]
[{"$f":"IF(E776+G776>0,A774,\"\")","v":""},{"$f":"IF(E776+G776>0,B774,\"\")","v":""},{"$f":"C775","v":5},"03-4-23.915(333)",0,1.5,0,0,{"$f":"SUMIF(Y$14:BA$14,C776,Y$7:BA$7)","v":0},0,0,0,0,null,0,null,405.07,0,607.61,0,0,null,0,null,null,null,null,null,null,null,null,null,null,null,{"$f":"IF($I776=AI$7,$E776,0)","v":0},{"$f":"IF($K776=ROUND(AI$7*$F776,2),$G776,0)","v":0},0,0,0,0,{"$f":"IF($I776=AO$7,$E776,0)","v":0},{"$f":"IF($K776=ROUND(AO$7*$F776,2),$G776,0)","v":0},0,0,0,0,{"$f":"IF($I776=AU$7,$E776,0)","v":0},{"$f":"IF($K776=ROUND(AU$7*$F776,2),$G776,0)","v":0},0,0,0,0,{"$f":"IF($I776=BA$7,$E776,0)","v":0},{"$f":"IF($K776=ROUND(BA$7*$F776,2),$G776,0)","v":0},0,0,0,0,null,0]
[{"$f":"IF(E777+G777>0,A774,\"\")","v":""},{"$f":"IF(E777+G777>0,B774,\"\")","v":""},{"$f":"C775","v":5},"03-4-23.915(333)",0,1.1000000000000001,0,0,{"$f":"SUMIF(Y$14:BA$14,C777,Y$7:BA$7)","v":0},0,0,0,0,null,0,null,405.07,0,445.58,0,0,null,0,null,null,null,null,null,null,null,null,null,null,null,{"$f":"IF($I777=AI$7,$E777,0)","v":0},{"$f":"IF($K777=ROUND(AI$7*$F777,2),$G777,0)","v":0},0,0,0,0,{"$f":"IF($I777=AO$7,$E777,0)","v":0},{"$f":"IF($K777=ROUND(AO$7*$F777,2),$G777,0)","v":0},0,0,0,0,{"$f":"IF($I777=AU$7,$E777,0)","v":0},{"$f":"IF($K777=ROUND(AU$7*$F777,2),$G777,0)","v":0},0,0,0,0,{"$f":"IF($I777=BA$7,$E777,0)","v":0},{"$f":"IF($K777=ROUND(BA$7*$F777,2),$G777,0)","v":0},0,0,0,0,null,0]
["Гр.              Гайдай           Ирина Савватиевна","",{"$f":"C779","v":6},"03-4-23.916(333)",0.59199999999999997,1.5,0,0.59199999999999997,{"$f":"SUMIF(Y$14:BA$14,C778,Y$6:BA$6)","v":1733.45},{"$f":"IF(H778=0,ROUND(E778*I778,2),ROUND(H778*E778,2))","v":0.35},{"$f":"ROUND(F778*I778,2)","v":2600.1799999999998},{"$f":"IF(H778=0,ROUND(ROUND(F778*I778,2)*G778,2),ROUND(G778*H778,2))","v":0},{"$f":"L778-ROUND(G778*I778,2)","v":0},null,{"$f":"J778+L778+N778","v":0.35},null,405.07,{"$f":"ROUND(Q778*E778,2)","v":239.8},{"$f":"ROUND(F778*Q778,2)","v":607.61},{"$f":"ROUND(S778*G778,2)","v":0},{"$f":"T778-ROUND(Q778*G778,2)","v":0},null,{"$f":"R778+T778+V778","v":239.8},null,null,null,null,null,null,null,null,null,null,null,{"$f":"IF($I778=AI$6,$E778,0)","v":0},{"$f":"IF($K778=ROUND(AI$6*$F778,2),$G778,0)","v":0},{"$f":"IF($H778>0,AI778,0)","v":0},{"$f":"IF(AK778>0,1,0)","v":0},{"$f":"IF($H778>0,AJ778,0)","v":0},{"$f":"IF(AM778>0,1,0)","v":0},{"$f":"IF($I778=AO$6,$E778,0)","v":0},{"$f":"IF($K778=ROUND(AO$6*$F778,2),$G778,0)","v":0},{"$f":"IF($H778>0,AO778,0)","v":0},{"$f":"IF(AQ778>0,1,0)","v":0},{"$f":"IF($H778>0,AP778,0)","v":0},{"$f":"IF(AS778>0,1,0)","v":0},{"$f":"IF($I778=AU$6,$E778,0)","v":0.59199999999999997},{"$f":"IF($K778=ROUND(AU$6*$F778,2),$G778,0)","v":0},{"$f":"IF($H778>0,AU778,0)","v":0.59199999999999997},{"$f":"IF(AW778>0,1,0)","v":1},{"$f":"IF($H778>0,AV778,0)","v":0},{"$f":"IF(AY778>0,1,0)","v":0},{"$f":"IF($I778=BA$6,$E778,0)","v":0},{"$f":"IF($K778=ROUND(BA$6*$F778,2),$G778,0)","v":0},{"$f":"IF($H778>0,BA778,0)","v":0},{"$f":"IF(BC778>0,1,0)","v":0},{"$f":"IF($H778>0,BB778,0)","v":0},{"$f":"IF(BE778>0,1,0)","v":0},null,5.9199999999999997E-4,2]
[{"$f":"IF(E779+G779>0,A778,\"\")","v":""},{"$f":"IF(E779+G779>0,B778,\"\")","v":""},6,"03-4-23.916(333)",0,1.1000000000000001,0,0,{"$f":"SUMIF(Y$14:BA$14,C779,Y$6:BA$6)","v":1733.45},{"$f":"IF(H779=0,ROUND(E779*I779,2),ROUND(H779*E779,2))","v":0},{"$f":"ROUND(F779*I779,2)","v":1906.8},{"$f":"IF(H779=0,ROUND(ROUND(F779*I779,2)*G779,2),ROUND(G779*H779,2))","v":0},{"$f":"L779-ROUND(G779*I779,2)","v":0},null,{"$f":"J779+L779+N779","v":0},null,405.07,{"$f":"ROUND(Q779*E779,2)","v":0},{"$f":"ROUND(F779*Q779,2)","v":445.58},{"$f":"ROUND(S779*G779,2)","v":0},{"$f":"T779-ROUND(Q779*G779,2)","v":0},null,{"$f":"R779+T779+V779","v":0},null,null,null,null,null,null,null,null,null,null,null,{"$f":"IF($I779=AI$6,$E779,0)","v":0},0,{"$f":"IF($H779>0,AI779,0)","v":0},{"$f":"IF(AK779>0,1,0)","v":0},{"$f":"IF($H779>0,AJ779,0)","v":0},{"$f":"IF(AM779>0,1,0)","v":0},{"$f":"IF($I779=AO$6,$E779,0)","v":0},0,{"$f":"IF($H779>0,AO779,0)","v":0},{"$f":"IF(AQ779>0,1,0)","v":0},{"$f":"IF($H779>0,AP779,0)","v":0},{"$f":"IF(AS779>0,1,0)","v":0},{"$f":"IF($I779=AU$6,$E779,0)","v":0},0,{"$f":"IF($H779>0,AU779,0)","v":0},{"$f":"IF(AW779>0,1,0)","v":0},{"$f":"IF($H779>0,AV779,0)","v":0},{"$f":"IF(AY779>0,1,0)","v":0},{"$f":"IF($I779=BA$6,$E779,0)","v":0},0,{"$f":"IF($H779>0,BA779,0)","v":0},{"$f":"IF(BC779>0,1,0)","v":0},{"$f":"IF($H779>0,BB779,0)","v":0},{"$f":"IF(BE779>0,1,0)","v":0},null,0]
[{"$f":"IF(E780+G780>0,A778,\"\")","v":""},{"$f":"IF(E780+G780>0,B778,\"\")","v":""},{"$f":"C779","v":6},"03-4-23.916(333)",0,1.5,0,0,{"$f":"SUMIF(Y$14:BA$14,C780,Y$7:BA$7)","v":0},0,0,0,0,null,0,null,405.07,0,607.61,0,0,null,0,null,null,null,null,null,null,null,null,null,null,null,{"$f":"IF($I780=AI$7,$E780,0)","v":0},{"$f":"IF($K780=ROUND(AI$7*$F780,2),$G780,0)","v":0},0,0,0,0,{"$f":"IF($I780=AO$7,$E780,0)","v":0},{"$f":"IF($K780=ROUND(AO$7*$F780,2),$G780,0)","v":0},0,0,0,0,{"$f":"IF($I780=AU$7,$E780,0)","v":0},{"$f":"IF($K780=ROUND(AU$7*$F780,2),$G780,0)","v":0},0,0,0,0,{"$f":"IF($I780=BA$7,$E780,0)","v":0},{"$f":"IF($K780=ROUND(BA$7*$F780,2),$G780,0)","v":0},0,0,0,0,null,0]
[{"$f":"IF(E781+G781>0,A778,\"\")","v":""},{"$f":"IF(E781+G781>0,B778,\"\")","v":""},{"$f":"C779","v":6},"03-4-23.916(333)",0,1.1000000000000001,0,0,{"$f":"SUMIF(Y$14:BA$14,C781,Y$7:BA$7)","v":0},0,0,0,0,null,0,null,405.07,0,445.58,0,0,null,0,null,null,null,null,null,null,null,null,null,null,null,{"$f":"IF($I781=AI$7,$E781,0)","v":0},{"$f":"IF($K781=ROUND(AI$7*$F781,2),$G781,0)","v":0},0,0,0,0,{"$f":"IF($I781=AO$7,$E781,0)","v":0},{"$f":"IF($K781=ROUND(AO$7*$F781,2),$G781,0)","v":0},0,0,0,0,{"$f":"IF($I781=AU$7,$E781,0)","v":0},{"$f":"IF($K781=ROUND(AU$7*$F781,2),$G781,0)","v":0},0,0,0,0,{"$f":"IF($I781=BA$7,$E781,0)","v":0},{"$f":"IF($K781=ROUND(BA$7*$F781,2),$G781,0)","v":0},0,0,0,0,null,0]
["Гр.              Крапивин        Алексей Валерьевич","",{"$f":"C783","v":6},"03-4-23.921",0.82499999999999996,1.5,0,0.82499999999999996,{"$f":"SUMIF(Y$14:BA$14,C782,Y$6:BA$6)","v":1733.45},{"$f":"IF(H782=0,ROUND(E782*I782,2),ROUND(H782*E782,2))","v":0.68},{"$f":"ROUND(F782*I782,2)","v":2600.1799999999998},{"$f":"IF(H782=0,ROUND(ROUND(F782*I782,2)*G782,2),ROUND(G782*H782,2))","v":0},{"$f":"L782-ROUND(G782*I782,2)","v":0},null,{"$f":"J782+L782+N782","v":0.68},null,405.07,{"$f":"ROUND(Q782*E782,2)","v":334.18},{"$f":"ROUND(F782*Q782,2)","v":607.61},{"$f":"ROUND(S782*G782,2)","v":0},{"$f":"T782-ROUND(Q782*G782,2)","v":0},null,{"$f":"R782+T782+V782","v":334.18},null,null,null,null,null,null,null,null,null,null,null,{"$f":"IF($I782=AI$6,$E782,0)","v":0},{"$f":"IF($K782=ROUND(AI$6*$F782,2),$G782,0)","v":0},{"$f":"IF($H782>0,AI782,0)","v":0},{"$f":"IF(AK782>0,1,0)","v":0},{"$f":"IF($H782>0,AJ782,0)","v":0},{"$f":"IF(AM782>0,1,0)","v":0},{"$f":"IF($I782=AO$6,$E782,0)","v":0},{"$f":"IF($K782=ROUND(AO$6*$F782,2),$G782,0)","v":0},{"$f":"IF($H782>0,AO782,0)","v":0},{"$f":"IF(AQ782>0,1,0)","v":0},{"$f":"IF($H782>0,AP782,0)","v":0},{"$f":"IF(AS782>0,1,0)","v":0},{"$f":"IF($I782=AU$6,$E782,0)","v":0.82499999999999996},{"$f":"IF($K782=ROUND(AU$6*$F782,2),$G782,0)","v":0},{"$f":"IF($H782>0,AU782,0)","v":0.82499999999999996},{"$f":"IF(AW782>0,1,0)","v":1},{"$f":"IF($H782>0,AV782,0)","v":0},{"$f":"IF(AY782>0,1,0)","v":0},{"$f":"IF($I782=BA$6,$E782,0)","v":0},{"$f":"IF($K782=ROUND(BA$6*$F782,2),$G782,0)","v":0},{"$f":"IF($H782>0,BA782,0)","v":0},{"$f":"IF(BC782>0,1,0)","v":0},{"$f":"IF($H782>0,BB782,0)","v":0},{"$f":"IF(BE782>0,1,0)","v":0},null,8.25E-4,2]
[{"$f":"IF(E783+G783>0,A782,\"\")","v":""},{"$f":"IF(E783+G783>0,B782,\"\")","v":""},6,"03-4-23.921",0,1.1000000000000001,0,0,{"$f":"SUMIF(Y$14:BA$14,C783,Y$6:BA$6)","v":1733.45},{"$f":"IF(H783=0,ROUND(E783*I783,2),ROUND(H783*E783,2))","v":0},{"$f":"ROUND(F783*I783,2)","v":1906.8},{"$f":"IF(H783=0,ROUND(ROUND(F783*I783,2)*G783,2),ROUND(G783*H783,2))","v":0},{"$f":"L783-ROUND(G783*I783,2)","v":0},null,{"$f":"J783+L783+N783","v":0},null,405.07,{"$f":"ROUND(Q783*E783,2)","v":0},{"$f":"ROUND(F783*Q783,2)","v":445.58},{"$f":"ROUND(S783*G783,2)","v":0},{"$f":"T783-ROUND(Q783*G783,2)","v":0},null,{"$f":"R783+T783+V783","v":0},null,null,null,null,null,null,null,null,null,null,null,{"$f":"IF($I783=AI$6,$E783,0)","v":0},0,{"$f":"IF($H783>0,AI783,0)","v":0},{"$f":"IF(AK783>0,1,0)","v":0},{"$f":"IF($H783>0,AJ783,0)","v":0},{"$f":"IF(AM783>0,1,0)","v":0},{"$f":"IF($I783=AO$6,$E783,0)","v":0},0,{"$f":"IF($H783>0,AO783,0)","v":0},{"$f":"IF(AQ783>0,1,0)","v":0},{"$f":"IF($H783>0,AP783,0)","v":0},{"$f":"IF(AS783>0,1,0)","v":0},{"$f":"IF($I783=AU$6,$E783,0)","v":0},0,{"$f":"IF($H783>0,AU783,0)","v":0},{"$f":"IF(AW783>0,1,0)","v":0},{"$f":"IF($H783>0,AV783,0)","v":0},{"$f":"IF(AY783>0,1,0)","v":0},{"$f":"IF($I783=BA$6,$E783,0)","v":0},0,{"$f":"IF($H783>0,BA783,0)","v":0},{"$f":"IF(BC783>0,1,0)","v":0},{"$f":"IF($H783>0,BB783,0)","v":0},{"$f":"IF(BE783>0,1,0)","v":0},null,0]
[{"$f":"IF(E784+G784>0,A782,\"\")","v":""},{"$f":"IF(E784+G784>0,B782,\"\")","v":""},{"$f":"C783","v":6},"03-4-23.921",0,1.5,0,0,{"$f":"SUMIF(Y$14:BA$14,C784,Y$7:BA$7)","v":0},0,0,0,0,null,0,null,{"$f":"IF(BI784>0,Q$6,Q$6)","v":405.07},0,607.61,0,0,null,0,null,null,null,null,null,null,null,null,null,null,null,{"$f":"IF($I784=AI$7,$E784,0)","v":0},{"$f":"IF($K784=ROUND(AI$7*$F784,2),$G784,0)","v":0},0,0,0,0,{"$f":"IF($I784=AO$7,$E784,0)","v":0},{"$f":"IF($K784=ROUND(AO$7*$F784,2),$G784,0)","v":0},0,0,0,0,{"$f":"IF($I784=AU$7,$E784,0)","v":0},{"$f":"IF($K784=ROUND(AU$7*$F784,2),$G784,0)","v":0},0,0,0,0,{"$f":"IF($I784=BA$7,$E784,0)","v":0},{"$f":"IF($K784=ROUND(BA$7*$F784,2),$G784,0)","v":0},0,0,0,0,null,0]
[{"$f":"IF(E785+G785>0,A782,\"\")","v":""},{"$f":"IF(E785+G785>0,B782,\"\")","v":""},{"$f":"C783","v":6},"03-4-23.921",0,1.1000000000000001,0,{"$f":"E785+G785","v":0},{"$f":"SUMIF(Y$14:BA$14,C785,Y$7:BA$7)","v":0},0,0,0,0,null,0,null,405.07,0,445.58,0,0,null,0,null,null,null,null,null,null,null,null,null,null,null,{"$f":"IF($I785=AI$7,$E785,0)","v":0},{"$f":"IF($K785=ROUND(AI$7*$F785,2),$G785,0)","v":0},0,0,0,0,{"$f":"IF($I785=AO$7,$E785,0)","v":0},{"$f":"IF($K785=ROUND(AO$7*$F785,2),$G785,0)","v":0},0,0,0,0,{"$f":"IF($I785=AU$7,$E785,0)","v":0},{"$f":"IF($K785=ROUND(AU$7*$F785,2),$G785,0)","v":0},0,0,0,0,{"$f":"IF($I785=BA$7,$E785,0)","v":0},{"$f":"IF($K785=ROUND(BA$7*$F785,2),$G785,0)","v":0},0,0,0,0,null,{"$f":"H785/1000","v":0}]
["ООО          \"Вельская строительно-буровая компания\"","",{"$f":"C787","v":7},"03-4-23.925(333)",0.55000000000000004,1.5,6.9000000000000006E-2,0.61899999999999999,{"$f":"SUMIF(Y$14:BA$14,C786,Y$6:BA$6)","v":2166.8000000000002},{"$f":"IF(H786=0,ROUND(E786*I786,2),ROUND(H786*E786,2))","v":0.34},{"$f":"ROUND(F786*I786,2)","v":3250.2},{"$f":"IF(H786=0,ROUND(ROUND(F786*I786,2)*G786,2),ROUND(G786*H786,2))","v":0.04},{"$f":"L786-ROUND(G786*I786,2)","v":-149.47},null,{"$f":"J786+L786+N786","v":0.38},null,405.07,{"$f":"ROUND(Q786*E786,2)","v":222.79},{"$f":"ROUND(F786*Q786,2)","v":607.61},{"$f":"ROUND(S786*G786,2)","v":41.93},{"$f":"T786-ROUND(Q786*G786,2)","v":13.98},null,{"$f":"R786+T786+V786","v":264.71999999999997},null,null,null,null,null,null,null,null,null,null,null,{"$f":"IF($I786=AI$6,$E786,0)","v":0},{"$f":"IF($K786=ROUND(AI$6*$F786,2),$G786,0)","v":0},{"$f":"IF($H786>0,AI786,0)","v":0},{"$f":"IF(AK786>0,1,0)","v":0},{"$f":"IF($H786>0,AJ786,0)","v":0},{"$f":"IF(AM786>0,1,0)","v":0},{"$f":"IF($I786=AO$6,$E786,0)","v":0},{"$f":"IF($K786=ROUND(AO$6*$F786,2),$G786,0)","v":0},{"$f":"IF($H786>0,AO786,0)","v":0},{"$f":"IF(AQ786>0,1,0)","v":0},{"$f":"IF($H786>0,AP786,0)","v":0},{"$f":"IF(AS786>0,1,0)","v":0},{"$f":"IF($I786=AU$6,$E786,0)","v":0},{"$f":"IF($K786=ROUND(AU$6*$F786,2),$G786,0)","v":0},{"$f":"IF($H786>0,AU786,0)","v":0},{"$f":"IF(AW786>0,1,0)","v":0},{"$f":"IF($H786>0,AV786,0)","v":0},{"$f":"IF(AY786>0,1,0)","v":0},{"$f":"IF($I786=BA$6,$E786,0)","v":0.55000000000000004},{"$f":"IF($K786=ROUND(BA$6*$F786,2),$G786,0)","v":6.9000000000000006E-2},{"$f":"IF($H786>0,BA786,0)","v":0.55000000000000004},{"$f":"IF(BC786>0,1,0)","v":1},{"$f":"IF($H786>0,BB786,0)","v":6.9000000000000006E-2},{"$f":"IF(BE786>0,1,0)","v":1},null,6.1899999999999998E-4,0.5]
[{"$f":"IF(E787+G787>0,A786,\"\")","v":""},{"$f":"IF(E787+G787>0,B786,\"\")","v":""},7,"03-4-23.925(333)",0,1.1000000000000001,0,0,{"$f":"SUMIF(Y$14:BA$14,C787,Y$6:BA$6)","v":2166.8000000000002},{"$f":"IF(H787=0,ROUND(E787*I787,2),ROUND(H787*E787,2))","v":0},{"$f":"ROUND(F787*I787,2)","v":2383.48},{"$f":"IF(H787=0,ROUND(ROUND(F787*I787,2)*G787,2),ROUND(G787*H787,2))","v":0},{"$f":"L787-ROUND(G787*I787,2)","v":0},null,{"$f":"J787+L787+N787","v":0},null,405.07,{"$f":"ROUND(Q787*E787,2)","v":0},{"$f":"ROUND(F787*Q787,2)","v":445.58},{"$f":"ROUND(S787*G787,2)","v":0},{"$f":"T787-ROUND(Q787*G787,2)","v":0},null,{"$f":"R787+T787+V787","v":0},null,null,null,null,null,null,null,null,null,null,null,{"$f":"IF($I787=AI$6,$E787,0)","v":0},0,{"$f":"IF($H787>0,AI787,0)","v":0},{"$f":"IF(AK787>0,1,0)","v":0},{"$f":"IF($H787>0,AJ787,0)","v":0},{"$f":"IF(AM787>0,1,0)","v":0},{"$f":"IF($I787=AO$6,$E787,0)","v":0},0,{"$f":"IF($H787>0,AO787,0)","v":0},{"$f":"IF(AQ787>0,1,0)","v":0},{"$f":"IF($H787>0,AP787,0)","v":0},{"$f":"IF(AS787>0,1,0)","v":0},{"$f":"IF($I787=AU$6,$E787,0)","v":0},0,{"$f":"IF($H787>0,AU787,0)","v":0},{"$f":"IF(AW787>0,1,0)","v":0},{"$f":"IF($H787>0,AV787,0)","v":0},{"$f":"IF(AY787>0,1,0)","v":0},{"$f":"IF($I787=BA$6,$E787,0)","v":0},0,{"$f":"IF($H787>0,BA787,0)","v":0},{"$f":"IF(BC787>0,1,0)","v":0},{"$f":"IF($H787>0,BB787,0)","v":0},{"$f":"IF(BE787>0,1,0)","v":0},null,0]
[{"$f":"IF(E788+G788>0,A786,\"\")","v":""},{"$f":"IF(E788+G788>0,B786,\"\")","v":""},{"$f":"C787","v":7},"03-4-23.925(333)",0,1.5,0,0,{"$f":"SUMIF(Y$14:BA$14,C788,Y$7:BA$7)","v":0},0,0,0,0,null,0,null,405.07,0,607.61,0,0,null,0,null,null,null,null,null,null,null,null,null,null,null,{"$f":"IF($I788=AI$7,$E788,0)","v":0},{"$f":"IF($K788=ROUND(AI$7*$F788,2),$G788,0)","v":0},0,0,0,0,{"$f":"IF($I788=AO$7,$E788,0)","v":0},{"$f":"IF($K788=ROUND(AO$7*$F788,2),$G788,0)","v":0},0,0,0,0,{"$f":"IF($I788=AU$7,$E788,0)","v":0},{"$f":"IF($K788=ROUND(AU$7*$F788,2),$G788,0)","v":0},0,0,0,0,{"$f":"IF($I788=BA$7,$E788,0)","v":0},{"$f":"IF($K788=ROUND(BA$7*$F788,2),$G788,0)","v":0},0,0,0,0,null,0]
[{"$f":"IF(E789+G789>0,A786,\"\")","v":""},{"$f":"IF(E789+G789>0,B786,\"\")","v":""},{"$f":"C787","v":7},"03-4-23.925(333)",0,1.1000000000000001,0,0,{"$f":"SUMIF(Y$14:BA$14,C789,Y$7:BA$7)","v":0},0,0,0,0,null,0,null,405.07,0,445.58,0,0,null,0,null,null,null,null,null,null,null,null,null,null,null,{"$f":"IF($I789=AI$7,$E789,0)","v":0},{"$f":"IF($K789=ROUND(AI$7*$F789,2),$G789,0)","v":0},0,0,0,0,{"$f":"IF($I789=AO$7,$E789,0)","v":0},{"$f":"IF($K789=ROUND(AO$7*$F789,2),$G789,0)","v":0},0,0,0,0,{"$f":"IF($I789=AU$7,$E789,0)","v":0},{"$f":"IF($K789=ROUND(AU$7*$F789,2),$G789,0)","v":0},0,0,0,0,{"$f":"IF($I789=BA$7,$E789,0)","v":0},{"$f":"IF($K789=ROUND(BA$7*$F789,2),$G789,0)","v":0},0,0,0,0,null,0]
["ИП              Булатов          Михаил Юрьевич","",{"$f":"C791","v":7},"03-4-23.943(333)",0.40300000000000002,1.5,0,0.40300000000000002,{"$f":"SUMIF(Y$14:BA$14,C790,Y$6:BA$6)","v":2166.8000000000002},{"$f":"IF(H790=0,ROUND(E790*I790,2),ROUND(H790*E790,2))","v":0.16},{"$f":"ROUND(F790*I790,2)","v":3250.2},{"$f":"IF(H790=0,ROUND(ROUND(F790*I790,2)*G790,2),ROUND(G790*H790,2))","v":0},{"$f":"L790-ROUND(G790*I790,2)","v":0},null,{"$f":"J790+L790+N790","v":0.16},null,405.07,{"$f":"ROUND(Q790*E790,2)","v":163.24},{"$f":"ROUND(F790*Q790,2)","v":607.61},{"$f":"ROUND(S790*G790,2)","v":0},{"$f":"T790-ROUND(Q790*G790,2)","v":0},null,{"$f":"R790+T790+V790","v":163.24},null,null,null,null,null,null,null,null,null,null,null,{"$f":"IF($I790=AI$6,$E790,0)","v":0},{"$f":"IF($K790=ROUND(AI$6*$F790,2),$G790,0)","v":0},{"$f":"IF($H790>0,AI790,0)","v":0},{"$f":"IF(AK790>0,1,0)","v":0},{"$f":"IF($H790>0,AJ790,0)","v":0},{"$f":"IF(AM790>0,1,0)","v":0},{"$f":"IF($I790=AO$6,$E790,0)","v":0},{"$f":"IF($K790=ROUND(AO$6*$F790,2),$G790,0)","v":0},{"$f":"IF($H790>0,AO790,0)","v":0},{"$f":"IF(AQ790>0,1,0)","v":0},{"$f":"IF($H790>0,AP790,0)","v":0},{"$f":"IF(AS790>0,1,0)","v":0},{"$f":"IF($I790=AU$6,$E790,0)","v":0},{"$f":"IF($K790=ROUND(AU$6*$F790,2),$G790,0)","v":0},{"$f":"IF($H790>0,AU790,0)","v":0},{"$f":"IF(AW790>0,1,0)","v":0},{"$f":"IF($H790>0,AV790,0)","v":0},{"$f":"IF(AY790>0,1,0)","v":0},{"$f":"IF($I790=BA$6,$E790,0)","v":0.40300000000000002},{"$f":"IF($K790=ROUND(BA$6*$F790,2),$G790,0)","v":0},{"$f":"IF($H790>0,BA790,0)","v":0.40300000000000002},{"$f":"IF(BC790>0,1,0)","v":1},{"$f":"IF($H790>0,BB790,0)","v":0},{"$f":"IF(BE790>0,1,0)","v":0},null,4.0300000000000004E-4,0.6]
[{"$f":"IF(E791+G791>0,A790,\"\")","v":""},{"$f":"IF(E791+G791>0,B790,\"\")","v":""},7,"03-4-23.943(333)",0,1.1000000000000001,0,0,{"$f":"SUMIF(Y$14:BA$14,C791,Y$6:BA$6)","v":2166.8000000000002},{"$f":"IF(H791=0,ROUND(E791*I791,2),ROUND(H791*E791,2))","v":0},{"$f":"ROUND(F791*I791,2)","v":2383.48},{"$f":"IF(H791=0,ROUND(ROUND(F791*I791,2)*G791,2),ROUND(G791*H791,2))","v":0},{"$f":"L791-ROUND(G791*I791,2)","v":0},null,{"$f":"J791+L791+N791","v":0},null,405.07,{"$f":"ROUND(Q791*E791,2)","v":0},{"$f":"ROUND(F791*Q791,2)","v":445.58},{"$f":"ROUND(S791*G791,2)","v":0},{"$f":"T791-ROUND(Q791*G791,2)","v":0},null,{"$f":"R791+T791+V791","v":0},null,null,null,null,null,null,null,null,null,null,null,{"$f":"IF($I791=AI$6,$E791,0)","v":0},0,{"$f":"IF($H791>0,AI791,0)","v":0},{"$f":"IF(AK791>0,1,0)","v":0},{"$f":"IF($H791>0,AJ791,0)","v":0},{"$f":"IF(AM791>0,1,0)","v":0},{"$f":"IF($I791=AO$6,$E791,0)","v":0},0,{"$f":"IF($H791>0,AO791,0)","v":0},{"$f":"IF(AQ791>0,1,0)","v":0},{"$f":"IF($H791>0,AP791,0)","v":0},{"$f":"IF(AS791>0,1,0)","v":0},{"$f":"IF($I791=AU$6,$E791,0)","v":0},0,{"$f":"IF($H791>0,AU791,0)","v":0},{"$f":"IF(AW791>0,1,0)","v":0},{"$f":"IF($H791>0,AV791,0)","v":0},{"$f":"IF(AY791>0,1,0)","v":0},{"$f":"IF($I791=BA$6,$E791,0)","v":0},0,{"$f":"IF($H791>0,BA791,0)","v":0},{"$f":"IF(BC791>0,1,0)","v":0},{"$f":"IF($H791>0,BB791,0)","v":0},{"$f":"IF(BE791>0,1,0)","v":0},null,0]
[{"$f":"IF(E792+G792>0,A790,\"\")","v":""},{"$f":"IF(E792+G792>0,B790,\"\")","v":""},{"$f":"C791","v":7},"03-4-23.943(333)",0,1.5,0,0,{"$f":"SUMIF(Y$14:BA$14,C792,Y$7:BA$7)","v":0},0,0,0,0,null,0,null,405.07,0,607.61,0,0,null,0,null,null,null,null,null,null,null,null,null,null,null,{"$f":"IF($I792=AI$7,$E792,0)","v":0},{"$f":"IF($K792=ROUND(AI$7*$F792,2),$G792,0)","v":0},0,0,0,0,{"$f":"IF($I792=AO$7,$E792,0)","v":0},{"$f":"IF($K792=ROUND(AO$7*$F792,2),$G792,0)","v":0},0,0,0,0,{"$f":"IF($I792=AU$7,$E792,0)","v":0},{"$f":"IF($K792=ROUND(AU$7*$F792,2),$G792,0)","v":0},0,0,0,0,{"$f":"IF($I792=BA$7,$E792,0)","v":0},{"$f":"IF($K792=ROUND(BA$7*$F792,2),$G792,0)","v":0},0,0,0,0,null,0]
[{"$f":"IF(E793+G793>0,A790,\"\")","v":""},{"$f":"IF(E793+G793>0,B790,\"\")","v":""},{"$f":"C791","v":7},"03-4-23.943(333)",0,1.1000000000000001,0,0,{"$f":"SUMIF(Y$14:BA$14,C793,Y$7:BA$7)","v":0},0,0,0,0,null,0,null,405.07,0,445.58,0,0,null,0,null,null,null,null,null,null,null,null,null,null,null,{"$f":"IF($I793=AI$7,$E793,0)","v":0},{"$f":"IF($K793=ROUND(AI$7*$F793,2),$G793,0)","v":0},0,0,0,0,{"$f":"IF($I793=AO$7,$E793,0)","v":0},{"$f":"IF($K793=ROUND(AO$7*$F793,2),$G793,0)","v":0},0,0,0,0,{"$f":"IF($I793=AU$7,$E793,0)","v":0},{"$f":"IF($K793=ROUND(AU$7*$F793,2),$G793,0)","v":0},0,0,0,0,{"$f":"IF($I793=BA$7,$E793,0)","v":0},{"$f":"IF($K793=ROUND(BA$7*$F793,2),$G793,0)","v":0},0,0,0,0,null,0]
["ИП              Истомина       Нина Андреевна","",{"$f":"C795","v":6},"03-4-23.944(333)",0.98699999999999999,1.5,0,0.98699999999999999,{"$f":"SUMIF(Y$14:BA$14,C794,Y$6:BA$6)","v":1733.45},{"$f":"IF(H794=0,ROUND(E794*I794,2),ROUND(H794*E794,2))","v":0.97},{"$f":"ROUND(F794*I794,2)","v":2600.1799999999998},{"$f":"IF(H794=0,ROUND(ROUND(F794*I794,2)*G794,2),ROUND(G794*H794,2))","v":0},{"$f":"L794-ROUND(G794*I794,2)","v":0},null,{"$f":"J794+L794+N794","v":0.97},null,405.07,{"$f":"ROUND(Q794*E794,2)","v":399.8},{"$f":"ROUND(F794*Q794,2)","v":607.61},{"$f":"ROUND(S794*G794,2)","v":0},{"$f":"T794-ROUND(Q794*G794,2)","v":0},null,{"$f":"R794+T794+V794","v":399.8},null,null,null,null,null,null,null,null,null,null,null,{"$f":"IF($I794=AI$6,$E794,0)","v":0},{"$f":"IF($K794=ROUND(AI$6*$F794,2),$G794,0)","v":0},{"$f":"IF($H794>0,AI794,0)","v":0},{"$f":"IF(AK794>0,1,0)","v":0},{"$f":"IF($H794>0,AJ794,0)","v":0},{"$f":"IF(AM794>0,1,0)","v":0},{"$f":"IF($I794=AO$6,$E794,0)","v":0},{"$f":"IF($K794=ROUND(AO$6*$F794,2),$G794,0)","v":0},{"$f":"IF($H794>0,AO794,0)","v":0},{"$f":"IF(AQ794>0,1,0)","v":0},{"$f":"IF($H794>0,AP794,0)","v":0},{"$f":"IF(AS794>0,1,0)","v":0},{"$f":"IF($I794=AU$6,$E794,0)","v":0.98699999999999999},{"$f":"IF($K794=ROUND(AU$6*$F794,2),$G794,0)","v":0},{"$f":"IF($H794>0,AU794,0)","v":0.98699999999999999},{"$f":"IF(AW794>0,1,0)","v":1},{"$f":"IF($H794>0,AV794,0)","v":0},{"$f":"IF(AY794>0,1,0)","v":0},{"$f":"IF($I794=BA$6,$E794,0)","v":0},{"$f":"IF($K794=ROUND(BA$6*$F794,2),$G794,0)","v":0},{"$f":"IF($H794>0,BA794,0)","v":0},{"$f":"IF(BC794>0,1,0)","v":0},{"$f":"IF($H794>0,BB794,0)","v":0},{"$f":"IF(BE794>0,1,0)","v":0},null,9.8700000000000003E-4,1.3]
[{"$f":"IF(E795+G795>0,A794,\"\")","v":""},{"$f":"IF(E795+G795>0,B794,\"\")","v":""},6,"03-4-23.944(333)",0,1.1000000000000001,0,0,{"$f":"SUMIF(Y$14:BA$14,C795,Y$6:BA$6)","v":1733.45},{"$f":"IF(H795=0,ROUND(E795*I795,2),ROUND(H795*E795,2))","v":0},{"$f":"ROUND(F795*I795,2)","v":1906.8},{"$f":"IF(H795=0,ROUND(ROUND(F795*I795,2)*G795,2),ROUND(G795*H795,2))","v":0},{"$f":"L795-ROUND(G795*I795,2)","v":0},null,{"$f":"J795+L795+N795","v":0},null,405.07,{"$f":"ROUND(Q795*E795,2)","v":0},{"$f":"ROUND(F795*Q795,2)","v":445.58},{"$f":"ROUND(S795*G795,2)","v":0},{"$f":"T795-ROUND(Q795*G795,2)","v":0},null,{"$f":"R795+T795+V795","v":0},null,null,null,null,null,null,null,null,null,null,null,{"$f":"IF($I795=AI$6,$E795,0)","v":0},0,{"$f":"IF($H795>0,AI795,0)","v":0},{"$f":"IF(AK795>0,1,0)","v":0},{"$f":"IF($H795>0,AJ795,0)","v":0},{"$f":"IF(AM795>0,1,0)","v":0},{"$f":"IF($I795=AO$6,$E795,0)","v":0},0,{"$f":"IF($H795>0,AO795,0)","v":0},{"$f":"IF(AQ795>0,1,0)","v":0},{"$f":"IF($H795>0,AP795,0)","v":0},{"$f":"IF(AS795>0,1,0)","v":0},{"$f":"IF($I795=AU$6,$E795,0)","v":0},0,{"$f":"IF($H795>0,AU795,0)","v":0},{"$f":"IF(AW795>0,1,0)","v":0},{"$f":"IF($H795>0,AV795,0)","v":0},{"$f":"IF(AY795>0,1,0)","v":0},{"$f":"IF($I795=BA$6,$E795,0)","v":0},0,{"$f":"IF($H795>0,BA795,0)","v":0},{"$f":"IF(BC795>0,1,0)","v":0},{"$f":"IF($H795>0,BB795,0)","v":0},{"$f":"IF(BE795>0,1,0)","v":0},null,0]
[{"$f":"IF(E796+G796>0,A794,\"\")","v":""},{"$f":"IF(E796+G796>0,B794,\"\")","v":""},{"$f":"C795","v":6},"03-4-23.944(333)",0,1.5,0,0,{"$f":"SUMIF(Y$14:BA$14,C796,Y$7:BA$7)","v":0},0,0,0,0,null,0,null,405.07,0,607.61,0,0,null,0,null,null,null,null,null,null,null,null,null,null,null,{"$f":"IF($I796=AI$7,$E796,0)","v":0},{"$f":"IF($K796=ROUND(AI$7*$F796,2),$G796,0)","v":0},0,0,0,0,{"$f":"IF($I796=AO$7,$E796,0)","v":0},{"$f":"IF($K796=ROUND(AO$7*$F796,2),$G796,0)","v":0},0,0,0,0,{"$f":"IF($I796=AU$7,$E796,0)","v":0},{"$f":"IF($K796=ROUND(AU$7*$F796,2),$G796,0)","v":0},0,0,0,0,{"$f":"IF($I796=BA$7,$E796,0)","v":0},{"$f":"IF($K796=ROUND(BA$7*$F796,2),$G796,0)","v":0},0,0,0,0,null,0]
[{"$f":"IF(E797+G797>0,A794,\"\")","v":""},{"$f":"IF(E797+G797>0,B794,\"\")","v":""},{"$f":"C795","v":6},"03-4-23.944(333)",0,1.1000000000000001,0,0,{"$f":"SUMIF(Y$14:BA$14,C797,Y$7:BA$7)","v":0},0,0,0,0,null,0,null,405.07,0,445.58,0,0,null,0,null,null,null,null,null,null,null,null,null,null,null,{"$f":"IF($I797=AI$7,$E797,0)","v":0},{"$f":"IF($K797=ROUND(AI$7*$F797,2),$G797,0)","v":0},0,0,0,0,{"$f":"IF($I797=AO$7,$E797,0)","v":0},{"$f":"IF($K797=ROUND(AO$7*$F797,2),$G797,0)","v":0},0,0,0,0,{"$f":"IF($I797=AU$7,$E797,0)","v":0},{"$f":"IF($K797=ROUND(AU$7*$F797,2),$G797,0)","v":0},0,0,0,0,{"$f":"IF($I797=BA$7,$E797,0)","v":0},{"$f":"IF($K797=ROUND(BA$7*$F797,2),$G797,0)","v":0},0,0,0,0,null,0]
["ООО          \"Металл Трейдинг\"                             (до 01.09  -  ИП Александрова Е.Ю.)","",{"$f":"C799","v":7},"03-4-23.1132(333)/03-4-23.948(333)",0.87999999999999989,1.5,6.0999999999999999E-2,0.94099999999999984,{"$f":"SUMIF(Y$14:BA$14,C798,Y$6:BA$6)","v":2166.8000000000002},{"$f":"IF(H798=0,ROUND(E798*I798,2),ROUND(H798*E798,2))","v":0.83},{"$f":"ROUND(F798*I798,2)","v":3250.2},{"$f":"IF(H798=0,ROUND(ROUND(F798*I798,2)*G798,2),ROUND(G798*H798,2))","v":0.06},{"$f":"L798-ROUND(G798*I798,2)","v":-132.10999999999999},null,{"$f":"J798+L798+N798","v":0.8899999999999999},null,405.07,{"$f":"ROUND(Q798*E798,2)","v":356.46},{"$f":"ROUND(F798*Q798,2)","v":607.61},{"$f":"ROUND(S798*G798,2)","v":37.06},{"$f":"T798-ROUND(Q798*G798,2)","v":12.350000000000001},null,{"$f":"R798+T798+V798","v":393.52},null,null,null,null,null,null,null,null,null,null,null,{"$f":"IF($I798=AI$6,$E798,0)","v":0},{"$f":"IF($K798=ROUND(AI$6*$F798,2),$G798,0)","v":0},{"$f":"IF($H798>0,AI798,0)","v":0},{"$f":"IF(AK798>0,1,0)","v":0},{"$f":"IF($H798>0,AJ798,0)","v":0},{"$f":"IF(AM798>0,1,0)","v":0},{"$f":"IF($I798=AO$6,$E798,0)","v":0},{"$f":"IF($K798=ROUND(AO$6*$F798,2),$G798,0)","v":0},{"$f":"IF($H798>0,AO798,0)","v":0},{"$f":"IF(AQ798>0,1,0)","v":0},{"$f":"IF($H798>0,AP798,0)","v":0},{"$f":"IF(AS798>0,1,0)","v":0},{"$f":"IF($I798=AU$6,$E798,0)","v":0},{"$f":"IF($K798=ROUND(AU$6*$F798,2),$G798,0)","v":0},{"$f":"IF($H798>0,AU798,0)","v":0},{"$f":"IF(AW798>0,1,0)","v":0},{"$f":"IF($H798>0,AV798,0)","v":0},{"$f":"IF(AY798>0,1,0)","v":0},{"$f":"IF($I798=BA$6,$E798,0)","v":0.87999999999999989},{"$f":"IF($K798=ROUND(BA$6*$F798,2),$G798,0)","v":6.0999999999999999E-2},{"$f":"IF($H798>0,BA798,0)","v":0.87999999999999989},{"$f":"IF(BC798>0,1,0)","v":1},{"$f":"IF($H798>0,BB798,0)","v":6.0999999999999999E-2},{"$f":"IF(BE798>0,1,0)","v":1},null,9.4099999999999989E-4,0.8]
[{"$f":"IF(E799+G799>0,A798,\"\")","v":""},{"$f":"IF(E799+G799>0,B798,\"\")","v":""},7,"03-4-23.1132(333)/03-4-23.948(333)",0,1.1000000000000001,0,0,{"$f":"SUMIF(Y$14:BA$14,C799,Y$6:BA$6)","v":2166.8000000000002},{"$f":"IF(H799=0,ROUND(E799*I799,2),ROUND(H799*E799,2))","v":0},{"$f":"ROUND(F799*I799,2)","v":2383.48},{"$f":"IF(H799=0,ROUND(ROUND(F799*I799,2)*G799,2),ROUND(G799*H799,2))","v":0},{"$f":"L799-ROUND(G799*I799,2)","v":0},null,{"$f":"J799+L799+N799","v":0},null,405.07,{"$f":"ROUND(Q799*E799,2)","v":0},{"$f":"ROUND(F799*Q799,2)","v":445.58},{"$f":"ROUND(S799*G799,2)","v":0},{"$f":"T799-ROUND(Q799*G799,2)","v":0},null,{"$f":"R799+T799+V799","v":0},null,null,null,null,null,null,null,null,null,null,null,{"$f":"IF($I799=AI$6,$E799,0)","v":0},0,{"$f":"IF($H799>0,AI799,0)","v":0},{"$f":"IF(AK799>0,1,0)","v":0},{"$f":"IF($H799>0,AJ799,0)","v":0},{"$f":"IF(AM799>0,1,0)","v":0},{"$f":"IF($I799=AO$6,$E799,0)","v":0},0,{"$f":"IF($H799>0,AO799,0)","v":0},{"$f":"IF(AQ799>0,1,0)","v":0},{"$f":"IF($H799>0,AP799,0)","v":0},{"$f":"IF(AS799>0,1,0)","v":0},{"$f":"IF($I799=AU$6,$E799,0)","v":0},0,{"$f":"IF($H799>0,AU799,0)","v":0},{"$f":"IF(AW799>0,1,0)","v":0},{"$f":"IF($H799>0,AV799,0)","v":0},{"$f":"IF(AY799>0,1,0)","v":0},{"$f":"IF($I799=BA$6,$E799,0)","v":0},0,{"$f":"IF($H799>0,BA799,0)","v":0},{"$f":"IF(BC799>0,1,0)","v":0},{"$f":"IF($H799>0,BB799,0)","v":0},{"$f":"IF(BE799>0,1,0)","v":0},null,0]
[{"$f":"IF(E800+G800>0,A798,\"\")","v":""},{"$f":"IF(E800+G800>0,B798,\"\")","v":""},{"$f":"C799","v":7},"03-4-23.1132(333)/03-4-23.948(333)",0,1.5,0,0,{"$f":"SUMIF(Y$14:BA$14,C800,Y$7:BA$7)","v":0},0,0,0,0,null,0,null,405.07,0,607.61,0,0,null,0,null,null,null,null,null,null,null,null,null,null,null,{"$f":"IF($I800=AI$7,$E800,0)","v":0},{"$f":"IF($K800=ROUND(AI$7*$F800,2),$G800,0)","v":0},0,0,0,0,{"$f":"IF($I800=AO$7,$E800,0)","v":0},{"$f":"IF($K800=ROUND(AO$7*$F800,2),$G800,0)","v":0},0,0,0,0,{"$f":"IF($I800=AU$7,$E800,0)","v":0},{"$f":"IF($K800=ROUND(AU$7*$F800,2),$G800,0)","v":0},0,0,0,0,{"$f":"IF($I800=BA$7,$E800,0)","v":0},{"$f":"IF($K800=ROUND(BA$7*$F800,2),$G800,0)","v":0},0,0,0,0,null,0]
[{"$f":"IF(E801+G801>0,A798,\"\")","v":""},{"$f":"IF(E801+G801>0,B798,\"\")","v":""},{"$f":"C799","v":7},"03-4-23.1132(333)/03-4-23.948(333)",0,1.1000000000000001,0,0,{"$f":"SUMIF(Y$14:BA$14,C801,Y$7:BA$7)","v":0},0,0,0,0,null,0,null,405.07,0,445.58,0,0,null,0,null,null,null,null,null,null,null,null,null,null,null,{"$f":"IF($I801=AI$7,$E801,0)","v":0},{"$f":"IF($K801=ROUND(AI$7*$F801,2),$G801,0)","v":0},0,0,0,0,{"$f":"IF($I801=AO$7,$E801,0)","v":0},{"$f":"IF($K801=ROUND(AO$7*$F801,2),$G801,0)","v":0},0,0,0,0,{"$f":"IF($I801=AU$7,$E801,0)","v":0},{"$f":"IF($K801=ROUND(AU$7*$F801,2),$G801,0)","v":0},0,0,0,0,{"$f":"IF($I801=BA$7,$E801,0)","v":0},{"$f":"IF($K801=ROUND(BA$7*$F801,2),$G801,0)","v":0},0,0,0,0,null,0]
["ООО          \"М8 логистик\" ","",{"$f":"C803","v":6},"03-4-23.950(333)",2.72,1.5,0,2.72,{"$f":"SUMIF(Y$14:BA$14,C802,Y$6:BA$6)","v":1733.45},{"$f":"IF(H802=0,ROUND(E802*I802,2),ROUND(H802*E802,2))","v":7.4},{"$f":"ROUND(F802*I802,2)","v":2600.1799999999998},{"$f":"IF(H802=0,ROUND(ROUND(F802*I802,2)*G802,2),ROUND(G802*H802,2))","v":0},{"$f":"L802-ROUND(G802*I802,2)","v":0},null,{"$f":"J802+L802+N802","v":7.4},null,405.07,{"$f":"ROUND(Q802*E802,2)","v":1101.79},{"$f":"ROUND(F802*Q802,2)","v":607.61},{"$f":"ROUND(S802*G802,2)","v":0},{"$f":"T802-ROUND(Q802*G802,2)","v":0},null,{"$f":"R802+T802+V802","v":1101.79},null,null,null,null,null,null,null,null,null,null,null,{"$f":"IF($I802=AI$6,$E802,0)","v":0},{"$f":"IF($K802=ROUND(AI$6*$F802,2),$G802,0)","v":0},{"$f":"IF($H802>0,AI802,0)","v":0},{"$f":"IF(AK802>0,1,0)","v":0},{"$f":"IF($H802>0,AJ802,0)","v":0},{"$f":"IF(AM802>0,1,0)","v":0},{"$f":"IF($I802=AO$6,$E802,0)","v":0},{"$f":"IF($K802=ROUND(AO$6*$F802,2),$G802,0)","v":0},{"$f":"IF($H802>0,AO802,0)","v":0},{"$f":"IF(AQ802>0,1,0)","v":0},{"$f":"IF($H802>0,AP802,0)","v":0},{"$f":"IF(AS802>0,1,0)","v":0},{"$f":"IF($I802=AU$6,$E802,0)","v":2.72},{"$f":"IF($K802=ROUND(AU$6*$F802,2),$G802,0)","v":0},{"$f":"IF($H802>0,AU802,0)","v":2.72},{"$f":"IF(AW802>0,1,0)","v":1},{"$f":"IF($H802>0,AV802,0)","v":0},{"$f":"IF(AY802>0,1,0)","v":0},{"$f":"IF($I802=BA$6,$E802,0)","v":0},{"$f":"IF($K802=ROUND(BA$6*$F802,2),$G802,0)","v":0},{"$f":"IF($H802>0,BA802,0)","v":0},{"$f":"IF(BC802>0,1,0)","v":0},{"$f":"IF($H802>0,BB802,0)","v":0},{"$f":"IF(BE802>0,1,0)","v":0},null,2.7200000000000002E-3,6.6]
[{"$f":"IF(E803+G803>0,A802,\"\")","v":""},{"$f":"IF(E803+G803>0,B802,\"\")","v":""},6,"03-4-23.950(333)",0,1.1000000000000001,0,0,{"$f":"SUMIF(Y$14:BA$14,C803,Y$6:BA$6)","v":1733.45},{"$f":"IF(H803=0,ROUND(E803*I803,2),ROUND(H803*E803,2))","v":0},{"$f":"ROUND(F803*I803,2)","v":1906.8},{"$f":"IF(H803=0,ROUND(ROUND(F803*I803,2)*G803,2),ROUND(G803*H803,2))","v":0},{"$f":"L803-ROUND(G803*I803,2)","v":0},null,{"$f":"J803+L803+N803","v":0},null,405.07,{"$f":"ROUND(Q803*E803,2)","v":0},{"$f":"ROUND(F803*Q803,2)","v":445.58},{"$f":"ROUND(S803*G803,2)","v":0},{"$f":"T803-ROUND(Q803*G803,2)","v":0},null,{"$f":"R803+T803+V803","v":0},null,null,null,null,null,null,null,null,null,null,null,{"$f":"IF($I803=AI$6,$E803,0)","v":0},0,{"$f":"IF($H803>0,AI803,0)","v":0},{"$f":"IF(AK803>0,1,0)","v":0},{"$f":"IF($H803>0,AJ803,0)","v":0},{"$f":"IF(AM803>0,1,0)","v":0},{"$f":"IF($I803=AO$6,$E803,0)","v":0},0,{"$f":"IF($H803>0,AO803,0)","v":0},{"$f":"IF(AQ803>0,1,0)","v":0},{"$f":"IF($H803>0,AP803,0)","v":0},{"$f":"IF(AS803>0,1,0)","v":0},{"$f":"IF($I803=AU$6,$E803,0)","v":0},0,{"$f":"IF($H803>0,AU803,0)","v":0},{"$f":"IF(AW803>0,1,0)","v":0},{"$f":"IF($H803>0,AV803,0)","v":0},{"$f":"IF(AY803>0,1,0)","v":0},{"$f":"IF($I803=BA$6,$E803,0)","v":0},0,{"$f":"IF($H803>0,BA803,0)","v":0},{"$f":"IF(BC803>0,1,0)","v":0},{"$f":"IF($H803>0,BB803,0)","v":0},{"$f":"IF(BE803>0,1,0)","v":0},null,0]
[{"$f":"IF(E804+G804>0,A802,\"\")","v":""},{"$f":"IF(E804+G804>0,B802,\"\")","v":""},{"$f":"C803","v":6},"03-4-23.950(333)",0,1.5,0,0,{"$f":"SUMIF(Y$14:BA$14,C804,Y$7:BA$7)","v":0},0,0,0,0,null,0,null,405.07,0,607.61,0,0,null,0,null,null,null,null,null,null,null,null,null,null,null,{"$f":"IF($I804=AI$7,$E804,0)","v":0},{"$f":"IF($K804=ROUND(AI$7*$F804,2),$G804,0)","v":0},0,0,0,0,{"$f":"IF($I804=AO$7,$E804,0)","v":0},{"$f":"IF($K804=ROUND(AO$7*$F804,2),$G804,0)","v":0},0,0,0,0,{"$f":"IF($I804=AU$7,$E804,0)","v":0},{"$f":"IF($K804=ROUND(AU$7*$F804,2),$G804,0)","v":0},0,0,0,0,{"$f":"IF($I804=BA$7,$E804,0)","v":0},{"$f":"IF($K804=ROUND(BA$7*$F804,2),$G804,0)","v":0},0,0,0,0,null,0]
[{"$f":"IF(E805+G805>0,A802,\"\")","v":""},{"$f":"IF(E805+G805>0,B802,\"\")","v":""},{"$f":"C803","v":6},"03-4-23.950(333)",0,1.1000000000000001,0,0,{"$f":"SUMIF(Y$14:BA$14,C805,Y$7:BA$7)","v":0},0,0,0,0,null,0,null,405.07,0,445.58,0,0,null,0,null,null,null,null,null,null,null,null,null,null,null,{"$f":"IF($I805=AI$7,$E805,0)","v":0},{"$f":"IF($K805=ROUND(AI$7*$F805,2),$G805,0)","v":0},0,0,0,0,{"$f":"IF($I805=AO$7,$E805,0)","v":0},{"$f":"IF($K805=ROUND(AO$7*$F805,2),$G805,0)","v":0},0,0,0,0,{"$f":"IF($I805=AU$7,$E805,0)","v":0},{"$f":"IF($K805=ROUND(AU$7*$F805,2),$G805,0)","v":0},0,0,0,0,{"$f":"IF($I805=BA$7,$E805,0)","v":0},{"$f":"IF($K805=ROUND(BA$7*$F805,2),$G805,0)","v":0},0,0,0,0,null,0]
["ИП              Меньшуткин   Алексей Викторович","",{"$f":"C807","v":7},"03-4-23.962(333)",0.317,1.5,0,0.317,{"$f":"SUMIF(Y$14:BA$14,C806,Y$6:BA$6)","v":2166.8000000000002},{"$f":"IF(H806=0,ROUND(E806*I806,2),ROUND(H806*E806,2))","v":0.1},{"$f":"ROUND(F806*I806,2)","v":3250.2},{"$f":"IF(H806=0,ROUND(ROUND(F806*I806,2)*G806,2),ROUND(G806*H806,2))","v":0},{"$f":"L806-ROUND(G806*I806,2)","v":0},null,{"$f":"J806+L806+N806","v":0.1},null,405.07,{"$f":"ROUND(Q806*E806,2)","v":128.41},{"$f":"ROUND(F806*Q806,2)","v":607.61},{"$f":"ROUND(S806*G806,2)","v":0},{"$f":"T806-ROUND(Q806*G806,2)","v":0},null,{"$f":"R806+T806+V806","v":128.41},null,null,null,null,null,null,null,null,null,null,null,{"$f":"IF($I806=AI$6,$E806,0)","v":0},{"$f":"IF($K806=ROUND(AI$6*$F806,2),$G806,0)","v":0},{"$f":"IF($H806>0,AI806,0)","v":0},{"$f":"IF(AK806>0,1,0)","v":0},{"$f":"IF($H806>0,AJ806,0)","v":0},{"$f":"IF(AM806>0,1,0)","v":0},{"$f":"IF($I806=AO$6,$E806,0)","v":0},{"$f":"IF($K806=ROUND(AO$6*$F806,2),$G806,0)","v":0},{"$f":"IF($H806>0,AO806,0)","v":0},{"$f":"IF(AQ806>0,1,0)","v":0},{"$f":"IF($H806>0,AP806,0)","v":0},{"$f":"IF(AS806>0,1,0)","v":0},{"$f":"IF($I806=AU$6,$E806,0)","v":0},{"$f":"IF($K806=ROUND(AU$6*$F806,2),$G806,0)","v":0},{"$f":"IF($H806>0,AU806,0)","v":0},{"$f":"IF(AW806>0,1,0)","v":0},{"$f":"IF($H806>0,AV806,0)","v":0},{"$f":"IF(AY806>0,1,0)","v":0},{"$f":"IF($I806=BA$6,$E806,0)","v":0.317},{"$f":"IF($K806=ROUND(BA$6*$F806,2),$G806,0)","v":0},{"$f":"IF($H806>0,BA806,0)","v":0.317},{"$f":"IF(BC806>0,1,0)","v":1},{"$f":"IF($H806>0,BB806,0)","v":0},{"$f":"IF(BE806>0,1,0)","v":0},null,3.1700000000000001E-4,0.6]
[{"$f":"IF(E807+G807>0,A806,\"\")","v":""},{"$f":"IF(E807+G807>0,B806,\"\")","v":""},7,"03-4-23.962(333)",0,1.1000000000000001,0,0,{"$f":"SUMIF(Y$14:BA$14,C807,Y$6:BA$6)","v":2166.8000000000002},{"$f":"IF(H807=0,ROUND(E807*I807,2),ROUND(H807*E807,2))","v":0},{"$f":"ROUND(F807*I807,2)","v":2383.48},{"$f":"IF(H807=0,ROUND(ROUND(F807*I807,2)*G807,2),ROUND(G807*H807,2))","v":0},{"$f":"L807-ROUND(G807*I807,2)","v":0},null,{"$f":"J807+L807+N807","v":0},null,405.07,{"$f":"ROUND(Q807*E807,2)","v":0},{"$f":"ROUND(F807*Q807,2)","v":445.58},{"$f":"ROUND(S807*G807,2)","v":0},{"$f":"T807-ROUND(Q807*G807,2)","v":0},null,{"$f":"R807+T807+V807","v":0},null,null,null,null,null,null,null,null,null,null,null,{"$f":"IF($I807=AI$6,$E807,0)","v":0},0,{"$f":"IF($H807>0,AI807,0)","v":0},{"$f":"IF(AK807>0,1,0)","v":0},{"$f":"IF($H807>0,AJ807,0)","v":0},{"$f":"IF(AM807>0,1,0)","v":0},{"$f":"IF($I807=AO$6,$E807,0)","v":0},0,{"$f":"IF($H807>0,AO807,0)","v":0},{"$f":"IF(AQ807>0,1,0)","v":0},{"$f":"IF($H807>0,AP807,0)","v":0},{"$f":"IF(AS807>0,1,0)","v":0},{"$f":"IF($I807=AU$6,$E807,0)","v":0},0,{"$f":"IF($H807>0,AU807,0)","v":0},{"$f":"IF(AW807>0,1,0)","v":0},{"$f":"IF($H807>0,AV807,0)","v":0},{"$f":"IF(AY807>0,1,0)","v":0},{"$f":"IF($I807=BA$6,$E807,0)","v":0},0,{"$f":"IF($H807>0,BA807,0)","v":0},{"$f":"IF(BC807>0,1,0)","v":0},{"$f":"IF($H807>0,BB807,0)","v":0},{"$f":"IF(BE807>0,1,0)","v":0},null,0]
[{"$f":"IF(E808+G808>0,A806,\"\")","v":""},{"$f":"IF(E808+G808>0,B806,\"\")","v":""},{"$f":"C807","v":7},"03-4-23.962(333)",0,1.5,0,0,{"$f":"SUMIF(Y$14:BA$14,C808,Y$7:BA$7)","v":0},0,0,0,0,null,0,null,405.07,0,607.61,0,0,null,0,null,null,null,null,null,null,null,null,null,null,null,{"$f":"IF($I808=AI$7,$E808,0)","v":0},{"$f":"IF($K808=ROUND(AI$7*$F808,2),$G808,0)","v":0},0,0,0,0,{"$f":"IF($I808=AO$7,$E808,0)","v":0},{"$f":"IF($K808=ROUND(AO$7*$F808,2),$G808,0)","v":0},0,0,0,0,{"$f":"IF($I808=AU$7,$E808,0)","v":0},{"$f":"IF($K808=ROUND(AU$7*$F808,2),$G808,0)","v":0},0,0,0,0,{"$f":"IF($I808=BA$7,$E808,0)","v":0},{"$f":"IF($K808=ROUND(BA$7*$F808,2),$G808,0)","v":0},0,0,0,0,null,0]
[{"$f":"IF(E809+G809>0,A806,\"\")","v":""},{"$f":"IF(E809+G809>0,B806,\"\")","v":""},{"$f":"C807","v":7},"03-4-23.962(333)",0,1.1000000000000001,0,0,{"$f":"SUMIF(Y$14:BA$14,C809,Y$7:BA$7)","v":0},0,0,0,0,null,0,null,405.07,0,445.58,0,0,null,0,null,null,null,null,null,null,null,null,null,null,null,{"$f":"IF($I809=AI$7,$E809,0)","v":0},{"$f":"IF($K809=ROUND(AI$7*$F809,2),$G809,0)","v":0},0,0,0,0,{"$f":"IF($I809=AO$7,$E809,0)","v":0},{"$f":"IF($K809=ROUND(AO$7*$F809,2),$G809,0)","v":0},0,0,0,0,{"$f":"IF($I809=AU$7,$E809,0)","v":0},{"$f":"IF($K809=ROUND(AU$7*$F809,2),$G809,0)","v":0},0,0,0,0,{"$f":"IF($I809=BA$7,$E809,0)","v":0},{"$f":"IF($K809=ROUND(BA$7*$F809,2),$G809,0)","v":0},0,0,0,0,null,0]
["Администрация МО \"Вельское\"","",{"$f":"C811","v":6},"03-4-23.965(333)",0.7,1.5,0,0.7,{"$f":"SUMIF(Y$14:BA$14,C810,Y$6:BA$6)","v":1733.45},{"$f":"IF(H810=0,ROUND(E810*I810,2),ROUND(H810*E810,2))","v":0.49},{"$f":"ROUND(F810*I810,2)","v":2600.1799999999998},{"$f":"IF(H810=0,ROUND(ROUND(F810*I810,2)*G810,2),ROUND(G810*H810,2))","v":0},{"$f":"L810-ROUND(G810*I810,2)","v":0},null,{"$f":"J810+L810+N810","v":0.49},null,405.07,{"$f":"ROUND(Q810*E810,2)","v":283.55},{"$f":"ROUND(F810*Q810,2)","v":607.61},{"$f":"ROUND(S810*G810,2)","v":0},{"$f":"T810-ROUND(Q810*G810,2)","v":0},null,{"$f":"R810+T810+V810","v":283.55},null,null,null,null,null,null,null,null,null,null,null,{"$f":"IF($I810=AI$6,$E810,0)","v":0},{"$f":"IF($K810=ROUND(AI$6*$F810,2),$G810,0)","v":0},{"$f":"IF($H810>0,AI810,0)","v":0},{"$f":"IF(AK810>0,1,0)","v":0},{"$f":"IF($H810>0,AJ810,0)","v":0},{"$f":"IF(AM810>0,1,0)","v":0},{"$f":"IF($I810=AO$6,$E810,0)","v":0},{"$f":"IF($K810=ROUND(AO$6*$F810,2),$G810,0)","v":0},{"$f":"IF($H810>0,AO810,0)","v":0},{"$f":"IF(AQ810>0,1,0)","v":0},{"$f":"IF($H810>0,AP810,0)","v":0},{"$f":"IF(AS810>0,1,0)","v":0},{"$f":"IF($I810=AU$6,$E810,0)","v":0.7},{"$f":"IF($K810=ROUND(AU$6*$F810,2),$G810,0)","v":0},{"$f":"IF($H810>0,AU810,0)","v":0.7},{"$f":"IF(AW810>0,1,0)","v":1},{"$f":"IF($H810>0,AV810,0)","v":0},{"$f":"IF(AY810>0,1,0)","v":0},{"$f":"IF($I810=BA$6,$E810,0)","v":0},{"$f":"IF($K810=ROUND(BA$6*$F810,2),$G810,0)","v":0},{"$f":"IF($H810>0,BA810,0)","v":0},{"$f":"IF(BC810>0,1,0)","v":0},{"$f":"IF($H810>0,BB810,0)","v":0},{"$f":"IF(BE810>0,1,0)","v":0},null,6.9999999999999999E-4,1]
[{"$f":"IF(E811+G811>0,A810,\"\")","v":""},{"$f":"IF(E811+G811>0,B810,\"\")","v":""},6,"03-4-23.965(333)",0,1.1000000000000001,0,0,{"$f":"SUMIF(Y$14:BA$14,C811,Y$6:BA$6)","v":1733.45},{"$f":"IF(H811=0,ROUND(E811*I811,2),ROUND(H811*E811,2))","v":0},{"$f":"ROUND(F811*I811,2)","v":1906.8},{"$f":"IF(H811=0,ROUND(ROUND(F811*I811,2)*G811,2),ROUND(G811*H811,2))","v":0},{"$f":"L811-ROUND(G811*I811,2)","v":0},null,{"$f":"J811+L811+N811","v":0},null,405.07,{"$f":"ROUND(Q811*E811,2)","v":0},{"$f":"ROUND(F811*Q811,2)","v":445.58},{"$f":"ROUND(S811*G811,2)","v":0},{"$f":"T811-ROUND(Q811*G811,2)","v":0},null,{"$f":"R811+T811+V811","v":0},null,null,null,null,null,null,null,null,null,null,null,0,0,{"$f":"IF($H811>0,AI811,0)","v":0},{"$f":"IF(AK811>0,1,0)","v":0},{"$f":"IF($H811>0,AJ811,0)","v":0},{"$f":"IF(AM811>0,1,0)","v":0},0,0,{"$f":"IF($H811>0,AO811,0)","v":0},{"$f":"IF(AQ811>0,1,0)","v":0},{"$f":"IF($H811>0,AP811,0)","v":0},{"$f":"IF(AS811>0,1,0)","v":0},0,0,{"$f":"IF($H811>0,AU811,0)","v":0},{"$f":"IF(AW811>0,1,0)","v":0},{"$f":"IF($H811>0,AV811,0)","v":0},{"$f":"IF(AY811>0,1,0)","v":0},0,0,{"$f":"IF($H811>0,BA811,0)","v":0},{"$f":"IF(BC811>0,1,0)","v":0},{"$f":"IF($H811>0,BB811,0)","v":0},{"$f":"IF(BE811>0,1,0)","v":0},null,0]
[{"$f":"IF(E812+G812>0,A810,\"\")","v":""},{"$f":"IF(E812+G812>0,B810,\"\")","v":""},{"$f":"C811","v":6},"03-4-23.965(333)",0,1.5,0,0,{"$f":"SUMIF(Y$14:BA$14,C812,Y$7:BA$7)","v":0},0,0,0,0,null,0,null,405.07,0,607.61,0,0,null,0,null,null,null,null,null,null,null,null,null,null,null,{"$f":"IF($I812=AI$7,$E812,0)","v":0},{"$f":"IF($K812=ROUND(AI$7*$F812,2),$G812,0)","v":0},0,0,0,0,{"$f":"IF($I812=AO$7,$E812,0)","v":0},{"$f":"IF($K812=ROUND(AO$7*$F812,2),$G812,0)","v":0},0,0,0,0,{"$f":"IF($I812=AU$7,$E812,0)","v":0},{"$f":"IF($K812=ROUND(AU$7*$F812,2),$G812,0)","v":0},0,0,0,0,{"$f":"IF($I812=BA$7,$E812,0)","v":0},{"$f":"IF($K812=ROUND(BA$7*$F812,2),$G812,0)","v":0},0,0,0,0,null,0]
[{"$f":"IF(E813+G813>0,A810,\"\")","v":""},{"$f":"IF(E813+G813>0,B810,\"\")","v":""},{"$f":"C811","v":6},"03-4-23.965(333)",0,1.1000000000000001,0,0,{"$f":"SUMIF(Y$14:BA$14,C813,Y$7:BA$7)","v":0},0,0,0,0,null,0,null,405.07,0,445.58,0,0,null,0,null,null,null,null,null,null,null,null,null,null,null,{"$f":"IF($I813=AI$7,$E813,0)","v":0},{"$f":"IF($K813=ROUND(AI$7*$F813,2),$G813,0)","v":0},0,0,0,0,{"$f":"IF($I813=AO$7,$E813,0)","v":0},{"$f":"IF($K813=ROUND(AO$7*$F813,2),$G813,0)","v":0},0,0,0,0,{"$f":"IF($I813=AU$7,$E813,0)","v":0},{"$f":"IF($K813=ROUND(AU$7*$F813,2),$G813,0)","v":0},0,0,0,0,{"$f":"IF($I813=BA$7,$E813,0)","v":0},{"$f":"IF($K813=ROUND(BA$7*$F813,2),$G813,0)","v":0},0,0,0,0,null,0]
["ООО          \"ТехноСтрой\"         ","д.Вороновская-8а",{"$f":"C815","v":7},"03-4-23.969(333)",0.96399999999999997,1.5,0.22500000000000003,1.1890000000000001,{"$f":"SUMIF(Y$14:BA$14,C814,Y$6:BA$6)","v":2166.8000000000002},{"$f":"IF(H814=0,ROUND(E814*I814,2),ROUND(H814*E814,2))","v":1.1499999999999999},{"$f":"ROUND(F814*I814,2)","v":3250.2},{"$f":"IF(H814=0,ROUND(ROUND(F814*I814,2)*G814,2),ROUND(G814*H814,2))","v":0.27},{"$f":"L814-ROUND(G814*I814,2)","v":-487.26},null,{"$f":"J814+L814+N814","v":1.42},null,405.07,{"$f":"ROUND(Q814*E814,2)","v":390.49},{"$f":"ROUND(F814*Q814,2)","v":607.61},{"$f":"ROUND(S814*G814,2)","v":136.71},{"$f":"T814-ROUND(Q814*G814,2)","v":45.570000000000007},null,{"$f":"R814+T814+V814","v":527.20000000000005},null,null,null,null,null,null,null,null,null,null,null,{"$f":"IF($I814=AI$6,$E814,0)","v":0},{"$f":"IF($K814=ROUND(AI$6*$F814,2),$G814,0)","v":0},{"$f":"IF($H814>0,AI814,0)","v":0},{"$f":"IF(AK814>0,1,0)","v":0},{"$f":"IF($H814>0,AJ814,0)","v":0},{"$f":"IF(AM814>0,1,0)","v":0},{"$f":"IF($I814=AO$6,$E814,0)","v":0},{"$f":"IF($K814=ROUND(AO$6*$F814,2),$G814,0)","v":0},{"$f":"IF($H814>0,AO814,0)","v":0},{"$f":"IF(AQ814>0,1,0)","v":0},{"$f":"IF($H814>0,AP814,0)","v":0},{"$f":"IF(AS814>0,1,0)","v":0},{"$f":"IF($I814=AU$6,$E814,0)","v":0},{"$f":"IF($K814=ROUND(AU$6*$F814,2),$G814,0)","v":0},{"$f":"IF($H814>0,AU814,0)","v":0},{"$f":"IF(AW814>0,1,0)","v":0},{"$f":"IF($H814>0,AV814,0)","v":0},{"$f":"IF(AY814>0,1,0)","v":0},{"$f":"IF($I814=BA$6,$E814,0)","v":0.96399999999999997},{"$f":"IF($K814=ROUND(BA$6*$F814,2),$G814,0)","v":0.22500000000000003},{"$f":"IF($H814>0,BA814,0)","v":0.96399999999999997},{"$f":"IF(BC814>0,1,0)","v":1},{"$f":"IF($H814>0,BB814,0)","v":0.22500000000000003},{"$f":"IF(BE814>0,1,0)","v":1},null,1.189E-3,1.6999999999999997]
[{"$f":"IF(E815+G815>0,A814,\"\")","v":""},{"$f":"IF(E815+G815>0,B814,\"\")","v":""},7,"03-4-23.969(333)",0,1.1000000000000001,0,0,{"$f":"SUMIF(Y$14:BA$14,C815,Y$6:BA$6)","v":2166.8000000000002},{"$f":"IF(H815=0,ROUND(E815*I815,2),ROUND(H815*E815,2))","v":0},{"$f":"ROUND(F815*I815,2)","v":2383.48},{"$f":"IF(H815=0,ROUND(ROUND(F815*I815,2)*G815,2),ROUND(G815*H815,2))","v":0},{"$f":"L815-ROUND(G815*I815,2)","v":0},null,{"$f":"J815+L815+N815","v":0},null,405.07,{"$f":"ROUND(Q815*E815,2)","v":0},{"$f":"ROUND(F815*Q815,2)","v":445.58},{"$f":"ROUND(S815*G815,2)","v":0},{"$f":"T815-ROUND(Q815*G815,2)","v":0},null,{"$f":"R815+T815+V815","v":0},null,null,null,null,null,null,null,null,null,null,null,{"$f":"IF($I815=AI$6,$E815,0)","v":0},0,{"$f":"IF($H815>0,AI815,0)","v":0},{"$f":"IF(AK815>0,1,0)","v":0},{"$f":"IF($H815>0,AJ815,0)","v":0},{"$f":"IF(AM815>0,1,0)","v":0},{"$f":"IF($I815=AO$6,$E815,0)","v":0},0,{"$f":"IF($H815>0,AO815,0)","v":0},{"$f":"IF(AQ815>0,1,0)","v":0},{"$f":"IF($H815>0,AP815,0)","v":0},{"$f":"IF(AS815>0,1,0)","v":0},{"$f":"IF($I815=AU$6,$E815,0)","v":0},0,{"$f":"IF($H815>0,AU815,0)","v":0},{"$f":"IF(AW815>0,1,0)","v":0},{"$f":"IF($H815>0,AV815,0)","v":0},{"$f":"IF(AY815>0,1,0)","v":0},{"$f":"IF($I815=BA$6,$E815,0)","v":0},0,{"$f":"IF($H815>0,BA815,0)","v":0},{"$f":"IF(BC815>0,1,0)","v":0},{"$f":"IF($H815>0,BB815,0)","v":0},{"$f":"IF(BE815>0,1,0)","v":0},null,0]
[{"$f":"IF(E816+G816>0,A814,\"\")","v":""},{"$f":"IF(E816+G816>0,B814,\"\")","v":""},{"$f":"C815","v":7},"03-4-23.969(333)",0,1.5,0,0,{"$f":"SUMIF(Y$14:BA$14,C816,Y$7:BA$7)","v":0},0,0,0,0,null,0,null,405.07,0,607.61,0,0,null,0,null,null,null,null,null,null,null,null,null,null,null,{"$f":"IF($I816=AI$7,$E816,0)","v":0},{"$f":"IF($K816=ROUND(AI$7*$F816,2),$G816,0)","v":0},0,0,0,0,{"$f":"IF($I816=AO$7,$E816,0)","v":0},{"$f":"IF($K816=ROUND(AO$7*$F816,2),$G816,0)","v":0},0,0,0,0,{"$f":"IF($I816=AU$7,$E816,0)","v":0},{"$f":"IF($K816=ROUND(AU$7*$F816,2),$G816,0)","v":0},0,0,0,0,{"$f":"IF($I816=BA$7,$E816,0)","v":0},{"$f":"IF($K816=ROUND(BA$7*$F816,2),$G816,0)","v":0},0,0,0,0,null,0]
[{"$f":"IF(E817+G817>0,A814,\"\")","v":""},{"$f":"IF(E817+G817>0,B814,\"\")","v":""},{"$f":"C815","v":7},"03-4-23.969(333)",0,1.1000000000000001,0,0,{"$f":"SUMIF(Y$14:BA$14,C817,Y$7:BA$7)","v":0},0,0,0,0,null,0,null,405.07,0,445.58,0,0,null,0,null,null,null,null,null,null,null,null,null,null,null,{"$f":"IF($I817=AI$7,$E817,0)","v":0},{"$f":"IF($K817=ROUND(AI$7*$F817,2),$G817,0)","v":0},0,0,0,0,{"$f":"IF($I817=AO$7,$E817,0)","v":0},{"$f":"IF($K817=ROUND(AO$7*$F817,2),$G817,0)","v":0},0,0,0,0,{"$f":"IF($I817=AU$7,$E817,0)","v":0},{"$f":"IF($K817=ROUND(AU$7*$F817,2),$G817,0)","v":0},0,0,0,0,{"$f":"IF($I817=BA$7,$E817,0)","v":0},{"$f":"IF($K817=ROUND(BA$7*$F817,2),$G817,0)","v":0},0,0,0,0,null,0]
["ООО          \"ТехноСтрой\"         ","д.Вороновская-8Б  +  д.Вороновская-8г",{"$f":"C819","v":6},"03-4-23.969(333)",1.8959999999999999,1.5,0.44400000000000001,2.34,{"$f":"SUMIF(Y$14:BA$14,C818,Y$6:BA$6)","v":1733.45},{"$f":"IF(H818<0,0,IF(H818=0,ROUND(E818*I818,2),ROUND(H818*E818,2)))","v":4.4400000000000004},{"$f":"ROUND(F818*I818,2)","v":2600.1799999999998},{"$f":"IF(H818<0,0,IF(H818=0,ROUND(ROUND(F818*I818,2)*G818,2),ROUND(G818*H818,2)))","v":1.04},{"$f":"IF(H818<0,0,L818-ROUND(G818*I818,2))","v":-768.61},null,{"$f":"J818+L818+N818","v":5.48},null,405.07,{"$f":"ROUND(Q818*E818,2)","v":768.01},{"$f":"ROUND(F818*Q818,2)","v":607.61},{"$f":"ROUND(S818*G818,2)","v":269.77999999999997},{"$f":"T818-ROUND(Q818*G818,2)","v":89.929999999999978},null,{"$f":"R818+T818+V818","v":1037.79},null,null,null,null,null,null,null,null,null,null,null,{"$f":"IF($I818=AI$6,$E818,0)","v":0},{"$f":"IF($K818=ROUND(AI$6*$F818,2),$G818,0)","v":0},{"$f":"IF($H818>0,AI818,0)","v":0},{"$f":"IF(AK818>0,1,0)","v":0},{"$f":"IF($H818>0,AJ818,0)","v":0},{"$f":"IF(AM818>0,1,0)","v":0},{"$f":"IF($I818=AO$6,$E818,0)","v":0},{"$f":"IF($K818=ROUND(AO$6*$F818,2),$G818,0)","v":0},{"$f":"IF($H818>0,AO818,0)","v":0},{"$f":"IF(AQ818>0,1,0)","v":0},{"$f":"IF($H818>0,AP818,0)","v":0},{"$f":"IF(AS818>0,1,0)","v":0},{"$f":"IF($I818=AU$6,$E818,0)","v":1.8959999999999999},{"$f":"IF($K818=ROUND(AU$6*$F818,2),$G818,0)","v":0.44400000000000001},{"$f":"IF($H818>0,AU818,0)","v":1.8959999999999999},{"$f":"IF(AW818>0,1,0)","v":1},{"$f":"IF($H818>0,AV818,0)","v":0.44400000000000001},{"$f":"IF(AY818>0,1,0)","v":1},{"$f":"IF($I818=BA$6,$E818,0)","v":0},{"$f":"IF($K818=ROUND(BA$6*$F818,2),$G818,0)","v":0},{"$f":"IF($H818>0,BA818,0)","v":0},{"$f":"IF(BC818>0,1,0)","v":0},{"$f":"IF($H818>0,BB818,0)","v":0},{"$f":"IF(BE818>0,1,0)","v":0},null,2.3400000000000001E-3,0.9]
[{"$f":"IF(E819+G819>0,A818,\"\")","v":""},{"$f":"IF(E819+G819>0,B818,\"\")","v":""},6,"03-4-23.969(333)",0,1.1000000000000001,0,0,{"$f":"SUMIF(Y$14:BA$14,C819,Y$6:BA$6)","v":1733.45},{"$f":"IF(H819=0,ROUND(E819*I819,2),ROUND(H819*E819,2))","v":0},{"$f":"ROUND(F819*I819,2)","v":1906.8},{"$f":"IF(H819=0,ROUND(ROUND(F819*I819,2)*G819,2),ROUND(G819*H819,2))","v":0},{"$f":"L819-ROUND(G819*I819,2)","v":0},null,{"$f":"J819+L819+N819","v":0},null,405.07,{"$f":"ROUND(Q819*E819,2)","v":0},{"$f":"ROUND(F819*Q819,2)","v":445.58},{"$f":"ROUND(S819*G819,2)","v":0},{"$f":"T819-ROUND(Q819*G819,2)","v":0},null,{"$f":"R819+T819+V819","v":0},null,null,null,null,null,null,null,null,null,null,null,{"$f":"IF($I819=AI$6,$E819,0)","v":0},0,{"$f":"IF($H819>0,AI819,0)","v":0},{"$f":"IF(AK819>0,1,0)","v":0},{"$f":"IF($H819>0,AJ819,0)","v":0},{"$f":"IF(AM819>0,1,0)","v":0},{"$f":"IF($I819=AO$6,$E819,0)","v":0},0,{"$f":"IF($H819>0,AO819,0)","v":0},{"$f":"IF(AQ819>0,1,0)","v":0},{"$f":"IF($H819>0,AP819,0)","v":0},{"$f":"IF(AS819>0,1,0)","v":0},{"$f":"IF($I819=AU$6,$E819,0)","v":0},0,{"$f":"IF($H819>0,AU819,0)","v":0},{"$f":"IF(AW819>0,1,0)","v":0},{"$f":"IF($H819>0,AV819,0)","v":0},{"$f":"IF(AY819>0,1,0)","v":0},{"$f":"IF($I819=BA$6,$E819,0)","v":0},0,{"$f":"IF($H819>0,BA819,0)","v":0},{"$f":"IF(BC819>0,1,0)","v":0},{"$f":"IF($H819>0,BB819,0)","v":0},{"$f":"IF(BE819>0,1,0)","v":0},null,0]
[{"$f":"IF(E820+G820>0,A818,\"\")","v":""},{"$f":"IF(E820+G820>0,B818,\"\")","v":""},{"$f":"C819","v":6},"03-4-23.969(333)",0,1.5,0,0,{"$f":"SUMIF(Y$14:BA$14,C820,Y$7:BA$7)","v":0},0,0,0,0,null,0,null,405.07,0,607.61,0,0,null,0,null,null,null,null,null,null,null,null,null,null,null,{"$f":"IF($I820=AI$7,$E820,0)","v":0},{"$f":"IF($K820=ROUND(AI$7*$F820,2),$G820,0)","v":0},0,0,0,0,{"$f":"IF($I820=AO$7,$E820,0)","v":0},{"$f":"IF($K820=ROUND(AO$7*$F820,2),$G820,0)","v":0},0,0,0,0,{"$f":"IF($I820=AU$7,$E820,0)","v":0},{"$f":"IF($K820=ROUND(AU$7*$F820,2),$G820,0)","v":0},0,0,0,0,{"$f":"IF($I820=BA$7,$E820,0)","v":0},{"$f":"IF($K820=ROUND(BA$7*$F820,2),$G820,0)","v":0},0,0,0,0,null,0]
[{"$f":"IF(E821+G821>0,A818,\"\")","v":""},{"$f":"IF(E821+G821>0,B818,\"\")","v":""},{"$f":"C819","v":6},"03-4-23.969(333)",0,1.1000000000000001,0,0,{"$f":"SUMIF(Y$14:BA$14,C821,Y$7:BA$7)","v":0},0,0,0,0,null,0,null,405.07,0,445.58,0,0,null,0,null,null,null,null,null,null,null,null,null,null,null,{"$f":"IF($I821=AI$7,$E821,0)","v":0},{"$f":"IF($K821=ROUND(AI$7*$F821,2),$G821,0)","v":0},0,0,0,0,{"$f":"IF($I821=AO$7,$E821,0)","v":0},{"$f":"IF($K821=ROUND(AO$7*$F821,2),$G821,0)","v":0},0,0,0,0,{"$f":"IF($I821=AU$7,$E821,0)","v":0},{"$f":"IF($K821=ROUND(AU$7*$F821,2),$G821,0)","v":0},0,0,0,0,{"$f":"IF($I821=BA$7,$E821,0)","v":0},{"$f":"IF($K821=ROUND(BA$7*$F821,2),$G821,0)","v":0},0,0,0,0,null,0]
["ООО ТД    \"СтанкоАбразив\"","",{"$f":"C823","v":7},"03-4-23.973(333)",0.52200000000000002,1.5,0,0.52200000000000002,{"$f":"SUMIF(Y$14:BA$14,C822,Y$6:BA$6)","v":2166.8000000000002},{"$f":"IF(H822=0,ROUND(E822*I822,2),ROUND(H822*E822,2))","v":0.27},{"$f":"ROUND(F822*I822,2)","v":3250.2},{"$f":"IF(H822=0,ROUND(ROUND(F822*I822,2)*G822,2),ROUND(G822*H822,2))","v":0},{"$f":"L822-ROUND(G822*I822,2)","v":0},null,{"$f":"J822+L822+N822","v":0.27},null,405.07,{"$f":"ROUND(Q822*E822,2)","v":211.45},{"$f":"ROUND(F822*Q822,2)","v":607.61},{"$f":"ROUND(S822*G822,2)","v":0},{"$f":"T822-ROUND(Q822*G822,2)","v":0},null,{"$f":"R822+T822+V822","v":211.45},null,null,null,null,null,null,null,null,null,null,null,{"$f":"IF($I822=AI$6,$E822,0)","v":0},{"$f":"IF($K822=ROUND(AI$6*$F822,2),$G822,0)","v":0},{"$f":"IF($H822>0,AI822,0)","v":0},{"$f":"IF(AK822>0,1,0)","v":0},{"$f":"IF($H822>0,AJ822,0)","v":0},{"$f":"IF(AM822>0,1,0)","v":0},{"$f":"IF($I822=AO$6,$E822,0)","v":0},{"$f":"IF($K822=ROUND(AO$6*$F822,2),$G822,0)","v":0},{"$f":"IF($H822>0,AO822,0)","v":0},{"$f":"IF(AQ822>0,1,0)","v":0},{"$f":"IF($H822>0,AP822,0)","v":0},{"$f":"IF(AS822>0,1,0)","v":0},{"$f":"IF($I822=AU$6,$E822,0)","v":0},{"$f":"IF($K822=ROUND(AU$6*$F822,2),$G822,0)","v":0},{"$f":"IF($H822>0,AU822,0)","v":0},{"$f":"IF(AW822>0,1,0)","v":0},{"$f":"IF($H822>0,AV822,0)","v":0},{"$f":"IF(AY822>0,1,0)","v":0},{"$f":"IF($I822=BA$6,$E822,0)","v":0.52200000000000002},{"$f":"IF($K822=ROUND(BA$6*$F822,2),$G822,0)","v":0},{"$f":"IF($H822>0,BA822,0)","v":0.52200000000000002},{"$f":"IF(BC822>0,1,0)","v":1},{"$f":"IF($H822>0,BB822,0)","v":0},{"$f":"IF(BE822>0,1,0)","v":0},null,5.22E-4,0.6]
[{"$f":"IF(E823+G823>0,A822,\"\")","v":""},{"$f":"IF(E823+G823>0,B822,\"\")","v":""},7,"03-4-23.973(333)",0,1.1000000000000001,0,0,{"$f":"SUMIF(Y$14:BA$14,C823,Y$6:BA$6)","v":2166.8000000000002},{"$f":"IF(H823=0,ROUND(E823*I823,2),ROUND(H823*E823,2))","v":0},{"$f":"ROUND(F823*I823,2)","v":2383.48},{"$f":"IF(H823=0,ROUND(ROUND(F823*I823,2)*G823,2),ROUND(G823*H823,2))","v":0},{"$f":"L823-ROUND(G823*I823,2)","v":0},null,{"$f":"J823+L823+N823","v":0},null,405.07,{"$f":"ROUND(Q823*E823,2)","v":0},{"$f":"ROUND(F823*Q823,2)","v":445.58},{"$f":"ROUND(S823*G823,2)","v":0},{"$f":"T823-ROUND(Q823*G823,2)","v":0},null,{"$f":"R823+T823+V823","v":0},null,null,null,null,null,null,null,null,null,null,null,{"$f":"IF($I823=AI$6,$E823,0)","v":0},0,{"$f":"IF($H823>0,AI823,0)","v":0},{"$f":"IF(AK823>0,1,0)","v":0},{"$f":"IF($H823>0,AJ823,0)","v":0},{"$f":"IF(AM823>0,1,0)","v":0},{"$f":"IF($I823=AO$6,$E823,0)","v":0},0,{"$f":"IF($H823>0,AO823,0)","v":0},{"$f":"IF(AQ823>0,1,0)","v":0},{"$f":"IF($H823>0,AP823,0)","v":0},{"$f":"IF(AS823>0,1,0)","v":0},{"$f":"IF($I823=AU$6,$E823,0)","v":0},0,{"$f":"IF($H823>0,AU823,0)","v":0},{"$f":"IF(AW823>0,1,0)","v":0},{"$f":"IF($H823>0,AV823,0)","v":0},{"$f":"IF(AY823>0,1,0)","v":0},{"$f":"IF($I823=BA$6,$E823,0)","v":0},0,{"$f":"IF($H823>0,BA823,0)","v":0},{"$f":"IF(BC823>0,1,0)","v":0},{"$f":"IF($H823>0,BB823,0)","v":0},{"$f":"IF(BE823>0,1,0)","v":0},null,0]
[{"$f":"IF(E824+G824>0,A822,\"\")","v":""},{"$f":"IF(E824+G824>0,B822,\"\")","v":""},{"$f":"C823","v":7},"03-4-23.973(333)",0,1.5,0,0,{"$f":"SUMIF(Y$14:BA$14,C824,Y$7:BA$7)","v":0},0,0,0,0,null,0,null,405.07,0,607.61,0,0,null,0,null,null,null,null,null,null,null,null,null,null,null,{"$f":"IF($I824=AI$7,$E824,0)","v":0},{"$f":"IF($K824=ROUND(AI$7*$F824,2),$G824,0)","v":0},0,0,0,0,{"$f":"IF($I824=AO$7,$E824,0)","v":0},{"$f":"IF($K824=ROUND(AO$7*$F824,2),$G824,0)","v":0},0,0,0,0,{"$f":"IF($I824=AU$7,$E824,0)","v":0},{"$f":"IF($K824=ROUND(AU$7*$F824,2),$G824,0)","v":0},0,0,0,0,{"$f":"IF($I824=BA$7,$E824,0)","v":0},{"$f":"IF($K824=ROUND(BA$7*$F824,2),$G824,0)","v":0},0,0,0,0,null,0]
[{"$f":"IF(E825+G825>0,A822,\"\")","v":""},{"$f":"IF(E825+G825>0,B822,\"\")","v":""},{"$f":"C823","v":7},"03-4-23.973(333)",0,1.1000000000000001,0,0,{"$f":"SUMIF(Y$14:BA$14,C825,Y$7:BA$7)","v":0},0,0,0,0,null,0,null,405.07,0,445.58,0,0,null,0,null,null,null,null,null,null,null,null,null,null,null,{"$f":"IF($I825=AI$7,$E825,0)","v":0},{"$f":"IF($K825=ROUND(AI$7*$F825,2),$G825,0)","v":0},0,0,0,0,{"$f":"IF($I825=AO$7,$E825,0)","v":0},{"$f":"IF($K825=ROUND(AO$7*$F825,2),$G825,0)","v":0},0,0,0,0,{"$f":"IF($I825=AU$7,$E825,0)","v":0},{"$f":"IF($K825=ROUND(AU$7*$F825,2),$G825,0)","v":0},0,0,0,0,{"$f":"IF($I825=BA$7,$E825,0)","v":0},{"$f":"IF($K825=ROUND(BA$7*$F825,2),$G825,0)","v":0},0,0,0,0,null,0]
["ИП               Шичев             Алексей Павлович","",{"$f":"C827","v":7},"03-4-23.975(333)",0.27200000000000002,1.5,0,0.27200000000000002,{"$f":"SUMIF(Y$14:BA$14,C826,Y$6:BA$6)","v":2166.8000000000002},{"$f":"IF(H826=0,ROUND(E826*I826,2),ROUND(H826*E826,2))","v":7.0000000000000007E-2},{"$f":"ROUND(F826*I826,2)","v":3250.2},{"$f":"IF(H826=0,ROUND(ROUND(F826*I826,2)*G826,2),ROUND(G826*H826,2))","v":0},{"$f":"L826-ROUND(G826*I826,2)","v":0},null,{"$f":"J826+L826+N826","v":7.0000000000000007E-2},null,405.07,{"$f":"ROUND(Q826*E826,2)","v":110.18},{"$f":"ROUND(F826*Q826,2)","v":607.61},{"$f":"ROUND(S826*G826,2)","v":0},{"$f":"T826-ROUND(Q826*G826,2)","v":0},null,{"$f":"R826+T826+V826","v":110.18},null,null,null,null,null,null,null,null,null,null,null,{"$f":"IF($I826=AI$6,$E826,0)","v":0},{"$f":"IF($K826=ROUND(AI$6*$F826,2),$G826,0)","v":0},{"$f":"IF($H826>0,AI826,0)","v":0},{"$f":"IF(AK826>0,1,0)","v":0},{"$f":"IF($H826>0,AJ826,0)","v":0},{"$f":"IF(AM826>0,1,0)","v":0},{"$f":"IF($I826=AO$6,$E826,0)","v":0},{"$f":"IF($K826=ROUND(AO$6*$F826,2),$G826,0)","v":0},{"$f":"IF($H826>0,AO826,0)","v":0},{"$f":"IF(AQ826>0,1,0)","v":0},{"$f":"IF($H826>0,AP826,0)","v":0},{"$f":"IF(AS826>0,1,0)","v":0},{"$f":"IF($I826=AU$6,$E826,0)","v":0},{"$f":"IF($K826=ROUND(AU$6*$F826,2),$G826,0)","v":0},{"$f":"IF($H826>0,AU826,0)","v":0},{"$f":"IF(AW826>0,1,0)","v":0},{"$f":"IF($H826>0,AV826,0)","v":0},{"$f":"IF(AY826>0,1,0)","v":0},{"$f":"IF($I826=BA$6,$E826,0)","v":0.27200000000000002},{"$f":"IF($K826=ROUND(BA$6*$F826,2),$G826,0)","v":0},{"$f":"IF($H826>0,BA826,0)","v":0.27200000000000002},{"$f":"IF(BC826>0,1,0)","v":1},{"$f":"IF($H826>0,BB826,0)","v":0},{"$f":"IF(BE826>0,1,0)","v":0},null,2.72E-4,0.29499999999999998]
[{"$f":"IF(E827+G827>0,A826,\"\")","v":""},{"$f":"IF(E827+G827>0,B826,\"\")","v":""},7,"03-4-23.975(333)",0,1.1000000000000001,0,0,{"$f":"SUMIF(Y$14:BA$14,C827,Y$6:BA$6)","v":2166.8000000000002},{"$f":"IF(H827=0,ROUND(E827*I827,2),ROUND(H827*E827,2))","v":0},{"$f":"ROUND(F827*I827,2)","v":2383.48},{"$f":"IF(H827=0,ROUND(ROUND(F827*I827,2)*G827,2),ROUND(G827*H827,2))","v":0},{"$f":"L827-ROUND(G827*I827,2)","v":0},null,{"$f":"J827+L827+N827","v":0},null,405.07,{"$f":"ROUND(Q827*E827,2)","v":0},{"$f":"ROUND(F827*Q827,2)","v":445.58},{"$f":"ROUND(S827*G827,2)","v":0},{"$f":"T827-ROUND(Q827*G827,2)","v":0},null,{"$f":"R827+T827+V827","v":0},null,null,null,null,null,null,null,null,null,null,null,{"$f":"IF($I827=AI$6,$E827,0)","v":0},0,{"$f":"IF($H827>0,AI827,0)","v":0},{"$f":"IF(AK827>0,1,0)","v":0},{"$f":"IF($H827>0,AJ827,0)","v":0},{"$f":"IF(AM827>0,1,0)","v":0},{"$f":"IF($I827=AO$6,$E827,0)","v":0},0,{"$f":"IF($H827>0,AO827,0)","v":0},{"$f":"IF(AQ827>0,1,0)","v":0},{"$f":"IF($H827>0,AP827,0)","v":0},{"$f":"IF(AS827>0,1,0)","v":0},{"$f":"IF($I827=AU$6,$E827,0)","v":0},0,{"$f":"IF($H827>0,AU827,0)","v":0},{"$f":"IF(AW827>0,1,0)","v":0},{"$f":"IF($H827>0,AV827,0)","v":0},{"$f":"IF(AY827>0,1,0)","v":0},{"$f":"IF($I827=BA$6,$E827,0)","v":0},0,{"$f":"IF($H827>0,BA827,0)","v":0},{"$f":"IF(BC827>0,1,0)","v":0},{"$f":"IF($H827>0,BB827,0)","v":0},{"$f":"IF(BE827>0,1,0)","v":0},null,0]
[{"$f":"IF(E828+G828>0,A826,\"\")","v":""},{"$f":"IF(E828+G828>0,B826,\"\")","v":""},{"$f":"C827","v":7},"03-4-23.975(333)",0,1.5,0,0,{"$f":"SUMIF(Y$14:BA$14,C828,Y$7:BA$7)","v":0},0,0,0,0,null,0,null,405.07,0,607.61,0,0,null,0,null,null,null,null,null,null,null,null,null,null,null,{"$f":"IF($I828=AI$7,$E828,0)","v":0},{"$f":"IF($K828=ROUND(AI$7*$F828,2),$G828,0)","v":0},0,0,0,0,{"$f":"IF($I828=AO$7,$E828,0)","v":0},{"$f":"IF($K828=ROUND(AO$7*$F828,2),$G828,0)","v":0},0,0,0,0,{"$f":"IF($I828=AU$7,$E828,0)","v":0},{"$f":"IF($K828=ROUND(AU$7*$F828,2),$G828,0)","v":0},0,0,0,0,{"$f":"IF($I828=BA$7,$E828,0)","v":0},{"$f":"IF($K828=ROUND(BA$7*$F828,2),$G828,0)","v":0},0,0,0,0,null,0]
[{"$f":"IF(E829+G829>0,A826,\"\")","v":""},{"$f":"IF(E829+G829>0,B826,\"\")","v":""},{"$f":"C827","v":7},"03-4-23.975(333)",0,1.1000000000000001,0,0,{"$f":"SUMIF(Y$14:BA$14,C829,Y$7:BA$7)","v":0},0,0,0,0,null,0,null,405.07,0,445.58,0,0,null,0,null,null,null,null,null,null,null,null,null,null,null,{"$f":"IF($I829=AI$7,$E829,0)","v":0},{"$f":"IF($K829=ROUND(AI$7*$F829,2),$G829,0)","v":0},0,0,0,0,{"$f":"IF($I829=AO$7,$E829,0)","v":0},{"$f":"IF($K829=ROUND(AO$7*$F829,2),$G829,0)","v":0},0,0,0,0,{"$f":"IF($I829=AU$7,$E829,0)","v":0},{"$f":"IF($K829=ROUND(AU$7*$F829,2),$G829,0)","v":0},0,0,0,0,{"$f":"IF($I829=BA$7,$E829,0)","v":0},{"$f":"IF($K829=ROUND(BA$7*$F829,2),$G829,0)","v":0},0,0,0,0,null,0]
["ООО          \"Поважье\" ","",{"$f":"C831","v":6},"03-4-23.989(333)",2.62,1.5,0,2.62,{"$f":"SUMIF(Y$14:BA$14,C830,Y$6:BA$6)","v":1733.45},{"$f":"IF(H830=0,ROUND(E830*I830,2),ROUND(H830*E830,2))","v":6.86},{"$f":"ROUND(F830*I830,2)","v":2600.1799999999998},{"$f":"IF(H830=0,ROUND(ROUND(F830*I830,2)*G830,2),ROUND(G830*H830,2))","v":0},{"$f":"L830-ROUND(G830*I830,2)","v":0},null,{"$f":"J830+L830+N830","v":6.86},null,405.07,{"$f":"ROUND(Q830*E830,2)","v":1061.28},{"$f":"ROUND(F830*Q830,2)","v":607.61},{"$f":"ROUND(S830*G830,2)","v":0},{"$f":"T830-ROUND(Q830*G830,2)","v":0},null,{"$f":"R830+T830+V830","v":1061.28},null,null,null,null,null,null,null,null,null,null,null,{"$f":"IF($I830=AI$6,$E830,0)","v":0},{"$f":"IF($K830=ROUND(AI$6*$F830,2),$G830,0)","v":0},{"$f":"IF($H830>0,AI830,0)","v":0},{"$f":"IF(AK830>0,1,0)","v":0},{"$f":"IF($H830>0,AJ830,0)","v":0},{"$f":"IF(AM830>0,1,0)","v":0},{"$f":"IF($I830=AO$6,$E830,0)","v":0},{"$f":"IF($K830=ROUND(AO$6*$F830,2),$G830,0)","v":0},{"$f":"IF($H830>0,AO830,0)","v":0},{"$f":"IF(AQ830>0,1,0)","v":0},{"$f":"IF($H830>0,AP830,0)","v":0},{"$f":"IF(AS830>0,1,0)","v":0},{"$f":"IF($I830=AU$6,$E830,0)","v":2.62},{"$f":"IF($K830=ROUND(AU$6*$F830,2),$G830,0)","v":0},{"$f":"IF($H830>0,AU830,0)","v":2.62},{"$f":"IF(AW830>0,1,0)","v":1},{"$f":"IF($H830>0,AV830,0)","v":0},{"$f":"IF(AY830>0,1,0)","v":0},{"$f":"IF($I830=BA$6,$E830,0)","v":0},{"$f":"IF($K830=ROUND(BA$6*$F830,2),$G830,0)","v":0},{"$f":"IF($H830>0,BA830,0)","v":0},{"$f":"IF(BC830>0,1,0)","v":0},{"$f":"IF($H830>0,BB830,0)","v":0},{"$f":"IF(BE830>0,1,0)","v":0},null,2.6199999999999999E-3,3]
[{"$f":"IF(E831+G831>0,A830,\"\")","v":""},{"$f":"IF(E831+G831>0,B830,\"\")","v":""},6,"03-4-23.989(333)",0,1.1000000000000001,0,0,{"$f":"SUMIF(Y$14:BA$14,C831,Y$6:BA$6)","v":1733.45},{"$f":"IF(H831=0,ROUND(E831*I831,2),ROUND(H831*E831,2))","v":0},{"$f":"ROUND(F831*I831,2)","v":1906.8},{"$f":"IF(H831=0,ROUND(ROUND(F831*I831,2)*G831,2),ROUND(G831*H831,2))","v":0},{"$f":"L831-ROUND(G831*I831,2)","v":0},null,{"$f":"J831+L831+N831","v":0},null,405.07,{"$f":"ROUND(Q831*E831,2)","v":0},{"$f":"ROUND(F831*Q831,2)","v":445.58},{"$f":"ROUND(S831*G831,2)","v":0},{"$f":"T831-ROUND(Q831*G831,2)","v":0},null,{"$f":"R831+T831+V831","v":0},null,null,null,null,null,null,null,null,null,null,null,{"$f":"IF($I831=AI$6,$E831,0)","v":0},0,{"$f":"IF($H831>0,AI831,0)","v":0},{"$f":"IF(AK831>0,1,0)","v":0},{"$f":"IF($H831>0,AJ831,0)","v":0},{"$f":"IF(AM831>0,1,0)","v":0},{"$f":"IF($I831=AO$6,$E831,0)","v":0},0,{"$f":"IF($H831>0,AO831,0)","v":0},{"$f":"IF(AQ831>0,1,0)","v":0},{"$f":"IF($H831>0,AP831,0)","v":0},{"$f":"IF(AS831>0,1,0)","v":0},{"$f":"IF($I831=AU$6,$E831,0)","v":0},0,{"$f":"IF($H831>0,AU831,0)","v":0},{"$f":"IF(AW831>0,1,0)","v":0},{"$f":"IF($H831>0,AV831,0)","v":0},{"$f":"IF(AY831>0,1,0)","v":0},{"$f":"IF($I831=BA$6,$E831,0)","v":0},0,{"$f":"IF($H831>0,BA831,0)","v":0},{"$f":"IF(BC831>0,1,0)","v":0},{"$f":"IF($H831>0,BB831,0)","v":0},{"$f":"IF(BE831>0,1,0)","v":0},null,0]
[{"$f":"IF(E832+G832>0,A830,\"\")","v":""},{"$f":"IF(E832+G832>0,B830,\"\")","v":""},{"$f":"C831","v":6},"03-4-23.989(333)",0,1.5,0,0,{"$f":"SUMIF(Y$14:BA$14,C832,Y$7:BA$7)","v":0},0,0,0,0,null,0,null,405.07,0,607.61,0,0,null,0,null,null,null,null,null,null,null,null,null,null,null,{"$f":"IF($I832=AI$7,$E832,0)","v":0},{"$f":"IF($K832=ROUND(AI$7*$F832,2),$G832,0)","v":0},0,0,0,0,{"$f":"IF($I832=AO$7,$E832,0)","v":0},{"$f":"IF($K832=ROUND(AO$7*$F832,2),$G832,0)","v":0},0,0,0,0,{"$f":"IF($I832=AU$7,$E832,0)","v":0},{"$f":"IF($K832=ROUND(AU$7*$F832,2),$G832,0)","v":0},0,0,0,0,{"$f":"IF($I832=BA$7,$E832,0)","v":0},{"$f":"IF($K832=ROUND(BA$7*$F832,2),$G832,0)","v":0},0,0,0,0,null,0]
[{"$f":"IF(E833+G833>0,A830,\"\")","v":""},{"$f":"IF(E833+G833>0,B830,\"\")","v":""},{"$f":"C831","v":6},"03-4-23.989(333)",0,1.1000000000000001,0,0,{"$f":"SUMIF(Y$14:BA$14,C833,Y$7:BA$7)","v":0},0,0,0,0,null,0,null,405.07,0,445.58,0,0,null,0,null,null,null,null,null,null,null,null,null,null,null,{"$f":"IF($I833=AI$7,$E833,0)","v":0},{"$f":"IF($K833=ROUND(AI$7*$F833,2),$G833,0)","v":0},0,0,0,0,{"$f":"IF($I833=AO$7,$E833,0)","v":0},{"$f":"IF($K833=ROUND(AO$7*$F833,2),$G833,0)","v":0},0,0,0,0,{"$f":"IF($I833=AU$7,$E833,0)","v":0},{"$f":"IF($K833=ROUND(AU$7*$F833,2),$G833,0)","v":0},0,0,0,0,{"$f":"IF($I833=BA$7,$E833,0)","v":0},{"$f":"IF($K833=ROUND(BA$7*$F833,2),$G833,0)","v":0},0,0,0,0,null,0]
["Гр.               Лукинский     Александр Владимирович ","",{"$f":"C835","v":7},"03-4-23.990(333)",0.44,1.5,6.0000000000000001E-3,0.44600000000000001,{"$f":"SUMIF(Y$14:BA$14,C834,Y$6:BA$6)","v":2166.8000000000002},{"$f":"IF(H834=0,ROUND(E834*I834,2),ROUND(H834*E834,2))","v":0.2},{"$f":"ROUND(F834*I834,2)","v":3250.2},{"$f":"IF(H834=0,ROUND(ROUND(F834*I834,2)*G834,2),ROUND(G834*H834,2))","v":0},{"$f":"L834-ROUND(G834*I834,2)","v":-13},null,{"$f":"J834+L834+N834","v":0.2},null,405.07,{"$f":"ROUND(Q834*E834,2)","v":178.23},{"$f":"ROUND(F834*Q834,2)","v":607.61},{"$f":"ROUND(S834*G834,2)","v":3.65},{"$f":"T834-ROUND(Q834*G834,2)","v":1.2199999999999998},null,{"$f":"R834+T834+V834","v":181.88},null,null,null,null,null,null,null,null,null,null,null,{"$f":"IF($I834=AI$6,$E834,0)","v":0},{"$f":"IF($K834=ROUND(AI$6*$F834,2),$G834,0)","v":0},{"$f":"IF($H834>0,AI834,0)","v":0},{"$f":"IF(AK834>0,1,0)","v":0},{"$f":"IF($H834>0,AJ834,0)","v":0},{"$f":"IF(AM834>0,1,0)","v":0},{"$f":"IF($I834=AO$6,$E834,0)","v":0},{"$f":"IF($K834=ROUND(AO$6*$F834,2),$G834,0)","v":0},{"$f":"IF($H834>0,AO834,0)","v":0},{"$f":"IF(AQ834>0,1,0)","v":0},{"$f":"IF($H834>0,AP834,0)","v":0},{"$f":"IF(AS834>0,1,0)","v":0},{"$f":"IF($I834=AU$6,$E834,0)","v":0},{"$f":"IF($K834=ROUND(AU$6*$F834,2),$G834,0)","v":0},{"$f":"IF($H834>0,AU834,0)","v":0},{"$f":"IF(AW834>0,1,0)","v":0},{"$f":"IF($H834>0,AV834,0)","v":0},{"$f":"IF(AY834>0,1,0)","v":0},{"$f":"IF($I834=BA$6,$E834,0)","v":0.44},{"$f":"IF($K834=ROUND(BA$6*$F834,2),$G834,0)","v":6.0000000000000001E-3},{"$f":"IF($H834>0,BA834,0)","v":0.44},{"$f":"IF(BC834>0,1,0)","v":1},{"$f":"IF($H834>0,BB834,0)","v":6.0000000000000001E-3},{"$f":"IF(BE834>0,1,0)","v":1},null,4.46E-4,0.4]
[{"$f":"IF(E835+G835>0,A834,\"\")","v":""},{"$f":"IF(E835+G835>0,B834,\"\")","v":""},7,"03-4-23.990(333)",0,1.1000000000000001,0,0,{"$f":"SUMIF(Y$14:BA$14,C835,Y$6:BA$6)","v":2166.8000000000002},{"$f":"IF(H835=0,ROUND(E835*I835,2),ROUND(H835*E835,2))","v":0},{"$f":"ROUND(F835*I835,2)","v":2383.48},{"$f":"IF(H835=0,ROUND(ROUND(F835*I835,2)*G835,2),ROUND(G835*H835,2))","v":0},{"$f":"L835-ROUND(G835*I835,2)","v":0},null,{"$f":"J835+L835+N835","v":0},null,405.07,{"$f":"ROUND(Q835*E835,2)","v":0},{"$f":"ROUND(F835*Q835,2)","v":445.58},{"$f":"ROUND(S835*G835,2)","v":0},{"$f":"T835-ROUND(Q835*G835,2)","v":0},null,{"$f":"R835+T835+V835","v":0},null,null,null,null,null,null,null,null,null,null,null,{"$f":"IF($I835=AI$6,$E835,0)","v":0},0,{"$f":"IF($H835>0,AI835,0)","v":0},{"$f":"IF(AK835>0,1,0)","v":0},{"$f":"IF($H835>0,AJ835,0)","v":0},{"$f":"IF(AM835>0,1,0)","v":0},{"$f":"IF($I835=AO$6,$E835,0)","v":0},0,{"$f":"IF($H835>0,AO835,0)","v":0},{"$f":"IF(AQ835>0,1,0)","v":0},{"$f":"IF($H835>0,AP835,0)","v":0},{"$f":"IF(AS835>0,1,0)","v":0},{"$f":"IF($I835=AU$6,$E835,0)","v":0},0,{"$f":"IF($H835>0,AU835,0)","v":0},{"$f":"IF(AW835>0,1,0)","v":0},{"$f":"IF($H835>0,AV835,0)","v":0},{"$f":"IF(AY835>0,1,0)","v":0},{"$f":"IF($I835=BA$6,$E835,0)","v":0},0,{"$f":"IF($H835>0,BA835,0)","v":0},{"$f":"IF(BC835>0,1,0)","v":0},{"$f":"IF($H835>0,BB835,0)","v":0},{"$f":"IF(BE835>0,1,0)","v":0},null,0]
[{"$f":"IF(E836+G836>0,A834,\"\")","v":""},{"$f":"IF(E836+G836>0,B834,\"\")","v":""},{"$f":"C835","v":7},"03-4-23.990(333)",0,1.5,0,0,{"$f":"SUMIF(Y$14:BA$14,C836,Y$7:BA$7)","v":0},0,0,0,0,null,0,null,405.07,0,607.61,0,0,null,0,null,null,null,null,null,null,null,null,null,null,null,{"$f":"IF($I836=AI$7,$E836,0)","v":0},{"$f":"IF($K836=ROUND(AI$7*$F836,2),$G836,0)","v":0},0,0,0,0,{"$f":"IF($I836=AO$7,$E836,0)","v":0},{"$f":"IF($K836=ROUND(AO$7*$F836,2),$G836,0)","v":0},0,0,0,0,{"$f":"IF($I836=AU$7,$E836,0)","v":0},{"$f":"IF($K836=ROUND(AU$7*$F836,2),$G836,0)","v":0},0,0,0,0,{"$f":"IF($I836=BA$7,$E836,0)","v":0},{"$f":"IF($K836=ROUND(BA$7*$F836,2),$G836,0)","v":0},0,0,0,0,null,0]
[{"$f":"IF(E837+G837>0,A834,\"\")","v":""},{"$f":"IF(E837+G837>0,B834,\"\")","v":""},{"$f":"C835","v":7},"03-4-23.990(333)",0,1.1000000000000001,0,0,{"$f":"SUMIF(Y$14:BA$14,C837,Y$7:BA$7)","v":0},0,0,0,0,null,0,null,405.07,0,445.58,0,0,null,0,null,null,null,null,null,null,null,null,null,null,null,{"$f":"IF($I837=AI$7,$E837,0)","v":0},{"$f":"IF($K837=ROUND(AI$7*$F837,2),$G837,0)","v":0},0,0,0,0,{"$f":"IF($I837=AO$7,$E837,0)","v":0},{"$f":"IF($K837=ROUND(AO$7*$F837,2),$G837,0)","v":0},0,0,0,0,{"$f":"IF($I837=AU$7,$E837,0)","v":0},{"$f":"IF($K837=ROUND(AU$7*$F837,2),$G837,0)","v":0},0,0,0,0,{"$f":"IF($I837=BA$7,$E837,0)","v":0},{"$f":"IF($K837=ROUND(BA$7*$F837,2),$G837,0)","v":0},0,0,0,0,null,0]
["ООО          \"Северянка\"","",{"$f":"C839","v":6},"03-4-23.996(333)",0.55000000000000004,1.5,0,0.55000000000000004,{"$f":"SUMIF(Y$14:BA$14,C838,Y$6:BA$6)","v":1733.45},{"$f":"IF(H838=0,ROUND(E838*I838,2),ROUND(H838*E838,2))","v":0.3},{"$f":"ROUND(F838*I838,2)","v":2600.1799999999998},{"$f":"IF(H838=0,ROUND(ROUND(F838*I838,2)*G838,2),ROUND(G838*H838,2))","v":0},{"$f":"L838-ROUND(G838*I838,2)","v":0},null,{"$f":"J838+L838+N838","v":0.3},null,405.07,{"$f":"ROUND(Q838*E838,2)","v":222.79},{"$f":"ROUND(F838*Q838,2)","v":607.61},{"$f":"ROUND(S838*G838,2)","v":0},{"$f":"T838-ROUND(Q838*G838,2)","v":0},null,{"$f":"R838+T838+V838","v":222.79},null,null,null,null,null,null,null,null,null,null,null,{"$f":"IF($I838=AI$6,$E838,0)","v":0},{"$f":"IF($K838=ROUND(AI$6*$F838,2),$G838,0)","v":0},{"$f":"IF($H838>0,AI838,0)","v":0},{"$f":"IF(AK838>0,1,0)","v":0},{"$f":"IF($H838>0,AJ838,0)","v":0},{"$f":"IF(AM838>0,1,0)","v":0},{"$f":"IF($I838=AO$6,$E838,0)","v":0},{"$f":"IF($K838=ROUND(AO$6*$F838,2),$G838,0)","v":0},{"$f":"IF($H838>0,AO838,0)","v":0},{"$f":"IF(AQ838>0,1,0)","v":0},{"$f":"IF($H838>0,AP838,0)","v":0},{"$f":"IF(AS838>0,1,0)","v":0},{"$f":"IF($I838=AU$6,$E838,0)","v":0.55000000000000004},{"$f":"IF($K838=ROUND(AU$6*$F838,2),$G838,0)","v":0},{"$f":"IF($H838>0,AU838,0)","v":0.55000000000000004},{"$f":"IF(AW838>0,1,0)","v":1},{"$f":"IF($H838>0,AV838,0)","v":0},{"$f":"IF(AY838>0,1,0)","v":0},{"$f":"IF($I838=BA$6,$E838,0)","v":0},{"$f":"IF($K838=ROUND(BA$6*$F838,2),$G838,0)","v":0},{"$f":"IF($H838>0,BA838,0)","v":0},{"$f":"IF(BC838>0,1,0)","v":0},{"$f":"IF($H838>0,BB838,0)","v":0},{"$f":"IF(BE838>0,1,0)","v":0},null,5.5000000000000003E-4,0.85]
[{"$f":"IF(E839+G839>0,A838,\"\")","v":""},{"$f":"IF(E839+G839>0,B838,\"\")","v":""},6,"03-4-23.996(333)",0,1.1000000000000001,0,0,{"$f":"SUMIF(Y$14:BA$14,C839,Y$6:BA$6)","v":1733.45},{"$f":"IF(H839=0,ROUND(E839*I839,2),ROUND(H839*E839,2))","v":0},{"$f":"ROUND(F839*I839,2)","v":1906.8},{"$f":"IF(H839=0,ROUND(ROUND(F839*I839,2)*G839,2),ROUND(G839*H839,2))","v":0},{"$f":"L839-ROUND(G839*I839,2)","v":0},null,{"$f":"J839+L839+N839","v":0},null,405.07,{"$f":"ROUND(Q839*E839,2)","v":0},{"$f":"ROUND(F839*Q839,2)","v":445.58},{"$f":"ROUND(S839*G839,2)","v":0},{"$f":"T839-ROUND(Q839*G839,2)","v":0},null,{"$f":"R839+T839+V839","v":0},null,null,null,null,null,null,null,null,null,null,null,{"$f":"IF($I839=AI$6,$E839,0)","v":0},0,{"$f":"IF($H839>0,AI839,0)","v":0},{"$f":"IF(AK839>0,1,0)","v":0},{"$f":"IF($H839>0,AJ839,0)","v":0},{"$f":"IF(AM839>0,1,0)","v":0},{"$f":"IF($I839=AO$6,$E839,0)","v":0},0,{"$f":"IF($H839>0,AO839,0)","v":0},{"$f":"IF(AQ839>0,1,0)","v":0},{"$f":"IF($H839>0,AP839,0)","v":0},{"$f":"IF(AS839>0,1,0)","v":0},{"$f":"IF($I839=AU$6,$E839,0)","v":0},0,{"$f":"IF($H839>0,AU839,0)","v":0},{"$f":"IF(AW839>0,1,0)","v":0},{"$f":"IF($H839>0,AV839,0)","v":0},{"$f":"IF(AY839>0,1,0)","v":0},{"$f":"IF($I839=BA$6,$E839,0)","v":0},0,{"$f":"IF($H839>0,BA839,0)","v":0},{"$f":"IF(BC839>0,1,0)","v":0},{"$f":"IF($H839>0,BB839,0)","v":0},{"$f":"IF(BE839>0,1,0)","v":0},null,0]
[{"$f":"IF(E840+G840>0,A838,\"\")","v":""},{"$f":"IF(E840+G840>0,B838,\"\")","v":""},{"$f":"C839","v":6},"03-4-23.996(333)",0,1.5,0,0,{"$f":"SUMIF(Y$14:BA$14,C840,Y$7:BA$7)","v":0},0,0,0,0,null,0,null,405.07,0,607.61,0,0,null,0,null,null,null,null,null,null,null,null,null,null,null,{"$f":"IF($I840=AI$7,$E840,0)","v":0},{"$f":"IF($K840=ROUND(AI$7*$F840,2),$G840,0)","v":0},0,0,0,0,{"$f":"IF($I840=AO$7,$E840,0)","v":0},{"$f":"IF($K840=ROUND(AO$7*$F840,2),$G840,0)","v":0},0,0,0,0,{"$f":"IF($I840=AU$7,$E840,0)","v":0},{"$f":"IF($K840=ROUND(AU$7*$F840,2),$G840,0)","v":0},0,0,0,0,{"$f":"IF($I840=BA$7,$E840,0)","v":0},{"$f":"IF($K840=ROUND(BA$7*$F840,2),$G840,0)","v":0},0,0,0,0,null,0]
[{"$f":"IF(E841+G841>0,A838,\"\")","v":""},{"$f":"IF(E841+G841>0,B838,\"\")","v":""},{"$f":"C839","v":6},"03-4-23.996(333)",0,1.1000000000000001,0,0,{"$f":"SUMIF(Y$14:BA$14,C841,Y$7:BA$7)","v":0},0,0,0,0,null,0,null,405.07,0,445.58,0,0,null,0,null,null,null,null,null,null,null,null,null,null,null,{"$f":"IF($I841=AI$7,$E841,0)","v":0},{"$f":"IF($K841=ROUND(AI$7*$F841,2),$G841,0)","v":0},0,0,0,0,{"$f":"IF($I841=AO$7,$E841,0)","v":0},{"$f":"IF($K841=ROUND(AO$7*$F841,2),$G841,0)","v":0},0,0,0,0,{"$f":"IF($I841=AU$7,$E841,0)","v":0},{"$f":"IF($K841=ROUND(AU$7*$F841,2),$G841,0)","v":0},0,0,0,0,{"$f":"IF($I841=BA$7,$E841,0)","v":0},{"$f":"IF($K841=ROUND(BA$7*$F841,2),$G841,0)","v":0},0,0,0,0,null,0]
["ИП               Кошелев         Алексей Павлинович","",{"$f":"C843","v":7},"03-4-23.1000(333)",0.15,1.5,0,0.15,{"$f":"SUMIF(Y$14:BA$14,C842,Y$6:BA$6)","v":2166.8000000000002},{"$f":"IF(H842=0,ROUND(E842*I842,2),ROUND(H842*E842,2))","v":0.02},{"$f":"ROUND(F842*I842,2)","v":3250.2},{"$f":"IF(H842=0,ROUND(ROUND(F842*I842,2)*G842,2),ROUND(G842*H842,2))","v":0},{"$f":"L842-ROUND(G842*I842,2)","v":0},null,{"$f":"J842+L842+N842","v":0.02},null,405.07,{"$f":"ROUND(Q842*E842,2)","v":60.76},{"$f":"ROUND(F842*Q842,2)","v":607.61},{"$f":"ROUND(S842*G842,2)","v":0},{"$f":"T842-ROUND(Q842*G842,2)","v":0},null,{"$f":"R842+T842+V842","v":60.76},null,null,null,null,null,null,null,null,null,null,null,{"$f":"IF($I842=AI$6,$E842,0)","v":0},{"$f":"IF($K842=ROUND(AI$6*$F842,2),$G842,0)","v":0},{"$f":"IF($H842>0,AI842,0)","v":0},{"$f":"IF(AK842>0,1,0)","v":0},{"$f":"IF($H842>0,AJ842,0)","v":0},{"$f":"IF(AM842>0,1,0)","v":0},{"$f":"IF($I842=AO$6,$E842,0)","v":0},{"$f":"IF($K842=ROUND(AO$6*$F842,2),$G842,0)","v":0},{"$f":"IF($H842>0,AO842,0)","v":0},{"$f":"IF(AQ842>0,1,0)","v":0},{"$f":"IF($H842>0,AP842,0)","v":0},{"$f":"IF(AS842>0,1,0)","v":0},{"$f":"IF($I842=AU$6,$E842,0)","v":0},{"$f":"IF($K842=ROUND(AU$6*$F842,2),$G842,0)","v":0},{"$f":"IF($H842>0,AU842,0)","v":0},{"$f":"IF(AW842>0,1,0)","v":0},{"$f":"IF($H842>0,AV842,0)","v":0},{"$f":"IF(AY842>0,1,0)","v":0},{"$f":"IF($I842=BA$6,$E842,0)","v":0.15},{"$f":"IF($K842=ROUND(BA$6*$F842,2),$G842,0)","v":0},{"$f":"IF($H842>0,BA842,0)","v":0.15},{"$f":"IF(BC842>0,1,0)","v":1},{"$f":"IF($H842>0,BB842,0)","v":0},{"$f":"IF(BE842>0,1,0)","v":0},null,1.4999999999999999E-4,0.65]
[{"$f":"IF(E843+G843>0,A842,\"\")","v":""},{"$f":"IF(E843+G843>0,B842,\"\")","v":""},7,"03-4-23.1000(333)",0,1.1000000000000001,0,0,{"$f":"SUMIF(Y$14:BA$14,C843,Y$6:BA$6)","v":2166.8000000000002},{"$f":"IF(H843=0,ROUND(E843*I843,2),ROUND(H843*E843,2))","v":0},{"$f":"ROUND(F843*I843,2)","v":2383.48},{"$f":"IF(H843=0,ROUND(ROUND(F843*I843,2)*G843,2),ROUND(G843*H843,2))","v":0},{"$f":"L843-ROUND(G843*I843,2)","v":0},null,{"$f":"J843+L843+N843","v":0},null,405.07,{"$f":"ROUND(Q843*E843,2)","v":0},{"$f":"ROUND(F843*Q843,2)","v":445.58},{"$f":"ROUND(S843*G843,2)","v":0},{"$f":"T843-ROUND(Q843*G843,2)","v":0},null,{"$f":"R843+T843+V843","v":0},null,null,null,null,null,null,null,null,null,null,null,{"$f":"IF($I843=AI$6,$E843,0)","v":0},0,{"$f":"IF($H843>0,AI843,0)","v":0},{"$f":"IF(AK843>0,1,0)","v":0},{"$f":"IF($H843>0,AJ843,0)","v":0},{"$f":"IF(AM843>0,1,0)","v":0},{"$f":"IF($I843=AO$6,$E843,0)","v":0},0,{"$f":"IF($H843>0,AO843,0)","v":0},{"$f":"IF(AQ843>0,1,0)","v":0},{"$f":"IF($H843>0,AP843,0)","v":0},{"$f":"IF(AS843>0,1,0)","v":0},{"$f":"IF($I843=AU$6,$E843,0)","v":0},0,{"$f":"IF($H843>0,AU843,0)","v":0},{"$f":"IF(AW843>0,1,0)","v":0},{"$f":"IF($H843>0,AV843,0)","v":0},{"$f":"IF(AY843>0,1,0)","v":0},{"$f":"IF($I843=BA$6,$E843,0)","v":0},0,{"$f":"IF($H843>0,BA843,0)","v":0},{"$f":"IF(BC843>0,1,0)","v":0},{"$f":"IF($H843>0,BB843,0)","v":0},{"$f":"IF(BE843>0,1,0)","v":0},null,0]
[{"$f":"IF(E844+G844>0,A842,\"\")","v":""},{"$f":"IF(E844+G844>0,B842,\"\")","v":""},{"$f":"C843","v":7},"03-4-23.1000(333)",0,1.5,0,0,{"$f":"SUMIF(Y$14:BA$14,C844,Y$7:BA$7)","v":0},0,0,0,0,null,0,null,405.07,0,607.61,0,0,null,0,null,null,null,null,null,null,null,null,null,null,null,{"$f":"IF($I844=AI$7,$E844,0)","v":0},{"$f":"IF($K844=ROUND(AI$7*$F844,2),$G844,0)","v":0},0,0,0,0,{"$f":"IF($I844=AO$7,$E844,0)","v":0},{"$f":"IF($K844=ROUND(AO$7*$F844,2),$G844,0)","v":0},0,0,0,0,{"$f":"IF($I844=AU$7,$E844,0)","v":0},{"$f":"IF($K844=ROUND(AU$7*$F844,2),$G844,0)","v":0},0,0,0,0,{"$f":"IF($I844=BA$7,$E844,0)","v":0},{"$f":"IF($K844=ROUND(BA$7*$F844,2),$G844,0)","v":0},0,0,0,0,null,0]
[{"$f":"IF(E845+G845>0,A842,\"\")","v":""},{"$f":"IF(E845+G845>0,B842,\"\")","v":""},{"$f":"C843","v":7},"03-4-23.1000(333)",0,1.1000000000000001,0,0,{"$f":"SUMIF(Y$14:BA$14,C845,Y$7:BA$7)","v":0},0,0,0,0,null,0,null,405.07,0,445.58,0,0,null,0,null,null,null,null,null,null,null,null,null,null,null,{"$f":"IF($I845=AI$7,$E845,0)","v":0},{"$f":"IF($K845=ROUND(AI$7*$F845,2),$G845,0)","v":0},0,0,0,0,{"$f":"IF($I845=AO$7,$E845,0)","v":0},{"$f":"IF($K845=ROUND(AO$7*$F845,2),$G845,0)","v":0},0,0,0,0,{"$f":"IF($I845=AU$7,$E845,0)","v":0},{"$f":"IF($K845=ROUND(AU$7*$F845,2),$G845,0)","v":0},0,0,0,0,{"$f":"IF($I845=BA$7,$E845,0)","v":0},{"$f":"IF($K845=ROUND(BA$7*$F845,2),$G845,0)","v":0},0,0,0,0,null,0]
["ГКУ АО      \"Вельское лесничество\"","",{"$f":"C847","v":6},"03-4-23.1003(333)",0.95,1.5,0,0.95,{"$f":"SUMIF(Y$14:BA$14,C846,Y$6:BA$6)","v":1733.45},{"$f":"IF(H846=0,ROUND(E846*I846,2),ROUND(H846*E846,2))","v":0.9},{"$f":"ROUND(F846*I846,2)","v":2600.1799999999998},{"$f":"IF(H846=0,ROUND(ROUND(F846*I846,2)*G846,2),ROUND(G846*H846,2))","v":0},{"$f":"L846-ROUND(G846*I846,2)","v":0},null,{"$f":"J846+L846+N846","v":0.9},null,405.07,{"$f":"ROUND(Q846*E846,2)","v":384.82},{"$f":"ROUND(F846*Q846,2)","v":607.61},{"$f":"ROUND(S846*G846,2)","v":0},{"$f":"T846-ROUND(Q846*G846,2)","v":0},null,{"$f":"R846+T846+V846","v":384.82},null,null,null,null,null,null,null,null,null,null,null,{"$f":"IF($I846=AI$6,$E846,0)","v":0},{"$f":"IF($K846=ROUND(AI$6*$F846,2),$G846,0)","v":0},{"$f":"IF($H846>0,AI846,0)","v":0},{"$f":"IF(AK846>0,1,0)","v":0},{"$f":"IF($H846>0,AJ846,0)","v":0},{"$f":"IF(AM846>0,1,0)","v":0},{"$f":"IF($I846=AO$6,$E846,0)","v":0},{"$f":"IF($K846=ROUND(AO$6*$F846,2),$G846,0)","v":0},{"$f":"IF($H846>0,AO846,0)","v":0},{"$f":"IF(AQ846>0,1,0)","v":0},{"$f":"IF($H846>0,AP846,0)","v":0},{"$f":"IF(AS846>0,1,0)","v":0},{"$f":"IF($I846=AU$6,$E846,0)","v":0.95},{"$f":"IF($K846=ROUND(AU$6*$F846,2),$G846,0)","v":0},{"$f":"IF($H846>0,AU846,0)","v":0.95},{"$f":"IF(AW846>0,1,0)","v":1},{"$f":"IF($H846>0,AV846,0)","v":0},{"$f":"IF(AY846>0,1,0)","v":0},{"$f":"IF($I846=BA$6,$E846,0)","v":0},{"$f":"IF($K846=ROUND(BA$6*$F846,2),$G846,0)","v":0},{"$f":"IF($H846>0,BA846,0)","v":0},{"$f":"IF(BC846>0,1,0)","v":0},{"$f":"IF($H846>0,BB846,0)","v":0},{"$f":"IF(BE846>0,1,0)","v":0},null,9.5E-4,1.5]
[{"$f":"IF(E847+G847>0,A846,\"\")","v":""},{"$f":"IF(E847+G847>0,B846,\"\")","v":""},6,"03-4-23.1003(333)",0,1.1000000000000001,0,0,{"$f":"SUMIF(Y$14:BA$14,C847,Y$6:BA$6)","v":1733.45},{"$f":"IF(H847=0,ROUND(E847*I847,2),ROUND(H847*E847,2))","v":0},{"$f":"ROUND(F847*I847,2)","v":1906.8},{"$f":"IF(H847=0,ROUND(ROUND(F847*I847,2)*G847,2),ROUND(G847*H847,2))","v":0},{"$f":"L847-ROUND(G847*I847,2)","v":0},null,{"$f":"J847+L847+N847","v":0},null,405.07,{"$f":"ROUND(Q847*E847,2)","v":0},{"$f":"ROUND(F847*Q847,2)","v":445.58},{"$f":"ROUND(S847*G847,2)","v":0},{"$f":"T847-ROUND(Q847*G847,2)","v":0},null,{"$f":"R847+T847+V847","v":0},null,null,null,null,null,null,null,null,null,null,null,{"$f":"IF($I847=AI$6,$E847,0)","v":0},0,{"$f":"IF($H847>0,AI847,0)","v":0},{"$f":"IF(AK847>0,1,0)","v":0},{"$f":"IF($H847>0,AJ847,0)","v":0},{"$f":"IF(AM847>0,1,0)","v":0},{"$f":"IF($I847=AO$6,$E847,0)","v":0},0,{"$f":"IF($H847>0,AO847,0)","v":0},{"$f":"IF(AQ847>0,1,0)","v":0},{"$f":"IF($H847>0,AP847,0)","v":0},{"$f":"IF(AS847>0,1,0)","v":0},{"$f":"IF($I847=AU$6,$E847,0)","v":0},0,{"$f":"IF($H847>0,AU847,0)","v":0},{"$f":"IF(AW847>0,1,0)","v":0},{"$f":"IF($H847>0,AV847,0)","v":0},{"$f":"IF(AY847>0,1,0)","v":0},{"$f":"IF($I847=BA$6,$E847,0)","v":0},0,{"$f":"IF($H847>0,BA847,0)","v":0},{"$f":"IF(BC847>0,1,0)","v":0},{"$f":"IF($H847>0,BB847,0)","v":0},{"$f":"IF(BE847>0,1,0)","v":0},null,0]
[{"$f":"IF(E848+G848>0,A846,\"\")","v":""},{"$f":"IF(E848+G848>0,B846,\"\")","v":""},{"$f":"C847","v":6},"03-4-23.1003(333)",0,1.5,0,0,{"$f":"SUMIF(Y$14:BA$14,C848,Y$7:BA$7)","v":0},0,0,0,0,null,0,null,{"$f":"IF(BI848>0,Q$6,Q$6)","v":405.07},0,607.61,0,0,null,0,null,null,null,null,null,null,null,null,null,null,null,{"$f":"IF($I848=AI$7,$E848,0)","v":0},{"$f":"IF($K848=ROUND(AI$7*$F848,2),$G848,0)","v":0},0,0,0,0,{"$f":"IF($I848=AO$7,$E848,0)","v":0},{"$f":"IF($K848=ROUND(AO$7*$F848,2),$G848,0)","v":0},0,0,0,0,{"$f":"IF($I848=AU$7,$E848,0)","v":0},{"$f":"IF($K848=ROUND(AU$7*$F848,2),$G848,0)","v":0},0,0,0,0,{"$f":"IF($I848=BA$7,$E848,0)","v":0},{"$f":"IF($K848=ROUND(BA$7*$F848,2),$G848,0)","v":0},0,0,0,0,null,0]
[{"$f":"IF(E849+G849>0,A846,\"\")","v":""},{"$f":"IF(E849+G849>0,B846,\"\")","v":""},{"$f":"C847","v":6},"03-4-23.1003(333)",0,1.1000000000000001,0,{"$f":"E849+G849","v":0},{"$f":"SUMIF(Y$14:BA$14,C849,Y$7:BA$7)","v":0},0,0,0,0,null,0,null,405.07,0,445.58,0,0,null,0,null,null,null,null,null,null,null,null,null,null,null,{"$f":"IF($I849=AI$7,$E849,0)","v":0},{"$f":"IF($K849=ROUND(AI$7*$F849,2),$G849,0)","v":0},0,0,0,0,{"$f":"IF($I849=AO$7,$E849,0)","v":0},{"$f":"IF($K849=ROUND(AO$7*$F849,2),$G849,0)","v":0},0,0,0,0,{"$f":"IF($I849=AU$7,$E849,0)","v":0},{"$f":"IF($K849=ROUND(AU$7*$F849,2),$G849,0)","v":0},0,0,0,0,{"$f":"IF($I849=BA$7,$E849,0)","v":0},{"$f":"IF($K849=ROUND(BA$7*$F849,2),$G849,0)","v":0},0,0,0,0,null,{"$f":"H849/1000","v":0}]
["Гр.               Рохин              Андрей Сергеевич","Вельск, ул.Привокзальная-64",{"$f":"C851","v":6},"03-4-23.1006(333)",1.468,1.5,0,1.468,{"$f":"SUMIF(Y$14:BA$14,C850,Y$6:BA$6)","v":1733.45},{"$f":"IF(H850=0,ROUND(E850*I850,2),ROUND(H850*E850,2))","v":2.16},{"$f":"ROUND(F850*I850,2)","v":2600.1799999999998},{"$f":"IF(H850=0,ROUND(ROUND(F850*I850,2)*G850,2),ROUND(G850*H850,2))","v":0},{"$f":"L850-ROUND(G850*I850,2)","v":0},null,{"$f":"J850+L850+N850","v":2.16},null,405.07,{"$f":"ROUND(Q850*E850,2)","v":594.64},{"$f":"ROUND(F850*Q850,2)","v":607.61},{"$f":"ROUND(S850*G850,2)","v":0},{"$f":"T850-ROUND(Q850*G850,2)","v":0},null,{"$f":"R850+T850+V850","v":594.64},null,null,null,null,null,null,null,null,null,null,null,{"$f":"IF($I850=AI$6,$E850,0)","v":0},{"$f":"IF($K850=ROUND(AI$6*$F850,2),$G850,0)","v":0},{"$f":"IF($H850>0,AI850,0)","v":0},{"$f":"IF(AK850>0,1,0)","v":0},{"$f":"IF($H850>0,AJ850,0)","v":0},{"$f":"IF(AM850>0,1,0)","v":0},{"$f":"IF($I850=AO$6,$E850,0)","v":0},{"$f":"IF($K850=ROUND(AO$6*$F850,2),$G850,0)","v":0},{"$f":"IF($H850>0,AO850,0)","v":0},{"$f":"IF(AQ850>0,1,0)","v":0},{"$f":"IF($H850>0,AP850,0)","v":0},{"$f":"IF(AS850>0,1,0)","v":0},{"$f":"IF($I850=AU$6,$E850,0)","v":1.468},{"$f":"IF($K850=ROUND(AU$6*$F850,2),$G850,0)","v":0},{"$f":"IF($H850>0,AU850,0)","v":1.468},{"$f":"IF(AW850>0,1,0)","v":1},{"$f":"IF($H850>0,AV850,0)","v":0},{"$f":"IF(AY850>0,1,0)","v":0},{"$f":"IF($I850=BA$6,$E850,0)","v":0},{"$f":"IF($K850=ROUND(BA$6*$F850,2),$G850,0)","v":0},{"$f":"IF($H850>0,BA850,0)","v":0},{"$f":"IF(BC850>0,1,0)","v":0},{"$f":"IF($H850>0,BB850,0)","v":0},{"$f":"IF(BE850>0,1,0)","v":0},null,1.4679999999999999E-3,2.5]
[{"$f":"IF(E851+G851>0,A850,\"\")","v":""},{"$f":"IF(E851+G851>0,B850,\"\")","v":""},6,"03-4-23.1006(333)",0,1.1000000000000001,0,0,{"$f":"SUMIF(Y$14:BA$14,C851,Y$6:BA$6)","v":1733.45},{"$f":"IF(H851=0,ROUND(E851*I851,2),ROUND(H851*E851,2))","v":0},{"$f":"ROUND(F851*I851,2)","v":1906.8},{"$f":"IF(H851=0,ROUND(ROUND(F851*I851,2)*G851,2),ROUND(G851*H851,2))","v":0},{"$f":"L851-ROUND(G851*I851,2)","v":0},null,{"$f":"J851+L851+N851","v":0},null,405.07,{"$f":"ROUND(Q851*E851,2)","v":0},{"$f":"ROUND(F851*Q851,2)","v":445.58},{"$f":"ROUND(S851*G851,2)","v":0},{"$f":"T851-ROUND(Q851*G851,2)","v":0},null,{"$f":"R851+T851+V851","v":0},null,null,null,null,null,null,null,null,null,null,null,{"$f":"IF($I851=AI$6,$E851,0)","v":0},0,{"$f":"IF($H851>0,AI851,0)","v":0},{"$f":"IF(AK851>0,1,0)","v":0},{"$f":"IF($H851>0,AJ851,0)","v":0},{"$f":"IF(AM851>0,1,0)","v":0},{"$f":"IF($I851=AO$6,$E851,0)","v":0},0,{"$f":"IF($H851>0,AO851,0)","v":0},{"$f":"IF(AQ851>0,1,0)","v":0},{"$f":"IF($H851>0,AP851,0)","v":0},{"$f":"IF(AS851>0,1,0)","v":0},{"$f":"IF($I851=AU$6,$E851,0)","v":0},0,{"$f":"IF($H851>0,AU851,0)","v":0},{"$f":"IF(AW851>0,1,0)","v":0},{"$f":"IF($H851>0,AV851,0)","v":0},{"$f":"IF(AY851>0,1,0)","v":0},{"$f":"IF($I851=BA$6,$E851,0)","v":0},0,{"$f":"IF($H851>0,BA851,0)","v":0},{"$f":"IF(BC851>0,1,0)","v":0},{"$f":"IF($H851>0,BB851,0)","v":0},{"$f":"IF(BE851>0,1,0)","v":0},null,0]
[{"$f":"IF(E852+G852>0,A850,\"\")","v":""},{"$f":"IF(E852+G852>0,B850,\"\")","v":""},{"$f":"C851","v":6},"03-4-23.1006(333)",0,1.5,0,0,{"$f":"SUMIF(Y$14:BA$14,C852,Y$7:BA$7)","v":0},0,0,0,0,null,0,null,405.07,0,607.61,0,0,null,0,null,null,null,null,null,null,null,null,null,null,null,{"$f":"IF($I852=AI$7,$E852,0)","v":0},{"$f":"IF($K852=ROUND(AI$7*$F852,2),$G852,0)","v":0},0,0,0,0,{"$f":"IF($I852=AO$7,$E852,0)","v":0},{"$f":"IF($K852=ROUND(AO$7*$F852,2),$G852,0)","v":0},0,0,0,0,{"$f":"IF($I852=AU$7,$E852,0)","v":0},{"$f":"IF($K852=ROUND(AU$7*$F852,2),$G852,0)","v":0},0,0,0,0,{"$f":"IF($I852=BA$7,$E852,0)","v":0},{"$f":"IF($K852=ROUND(BA$7*$F852,2),$G852,0)","v":0},0,0,0,0,null,0]
[{"$f":"IF(E853+G853>0,A850,\"\")","v":""},{"$f":"IF(E853+G853>0,B850,\"\")","v":""},{"$f":"C851","v":6},"03-4-23.1006(333)",0,1.1000000000000001,0,0,{"$f":"SUMIF(Y$14:BA$14,C853,Y$7:BA$7)","v":0},0,0,0,0,null,0,null,405.07,0,445.58,0,0,null,0,null,null,null,null,null,null,null,null,null,null,null,{"$f":"IF($I853=AI$7,$E853,0)","v":0},{"$f":"IF($K853=ROUND(AI$7*$F853,2),$G853,0)","v":0},0,0,0,0,{"$f":"IF($I853=AO$7,$E853,0)","v":0},{"$f":"IF($K853=ROUND(AO$7*$F853,2),$G853,0)","v":0},0,0,0,0,{"$f":"IF($I853=AU$7,$E853,0)","v":0},{"$f":"IF($K853=ROUND(AU$7*$F853,2),$G853,0)","v":0},0,0,0,0,{"$f":"IF($I853=BA$7,$E853,0)","v":0},{"$f":"IF($K853=ROUND(BA$7*$F853,2),$G853,0)","v":0},0,0,0,0,null,0]
["Гр.               Рохин                Андрей Сергеевич","Вельск, ул.Дзержинского-17а",{"$f":"C855","v":7},"03-4-23.1006(333)",0.47399999999999998,1.5,0,0.47399999999999998,{"$f":"SUMIF(Y$14:BA$14,C854,Y$6:BA$6)","v":2166.8000000000002},{"$f":"IF(H854<0,0,IF(H854=0,ROUND(E854*I854,2),ROUND(H854*E854,2)))","v":0.22},{"$f":"ROUND(F854*I854,2)","v":3250.2},{"$f":"IF(H854=0,ROUND(ROUND(F854*I854,2)*G854,2),ROUND(G854*H854,2))","v":0},{"$f":"L854-ROUND(G854*I854,2)","v":0},null,{"$f":"J854+L854+N854","v":0.22},null,405.07,{"$f":"ROUND(Q854*E854,2)","v":192},{"$f":"ROUND(F854*Q854,2)","v":607.61},{"$f":"ROUND(S854*G854,2)","v":0},{"$f":"T854-ROUND(Q854*G854,2)","v":0},null,{"$f":"R854+T854+V854","v":192},null,null,null,null,null,null,null,null,null,null,null,{"$f":"IF($I854=AI$6,$E854,0)","v":0},{"$f":"IF($K854=ROUND(AI$6*$F854,2),$G854,0)","v":0},{"$f":"IF($H854>0,AI854,0)","v":0},{"$f":"IF(AK854>0,1,0)","v":0},{"$f":"IF($H854>0,AJ854,0)","v":0},{"$f":"IF(AM854>0,1,0)","v":0},{"$f":"IF($I854=AO$6,$E854,0)","v":0},{"$f":"IF($K854=ROUND(AO$6*$F854,2),$G854,0)","v":0},{"$f":"IF($H854>0,AO854,0)","v":0},{"$f":"IF(AQ854>0,1,0)","v":0},{"$f":"IF($H854>0,AP854,0)","v":0},{"$f":"IF(AS854>0,1,0)","v":0},{"$f":"IF($I854=AU$6,$E854,0)","v":0},{"$f":"IF($K854=ROUND(AU$6*$F854,2),$G854,0)","v":0},{"$f":"IF($H854>0,AU854,0)","v":0},{"$f":"IF(AW854>0,1,0)","v":0},{"$f":"IF($H854>0,AV854,0)","v":0},{"$f":"IF(AY854>0,1,0)","v":0},{"$f":"IF($I854=BA$6,$E854,0)","v":0.47399999999999998},{"$f":"IF($K854=ROUND(BA$6*$F854,2),$G854,0)","v":0},{"$f":"IF($H854>0,BA854,0)","v":0.47399999999999998},{"$f":"IF(BC854>0,1,0)","v":1},{"$f":"IF($H854>0,BB854,0)","v":0},{"$f":"IF(BE854>0,1,0)","v":0},null,4.7399999999999997E-4,1]
[{"$f":"IF(E855+G855>0,A854,\"\")","v":""},{"$f":"IF(E855+G855>0,B854,\"\")","v":""},7,"03-4-23.1006(333)",0,1.1000000000000001,0,0,{"$f":"SUMIF(Y$14:BA$14,C855,Y$6:BA$6)","v":2166.8000000000002},{"$f":"IF(H855=0,ROUND(E855*I855,2),ROUND(H855*E855,2))","v":0},{"$f":"ROUND(F855*I855,2)","v":2383.48},{"$f":"IF(H855=0,ROUND(ROUND(F855*I855,2)*G855,2),ROUND(G855*H855,2))","v":0},{"$f":"L855-ROUND(G855*I855,2)","v":0},null,{"$f":"J855+L855+N855","v":0},null,405.07,{"$f":"ROUND(Q855*E855,2)","v":0},{"$f":"ROUND(F855*Q855,2)","v":445.58},{"$f":"ROUND(S855*G855,2)","v":0},{"$f":"T855-ROUND(Q855*G855,2)","v":0},null,{"$f":"R855+T855+V855","v":0},null,null,null,null,null,null,null,null,null,null,null,{"$f":"IF($I855=AI$6,$E855,0)","v":0},0,{"$f":"IF($H855>0,AI855,0)","v":0},{"$f":"IF(AK855>0,1,0)","v":0},{"$f":"IF($H855>0,AJ855,0)","v":0},{"$f":"IF(AM855>0,1,0)","v":0},{"$f":"IF($I855=AO$6,$E855,0)","v":0},0,{"$f":"IF($H855>0,AO855,0)","v":0},{"$f":"IF(AQ855>0,1,0)","v":0},{"$f":"IF($H855>0,AP855,0)","v":0},{"$f":"IF(AS855>0,1,0)","v":0},{"$f":"IF($I855=AU$6,$E855,0)","v":0},0,{"$f":"IF($H855>0,AU855,0)","v":0},{"$f":"IF(AW855>0,1,0)","v":0},{"$f":"IF($H855>0,AV855,0)","v":0},{"$f":"IF(AY855>0,1,0)","v":0},{"$f":"IF($I855=BA$6,$E855,0)","v":0},0,{"$f":"IF($H855>0,BA855,0)","v":0},{"$f":"IF(BC855>0,1,0)","v":0},{"$f":"IF($H855>0,BB855,0)","v":0},{"$f":"IF(BE855>0,1,0)","v":0},null,0]
[{"$f":"IF(E856+G856>0,A854,\"\")","v":""},{"$f":"IF(E856+G856>0,B854,\"\")","v":""},{"$f":"C855","v":7},"03-4-23.1006(333)",0,1.5,0,0,{"$f":"SUMIF(Y$14:BA$14,C856,Y$7:BA$7)","v":0},0,0,0,0,null,0,null,405.07,0,607.61,0,0,null,0,null,null,null,null,null,null,null,null,null,null,null,{"$f":"IF($I856=AI$7,$E856,0)","v":0},{"$f":"IF($K856=ROUND(AI$7*$F856,2),$G856,0)","v":0},0,0,0,0,{"$f":"IF($I856=AO$7,$E856,0)","v":0},{"$f":"IF($K856=ROUND(AO$7*$F856,2),$G856,0)","v":0},0,0,0,0,{"$f":"IF($I856=AU$7,$E856,0)","v":0},{"$f":"IF($K856=ROUND(AU$7*$F856,2),$G856,0)","v":0},0,0,0,0,{"$f":"IF($I856=BA$7,$E856,0)","v":0},{"$f":"IF($K856=ROUND(BA$7*$F856,2),$G856,0)","v":0},0,0,0,0,null,0]
[{"$f":"IF(E857+G857>0,A854,\"\")","v":""},{"$f":"IF(E857+G857>0,B854,\"\")","v":""},{"$f":"C855","v":7},"03-4-23.1006(333)",0,1.1000000000000001,0,0,{"$f":"SUMIF(Y$14:BA$14,C857,Y$7:BA$7)","v":0},0,0,0,0,null,0,null,405.07,0,445.58,0,0,null,0,null,null,null,null,null,null,null,null,null,null,null,{"$f":"IF($I857=AI$7,$E857,0)","v":0},{"$f":"IF($K857=ROUND(AI$7*$F857,2),$G857,0)","v":0},0,0,0,0,{"$f":"IF($I857=AO$7,$E857,0)","v":0},{"$f":"IF($K857=ROUND(AO$7*$F857,2),$G857,0)","v":0},0,0,0,0,{"$f":"IF($I857=AU$7,$E857,0)","v":0},{"$f":"IF($K857=ROUND(AU$7*$F857,2),$G857,0)","v":0},0,0,0,0,{"$f":"IF($I857=BA$7,$E857,0)","v":0},{"$f":"IF($K857=ROUND(BA$7*$F857,2),$G857,0)","v":0},0,0,0,0,null,0]
["ИП               Афонин           Алексей Сергеевич","",{"$f":"C859","v":6},"03-4-23.1007(333)",1.65,1.5,2.8000000000000001E-2,1.6779999999999999,{"$f":"SUMIF(Y$14:BA$14,C858,Y$6:BA$6)","v":1733.45},{"$f":"IF(H858=0,ROUND(E858*I858,2),ROUND(H858*E858,2))","v":2.77},{"$f":"ROUND(F858*I858,2)","v":2600.1799999999998},{"$f":"IF(H858=0,ROUND(ROUND(F858*I858,2)*G858,2),ROUND(G858*H858,2))","v":0.05},{"$f":"L858-ROUND(G858*I858,2)","v":-48.49},null,{"$f":"J858+L858+N858","v":2.82},null,405.07,{"$f":"ROUND(Q858*E858,2)","v":668.37},{"$f":"ROUND(F858*Q858,2)","v":607.61},{"$f":"ROUND(S858*G858,2)","v":17.010000000000002},{"$f":"T858-ROUND(Q858*G858,2)","v":5.6700000000000017},null,{"$f":"R858+T858+V858","v":685.38},null,null,null,null,null,null,null,null,null,null,null,{"$f":"IF($I858=AI$6,$E858,0)","v":0},{"$f":"IF($K858=ROUND(AI$6*$F858,2),$G858,0)","v":0},{"$f":"IF($H858>0,AI858,0)","v":0},{"$f":"IF(AK858>0,1,0)","v":0},{"$f":"IF($H858>0,AJ858,0)","v":0},{"$f":"IF(AM858>0,1,0)","v":0},{"$f":"IF($I858=AO$6,$E858,0)","v":0},{"$f":"IF($K858=ROUND(AO$6*$F858,2),$G858,0)","v":0},{"$f":"IF($H858>0,AO858,0)","v":0},{"$f":"IF(AQ858>0,1,0)","v":0},{"$f":"IF($H858>0,AP858,0)","v":0},{"$f":"IF(AS858>0,1,0)","v":0},{"$f":"IF($I858=AU$6,$E858,0)","v":1.65},{"$f":"IF($K858=ROUND(AU$6*$F858,2),$G858,0)","v":2.8000000000000001E-2},{"$f":"IF($H858>0,AU858,0)","v":1.65},{"$f":"IF(AW858>0,1,0)","v":1},{"$f":"IF($H858>0,AV858,0)","v":2.8000000000000001E-2},{"$f":"IF(AY858>0,1,0)","v":1},{"$f":"IF($I858=BA$6,$E858,0)","v":0},{"$f":"IF($K858=ROUND(BA$6*$F858,2),$G858,0)","v":0},{"$f":"IF($H858>0,BA858,0)","v":0},{"$f":"IF(BC858>0,1,0)","v":0},{"$f":"IF($H858>0,BB858,0)","v":0},{"$f":"IF(BE858>0,1,0)","v":0},null,1.678E-3,1.5]
[{"$f":"IF(E859+G859>0,A858,\"\")","v":""},{"$f":"IF(E859+G859>0,B858,\"\")","v":""},6,"03-4-23.1007(333)",0,1.1000000000000001,0,0,{"$f":"SUMIF(Y$14:BA$14,C859,Y$6:BA$6)","v":1733.45},{"$f":"IF(H859=0,ROUND(E859*I859,2),ROUND(H859*E859,2))","v":0},{"$f":"ROUND(F859*I859,2)","v":1906.8},{"$f":"IF(H859=0,ROUND(ROUND(F859*I859,2)*G859,2),ROUND(G859*H859,2))","v":0},{"$f":"L859-ROUND(G859*I859,2)","v":0},null,{"$f":"J859+L859+N859","v":0},null,405.07,{"$f":"ROUND(Q859*E859,2)","v":0},{"$f":"ROUND(F859*Q859,2)","v":445.58},{"$f":"ROUND(S859*G859,2)","v":0},{"$f":"T859-ROUND(Q859*G859,2)","v":0},null,{"$f":"R859+T859+V859","v":0},null,null,null,null,null,null,null,null,null,null,null,{"$f":"IF($I859=AI$6,$E859,0)","v":0},0,{"$f":"IF($H859>0,AI859,0)","v":0},{"$f":"IF(AK859>0,1,0)","v":0},{"$f":"IF($H859>0,AJ859,0)","v":0},{"$f":"IF(AM859>0,1,0)","v":0},{"$f":"IF($I859=AO$6,$E859,0)","v":0},0,{"$f":"IF($H859>0,AO859,0)","v":0},{"$f":"IF(AQ859>0,1,0)","v":0},{"$f":"IF($H859>0,AP859,0)","v":0},{"$f":"IF(AS859>0,1,0)","v":0},{"$f":"IF($I859=AU$6,$E859,0)","v":0},0,{"$f":"IF($H859>0,AU859,0)","v":0},{"$f":"IF(AW859>0,1,0)","v":0},{"$f":"IF($H859>0,AV859,0)","v":0},{"$f":"IF(AY859>0,1,0)","v":0},{"$f":"IF($I859=BA$6,$E859,0)","v":0},0,{"$f":"IF($H859>0,BA859,0)","v":0},{"$f":"IF(BC859>0,1,0)","v":0},{"$f":"IF($H859>0,BB859,0)","v":0},{"$f":"IF(BE859>0,1,0)","v":0},null,0]
[{"$f":"IF(E860+G860>0,A858,\"\")","v":""},{"$f":"IF(E860+G860>0,B858,\"\")","v":""},{"$f":"C859","v":6},"03-4-23.1007(333)",0,1.5,0,0,{"$f":"SUMIF(Y$14:BA$14,C860,Y$7:BA$7)","v":0},0,0,0,0,null,0,null,405.07,0,607.61,0,0,null,0,null,null,null,null,null,null,null,null,null,null,null,{"$f":"IF($I860=AI$7,$E860,0)","v":0},{"$f":"IF($K860=ROUND(AI$7*$F860,2),$G860,0)","v":0},0,0,0,0,{"$f":"IF($I860=AO$7,$E860,0)","v":0},{"$f":"IF($K860=ROUND(AO$7*$F860,2),$G860,0)","v":0},0,0,0,0,{"$f":"IF($I860=AU$7,$E860,0)","v":0},{"$f":"IF($K860=ROUND(AU$7*$F860,2),$G860,0)","v":0},0,0,0,0,{"$f":"IF($I860=BA$7,$E860,0)","v":0},{"$f":"IF($K860=ROUND(BA$7*$F860,2),$G860,0)","v":0},0,0,0,0,null,0]
[{"$f":"IF(E861+G861>0,A858,\"\")","v":""},{"$f":"IF(E861+G861>0,B858,\"\")","v":""},{"$f":"C859","v":6},"03-4-23.1007(333)",0,1.1000000000000001,0,0,{"$f":"SUMIF(Y$14:BA$14,C861,Y$7:BA$7)","v":0},0,0,0,0,null,0,null,405.07,0,445.58,0,0,null,0,null,null,null,null,null,null,null,null,null,null,null,{"$f":"IF($I861=AI$7,$E861,0)","v":0},{"$f":"IF($K861=ROUND(AI$7*$F861,2),$G861,0)","v":0},0,0,0,0,{"$f":"IF($I861=AO$7,$E861,0)","v":0},{"$f":"IF($K861=ROUND(AO$7*$F861,2),$G861,0)","v":0},0,0,0,0,{"$f":"IF($I861=AU$7,$E861,0)","v":0},{"$f":"IF($K861=ROUND(AU$7*$F861,2),$G861,0)","v":0},0,0,0,0,{"$f":"IF($I861=BA$7,$E861,0)","v":0},{"$f":"IF($K861=ROUND(BA$7*$F861,2),$G861,0)","v":0},0,0,0,0,null,0]
["ИП               Митлинова     Елена Николаевна","",{"$f":"C863","v":7},"03-4-23.1009(333)",0.183,1.5,0,0.183,{"$f":"SUMIF(Y$14:BA$14,C862,Y$6:BA$6)","v":2166.8000000000002},{"$f":"IF(H862=0,ROUND(E862*I862,2),ROUND(H862*E862,2))","v":0.03},{"$f":"ROUND(F862*I862,2)","v":3250.2},{"$f":"IF(H862=0,ROUND(ROUND(F862*I862,2)*G862,2),ROUND(G862*H862,2))","v":0},{"$f":"L862-ROUND(G862*I862,2)","v":0},null,{"$f":"J862+L862+N862","v":0.03},null,405.07,{"$f":"ROUND(Q862*E862,2)","v":74.13},{"$f":"ROUND(F862*Q862,2)","v":607.61},{"$f":"ROUND(S862*G862,2)","v":0},{"$f":"T862-ROUND(Q862*G862,2)","v":0},null,{"$f":"R862+T862+V862","v":74.13},null,null,null,null,null,null,null,null,null,null,null,{"$f":"IF($I862=AI$6,$E862,0)","v":0},{"$f":"IF($K862=ROUND(AI$6*$F862,2),$G862,0)","v":0},{"$f":"IF($H862>0,AI862,0)","v":0},{"$f":"IF(AK862>0,1,0)","v":0},{"$f":"IF($H862>0,AJ862,0)","v":0},{"$f":"IF(AM862>0,1,0)","v":0},{"$f":"IF($I862=AO$6,$E862,0)","v":0},{"$f":"IF($K862=ROUND(AO$6*$F862,2),$G862,0)","v":0},{"$f":"IF($H862>0,AO862,0)","v":0},{"$f":"IF(AQ862>0,1,0)","v":0},{"$f":"IF($H862>0,AP862,0)","v":0},{"$f":"IF(AS862>0,1,0)","v":0},{"$f":"IF($I862=AU$6,$E862,0)","v":0},{"$f":"IF($K862=ROUND(AU$6*$F862,2),$G862,0)","v":0},{"$f":"IF($H862>0,AU862,0)","v":0},{"$f":"IF(AW862>0,1,0)","v":0},{"$f":"IF($H862>0,AV862,0)","v":0},{"$f":"IF(AY862>0,1,0)","v":0},{"$f":"IF($I862=BA$6,$E862,0)","v":0.183},{"$f":"IF($K862=ROUND(BA$6*$F862,2),$G862,0)","v":0},{"$f":"IF($H862>0,BA862,0)","v":0.183},{"$f":"IF(BC862>0,1,0)","v":1},{"$f":"IF($H862>0,BB862,0)","v":0},{"$f":"IF(BE862>0,1,0)","v":0},null,1.83E-4,0.18]
[{"$f":"IF(E863+G863>0,A862,\"\")","v":""},{"$f":"IF(E863+G863>0,B862,\"\")","v":""},7,"03-4-23.1009(333)",0,1.1000000000000001,0,0,{"$f":"SUMIF(Y$14:BA$14,C863,Y$6:BA$6)","v":2166.8000000000002},{"$f":"IF(H863=0,ROUND(E863*I863,2),ROUND(H863*E863,2))","v":0},{"$f":"ROUND(F863*I863,2)","v":2383.48},{"$f":"IF(H863=0,ROUND(ROUND(F863*I863,2)*G863,2),ROUND(G863*H863,2))","v":0},{"$f":"L863-ROUND(G863*I863,2)","v":0},null,{"$f":"J863+L863+N863","v":0},null,405.07,{"$f":"ROUND(Q863*E863,2)","v":0},{"$f":"ROUND(F863*Q863,2)","v":445.58},{"$f":"ROUND(S863*G863,2)","v":0},{"$f":"T863-ROUND(Q863*G863,2)","v":0},null,{"$f":"R863+T863+V863","v":0},null,null,null,null,null,null,null,null,null,null,null,{"$f":"IF($I863=AI$6,$E863,0)","v":0},0,{"$f":"IF($H863>0,AI863,0)","v":0},{"$f":"IF(AK863>0,1,0)","v":0},{"$f":"IF($H863>0,AJ863,0)","v":0},{"$f":"IF(AM863>0,1,0)","v":0},{"$f":"IF($I863=AO$6,$E863,0)","v":0},0,{"$f":"IF($H863>0,AO863,0)","v":0},{"$f":"IF(AQ863>0,1,0)","v":0},{"$f":"IF($H863>0,AP863,0)","v":0},{"$f":"IF(AS863>0,1,0)","v":0},{"$f":"IF($I863=AU$6,$E863,0)","v":0},0,{"$f":"IF($H863>0,AU863,0)","v":0},{"$f":"IF(AW863>0,1,0)","v":0},{"$f":"IF($H863>0,AV863,0)","v":0},{"$f":"IF(AY863>0,1,0)","v":0},{"$f":"IF($I863=BA$6,$E863,0)","v":0},0,{"$f":"IF($H863>0,BA863,0)","v":0},{"$f":"IF(BC863>0,1,0)","v":0},{"$f":"IF($H863>0,BB863,0)","v":0},{"$f":"IF(BE863>0,1,0)","v":0},null,0]
[{"$f":"IF(E864+G864>0,A862,\"\")","v":""},{"$f":"IF(E864+G864>0,B862,\"\")","v":""},{"$f":"C863","v":7},"03-4-23.1009(333)",0,1.5,0,0,{"$f":"SUMIF(Y$14:BA$14,C864,Y$7:BA$7)","v":0},0,0,0,0,null,0,null,405.07,0,607.61,0,0,null,0,null,null,null,null,null,null,null,null,null,null,null,{"$f":"IF($I864=AI$7,$E864,0)","v":0},{"$f":"IF($K864=ROUND(AI$7*$F864,2),$G864,0)","v":0},0,0,0,0,{"$f":"IF($I864=AO$7,$E864,0)","v":0},{"$f":"IF($K864=ROUND(AO$7*$F864,2),$G864,0)","v":0},0,0,0,0,{"$f":"IF($I864=AU$7,$E864,0)","v":0},{"$f":"IF($K864=ROUND(AU$7*$F864,2),$G864,0)","v":0},0,0,0,0,{"$f":"IF($I864=BA$7,$E864,0)","v":0},{"$f":"IF($K864=ROUND(BA$7*$F864,2),$G864,0)","v":0},0,0,0,0,null,0]
[{"$f":"IF(E865+G865>0,A862,\"\")","v":""},{"$f":"IF(E865+G865>0,B862,\"\")","v":""},{"$f":"C863","v":7},"03-4-23.1009(333)",0,1.1000000000000001,0,0,{"$f":"SUMIF(Y$14:BA$14,C865,Y$7:BA$7)","v":0},0,0,0,0,null,0,null,405.07,0,445.58,0,0,null,0,null,null,null,null,null,null,null,null,null,null,null,{"$f":"IF($I865=AI$7,$E865,0)","v":0},{"$f":"IF($K865=ROUND(AI$7*$F865,2),$G865,0)","v":0},0,0,0,0,{"$f":"IF($I865=AO$7,$E865,0)","v":0},{"$f":"IF($K865=ROUND(AO$7*$F865,2),$G865,0)","v":0},0,0,0,0,{"$f":"IF($I865=AU$7,$E865,0)","v":0},{"$f":"IF($K865=ROUND(AU$7*$F865,2),$G865,0)","v":0},0,0,0,0,{"$f":"IF($I865=BA$7,$E865,0)","v":0},{"$f":"IF($K865=ROUND(BA$7*$F865,2),$G865,0)","v":0},0,0,0,0,null,0]
["Гр.               Бовыкина        Елена Михайловна","",{"$f":"C867","v":7},"03-4-22.1012(333)",0.11,1.5,0,0.11,{"$f":"SUMIF(Y$14:BA$14,C866,Y$6:BA$6)","v":2166.8000000000002},{"$f":"IF(H866=0,ROUND(E866*I866,2),ROUND(H866*E866,2))","v":0.01},{"$f":"ROUND(F866*I866,2)","v":3250.2},{"$f":"IF(H866=0,ROUND(ROUND(F866*I866,2)*G866,2),ROUND(G866*H866,2))","v":0},{"$f":"L866-ROUND(G866*I866,2)","v":0},null,{"$f":"J866+L866+N866","v":0.01},null,405.07,{"$f":"ROUND(Q866*E866,2)","v":44.56},{"$f":"ROUND(F866*Q866,2)","v":607.61},{"$f":"ROUND(S866*G866,2)","v":0},{"$f":"T866-ROUND(Q866*G866,2)","v":0},null,{"$f":"R866+T866+V866","v":44.56},null,null,null,null,null,null,null,null,null,null,null,{"$f":"IF($I866=AI$6,$E866,0)","v":0},{"$f":"IF($K866=ROUND(AI$6*$F866,2),$G866,0)","v":0},{"$f":"IF($H866>0,AI866,0)","v":0},{"$f":"IF(AK866>0,1,0)","v":0},{"$f":"IF($H866>0,AJ866,0)","v":0},{"$f":"IF(AM866>0,1,0)","v":0},{"$f":"IF($I866=AO$6,$E866,0)","v":0},{"$f":"IF($K866=ROUND(AO$6*$F866,2),$G866,0)","v":0},{"$f":"IF($H866>0,AO866,0)","v":0},{"$f":"IF(AQ866>0,1,0)","v":0},{"$f":"IF($H866>0,AP866,0)","v":0},{"$f":"IF(AS866>0,1,0)","v":0},{"$f":"IF($I866=AU$6,$E866,0)","v":0},{"$f":"IF($K866=ROUND(AU$6*$F866,2),$G866,0)","v":0},{"$f":"IF($H866>0,AU866,0)","v":0},{"$f":"IF(AW866>0,1,0)","v":0},{"$f":"IF($H866>0,AV866,0)","v":0},{"$f":"IF(AY866>0,1,0)","v":0},{"$f":"IF($I866=BA$6,$E866,0)","v":0.11},{"$f":"IF($K866=ROUND(BA$6*$F866,2),$G866,0)","v":0},{"$f":"IF($H866>0,BA866,0)","v":0.11},{"$f":"IF(BC866>0,1,0)","v":1},{"$f":"IF($H866>0,BB866,0)","v":0},{"$f":"IF(BE866>0,1,0)","v":0},null,1.1E-4,0.1]
[{"$f":"IF(E867+G867>0,A866,\"\")","v":""},{"$f":"IF(E867+G867>0,B866,\"\")","v":""},7,"03-4-22.1012(333)",0,1.1000000000000001,0,0,{"$f":"SUMIF(Y$14:BA$14,C867,Y$6:BA$6)","v":2166.8000000000002},{"$f":"IF(H867=0,ROUND(E867*I867,2),ROUND(H867*E867,2))","v":0},{"$f":"ROUND(F867*I867,2)","v":2383.48},{"$f":"IF(H867=0,ROUND(ROUND(F867*I867,2)*G867,2),ROUND(G867*H867,2))","v":0},{"$f":"L867-ROUND(G867*I867,2)","v":0},null,{"$f":"J867+L867+N867","v":0},null,405.07,{"$f":"ROUND(Q867*E867,2)","v":0},{"$f":"ROUND(F867*Q867,2)","v":445.58},{"$f":"ROUND(S867*G867,2)","v":0},{"$f":"T867-ROUND(Q867*G867,2)","v":0},null,{"$f":"R867+T867+V867","v":0},null,null,null,null,null,null,null,null,null,null,null,{"$f":"IF($I867=AI$6,$E867,0)","v":0},0,{"$f":"IF($H867>0,AI867,0)","v":0},{"$f":"IF(AK867>0,1,0)","v":0},{"$f":"IF($H867>0,AJ867,0)","v":0},{"$f":"IF(AM867>0,1,0)","v":0},{"$f":"IF($I867=AO$6,$E867,0)","v":0},0,{"$f":"IF($H867>0,AO867,0)","v":0},{"$f":"IF(AQ867>0,1,0)","v":0},{"$f":"IF($H867>0,AP867,0)","v":0},{"$f":"IF(AS867>0,1,0)","v":0},{"$f":"IF($I867=AU$6,$E867,0)","v":0},0,{"$f":"IF($H867>0,AU867,0)","v":0},{"$f":"IF(AW867>0,1,0)","v":0},{"$f":"IF($H867>0,AV867,0)","v":0},{"$f":"IF(AY867>0,1,0)","v":0},{"$f":"IF($I867=BA$6,$E867,0)","v":0},0,{"$f":"IF($H867>0,BA867,0)","v":0},{"$f":"IF(BC867>0,1,0)","v":0},{"$f":"IF($H867>0,BB867,0)","v":0},{"$f":"IF(BE867>0,1,0)","v":0},null,0]
[{"$f":"IF(E868+G868>0,A866,\"\")","v":""},{"$f":"IF(E868+G868>0,B866,\"\")","v":""},{"$f":"C867","v":7},"03-4-22.1012(333)",0,1.5,0,0,{"$f":"SUMIF(Y$14:BA$14,C868,Y$7:BA$7)","v":0},0,0,0,0,null,0,null,405.07,0,607.61,0,0,null,0,null,null,null,null,null,null,null,null,null,null,null,{"$f":"IF($I868=AI$7,$E868,0)","v":0},{"$f":"IF($K868=ROUND(AI$7*$F868,2),$G868,0)","v":0},0,0,0,0,{"$f":"IF($I868=AO$7,$E868,0)","v":0},{"$f":"IF($K868=ROUND(AO$7*$F868,2),$G868,0)","v":0},0,0,0,0,{"$f":"IF($I868=AU$7,$E868,0)","v":0},{"$f":"IF($K868=ROUND(AU$7*$F868,2),$G868,0)","v":0},0,0,0,0,{"$f":"IF($I868=BA$7,$E868,0)","v":0},{"$f":"IF($K868=ROUND(BA$7*$F868,2),$G868,0)","v":0},0,0,0,0,null,0]
[{"$f":"IF(E869+G869>0,A866,\"\")","v":""},{"$f":"IF(E869+G869>0,B866,\"\")","v":""},{"$f":"C867","v":7},"03-4-22.1012(333)",0,1.1000000000000001,0,0,{"$f":"SUMIF(Y$14:BA$14,C869,Y$7:BA$7)","v":0},0,0,0,0,null,0,null,405.07,0,445.58,0,0,null,0,null,null,null,null,null,null,null,null,null,null,null,{"$f":"IF($I869=AI$7,$E869,0)","v":0},{"$f":"IF($K869=ROUND(AI$7*$F869,2),$G869,0)","v":0},0,0,0,0,{"$f":"IF($I869=AO$7,$E869,0)","v":0},{"$f":"IF($K869=ROUND(AO$7*$F869,2),$G869,0)","v":0},0,0,0,0,{"$f":"IF($I869=AU$7,$E869,0)","v":0},{"$f":"IF($K869=ROUND(AU$7*$F869,2),$G869,0)","v":0},0,0,0,0,{"$f":"IF($I869=BA$7,$E869,0)","v":0},{"$f":"IF($K869=ROUND(BA$7*$F869,2),$G869,0)","v":0},0,0,0,0,null,0]
["ИП               Родина            Ирина Владимировна","",{"$f":"C871","v":6},"03-4-23.1015(333)",0.98999999999999988,1.5,0.54700000000000004,1.5369999999999999,{"$f":"SUMIF(Y$14:BA$14,C870,Y$6:BA$6)","v":1733.45},{"$f":"IF(H870=0,ROUND(E870*I870,2),ROUND(H870*E870,2))","v":1.52},{"$f":"ROUND(F870*I870,2)","v":2600.1799999999998},{"$f":"IF(H870=0,ROUND(ROUND(F870*I870,2)*G870,2),ROUND(G870*H870,2))","v":0.84},{"$f":"L870-ROUND(G870*I870,2)","v":-947.36},null,{"$f":"J870+L870+N870","v":2.36},null,405.07,{"$f":"ROUND(Q870*E870,2)","v":401.02},{"$f":"ROUND(F870*Q870,2)","v":607.61},{"$f":"ROUND(S870*G870,2)","v":332.36},{"$f":"T870-ROUND(Q870*G870,2)","v":110.79000000000002},null,{"$f":"R870+T870+V870","v":733.38},null,null,null,null,null,null,null,null,null,null,null,{"$f":"IF($I870=AI$6,$E870,0)","v":0},{"$f":"IF($K870=ROUND(AI$6*$F870,2),$G870,0)","v":0},{"$f":"IF($H870>0,AI870,0)","v":0},{"$f":"IF(AK870>0,1,0)","v":0},{"$f":"IF($H870>0,AJ870,0)","v":0},{"$f":"IF(AM870>0,1,0)","v":0},{"$f":"IF($I870=AO$6,$E870,0)","v":0},{"$f":"IF($K870=ROUND(AO$6*$F870,2),$G870,0)","v":0},{"$f":"IF($H870>0,AO870,0)","v":0},{"$f":"IF(AQ870>0,1,0)","v":0},{"$f":"IF($H870>0,AP870,0)","v":0},{"$f":"IF(AS870>0,1,0)","v":0},{"$f":"IF($I870=AU$6,$E870,0)","v":0.98999999999999988},{"$f":"IF($K870=ROUND(AU$6*$F870,2),$G870,0)","v":0.54700000000000004},{"$f":"IF($H870>0,AU870,0)","v":0.98999999999999988},{"$f":"IF(AW870>0,1,0)","v":1},{"$f":"IF($H870>0,AV870,0)","v":0.54700000000000004},{"$f":"IF(AY870>0,1,0)","v":1},{"$f":"IF($I870=BA$6,$E870,0)","v":0},{"$f":"IF($K870=ROUND(BA$6*$F870,2),$G870,0)","v":0},{"$f":"IF($H870>0,BA870,0)","v":0},{"$f":"IF(BC870>0,1,0)","v":0},{"$f":"IF($H870>0,BB870,0)","v":0},{"$f":"IF(BE870>0,1,0)","v":0},null,1.537E-3,0.9]
[{"$f":"IF(E871+G871>0,A870,\"\")","v":""},{"$f":"IF(E871+G871>0,B870,\"\")","v":""},6,"03-4-23.1015(333)",0,1.1000000000000001,0,0,{"$f":"SUMIF(Y$14:BA$14,C871,Y$6:BA$6)","v":1733.45},{"$f":"IF(H871=0,ROUND(E871*I871,2),ROUND(H871*E871,2))","v":0},{"$f":"ROUND(F871*I871,2)","v":1906.8},{"$f":"IF(H871=0,ROUND(ROUND(F871*I871,2)*G871,2),ROUND(G871*H871,2))","v":0},{"$f":"L871-ROUND(G871*I871,2)","v":0},null,{"$f":"J871+L871+N871","v":0},null,405.07,{"$f":"ROUND(Q871*E871,2)","v":0},{"$f":"ROUND(F871*Q871,2)","v":445.58},{"$f":"ROUND(S871*G871,2)","v":0},{"$f":"T871-ROUND(Q871*G871,2)","v":0},null,{"$f":"R871+T871+V871","v":0},null,null,null,null,null,null,null,null,null,null,null,{"$f":"IF($I871=AI$6,$E871,0)","v":0},0,{"$f":"IF($H871>0,AI871,0)","v":0},{"$f":"IF(AK871>0,1,0)","v":0},{"$f":"IF($H871>0,AJ871,0)","v":0},{"$f":"IF(AM871>0,1,0)","v":0},{"$f":"IF($I871=AO$6,$E871,0)","v":0},0,{"$f":"IF($H871>0,AO871,0)","v":0},{"$f":"IF(AQ871>0,1,0)","v":0},{"$f":"IF($H871>0,AP871,0)","v":0},{"$f":"IF(AS871>0,1,0)","v":0},{"$f":"IF($I871=AU$6,$E871,0)","v":0},0,{"$f":"IF($H871>0,AU871,0)","v":0},{"$f":"IF(AW871>0,1,0)","v":0},{"$f":"IF($H871>0,AV871,0)","v":0},{"$f":"IF(AY871>0,1,0)","v":0},{"$f":"IF($I871=BA$6,$E871,0)","v":0},0,{"$f":"IF($H871>0,BA871,0)","v":0},{"$f":"IF(BC871>0,1,0)","v":0},{"$f":"IF($H871>0,BB871,0)","v":0},{"$f":"IF(BE871>0,1,0)","v":0},null,0]
[{"$f":"IF(E872+G872>0,A870,\"\")","v":""},{"$f":"IF(E872+G872>0,B870,\"\")","v":""},{"$f":"C871","v":6},"03-4-23.1015(333)",0,1.5,0,0,{"$f":"SUMIF(Y$14:BA$14,C872,Y$7:BA$7)","v":0},0,0,0,0,null,0,null,405.07,0,607.61,0,0,null,0,null,null,null,null,null,null,null,null,null,null,null,{"$f":"IF($I872=AI$7,$E872,0)","v":0},{"$f":"IF($K872=ROUND(AI$7*$F872,2),$G872,0)","v":0},0,0,0,0,{"$f":"IF($I872=AO$7,$E872,0)","v":0},{"$f":"IF($K872=ROUND(AO$7*$F872,2),$G872,0)","v":0},0,0,0,0,{"$f":"IF($I872=AU$7,$E872,0)","v":0},{"$f":"IF($K872=ROUND(AU$7*$F872,2),$G872,0)","v":0},0,0,0,0,{"$f":"IF($I872=BA$7,$E872,0)","v":0},{"$f":"IF($K872=ROUND(BA$7*$F872,2),$G872,0)","v":0},0,0,0,0,null,0]
[{"$f":"IF(E873+G873>0,A870,\"\")","v":""},{"$f":"IF(E873+G873>0,B870,\"\")","v":""},{"$f":"C871","v":6},"03-4-23.1015(333)",0,1.1000000000000001,0,0,{"$f":"SUMIF(Y$14:BA$14,C873,Y$7:BA$7)","v":0},0,0,0,0,null,0,null,405.07,0,445.58,0,0,null,0,null,null,null,null,null,null,null,null,null,null,null,{"$f":"IF($I873=AI$7,$E873,0)","v":0},{"$f":"IF($K873=ROUND(AI$7*$F873,2),$G873,0)","v":0},0,0,0,0,{"$f":"IF($I873=AO$7,$E873,0)","v":0},{"$f":"IF($K873=ROUND(AO$7*$F873,2),$G873,0)","v":0},0,0,0,0,{"$f":"IF($I873=AU$7,$E873,0)","v":0},{"$f":"IF($K873=ROUND(AU$7*$F873,2),$G873,0)","v":0},0,0,0,0,{"$f":"IF($I873=BA$7,$E873,0)","v":0},{"$f":"IF($K873=ROUND(BA$7*$F873,2),$G873,0)","v":0},0,0,0,0,null,0]
["Гр.               Сысоев            Игорь Борисович","д.Лукинская ",{"$f":"C875","v":6},"03-4-23.1016(333)",0.99000000000000021,1.5,3.01,4,{"$f":"SUMIF(Y$14:BA$14,C874,Y$6:BA$6)","v":1733.45},{"$f":"IF(H874=0,ROUND(E874*I874,2),ROUND(H874*E874,2))","v":3.96},{"$f":"ROUND(F874*I874,2)","v":2600.1799999999998},{"$f":"IF(H874=0,ROUND(ROUND(F874*I874,2)*G874,2),ROUND(G874*H874,2))","v":12.04},{"$f":"L874-ROUND(G874*I874,2)","v":-5205.6400000000003},null,{"$f":"J874+L874+N874","v":16},null,405.07,{"$f":"ROUND(Q874*E874,2)","v":401.02},{"$f":"ROUND(F874*Q874,2)","v":607.61},{"$f":"ROUND(S874*G874,2)","v":1828.91},{"$f":"T874-ROUND(Q874*G874,2)","v":609.65000000000009},null,{"$f":"R874+T874+V874","v":2229.9300000000003},null,null,null,null,null,null,null,null,null,null,null,{"$f":"IF($I874=AI$6,$E874,0)","v":0},{"$f":"IF($K874=ROUND(AI$6*$F874,2),$G874,0)","v":0},{"$f":"IF($H874>0,AI874,0)","v":0},{"$f":"IF(AK874>0,1,0)","v":0},{"$f":"IF($H874>0,AJ874,0)","v":0},{"$f":"IF(AM874>0,1,0)","v":0},{"$f":"IF($I874=AO$6,$E874,0)","v":0},{"$f":"IF($K874=ROUND(AO$6*$F874,2),$G874,0)","v":0},{"$f":"IF($H874>0,AO874,0)","v":0},{"$f":"IF(AQ874>0,1,0)","v":0},{"$f":"IF($H874>0,AP874,0)","v":0},{"$f":"IF(AS874>0,1,0)","v":0},{"$f":"IF($I874=AU$6,$E874,0)","v":0.99000000000000021},{"$f":"IF($K874=ROUND(AU$6*$F874,2),$G874,0)","v":3.01},{"$f":"IF($H874>0,AU874,0)","v":0.99000000000000021},{"$f":"IF(AW874>0,1,0)","v":1},{"$f":"IF($H874>0,AV874,0)","v":3.01},{"$f":"IF(AY874>0,1,0)","v":1},{"$f":"IF($I874=BA$6,$E874,0)","v":0},{"$f":"IF($K874=ROUND(BA$6*$F874,2),$G874,0)","v":0},{"$f":"IF($H874>0,BA874,0)","v":0},{"$f":"IF(BC874>0,1,0)","v":0},{"$f":"IF($H874>0,BB874,0)","v":0},{"$f":"IF(BE874>0,1,0)","v":0},null,4.0000000000000001E-3,0.9]
[{"$f":"IF(E875+G875>0,A874,\"\")","v":""},{"$f":"IF(E875+G875>0,B874,\"\")","v":""},6,"03-4-23.1016(333)",0,1.1000000000000001,0,0,{"$f":"SUMIF(Y$14:BA$14,C875,Y$6:BA$6)","v":1733.45},{"$f":"IF(H875=0,ROUND(E875*I875,2),ROUND(H875*E875,2))","v":0},{"$f":"ROUND(F875*I875,2)","v":1906.8},{"$f":"IF(H875=0,ROUND(ROUND(F875*I875,2)*G875,2),ROUND(G875*H875,2))","v":0},{"$f":"L875-ROUND(G875*I875,2)","v":0},null,{"$f":"J875+L875+N875","v":0},null,405.07,{"$f":"ROUND(Q875*E875,2)","v":0},{"$f":"ROUND(F875*Q875,2)","v":445.58},{"$f":"ROUND(S875*G875,2)","v":0},{"$f":"T875-ROUND(Q875*G875,2)","v":0},null,{"$f":"R875+T875+V875","v":0},null,null,null,null,null,null,null,null,null,null,null,{"$f":"IF($I875=AI$6,$E875,0)","v":0},0,{"$f":"IF($H875>0,AI875,0)","v":0},{"$f":"IF(AK875>0,1,0)","v":0},{"$f":"IF($H875>0,AJ875,0)","v":0},{"$f":"IF(AM875>0,1,0)","v":0},{"$f":"IF($I875=AO$6,$E875,0)","v":0},0,{"$f":"IF($H875>0,AO875,0)","v":0},{"$f":"IF(AQ875>0,1,0)","v":0},{"$f":"IF($H875>0,AP875,0)","v":0},{"$f":"IF(AS875>0,1,0)","v":0},{"$f":"IF($I875=AU$6,$E875,0)","v":0},0,{"$f":"IF($H875>0,AU875,0)","v":0},{"$f":"IF(AW875>0,1,0)","v":0},{"$f":"IF($H875>0,AV875,0)","v":0},{"$f":"IF(AY875>0,1,0)","v":0},{"$f":"IF($I875=BA$6,$E875,0)","v":0},0,{"$f":"IF($H875>0,BA875,0)","v":0},{"$f":"IF(BC875>0,1,0)","v":0},{"$f":"IF($H875>0,BB875,0)","v":0},{"$f":"IF(BE875>0,1,0)","v":0},null,0]
[{"$f":"IF(E876+G876>0,A874,\"\")","v":""},{"$f":"IF(E876+G876>0,B874,\"\")","v":""},{"$f":"C875","v":6},"03-4-23.1016(333)",0,1.5,0,0,{"$f":"SUMIF(Y$14:BA$14,C876,Y$7:BA$7)","v":0},0,0,0,0,null,0,null,405.07,0,607.61,0,0,null,0,null,null,null,null,null,null,null,null,null,null,null,{"$f":"IF($I876=AI$7,$E876,0)","v":0},{"$f":"IF($K876=ROUND(AI$7*$F876,2),$G876,0)","v":0},0,0,0,0,{"$f":"IF($I876=AO$7,$E876,0)","v":0},{"$f":"IF($K876=ROUND(AO$7*$F876,2),$G876,0)","v":0},0,0,0,0,{"$f":"IF($I876=AU$7,$E876,0)","v":0},{"$f":"IF($K876=ROUND(AU$7*$F876,2),$G876,0)","v":0},0,0,0,0,{"$f":"IF($I876=BA$7,$E876,0)","v":0},{"$f":"IF($K876=ROUND(BA$7*$F876,2),$G876,0)","v":0},0,0,0,0,null,0]
[{"$f":"IF(E877+G877>0,A874,\"\")","v":""},{"$f":"IF(E877+G877>0,B874,\"\")","v":""},{"$f":"C875","v":6},"03-4-23.1016(333)",0,1.1000000000000001,0,0,{"$f":"SUMIF(Y$14:BA$14,C877,Y$7:BA$7)","v":0},0,0,0,0,null,0,null,405.07,0,445.58,0,0,null,0,null,null,null,null,null,null,null,null,null,null,null,{"$f":"IF($I877=AI$7,$E877,0)","v":0},{"$f":"IF($K877=ROUND(AI$7*$F877,2),$G877,0)","v":0},0,0,0,0,{"$f":"IF($I877=AO$7,$E877,0)","v":0},{"$f":"IF($K877=ROUND(AO$7*$F877,2),$G877,0)","v":0},0,0,0,0,{"$f":"IF($I877=AU$7,$E877,0)","v":0},{"$f":"IF($K877=ROUND(AU$7*$F877,2),$G877,0)","v":0},0,0,0,0,{"$f":"IF($I877=BA$7,$E877,0)","v":0},{"$f":"IF($K877=ROUND(BA$7*$F877,2),$G877,0)","v":0},0,0,0,0,null,0]
["ИП               Савинова         Марина Геннадьевна","",{"$f":"C879","v":7},"03-4-23.1017(333)",0.09,1.5,0,0.09,{"$f":"SUMIF(Y$14:BA$14,C878,Y$6:BA$6)","v":2166.8000000000002},{"$f":"IF(H878=0,ROUND(E878*I878,2),ROUND(H878*E878,2))","v":0.01},{"$f":"ROUND(F878*I878,2)","v":3250.2},{"$f":"IF(H878=0,ROUND(ROUND(F878*I878,2)*G878,2),ROUND(G878*H878,2))","v":0},{"$f":"L878-ROUND(G878*I878,2)","v":0},null,{"$f":"J878+L878+N878","v":0.01},null,405.07,{"$f":"ROUND(Q878*E878,2)","v":36.46},{"$f":"ROUND(F878*Q878,2)","v":607.61},{"$f":"ROUND(S878*G878,2)","v":0},{"$f":"T878-ROUND(Q878*G878,2)","v":0},null,{"$f":"R878+T878+V878","v":36.46},null,null,null,null,null,null,null,null,null,null,null,{"$f":"IF($I878=AI$6,$E878,0)","v":0},{"$f":"IF($K878=ROUND(AI$6*$F878,2),$G878,0)","v":0},{"$f":"IF($H878>0,AI878,0)","v":0},{"$f":"IF(AK878>0,1,0)","v":0},{"$f":"IF($H878>0,AJ878,0)","v":0},{"$f":"IF(AM878>0,1,0)","v":0},{"$f":"IF($I878=AO$6,$E878,0)","v":0},{"$f":"IF($K878=ROUND(AO$6*$F878,2),$G878,0)","v":0},{"$f":"IF($H878>0,AO878,0)","v":0},{"$f":"IF(AQ878>0,1,0)","v":0},{"$f":"IF($H878>0,AP878,0)","v":0},{"$f":"IF(AS878>0,1,0)","v":0},{"$f":"IF($I878=AU$6,$E878,0)","v":0},{"$f":"IF($K878=ROUND(AU$6*$F878,2),$G878,0)","v":0},{"$f":"IF($H878>0,AU878,0)","v":0},{"$f":"IF(AW878>0,1,0)","v":0},{"$f":"IF($H878>0,AV878,0)","v":0},{"$f":"IF(AY878>0,1,0)","v":0},{"$f":"IF($I878=BA$6,$E878,0)","v":0.09},{"$f":"IF($K878=ROUND(BA$6*$F878,2),$G878,0)","v":0},{"$f":"IF($H878>0,BA878,0)","v":0.09},{"$f":"IF(BC878>0,1,0)","v":1},{"$f":"IF($H878>0,BB878,0)","v":0},{"$f":"IF(BE878>0,1,0)","v":0},null,8.9999999999999992E-5,0.2]
[{"$f":"IF(E879+G879>0,A878,\"\")","v":""},{"$f":"IF(E879+G879>0,B878,\"\")","v":""},7,"03-4-23.1017(333)",0,1.1000000000000001,0,0,{"$f":"SUMIF(Y$14:BA$14,C879,Y$6:BA$6)","v":2166.8000000000002},{"$f":"IF(H879=0,ROUND(E879*I879,2),ROUND(H879*E879,2))","v":0},{"$f":"ROUND(F879*I879,2)","v":2383.48},{"$f":"IF(H879=0,ROUND(ROUND(F879*I879,2)*G879,2),ROUND(G879*H879,2))","v":0},{"$f":"L879-ROUND(G879*I879,2)","v":0},null,{"$f":"J879+L879+N879","v":0},null,405.07,{"$f":"ROUND(Q879*E879,2)","v":0},{"$f":"ROUND(F879*Q879,2)","v":445.58},{"$f":"ROUND(S879*G879,2)","v":0},{"$f":"T879-ROUND(Q879*G879,2)","v":0},null,{"$f":"R879+T879+V879","v":0},null,null,null,null,null,null,null,null,null,null,null,{"$f":"IF($I879=AI$6,$E879,0)","v":0},0,{"$f":"IF($H879>0,AI879,0)","v":0},{"$f":"IF(AK879>0,1,0)","v":0},{"$f":"IF($H879>0,AJ879,0)","v":0},{"$f":"IF(AM879>0,1,0)","v":0},{"$f":"IF($I879=AO$6,$E879,0)","v":0},0,{"$f":"IF($H879>0,AO879,0)","v":0},{"$f":"IF(AQ879>0,1,0)","v":0},{"$f":"IF($H879>0,AP879,0)","v":0},{"$f":"IF(AS879>0,1,0)","v":0},{"$f":"IF($I879=AU$6,$E879,0)","v":0},0,{"$f":"IF($H879>0,AU879,0)","v":0},{"$f":"IF(AW879>0,1,0)","v":0},{"$f":"IF($H879>0,AV879,0)","v":0},{"$f":"IF(AY879>0,1,0)","v":0},{"$f":"IF($I879=BA$6,$E879,0)","v":0},0,{"$f":"IF($H879>0,BA879,0)","v":0},{"$f":"IF(BC879>0,1,0)","v":0},{"$f":"IF($H879>0,BB879,0)","v":0},{"$f":"IF(BE879>0,1,0)","v":0},null,0]
[{"$f":"IF(E880+G880>0,A878,\"\")","v":""},{"$f":"IF(E880+G880>0,B878,\"\")","v":""},{"$f":"C879","v":7},"03-4-23.1017(333)",0,1.5,0,0,{"$f":"SUMIF(Y$14:BA$14,C880,Y$7:BA$7)","v":0},0,0,0,0,null,0,null,405.07,0,607.61,0,0,null,0,null,null,null,null,null,null,null,null,null,null,null,{"$f":"IF($I880=AI$7,$E880,0)","v":0},{"$f":"IF($K880=ROUND(AI$7*$F880,2),$G880,0)","v":0},0,0,0,0,{"$f":"IF($I880=AO$7,$E880,0)","v":0},{"$f":"IF($K880=ROUND(AO$7*$F880,2),$G880,0)","v":0},0,0,0,0,{"$f":"IF($I880=AU$7,$E880,0)","v":0},{"$f":"IF($K880=ROUND(AU$7*$F880,2),$G880,0)","v":0},0,0,0,0,{"$f":"IF($I880=BA$7,$E880,0)","v":0},{"$f":"IF($K880=ROUND(BA$7*$F880,2),$G880,0)","v":0},0,0,0,0,null,0]
[{"$f":"IF(E881+G881>0,A878,\"\")","v":""},{"$f":"IF(E881+G881>0,B878,\"\")","v":""},{"$f":"C879","v":7},"03-4-23.1017(333)",0,1.1000000000000001,0,0,{"$f":"SUMIF(Y$14:BA$14,C881,Y$7:BA$7)","v":0},0,0,0,0,null,0,null,405.07,0,445.58,0,0,null,0,null,null,null,null,null,null,null,null,null,null,null,{"$f":"IF($I881=AI$7,$E881,0)","v":0},{"$f":"IF($K881=ROUND(AI$7*$F881,2),$G881,0)","v":0},0,0,0,0,{"$f":"IF($I881=AO$7,$E881,0)","v":0},{"$f":"IF($K881=ROUND(AO$7*$F881,2),$G881,0)","v":0},0,0,0,0,{"$f":"IF($I881=AU$7,$E881,0)","v":0},{"$f":"IF($K881=ROUND(AU$7*$F881,2),$G881,0)","v":0},0,0,0,0,{"$f":"IF($I881=BA$7,$E881,0)","v":0},{"$f":"IF($K881=ROUND(BA$7*$F881,2),$G881,0)","v":0},0,0,0,0,null,0]
["ИП               Кудрявцев        Владимир Федорович","",{"$f":"C883","v":6},"03-4-23.1021(333)",0.77,1.5,0.73599999999999999,1.506,{"$f":"SUMIF(Y$14:BA$14,C882,Y$6:BA$6)","v":1733.45},{"$f":"IF(H882=0,ROUND(E882*I882,2),ROUND(H882*E882,2))","v":1.1599999999999999},{"$f":"ROUND(F882*I882,2)","v":2600.1799999999998},{"$f":"IF(H882=0,ROUND(ROUND(F882*I882,2)*G882,2),ROUND(G882*H882,2))","v":1.1100000000000001},{"$f":"L882-ROUND(G882*I882,2)","v":-1274.71},null,{"$f":"J882+L882+N882","v":2.27},null,405.07,{"$f":"ROUND(Q882*E882,2)","v":311.89999999999998},{"$f":"ROUND(F882*Q882,2)","v":607.61},{"$f":"ROUND(S882*G882,2)","v":447.2},{"$f":"T882-ROUND(Q882*G882,2)","v":149.07},null,{"$f":"R882+T882+V882","v":759.09999999999991},null,null,null,null,null,null,null,null,null,null,null,{"$f":"IF($I882=AI$6,$E882,0)","v":0},{"$f":"IF($K882=ROUND(AI$6*$F882,2),$G882,0)","v":0},{"$f":"IF($H882>0,AI882,0)","v":0},{"$f":"IF(AK882>0,1,0)","v":0},{"$f":"IF($H882>0,AJ882,0)","v":0},{"$f":"IF(AM882>0,1,0)","v":0},{"$f":"IF($I882=AO$6,$E882,0)","v":0},{"$f":"IF($K882=ROUND(AO$6*$F882,2),$G882,0)","v":0},{"$f":"IF($H882>0,AO882,0)","v":0},{"$f":"IF(AQ882>0,1,0)","v":0},{"$f":"IF($H882>0,AP882,0)","v":0},{"$f":"IF(AS882>0,1,0)","v":0},{"$f":"IF($I882=AU$6,$E882,0)","v":0.77},{"$f":"IF($K882=ROUND(AU$6*$F882,2),$G882,0)","v":0.73599999999999999},{"$f":"IF($H882>0,AU882,0)","v":0.77},{"$f":"IF(AW882>0,1,0)","v":1},{"$f":"IF($H882>0,AV882,0)","v":0.73599999999999999},{"$f":"IF(AY882>0,1,0)","v":1},{"$f":"IF($I882=BA$6,$E882,0)","v":0},{"$f":"IF($K882=ROUND(BA$6*$F882,2),$G882,0)","v":0},{"$f":"IF($H882>0,BA882,0)","v":0},{"$f":"IF(BC882>0,1,0)","v":0},{"$f":"IF($H882>0,BB882,0)","v":0},{"$f":"IF(BE882>0,1,0)","v":0},null,1.506E-3,0.7]
[{"$f":"IF(E883+G883>0,A882,\"\")","v":""},{"$f":"IF(E883+G883>0,B882,\"\")","v":""},6,"03-4-23.1021(333)",0,1.1000000000000001,0,0,{"$f":"SUMIF(Y$14:BA$14,C883,Y$6:BA$6)","v":1733.45},{"$f":"IF(H883=0,ROUND(E883*I883,2),ROUND(H883*E883,2))","v":0},{"$f":"ROUND(F883*I883,2)","v":1906.8},{"$f":"IF(H883=0,ROUND(ROUND(F883*I883,2)*G883,2),ROUND(G883*H883,2))","v":0},{"$f":"L883-ROUND(G883*I883,2)","v":0},null,{"$f":"J883+L883+N883","v":0},null,405.07,{"$f":"ROUND(Q883*E883,2)","v":0},{"$f":"ROUND(F883*Q883,2)","v":445.58},{"$f":"ROUND(S883*G883,2)","v":0},{"$f":"T883-ROUND(Q883*G883,2)","v":0},null,{"$f":"R883+T883+V883","v":0},null,null,null,null,null,null,null,null,null,null,null,{"$f":"IF($I883=AI$6,$E883,0)","v":0},0,{"$f":"IF($H883>0,AI883,0)","v":0},{"$f":"IF(AK883>0,1,0)","v":0},{"$f":"IF($H883>0,AJ883,0)","v":0},{"$f":"IF(AM883>0,1,0)","v":0},{"$f":"IF($I883=AO$6,$E883,0)","v":0},0,{"$f":"IF($H883>0,AO883,0)","v":0},{"$f":"IF(AQ883>0,1,0)","v":0},{"$f":"IF($H883>0,AP883,0)","v":0},{"$f":"IF(AS883>0,1,0)","v":0},{"$f":"IF($I883=AU$6,$E883,0)","v":0},0,{"$f":"IF($H883>0,AU883,0)","v":0},{"$f":"IF(AW883>0,1,0)","v":0},{"$f":"IF($H883>0,AV883,0)","v":0},{"$f":"IF(AY883>0,1,0)","v":0},{"$f":"IF($I883=BA$6,$E883,0)","v":0},0,{"$f":"IF($H883>0,BA883,0)","v":0},{"$f":"IF(BC883>0,1,0)","v":0},{"$f":"IF($H883>0,BB883,0)","v":0},{"$f":"IF(BE883>0,1,0)","v":0},null,0]
[{"$f":"IF(E884+G884>0,A882,\"\")","v":""},{"$f":"IF(E884+G884>0,B882,\"\")","v":""},{"$f":"C883","v":6},"03-4-23.1021(333)",0,1.5,0,0,{"$f":"SUMIF(Y$14:BA$14,C884,Y$7:BA$7)","v":0},0,0,0,0,null,0,null,405.07,0,607.61,0,0,null,0,null,null,null,null,null,null,null,null,null,null,null,{"$f":"IF($I884=AI$7,$E884,0)","v":0},{"$f":"IF($K884=ROUND(AI$7*$F884,2),$G884,0)","v":0},0,0,0,0,{"$f":"IF($I884=AO$7,$E884,0)","v":0},{"$f":"IF($K884=ROUND(AO$7*$F884,2),$G884,0)","v":0},0,0,0,0,{"$f":"IF($I884=AU$7,$E884,0)","v":0},{"$f":"IF($K884=ROUND(AU$7*$F884,2),$G884,0)","v":0},0,0,0,0,{"$f":"IF($I884=BA$7,$E884,0)","v":0},{"$f":"IF($K884=ROUND(BA$7*$F884,2),$G884,0)","v":0},0,0,0,0,null,0]
[{"$f":"IF(E885+G885>0,A882,\"\")","v":""},{"$f":"IF(E885+G885>0,B882,\"\")","v":""},{"$f":"C883","v":6},"03-4-23.1021(333)",0,1.1000000000000001,0,0,{"$f":"SUMIF(Y$14:BA$14,C885,Y$7:BA$7)","v":0},0,0,0,0,null,0,null,405.07,0,445.58,0,0,null,0,null,null,null,null,null,null,null,null,null,null,null,{"$f":"IF($I885=AI$7,$E885,0)","v":0},{"$f":"IF($K885=ROUND(AI$7*$F885,2),$G885,0)","v":0},0,0,0,0,{"$f":"IF($I885=AO$7,$E885,0)","v":0},{"$f":"IF($K885=ROUND(AO$7*$F885,2),$G885,0)","v":0},0,0,0,0,{"$f":"IF($I885=AU$7,$E885,0)","v":0},{"$f":"IF($K885=ROUND(AU$7*$F885,2),$G885,0)","v":0},0,0,0,0,{"$f":"IF($I885=BA$7,$E885,0)","v":0},{"$f":"IF($K885=ROUND(BA$7*$F885,2),$G885,0)","v":0},0,0,0,0,null,0]
["ООО          \"Делорис\"","",{"$f":"C887","v":6},"03-4-23.1038(333)",0.624,1.5,0,0.624,{"$f":"SUMIF(Y$14:BA$14,C886,Y$6:BA$6)","v":1733.45},{"$f":"IF(H886=0,ROUND(E886*I886,2),ROUND(H886*E886,2))","v":0.39},{"$f":"ROUND(F886*I886,2)","v":2600.1799999999998},{"$f":"IF(H886=0,ROUND(ROUND(F886*I886,2)*G886,2),ROUND(G886*H886,2))","v":0},{"$f":"L886-ROUND(G886*I886,2)","v":0},null,{"$f":"J886+L886+N886","v":0.39},null,405.07,{"$f":"ROUND(Q886*E886,2)","v":252.76},{"$f":"ROUND(F886*Q886,2)","v":607.61},{"$f":"ROUND(S886*G886,2)","v":0},{"$f":"T886-ROUND(Q886*G886,2)","v":0},null,{"$f":"R886+T886+V886","v":252.76},null,null,null,null,null,null,null,null,null,null,null,{"$f":"IF($I886=AI$6,$E886,0)","v":0},{"$f":"IF($K886=ROUND(AI$6*$F886,2),$G886,0)","v":0},{"$f":"IF($H886>0,AI886,0)","v":0},{"$f":"IF(AK886>0,1,0)","v":0},{"$f":"IF($H886>0,AJ886,0)","v":0},{"$f":"IF(AM886>0,1,0)","v":0},{"$f":"IF($I886=AO$6,$E886,0)","v":0},{"$f":"IF($K886=ROUND(AO$6*$F886,2),$G886,0)","v":0},{"$f":"IF($H886>0,AO886,0)","v":0},{"$f":"IF(AQ886>0,1,0)","v":0},{"$f":"IF($H886>0,AP886,0)","v":0},{"$f":"IF(AS886>0,1,0)","v":0},{"$f":"IF($I886=AU$6,$E886,0)","v":0.624},{"$f":"IF($K886=ROUND(AU$6*$F886,2),$G886,0)","v":0},{"$f":"IF($H886>0,AU886,0)","v":0.624},{"$f":"IF(AW886>0,1,0)","v":1},{"$f":"IF($H886>0,AV886,0)","v":0},{"$f":"IF(AY886>0,1,0)","v":0},{"$f":"IF($I886=BA$6,$E886,0)","v":0},{"$f":"IF($K886=ROUND(BA$6*$F886,2),$G886,0)","v":0},{"$f":"IF($H886>0,BA886,0)","v":0},{"$f":"IF(BC886>0,1,0)","v":0},{"$f":"IF($H886>0,BB886,0)","v":0},{"$f":"IF(BE886>0,1,0)","v":0},null,6.2399999999999999E-4,3.6]
[{"$f":"IF(E887+G887>0,A886,\"\")","v":""},{"$f":"IF(E887+G887>0,B886,\"\")","v":""},6,"03-4-23.1038(333)",0,1.1000000000000001,0,0,{"$f":"SUMIF(Y$14:BA$14,C887,Y$6:BA$6)","v":1733.45},{"$f":"IF(H887=0,ROUND(E887*I887,2),ROUND(H887*E887,2))","v":0},{"$f":"ROUND(F887*I887,2)","v":1906.8},{"$f":"IF(H887=0,ROUND(ROUND(F887*I887,2)*G887,2),ROUND(G887*H887,2))","v":0},{"$f":"L887-ROUND(G887*I887,2)","v":0},null,{"$f":"J887+L887+N887","v":0},null,405.07,{"$f":"ROUND(Q887*E887,2)","v":0},{"$f":"ROUND(F887*Q887,2)","v":445.58},{"$f":"ROUND(S887*G887,2)","v":0},{"$f":"T887-ROUND(Q887*G887,2)","v":0},null,{"$f":"R887+T887+V887","v":0},null,null,null,null,null,null,null,null,null,null,null,{"$f":"IF($I887=AI$6,$E887,0)","v":0},0,{"$f":"IF($H887>0,AI887,0)","v":0},{"$f":"IF(AK887>0,1,0)","v":0},{"$f":"IF($H887>0,AJ887,0)","v":0},{"$f":"IF(AM887>0,1,0)","v":0},{"$f":"IF($I887=AO$6,$E887,0)","v":0},0,{"$f":"IF($H887>0,AO887,0)","v":0},{"$f":"IF(AQ887>0,1,0)","v":0},{"$f":"IF($H887>0,AP887,0)","v":0},{"$f":"IF(AS887>0,1,0)","v":0},{"$f":"IF($I887=AU$6,$E887,0)","v":0},0,{"$f":"IF($H887>0,AU887,0)","v":0},{"$f":"IF(AW887>0,1,0)","v":0},{"$f":"IF($H887>0,AV887,0)","v":0},{"$f":"IF(AY887>0,1,0)","v":0},{"$f":"IF($I887=BA$6,$E887,0)","v":0},0,{"$f":"IF($H887>0,BA887,0)","v":0},{"$f":"IF(BC887>0,1,0)","v":0},{"$f":"IF($H887>0,BB887,0)","v":0},{"$f":"IF(BE887>0,1,0)","v":0},null,0]
[{"$f":"IF(E888+G888>0,A886,\"\")","v":""},{"$f":"IF(E888+G888>0,B886,\"\")","v":""},{"$f":"C887","v":6},"03-4-23.1038(333)",0,1.5,0,0,{"$f":"SUMIF(Y$14:BA$14,C888,Y$7:BA$7)","v":0},0,0,0,0,null,0,null,405.07,0,607.61,0,0,null,0,null,null,null,null,null,null,null,null,null,null,null,{"$f":"IF($I888=AI$7,$E888,0)","v":0},{"$f":"IF($K888=ROUND(AI$7*$F888,2),$G888,0)","v":0},0,0,0,0,{"$f":"IF($I888=AO$7,$E888,0)","v":0},{"$f":"IF($K888=ROUND(AO$7*$F888,2),$G888,0)","v":0},0,0,0,0,{"$f":"IF($I888=AU$7,$E888,0)","v":0},{"$f":"IF($K888=ROUND(AU$7*$F888,2),$G888,0)","v":0},0,0,0,0,{"$f":"IF($I888=BA$7,$E888,0)","v":0},{"$f":"IF($K888=ROUND(BA$7*$F888,2),$G888,0)","v":0},0,0,0,0,null,0]
[{"$f":"IF(E889+G889>0,A886,\"\")","v":""},{"$f":"IF(E889+G889>0,B886,\"\")","v":""},{"$f":"C887","v":6},"03-4-23.1038(333)",0,1.1000000000000001,0,0,{"$f":"SUMIF(Y$14:BA$14,C889,Y$7:BA$7)","v":0},0,0,0,0,null,0,null,405.07,0,445.58,0,0,null,0,null,null,null,null,null,null,null,null,null,null,null,{"$f":"IF($I889=AI$7,$E889,0)","v":0},{"$f":"IF($K889=ROUND(AI$7*$F889,2),$G889,0)","v":0},0,0,0,0,{"$f":"IF($I889=AO$7,$E889,0)","v":0},{"$f":"IF($K889=ROUND(AO$7*$F889,2),$G889,0)","v":0},0,0,0,0,{"$f":"IF($I889=AU$7,$E889,0)","v":0},{"$f":"IF($K889=ROUND(AU$7*$F889,2),$G889,0)","v":0},0,0,0,0,{"$f":"IF($I889=BA$7,$E889,0)","v":0},{"$f":"IF($K889=ROUND(BA$7*$F889,2),$G889,0)","v":0},0,0,0,0,null,0]
["ИП               Шухтин              Григорий Владимирович","",{"$f":"C891","v":7},"03-4-23.1040(333)",0,1.5,0,0,{"$f":"SUMIF(Y$14:BA$14,C890,Y$6:BA$6)","v":2166.8000000000002},{"$f":"IF(H890=0,ROUND(E890*I890,2),ROUND(H890*E890,2))","v":0},{"$f":"ROUND(F890*I890,2)","v":3250.2},{"$f":"IF(H890=0,ROUND(ROUND(F890*I890,2)*G890,2),ROUND(G890*H890,2))","v":0},{"$f":"L890-ROUND(G890*I890,2)","v":0},null,{"$f":"J890+L890+N890","v":0},null,405.07,{"$f":"ROUND(Q890*E890,2)","v":0},{"$f":"ROUND(F890*Q890,2)","v":607.61},{"$f":"ROUND(S890*G890,2)","v":0},{"$f":"T890-ROUND(Q890*G890,2)","v":0},null,{"$f":"R890+T890+V890","v":0},null,null,null,null,null,null,null,null,null,null,null,{"$f":"IF($I890=AI$6,$E890,0)","v":0},{"$f":"IF($K890=ROUND(AI$6*$F890,2),$G890,0)","v":0},{"$f":"IF($H890>0,AI890,0)","v":0},{"$f":"IF(AK890>0,1,0)","v":0},{"$f":"IF($H890>0,AJ890,0)","v":0},{"$f":"IF(AM890>0,1,0)","v":0},{"$f":"IF($I890=AO$6,$E890,0)","v":0},{"$f":"IF($K890=ROUND(AO$6*$F890,2),$G890,0)","v":0},{"$f":"IF($H890>0,AO890,0)","v":0},{"$f":"IF(AQ890>0,1,0)","v":0},{"$f":"IF($H890>0,AP890,0)","v":0},{"$f":"IF(AS890>0,1,0)","v":0},{"$f":"IF($I890=AU$6,$E890,0)","v":0},{"$f":"IF($K890=ROUND(AU$6*$F890,2),$G890,0)","v":0},{"$f":"IF($H890>0,AU890,0)","v":0},{"$f":"IF(AW890>0,1,0)","v":0},{"$f":"IF($H890>0,AV890,0)","v":0},{"$f":"IF(AY890>0,1,0)","v":0},{"$f":"IF($I890=BA$6,$E890,0)","v":0},{"$f":"IF($K890=ROUND(BA$6*$F890,2),$G890,0)","v":0},{"$f":"IF($H890>0,BA890,0)","v":0},{"$f":"IF(BC890>0,1,0)","v":0},{"$f":"IF($H890>0,BB890,0)","v":0},{"$f":"IF(BE890>0,1,0)","v":0},null,0,0.2]
[{"$f":"IF(E891+G891>0,A890,\"\")","v":""},{"$f":"IF(E891+G891>0,B890,\"\")","v":""},7,"03-4-23.1040(333)",0,1.1000000000000001,0,0,{"$f":"SUMIF(Y$14:BA$14,C891,Y$6:BA$6)","v":2166.8000000000002},{"$f":"IF(H891=0,ROUND(E891*I891,2),ROUND(H891*E891,2))","v":0},{"$f":"ROUND(F891*I891,2)","v":2383.48},{"$f":"IF(H891=0,ROUND(ROUND(F891*I891,2)*G891,2),ROUND(G891*H891,2))","v":0},{"$f":"L891-ROUND(G891*I891,2)","v":0},null,{"$f":"J891+L891+N891","v":0},null,405.07,{"$f":"ROUND(Q891*E891,2)","v":0},{"$f":"ROUND(F891*Q891,2)","v":445.58},{"$f":"ROUND(S891*G891,2)","v":0},{"$f":"T891-ROUND(Q891*G891,2)","v":0},null,{"$f":"R891+T891+V891","v":0},null,null,null,null,null,null,null,null,null,null,null,{"$f":"IF($I891=AI$6,$E891,0)","v":0},0,{"$f":"IF($H891>0,AI891,0)","v":0},{"$f":"IF(AK891>0,1,0)","v":0},{"$f":"IF($H891>0,AJ891,0)","v":0},{"$f":"IF(AM891>0,1,0)","v":0},{"$f":"IF($I891=AO$6,$E891,0)","v":0},0,{"$f":"IF($H891>0,AO891,0)","v":0},{"$f":"IF(AQ891>0,1,0)","v":0},{"$f":"IF($H891>0,AP891,0)","v":0},{"$f":"IF(AS891>0,1,0)","v":0},{"$f":"IF($I891=AU$6,$E891,0)","v":0},0,{"$f":"IF($H891>0,AU891,0)","v":0},{"$f":"IF(AW891>0,1,0)","v":0},{"$f":"IF($H891>0,AV891,0)","v":0},{"$f":"IF(AY891>0,1,0)","v":0},{"$f":"IF($I891=BA$6,$E891,0)","v":0},0,{"$f":"IF($H891>0,BA891,0)","v":0},{"$f":"IF(BC891>0,1,0)","v":0},{"$f":"IF($H891>0,BB891,0)","v":0},{"$f":"IF(BE891>0,1,0)","v":0},null,0]
[{"$f":"IF(E892+G892>0,A890,\"\")","v":""},{"$f":"IF(E892+G892>0,B890,\"\")","v":""},{"$f":"C891","v":7},"03-4-23.1040(333)",0,1.5,0,0,{"$f":"SUMIF(Y$14:BA$14,C892,Y$7:BA$7)","v":0},0,0,0,0,null,0,null,405.07,0,607.61,0,0,null,0,null,null,null,null,null,null,null,null,null,null,null,{"$f":"IF($I892=AI$7,$E892,0)","v":0},{"$f":"IF($K892=ROUND(AI$7*$F892,2),$G892,0)","v":0},0,0,0,0,{"$f":"IF($I892=AO$7,$E892,0)","v":0},{"$f":"IF($K892=ROUND(AO$7*$F892,2),$G892,0)","v":0},0,0,0,0,{"$f":"IF($I892=AU$7,$E892,0)","v":0},{"$f":"IF($K892=ROUND(AU$7*$F892,2),$G892,0)","v":0},0,0,0,0,{"$f":"IF($I892=BA$7,$E892,0)","v":0},{"$f":"IF($K892=ROUND(BA$7*$F892,2),$G892,0)","v":0},0,0,0,0,null,0]
[{"$f":"IF(E893+G893>0,A890,\"\")","v":""},{"$f":"IF(E893+G893>0,B890,\"\")","v":""},{"$f":"C891","v":7},"03-4-23.1040(333)",0,1.1000000000000001,0,0,{"$f":"SUMIF(Y$14:BA$14,C893,Y$7:BA$7)","v":0},0,0,0,0,null,0,null,405.07,0,445.58,0,0,null,0,null,null,null,null,null,null,null,null,null,null,null,{"$f":"IF($I893=AI$7,$E893,0)","v":0},{"$f":"IF($K893=ROUND(AI$7*$F893,2),$G893,0)","v":0},0,0,0,0,{"$f":"IF($I893=AO$7,$E893,0)","v":0},{"$f":"IF($K893=ROUND(AO$7*$F893,2),$G893,0)","v":0},0,0,0,0,{"$f":"IF($I893=AU$7,$E893,0)","v":0},{"$f":"IF($K893=ROUND(AU$7*$F893,2),$G893,0)","v":0},0,0,0,0,{"$f":"IF($I893=BA$7,$E893,0)","v":0},{"$f":"IF($K893=ROUND(BA$7*$F893,2),$G893,0)","v":0},0,0,0,0,null,0]
["ООО          \"БАСТИОН +\"","",{"$f":"C895","v":5},"03-4-23.1043(333)",6.1909999999999998,1.5,0,6.1909999999999998,{"$f":"SUMIF(Y$14:BA$14,C894,Y$6:BA$6)","v":1386.75},{"$f":"IF(H894=0,ROUND(E894*I894,2),ROUND(H894*E894,2))","v":38.33},{"$f":"ROUND(F894*I894,2)","v":2080.13},{"$f":"IF(H894=0,ROUND(ROUND(F894*I894,2)*G894,2),ROUND(G894*H894,2))","v":0},{"$f":"L894-ROUND(G894*I894,2)","v":0},null,{"$f":"J894+L894+N894","v":38.33},null,405.07,{"$f":"ROUND(Q894*E894,2)","v":2507.79},{"$f":"ROUND(F894*Q894,2)","v":607.61},{"$f":"ROUND(S894*G894,2)","v":0},{"$f":"T894-ROUND(Q894*G894,2)","v":0},null,{"$f":"R894+T894+V894","v":2507.79},null,null,null,null,null,null,null,null,null,null,null,{"$f":"IF($I894=AI$6,$E894,0)","v":0},{"$f":"IF($K894=ROUND(AI$6*$F894,2),$G894,0)","v":0},{"$f":"IF($H894>0,AI894,0)","v":0},{"$f":"IF(AK894>0,1,0)","v":0},{"$f":"IF($H894>0,AJ894,0)","v":0},{"$f":"IF(AM894>0,1,0)","v":0},{"$f":"IF($I894=AO$6,$E894,0)","v":6.1909999999999998},{"$f":"IF($K894=ROUND(AO$6*$F894,2),$G894,0)","v":0},{"$f":"IF($H894>0,AO894,0)","v":6.1909999999999998},{"$f":"IF(AQ894>0,1,0)","v":1},{"$f":"IF($H894>0,AP894,0)","v":0},{"$f":"IF(AS894>0,1,0)","v":0},{"$f":"IF($I894=AU$6,$E894,0)","v":0},{"$f":"IF($K894=ROUND(AU$6*$F894,2),$G894,0)","v":0},{"$f":"IF($H894>0,AU894,0)","v":0},{"$f":"IF(AW894>0,1,0)","v":0},{"$f":"IF($H894>0,AV894,0)","v":0},{"$f":"IF(AY894>0,1,0)","v":0},{"$f":"IF($I894=BA$6,$E894,0)","v":0},{"$f":"IF($K894=ROUND(BA$6*$F894,2),$G894,0)","v":0},{"$f":"IF($H894>0,BA894,0)","v":0},{"$f":"IF(BC894>0,1,0)","v":0},{"$f":"IF($H894>0,BB894,0)","v":0},{"$f":"IF(BE894>0,1,0)","v":0},null,6.1909999999999995E-3,15.7]
[{"$f":"IF(E895+G895>0,A894,\"\")","v":""},{"$f":"IF(E895+G895>0,B894,\"\")","v":""},5,"03-4-23.1043(333)",0,1.1000000000000001,0,0,{"$f":"SUMIF(Y$14:BA$14,C895,Y$6:BA$6)","v":1386.75},{"$f":"IF(H895=0,ROUND(E895*I895,2),ROUND(H895*E895,2))","v":0},{"$f":"ROUND(F895*I895,2)","v":1525.43},{"$f":"IF(H895=0,ROUND(ROUND(F895*I895,2)*G895,2),ROUND(G895*H895,2))","v":0},{"$f":"L895-ROUND(G895*I895,2)","v":0},null,{"$f":"J895+L895+N895","v":0},null,405.07,{"$f":"ROUND(Q895*E895,2)","v":0},{"$f":"ROUND(F895*Q895,2)","v":445.58},{"$f":"ROUND(S895*G895,2)","v":0},{"$f":"T895-ROUND(Q895*G895,2)","v":0},null,{"$f":"R895+T895+V895","v":0},null,null,null,null,null,null,null,null,null,null,null,{"$f":"IF($I895=AI$6,$E895,0)","v":0},0,{"$f":"IF($H895>0,AI895,0)","v":0},{"$f":"IF(AK895>0,1,0)","v":0},{"$f":"IF($H895>0,AJ895,0)","v":0},{"$f":"IF(AM895>0,1,0)","v":0},{"$f":"IF($I895=AO$6,$E895,0)","v":0},0,{"$f":"IF($H895>0,AO895,0)","v":0},{"$f":"IF(AQ895>0,1,0)","v":0},{"$f":"IF($H895>0,AP895,0)","v":0},{"$f":"IF(AS895>0,1,0)","v":0},{"$f":"IF($I895=AU$6,$E895,0)","v":0},0,{"$f":"IF($H895>0,AU895,0)","v":0},{"$f":"IF(AW895>0,1,0)","v":0},{"$f":"IF($H895>0,AV895,0)","v":0},{"$f":"IF(AY895>0,1,0)","v":0},{"$f":"IF($I895=BA$6,$E895,0)","v":0},0,{"$f":"IF($H895>0,BA895,0)","v":0},{"$f":"IF(BC895>0,1,0)","v":0},{"$f":"IF($H895>0,BB895,0)","v":0},{"$f":"IF(BE895>0,1,0)","v":0},null,0]
[{"$f":"IF(E896+G896>0,A894,\"\")","v":""},{"$f":"IF(E896+G896>0,B894,\"\")","v":""},{"$f":"C895","v":5},"03-4-23.1043(333)",0,1.5,0,0,{"$f":"SUMIF(Y$14:BA$14,C896,Y$7:BA$7)","v":0},0,0,0,0,null,0,null,405.07,0,607.61,0,0,null,0,null,null,null,null,null,null,null,null,null,null,null,{"$f":"IF($I896=AI$7,$E896,0)","v":0},{"$f":"IF($K896=ROUND(AI$7*$F896,2),$G896,0)","v":0},0,0,0,0,{"$f":"IF($I896=AO$7,$E896,0)","v":0},{"$f":"IF($K896=ROUND(AO$7*$F896,2),$G896,0)","v":0},0,0,0,0,{"$f":"IF($I896=AU$7,$E896,0)","v":0},{"$f":"IF($K896=ROUND(AU$7*$F896,2),$G896,0)","v":0},0,0,0,0,{"$f":"IF($I896=BA$7,$E896,0)","v":0},{"$f":"IF($K896=ROUND(BA$7*$F896,2),$G896,0)","v":0},0,0,0,0,null,0]
[{"$f":"IF(E897+G897>0,A894,\"\")","v":""},{"$f":"IF(E897+G897>0,B894,\"\")","v":""},{"$f":"C895","v":5},"03-4-23.1043(333)",0,1.1000000000000001,0,0,{"$f":"SUMIF(Y$14:BA$14,C897,Y$7:BA$7)","v":0},0,0,0,0,null,0,null,405.07,0,445.58,0,0,null,0,null,null,null,null,null,null,null,null,null,null,null,{"$f":"IF($I897=AI$7,$E897,0)","v":0},{"$f":"IF($K897=ROUND(AI$7*$F897,2),$G897,0)","v":0},0,0,0,0,{"$f":"IF($I897=AO$7,$E897,0)","v":0},{"$f":"IF($K897=ROUND(AO$7*$F897,2),$G897,0)","v":0},0,0,0,0,{"$f":"IF($I897=AU$7,$E897,0)","v":0},{"$f":"IF($K897=ROUND(AU$7*$F897,2),$G897,0)","v":0},0,0,0,0,{"$f":"IF($I897=BA$7,$E897,0)","v":0},{"$f":"IF($K897=ROUND(BA$7*$F897,2),$G897,0)","v":0},0,0,0,0,null,0]
["ИП               Кудрявцева       Татьяна Александровна","",{"$f":"C899","v":6},"03-4-23.1046(333)",0.85799999999999998,1.5,0,0.85799999999999998,{"$f":"SUMIF(Y$14:BA$14,C898,Y$6:BA$6)","v":1733.45},{"$f":"IF(H898=0,ROUND(E898*I898,2),ROUND(H898*E898,2))","v":0.74},{"$f":"ROUND(F898*I898,2)","v":2600.1799999999998},{"$f":"IF(H898=0,ROUND(ROUND(F898*I898,2)*G898,2),ROUND(G898*H898,2))","v":0},{"$f":"L898-ROUND(G898*I898,2)","v":0},null,{"$f":"J898+L898+N898","v":0.74},null,405.07,{"$f":"ROUND(Q898*E898,2)","v":347.55},{"$f":"ROUND(F898*Q898,2)","v":607.61},{"$f":"ROUND(S898*G898,2)","v":0},{"$f":"T898-ROUND(Q898*G898,2)","v":0},null,{"$f":"R898+T898+V898","v":347.55},null,null,null,null,null,null,null,null,null,null,null,{"$f":"IF($I898=AI$6,$E898,0)","v":0},{"$f":"IF($K898=ROUND(AI$6*$F898,2),$G898,0)","v":0},{"$f":"IF($H898>0,AI898,0)","v":0},{"$f":"IF(AK898>0,1,0)","v":0},{"$f":"IF($H898>0,AJ898,0)","v":0},{"$f":"IF(AM898>0,1,0)","v":0},{"$f":"IF($I898=AO$6,$E898,0)","v":0},{"$f":"IF($K898=ROUND(AO$6*$F898,2),$G898,0)","v":0},{"$f":"IF($H898>0,AO898,0)","v":0},{"$f":"IF(AQ898>0,1,0)","v":0},{"$f":"IF($H898>0,AP898,0)","v":0},{"$f":"IF(AS898>0,1,0)","v":0},{"$f":"IF($I898=AU$6,$E898,0)","v":0.85799999999999998},{"$f":"IF($K898=ROUND(AU$6*$F898,2),$G898,0)","v":0},{"$f":"IF($H898>0,AU898,0)","v":0.85799999999999998},{"$f":"IF(AW898>0,1,0)","v":1},{"$f":"IF($H898>0,AV898,0)","v":0},{"$f":"IF(AY898>0,1,0)","v":0},{"$f":"IF($I898=BA$6,$E898,0)","v":0},{"$f":"IF($K898=ROUND(BA$6*$F898,2),$G898,0)","v":0},{"$f":"IF($H898>0,BA898,0)","v":0},{"$f":"IF(BC898>0,1,0)","v":0},{"$f":"IF($H898>0,BB898,0)","v":0},{"$f":"IF(BE898>0,1,0)","v":0},null,8.5800000000000004E-4,1.5]
[{"$f":"IF(E899+G899>0,A898,\"\")","v":""},{"$f":"IF(E899+G899>0,B898,\"\")","v":""},6,"03-4-23.1046(333)",0,1.1000000000000001,0,0,{"$f":"SUMIF(Y$14:BA$14,C899,Y$6:BA$6)","v":1733.45},{"$f":"IF(H899=0,ROUND(E899*I899,2),ROUND(H899*E899,2))","v":0},{"$f":"ROUND(F899*I899,2)","v":1906.8},{"$f":"IF(H899=0,ROUND(ROUND(F899*I899,2)*G899,2),ROUND(G899*H899,2))","v":0},{"$f":"L899-ROUND(G899*I899,2)","v":0},null,{"$f":"J899+L899+N899","v":0},null,405.07,{"$f":"ROUND(Q899*E899,2)","v":0},{"$f":"ROUND(F899*Q899,2)","v":445.58},{"$f":"ROUND(S899*G899,2)","v":0},{"$f":"T899-ROUND(Q899*G899,2)","v":0},null,{"$f":"R899+T899+V899","v":0},null,null,null,null,null,null,null,null,null,null,null,{"$f":"IF($I899=AI$6,$E899,0)","v":0},0,{"$f":"IF($H899>0,AI899,0)","v":0},{"$f":"IF(AK899>0,1,0)","v":0},{"$f":"IF($H899>0,AJ899,0)","v":0},{"$f":"IF(AM899>0,1,0)","v":0},{"$f":"IF($I899=AO$6,$E899,0)","v":0},0,{"$f":"IF($H899>0,AO899,0)","v":0},{"$f":"IF(AQ899>0,1,0)","v":0},{"$f":"IF($H899>0,AP899,0)","v":0},{"$f":"IF(AS899>0,1,0)","v":0},{"$f":"IF($I899=AU$6,$E899,0)","v":0},0,{"$f":"IF($H899>0,AU899,0)","v":0},{"$f":"IF(AW899>0,1,0)","v":0},{"$f":"IF($H899>0,AV899,0)","v":0},{"$f":"IF(AY899>0,1,0)","v":0},{"$f":"IF($I899=BA$6,$E899,0)","v":0},0,{"$f":"IF($H899>0,BA899,0)","v":0},{"$f":"IF(BC899>0,1,0)","v":0},{"$f":"IF($H899>0,BB899,0)","v":0},{"$f":"IF(BE899>0,1,0)","v":0},null,0]
[{"$f":"IF(E900+G900>0,A898,\"\")","v":""},{"$f":"IF(E900+G900>0,B898,\"\")","v":""},{"$f":"C899","v":6},"03-4-23.1046(333)",0,1.5,0,0,{"$f":"SUMIF(Y$14:BA$14,C900,Y$7:BA$7)","v":0},0,0,0,0,null,0,null,405.07,0,607.61,0,0,null,0,null,null,null,null,null,null,null,null,null,null,null,{"$f":"IF($I900=AI$7,$E900,0)","v":0},{"$f":"IF($K900=ROUND(AI$7*$F900,2),$G900,0)","v":0},0,0,0,0,{"$f":"IF($I900=AO$7,$E900,0)","v":0},{"$f":"IF($K900=ROUND(AO$7*$F900,2),$G900,0)","v":0},0,0,0,0,{"$f":"IF($I900=AU$7,$E900,0)","v":0},{"$f":"IF($K900=ROUND(AU$7*$F900,2),$G900,0)","v":0},0,0,0,0,{"$f":"IF($I900=BA$7,$E900,0)","v":0},{"$f":"IF($K900=ROUND(BA$7*$F900,2),$G900,0)","v":0},0,0,0,0,null,0]
[{"$f":"IF(E901+G901>0,A898,\"\")","v":""},{"$f":"IF(E901+G901>0,B898,\"\")","v":""},{"$f":"C899","v":6},"03-4-23.1046(333)",0,1.1000000000000001,0,0,{"$f":"SUMIF(Y$14:BA$14,C901,Y$7:BA$7)","v":0},0,0,0,0,null,0,null,405.07,0,445.58,0,0,null,0,null,null,null,null,null,null,null,null,null,null,null,{"$f":"IF($I901=AI$7,$E901,0)","v":0},{"$f":"IF($K901=ROUND(AI$7*$F901,2),$G901,0)","v":0},0,0,0,0,{"$f":"IF($I901=AO$7,$E901,0)","v":0},{"$f":"IF($K901=ROUND(AO$7*$F901,2),$G901,0)","v":0},0,0,0,0,{"$f":"IF($I901=AU$7,$E901,0)","v":0},{"$f":"IF($K901=ROUND(AU$7*$F901,2),$G901,0)","v":0},0,0,0,0,{"$f":"IF($I901=BA$7,$E901,0)","v":0},{"$f":"IF($K901=ROUND(BA$7*$F901,2),$G901,0)","v":0},0,0,0,0,null,0]
["Гр.               Волов                Олег Анатольевич","",{"$f":"C903","v":7},"03-4-23.1050(333)",4.5999999999999999E-2,1.5,0,4.5999999999999999E-2,{"$f":"SUMIF(Y$14:BA$14,C902,Y$6:BA$6)","v":2166.8000000000002},{"$f":"IF(H902=0,ROUND(E902*I902,2),ROUND(H902*E902,2))","v":0},{"$f":"ROUND(F902*I902,2)","v":3250.2},{"$f":"IF(H902=0,ROUND(ROUND(F902*I902,2)*G902,2),ROUND(G902*H902,2))","v":0},{"$f":"L902-ROUND(G902*I902,2)","v":0},null,{"$f":"J902+L902+N902","v":0},null,405.07,{"$f":"ROUND(Q902*E902,2)","v":18.63},{"$f":"ROUND(F902*Q902,2)","v":607.61},{"$f":"ROUND(S902*G902,2)","v":0},{"$f":"T902-ROUND(Q902*G902,2)","v":0},null,{"$f":"R902+T902+V902","v":18.63},null,null,null,null,null,null,null,null,null,null,null,{"$f":"IF($I902=AI$6,$E902,0)","v":0},{"$f":"IF($K902=ROUND(AI$6*$F902,2),$G902,0)","v":0},{"$f":"IF($H902>0,AI902,0)","v":0},{"$f":"IF(AK902>0,1,0)","v":0},{"$f":"IF($H902>0,AJ902,0)","v":0},{"$f":"IF(AM902>0,1,0)","v":0},{"$f":"IF($I902=AO$6,$E902,0)","v":0},{"$f":"IF($K902=ROUND(AO$6*$F902,2),$G902,0)","v":0},{"$f":"IF($H902>0,AO902,0)","v":0},{"$f":"IF(AQ902>0,1,0)","v":0},{"$f":"IF($H902>0,AP902,0)","v":0},{"$f":"IF(AS902>0,1,0)","v":0},{"$f":"IF($I902=AU$6,$E902,0)","v":0},{"$f":"IF($K902=ROUND(AU$6*$F902,2),$G902,0)","v":0},{"$f":"IF($H902>0,AU902,0)","v":0},{"$f":"IF(AW902>0,1,0)","v":0},{"$f":"IF($H902>0,AV902,0)","v":0},{"$f":"IF(AY902>0,1,0)","v":0},{"$f":"IF($I902=BA$6,$E902,0)","v":4.5999999999999999E-2},{"$f":"IF($K902=ROUND(BA$6*$F902,2),$G902,0)","v":0},{"$f":"IF($H902>0,BA902,0)","v":4.5999999999999999E-2},{"$f":"IF(BC902>0,1,0)","v":1},{"$f":"IF($H902>0,BB902,0)","v":0},{"$f":"IF(BE902>0,1,0)","v":0},null,4.6E-5,0.2]
[{"$f":"IF(E903+G903>0,A902,\"\")","v":""},{"$f":"IF(E903+G903>0,B902,\"\")","v":""},7,"03-4-23.1050(333)",0,1.1000000000000001,0,0,{"$f":"SUMIF(Y$14:BA$14,C903,Y$6:BA$6)","v":2166.8000000000002},{"$f":"IF(H903=0,ROUND(E903*I903,2),ROUND(H903*E903,2))","v":0},{"$f":"ROUND(F903*I903,2)","v":2383.48},{"$f":"IF(H903=0,ROUND(ROUND(F903*I903,2)*G903,2),ROUND(G903*H903,2))","v":0},{"$f":"L903-ROUND(G903*I903,2)","v":0},null,{"$f":"J903+L903+N903","v":0},null,405.07,{"$f":"ROUND(Q903*E903,2)","v":0},{"$f":"ROUND(F903*Q903,2)","v":445.58},{"$f":"ROUND(S903*G903,2)","v":0},{"$f":"T903-ROUND(Q903*G903,2)","v":0},null,{"$f":"R903+T903+V903","v":0},null,null,null,null,null,null,null,null,null,null,null,{"$f":"IF($I903=AI$6,$E903,0)","v":0},0,{"$f":"IF($H903>0,AI903,0)","v":0},{"$f":"IF(AK903>0,1,0)","v":0},{"$f":"IF($H903>0,AJ903,0)","v":0},{"$f":"IF(AM903>0,1,0)","v":0},{"$f":"IF($I903=AO$6,$E903,0)","v":0},0,{"$f":"IF($H903>0,AO903,0)","v":0},{"$f":"IF(AQ903>0,1,0)","v":0},{"$f":"IF($H903>0,AP903,0)","v":0},{"$f":"IF(AS903>0,1,0)","v":0},{"$f":"IF($I903=AU$6,$E903,0)","v":0},0,{"$f":"IF($H903>0,AU903,0)","v":0},{"$f":"IF(AW903>0,1,0)","v":0},{"$f":"IF($H903>0,AV903,0)","v":0},{"$f":"IF(AY903>0,1,0)","v":0},{"$f":"IF($I903=BA$6,$E903,0)","v":0},0,{"$f":"IF($H903>0,BA903,0)","v":0},{"$f":"IF(BC903>0,1,0)","v":0},{"$f":"IF($H903>0,BB903,0)","v":0},{"$f":"IF(BE903>0,1,0)","v":0},null,0]
[{"$f":"IF(E904+G904>0,A902,\"\")","v":""},{"$f":"IF(E904+G904>0,B902,\"\")","v":""},{"$f":"C903","v":7},"03-4-23.1050(333)",0,1.5,0,0,{"$f":"SUMIF(Y$14:BA$14,C904,Y$7:BA$7)","v":0},0,0,0,0,null,0,null,405.07,0,607.61,0,0,null,0,null,null,null,null,null,null,null,null,null,null,null,{"$f":"IF($I904=AI$7,$E904,0)","v":0},{"$f":"IF($K904=ROUND(AI$7*$F904,2),$G904,0)","v":0},0,0,0,0,{"$f":"IF($I904=AO$7,$E904,0)","v":0},{"$f":"IF($K904=ROUND(AO$7*$F904,2),$G904,0)","v":0},0,0,0,0,{"$f":"IF($I904=AU$7,$E904,0)","v":0},{"$f":"IF($K904=ROUND(AU$7*$F904,2),$G904,0)","v":0},0,0,0,0,{"$f":"IF($I904=BA$7,$E904,0)","v":0},{"$f":"IF($K904=ROUND(BA$7*$F904,2),$G904,0)","v":0},0,0,0,0,null,0]
[{"$f":"IF(E905+G905>0,A902,\"\")","v":""},{"$f":"IF(E905+G905>0,B902,\"\")","v":""},{"$f":"C903","v":7},"03-4-23.1050(333)",0,1.1000000000000001,0,0,{"$f":"SUMIF(Y$14:BA$14,C905,Y$7:BA$7)","v":0},0,0,0,0,null,0,null,405.07,0,445.58,0,0,null,0,null,null,null,null,null,null,null,null,null,null,null,{"$f":"IF($I905=AI$7,$E905,0)","v":0},{"$f":"IF($K905=ROUND(AI$7*$F905,2),$G905,0)","v":0},0,0,0,0,{"$f":"IF($I905=AO$7,$E905,0)","v":0},{"$f":"IF($K905=ROUND(AO$7*$F905,2),$G905,0)","v":0},0,0,0,0,{"$f":"IF($I905=AU$7,$E905,0)","v":0},{"$f":"IF($K905=ROUND(AU$7*$F905,2),$G905,0)","v":0},0,0,0,0,{"$f":"IF($I905=BA$7,$E905,0)","v":0},{"$f":"IF($K905=ROUND(BA$7*$F905,2),$G905,0)","v":0},0,0,0,0,null,0]
["ПО             \"Сельменьгахлеб\"","",{"$f":"C907","v":7},"03-4-23.1055(333)",0.35599999999999998,1.5,0,0.35599999999999998,{"$f":"SUMIF(Y$14:BA$14,C906,Y$6:BA$6)","v":2166.8000000000002},{"$f":"IF(H906=0,ROUND(E906*I906,2),ROUND(H906*E906,2))","v":0.13},{"$f":"ROUND(F906*I906,2)","v":3250.2},{"$f":"IF(H906=0,ROUND(ROUND(F906*I906,2)*G906,2),ROUND(G906*H906,2))","v":0},{"$f":"L906-ROUND(G906*I906,2)","v":0},null,{"$f":"J906+L906+N906","v":0.13},null,405.07,{"$f":"ROUND(Q906*E906,2)","v":144.19999999999999},{"$f":"ROUND(F906*Q906,2)","v":607.61},{"$f":"ROUND(S906*G906,2)","v":0},{"$f":"T906-ROUND(Q906*G906,2)","v":0},null,{"$f":"R906+T906+V906","v":144.19999999999999},null,null,null,null,null,null,null,null,null,null,null,{"$f":"IF($I906=AI$6,$E906,0)","v":0},{"$f":"IF($K906=ROUND(AI$6*$F906,2),$G906,0)","v":0},{"$f":"IF($H906>0,AI906,0)","v":0},{"$f":"IF(AK906>0,1,0)","v":0},{"$f":"IF($H906>0,AJ906,0)","v":0},{"$f":"IF(AM906>0,1,0)","v":0},{"$f":"IF($I906=AO$6,$E906,0)","v":0},{"$f":"IF($K906=ROUND(AO$6*$F906,2),$G906,0)","v":0},{"$f":"IF($H906>0,AO906,0)","v":0},{"$f":"IF(AQ906>0,1,0)","v":0},{"$f":"IF($H906>0,AP906,0)","v":0},{"$f":"IF(AS906>0,1,0)","v":0},{"$f":"IF($I906=AU$6,$E906,0)","v":0},{"$f":"IF($K906=ROUND(AU$6*$F906,2),$G906,0)","v":0},{"$f":"IF($H906>0,AU906,0)","v":0},{"$f":"IF(AW906>0,1,0)","v":0},{"$f":"IF($H906>0,AV906,0)","v":0},{"$f":"IF(AY906>0,1,0)","v":0},{"$f":"IF($I906=BA$6,$E906,0)","v":0.35599999999999998},{"$f":"IF($K906=ROUND(BA$6*$F906,2),$G906,0)","v":0},{"$f":"IF($H906>0,BA906,0)","v":0.35599999999999998},{"$f":"IF(BC906>0,1,0)","v":1},{"$f":"IF($H906>0,BB906,0)","v":0},{"$f":"IF(BE906>0,1,0)","v":0},null,3.5599999999999998E-4,0.55000000000000004]
[{"$f":"IF(E907+G907>0,A906,\"\")","v":""},{"$f":"IF(E907+G907>0,B906,\"\")","v":""},7,"03-4-23.1055(333)",0,1.1000000000000001,0,0,{"$f":"SUMIF(Y$14:BA$14,C907,Y$6:BA$6)","v":2166.8000000000002},{"$f":"IF(H907=0,ROUND(E907*I907,2),ROUND(H907*E907,2))","v":0},{"$f":"ROUND(F907*I907,2)","v":2383.48},{"$f":"IF(H907=0,ROUND(ROUND(F907*I907,2)*G907,2),ROUND(G907*H907,2))","v":0},{"$f":"L907-ROUND(G907*I907,2)","v":0},null,{"$f":"J907+L907+N907","v":0},null,405.07,{"$f":"ROUND(Q907*E907,2)","v":0},{"$f":"ROUND(F907*Q907,2)","v":445.58},{"$f":"ROUND(S907*G907,2)","v":0},{"$f":"T907-ROUND(Q907*G907,2)","v":0},null,{"$f":"R907+T907+V907","v":0},null,null,null,null,null,null,null,null,null,null,null,{"$f":"IF($I907=AI$6,$E907,0)","v":0},0,{"$f":"IF($H907>0,AI907,0)","v":0},{"$f":"IF(AK907>0,1,0)","v":0},{"$f":"IF($H907>0,AJ907,0)","v":0},{"$f":"IF(AM907>0,1,0)","v":0},{"$f":"IF($I907=AO$6,$E907,0)","v":0},0,{"$f":"IF($H907>0,AO907,0)","v":0},{"$f":"IF(AQ907>0,1,0)","v":0},{"$f":"IF($H907>0,AP907,0)","v":0},{"$f":"IF(AS907>0,1,0)","v":0},{"$f":"IF($I907=AU$6,$E907,0)","v":0},0,{"$f":"IF($H907>0,AU907,0)","v":0},{"$f":"IF(AW907>0,1,0)","v":0},{"$f":"IF($H907>0,AV907,0)","v":0},{"$f":"IF(AY907>0,1,0)","v":0},{"$f":"IF($I907=BA$6,$E907,0)","v":0},0,{"$f":"IF($H907>0,BA907,0)","v":0},{"$f":"IF(BC907>0,1,0)","v":0},{"$f":"IF($H907>0,BB907,0)","v":0},{"$f":"IF(BE907>0,1,0)","v":0},null,0]
[{"$f":"IF(E908+G908>0,A906,\"\")","v":""},{"$f":"IF(E908+G908>0,B906,\"\")","v":""},{"$f":"C907","v":7},"03-4-23.1055(333)",0,1.5,0,0,{"$f":"SUMIF(Y$14:BA$14,C908,Y$7:BA$7)","v":0},0,0,0,0,null,0,null,405.07,0,607.61,0,0,null,0,null,null,null,null,null,null,null,null,null,null,null,{"$f":"IF($I908=AI$7,$E908,0)","v":0},{"$f":"IF($K908=ROUND(AI$7*$F908,2),$G908,0)","v":0},0,0,0,0,{"$f":"IF($I908=AO$7,$E908,0)","v":0},{"$f":"IF($K908=ROUND(AO$7*$F908,2),$G908,0)","v":0},0,0,0,0,{"$f":"IF($I908=AU$7,$E908,0)","v":0},{"$f":"IF($K908=ROUND(AU$7*$F908,2),$G908,0)","v":0},0,0,0,0,{"$f":"IF($I908=BA$7,$E908,0)","v":0},{"$f":"IF($K908=ROUND(BA$7*$F908,2),$G908,0)","v":0},0,0,0,0,null,0]
[{"$f":"IF(E909+G909>0,A906,\"\")","v":""},{"$f":"IF(E909+G909>0,B906,\"\")","v":""},{"$f":"C907","v":7},"03-4-23.1055(333)",0,1.1000000000000001,0,0,{"$f":"SUMIF(Y$14:BA$14,C909,Y$7:BA$7)","v":0},0,0,0,0,null,0,null,405.07,0,445.58,0,0,null,0,null,null,null,null,null,null,null,null,null,null,null,{"$f":"IF($I909=AI$7,$E909,0)","v":0},{"$f":"IF($K909=ROUND(AI$7*$F909,2),$G909,0)","v":0},0,0,0,0,{"$f":"IF($I909=AO$7,$E909,0)","v":0},{"$f":"IF($K909=ROUND(AO$7*$F909,2),$G909,0)","v":0},0,0,0,0,{"$f":"IF($I909=AU$7,$E909,0)","v":0},{"$f":"IF($K909=ROUND(AU$7*$F909,2),$G909,0)","v":0},0,0,0,0,{"$f":"IF($I909=BA$7,$E909,0)","v":0},{"$f":"IF($K909=ROUND(BA$7*$F909,2),$G909,0)","v":0},0,0,0,0,null,0]
["ООО          \"Арктиквтормет\"","Вельск, ул.Гагарина-2Б",{"$f":"C911","v":7},"03-4-23.1061(333)",0.70099999999999996,1.5,0,0.70099999999999996,{"$f":"SUMIF(Y$14:BA$14,C910,Y$6:BA$6)","v":2166.8000000000002},{"$f":"IF(H910=0,ROUND(E910*I910,2),ROUND(H910*E910,2))","v":0.49},{"$f":"ROUND(F910*I910,2)","v":3250.2},{"$f":"IF(H910=0,ROUND(ROUND(F910*I910,2)*G910,2),ROUND(G910*H910,2))","v":0},{"$f":"L910-ROUND(G910*I910,2)","v":0},null,{"$f":"J910+L910+N910","v":0.49},null,405.07,{"$f":"ROUND(Q910*E910,2)","v":283.95},{"$f":"ROUND(F910*Q910,2)","v":607.61},{"$f":"ROUND(S910*G910,2)","v":0},{"$f":"T910-ROUND(Q910*G910,2)","v":0},null,{"$f":"R910+T910+V910","v":283.95},null,null,null,null,null,null,null,null,null,null,null,{"$f":"IF($I910=AI$6,$E910,0)","v":0},{"$f":"IF($K910=ROUND(AI$6*$F910,2),$G910,0)","v":0},{"$f":"IF($H910>0,AI910,0)","v":0},{"$f":"IF(AK910>0,1,0)","v":0},{"$f":"IF($H910>0,AJ910,0)","v":0},{"$f":"IF(AM910>0,1,0)","v":0},{"$f":"IF($I910=AO$6,$E910,0)","v":0},{"$f":"IF($K910=ROUND(AO$6*$F910,2),$G910,0)","v":0},{"$f":"IF($H910>0,AO910,0)","v":0},{"$f":"IF(AQ910>0,1,0)","v":0},{"$f":"IF($H910>0,AP910,0)","v":0},{"$f":"IF(AS910>0,1,0)","v":0},{"$f":"IF($I910=AU$6,$E910,0)","v":0},{"$f":"IF($K910=ROUND(AU$6*$F910,2),$G910,0)","v":0},{"$f":"IF($H910>0,AU910,0)","v":0},{"$f":"IF(AW910>0,1,0)","v":0},{"$f":"IF($H910>0,AV910,0)","v":0},{"$f":"IF(AY910>0,1,0)","v":0},{"$f":"IF($I910=BA$6,$E910,0)","v":0.70099999999999996},{"$f":"IF($K910=ROUND(BA$6*$F910,2),$G910,0)","v":0},{"$f":"IF($H910>0,BA910,0)","v":0.70099999999999996},{"$f":"IF(BC910>0,1,0)","v":1},{"$f":"IF($H910>0,BB910,0)","v":0},{"$f":"IF(BE910>0,1,0)","v":0},null,7.0099999999999991E-4,0.7]
[{"$f":"IF(E911+G911>0,A910,\"\")","v":""},{"$f":"IF(E911+G911>0,B910,\"\")","v":""},7,"03-4-23.1061(333)",0,1.1000000000000001,0,0,{"$f":"SUMIF(Y$14:BA$14,C911,Y$6:BA$6)","v":2166.8000000000002},{"$f":"IF(H911=0,ROUND(E911*I911,2),ROUND(H911*E911,2))","v":0},{"$f":"ROUND(F911*I911,2)","v":2383.48},{"$f":"IF(H911=0,ROUND(ROUND(F911*I911,2)*G911,2),ROUND(G911*H911,2))","v":0},{"$f":"L911-ROUND(G911*I911,2)","v":0},null,{"$f":"J911+L911+N911","v":0},null,405.07,{"$f":"ROUND(Q911*E911,2)","v":0},{"$f":"ROUND(F911*Q911,2)","v":445.58},{"$f":"ROUND(S911*G911,2)","v":0},{"$f":"T911-ROUND(Q911*G911,2)","v":0},null,{"$f":"R911+T911+V911","v":0},null,null,null,null,null,null,null,null,null,null,null,{"$f":"IF($I911=AI$6,$E911,0)","v":0},0,{"$f":"IF($H911>0,AI911,0)","v":0},{"$f":"IF(AK911>0,1,0)","v":0},{"$f":"IF($H911>0,AJ911,0)","v":0},{"$f":"IF(AM911>0,1,0)","v":0},{"$f":"IF($I911=AO$6,$E911,0)","v":0},0,{"$f":"IF($H911>0,AO911,0)","v":0},{"$f":"IF(AQ911>0,1,0)","v":0},{"$f":"IF($H911>0,AP911,0)","v":0},{"$f":"IF(AS911>0,1,0)","v":0},{"$f":"IF($I911=AU$6,$E911,0)","v":0},0,{"$f":"IF($H911>0,AU911,0)","v":0},{"$f":"IF(AW911>0,1,0)","v":0},{"$f":"IF($H911>0,AV911,0)","v":0},{"$f":"IF(AY911>0,1,0)","v":0},{"$f":"IF($I911=BA$6,$E911,0)","v":0},0,{"$f":"IF($H911>0,BA911,0)","v":0},{"$f":"IF(BC911>0,1,0)","v":0},{"$f":"IF($H911>0,BB911,0)","v":0},{"$f":"IF(BE911>0,1,0)","v":0},null,0]
[{"$f":"IF(E912+G912>0,A910,\"\")","v":""},{"$f":"IF(E912+G912>0,B910,\"\")","v":""},{"$f":"C911","v":7},"03-4-23.1061(333)",0,1.5,0,0,{"$f":"SUMIF(Y$14:BA$14,C912,Y$7:BA$7)","v":0},0,0,0,0,null,0,null,{"$f":"IF(BI912>0,Q$6,Q$6)","v":405.07},0,607.61,0,0,null,0,null,null,null,null,null,null,null,null,null,null,null,{"$f":"IF($I912=AI$7,$E912,0)","v":0},{"$f":"IF($K912=ROUND(AI$7*$F912,2),$G912,0)","v":0},0,0,0,0,{"$f":"IF($I912=AO$7,$E912,0)","v":0},{"$f":"IF($K912=ROUND(AO$7*$F912,2),$G912,0)","v":0},0,0,0,0,{"$f":"IF($I912=AU$7,$E912,0)","v":0},{"$f":"IF($K912=ROUND(AU$7*$F912,2),$G912,0)","v":0},0,0,0,0,{"$f":"IF($I912=BA$7,$E912,0)","v":0},{"$f":"IF($K912=ROUND(BA$7*$F912,2),$G912,0)","v":0},0,0,0,0,null,0]
[{"$f":"IF(E913+G913>0,A910,\"\")","v":""},{"$f":"IF(E913+G913>0,B910,\"\")","v":""},{"$f":"C911","v":7},"03-4-23.1061(333)",0,1.1000000000000001,0,{"$f":"E913+G913","v":0},{"$f":"SUMIF(Y$14:BA$14,C913,Y$7:BA$7)","v":0},0,0,0,0,null,0,null,405.07,0,445.58,0,0,null,0,null,null,null,null,null,null,null,null,null,null,null,{"$f":"IF($I913=AI$7,$E913,0)","v":0},{"$f":"IF($K913=ROUND(AI$7*$F913,2),$G913,0)","v":0},0,0,0,0,{"$f":"IF($I913=AO$7,$E913,0)","v":0},{"$f":"IF($K913=ROUND(AO$7*$F913,2),$G913,0)","v":0},0,0,0,0,{"$f":"IF($I913=AU$7,$E913,0)","v":0},{"$f":"IF($K913=ROUND(AU$7*$F913,2),$G913,0)","v":0},0,0,0,0,{"$f":"IF($I913=BA$7,$E913,0)","v":0},{"$f":"IF($K913=ROUND(BA$7*$F913,2),$G913,0)","v":0},0,0,0,0,null,{"$f":"H913/1000","v":0}]
["ИП              Михайлов            Вадим Викторович","",{"$f":"C915","v":7},"03-4-22.1071(333)",0,1.5,0,0,{"$f":"SUMIF(Y$14:BA$14,C914,Y$6:BA$6)","v":2166.8000000000002},{"$f":"IF(H914=0,ROUND(E914*I914,2),ROUND(H914*E914,2))","v":0},{"$f":"ROUND(F914*I914,2)","v":3250.2},{"$f":"IF(H914=0,ROUND(ROUND(F914*I914,2)*G914,2),ROUND(G914*H914,2))","v":0},{"$f":"L914-ROUND(G914*I914,2)","v":0},null,{"$f":"J914+L914+N914","v":0},null,405.07,{"$f":"ROUND(Q914*E914,2)","v":0},{"$f":"ROUND(F914*Q914,2)","v":607.61},{"$f":"ROUND(S914*G914,2)","v":0},{"$f":"T914-ROUND(Q914*G914,2)","v":0},null,{"$f":"R914+T914+V914","v":0},null,null,null,null,null,null,null,null,null,null,null,{"$f":"IF($I914=AI$6,$E914,0)","v":0},{"$f":"IF($K914=ROUND(AI$6*$F914,2),$G914,0)","v":0},{"$f":"IF($H914>0,AI914,0)","v":0},{"$f":"IF(AK914>0,1,0)","v":0},{"$f":"IF($H914>0,AJ914,0)","v":0},{"$f":"IF(AM914>0,1,0)","v":0},{"$f":"IF($I914=AO$6,$E914,0)","v":0},{"$f":"IF($K914=ROUND(AO$6*$F914,2),$G914,0)","v":0},{"$f":"IF($H914>0,AO914,0)","v":0},{"$f":"IF(AQ914>0,1,0)","v":0},{"$f":"IF($H914>0,AP914,0)","v":0},{"$f":"IF(AS914>0,1,0)","v":0},{"$f":"IF($I914=AU$6,$E914,0)","v":0},{"$f":"IF($K914=ROUND(AU$6*$F914,2),$G914,0)","v":0},{"$f":"IF($H914>0,AU914,0)","v":0},{"$f":"IF(AW914>0,1,0)","v":0},{"$f":"IF($H914>0,AV914,0)","v":0},{"$f":"IF(AY914>0,1,0)","v":0},{"$f":"IF($I914=BA$6,$E914,0)","v":0},{"$f":"IF($K914=ROUND(BA$6*$F914,2),$G914,0)","v":0},{"$f":"IF($H914>0,BA914,0)","v":0},{"$f":"IF(BC914>0,1,0)","v":0},{"$f":"IF($H914>0,BB914,0)","v":0},{"$f":"IF(BE914>0,1,0)","v":0},null,0,0.9]
[{"$f":"IF(E915+G915>0,A914,\"\")","v":""},{"$f":"IF(E915+G915>0,B914,\"\")","v":""},7,"03-4-22.1071(333)",0,1.1000000000000001,0,0,{"$f":"SUMIF(Y$14:BA$14,C915,Y$6:BA$6)","v":2166.8000000000002},{"$f":"IF(H915=0,ROUND(E915*I915,2),ROUND(H915*E915,2))","v":0},{"$f":"ROUND(F915*I915,2)","v":2383.48},{"$f":"IF(H915=0,ROUND(ROUND(F915*I915,2)*G915,2),ROUND(G915*H915,2))","v":0},{"$f":"L915-ROUND(G915*I915,2)","v":0},null,{"$f":"J915+L915+N915","v":0},null,405.07,{"$f":"ROUND(Q915*E915,2)","v":0},{"$f":"ROUND(F915*Q915,2)","v":445.58},{"$f":"ROUND(S915*G915,2)","v":0},{"$f":"T915-ROUND(Q915*G915,2)","v":0},null,{"$f":"R915+T915+V915","v":0},null,null,null,null,null,null,null,null,null,null,null,{"$f":"IF($I915=AI$6,$E915,0)","v":0},0,{"$f":"IF($H915>0,AI915,0)","v":0},{"$f":"IF(AK915>0,1,0)","v":0},{"$f":"IF($H915>0,AJ915,0)","v":0},{"$f":"IF(AM915>0,1,0)","v":0},{"$f":"IF($I915=AO$6,$E915,0)","v":0},0,{"$f":"IF($H915>0,AO915,0)","v":0},{"$f":"IF(AQ915>0,1,0)","v":0},{"$f":"IF($H915>0,AP915,0)","v":0},{"$f":"IF(AS915>0,1,0)","v":0},{"$f":"IF($I915=AU$6,$E915,0)","v":0},0,{"$f":"IF($H915>0,AU915,0)","v":0},{"$f":"IF(AW915>0,1,0)","v":0},{"$f":"IF($H915>0,AV915,0)","v":0},{"$f":"IF(AY915>0,1,0)","v":0},{"$f":"IF($I915=BA$6,$E915,0)","v":0},0,{"$f":"IF($H915>0,BA915,0)","v":0},{"$f":"IF(BC915>0,1,0)","v":0},{"$f":"IF($H915>0,BB915,0)","v":0},{"$f":"IF(BE915>0,1,0)","v":0},null,0]
[{"$f":"IF(E916+G916>0,A914,\"\")","v":""},{"$f":"IF(E916+G916>0,B914,\"\")","v":""},{"$f":"C915","v":7},"03-4-22.1071(333)",0,1.5,0,0,{"$f":"SUMIF(Y$14:BA$14,C916,Y$7:BA$7)","v":0},0,0,0,0,null,0,null,405.07,0,607.61,0,0,null,0,null,null,null,null,null,null,null,null,null,null,null,{"$f":"IF($I916=AI$7,$E916,0)","v":0},{"$f":"IF($K916=ROUND(AI$7*$F916,2),$G916,0)","v":0},0,0,0,0,{"$f":"IF($I916=AO$7,$E916,0)","v":0},{"$f":"IF($K916=ROUND(AO$7*$F916,2),$G916,0)","v":0},0,0,0,0,{"$f":"IF($I916=AU$7,$E916,0)","v":0},{"$f":"IF($K916=ROUND(AU$7*$F916,2),$G916,0)","v":0},0,0,0,0,{"$f":"IF($I916=BA$7,$E916,0)","v":0},{"$f":"IF($K916=ROUND(BA$7*$F916,2),$G916,0)","v":0},0,0,0,0,null,0]
[{"$f":"IF(E917+G917>0,A914,\"\")","v":""},{"$f":"IF(E917+G917>0,B914,\"\")","v":""},{"$f":"C915","v":7},"03-4-22.1071(333)",0,1.1000000000000001,0,0,{"$f":"SUMIF(Y$14:BA$14,C917,Y$7:BA$7)","v":0},0,0,0,0,null,0,null,405.07,0,445.58,0,0,null,0,null,null,null,null,null,null,null,null,null,null,null,{"$f":"IF($I917=AI$7,$E917,0)","v":0},{"$f":"IF($K917=ROUND(AI$7*$F917,2),$G917,0)","v":0},0,0,0,0,{"$f":"IF($I917=AO$7,$E917,0)","v":0},{"$f":"IF($K917=ROUND(AO$7*$F917,2),$G917,0)","v":0},0,0,0,0,{"$f":"IF($I917=AU$7,$E917,0)","v":0},{"$f":"IF($K917=ROUND(AU$7*$F917,2),$G917,0)","v":0},0,0,0,0,{"$f":"IF($I917=BA$7,$E917,0)","v":0},{"$f":"IF($K917=ROUND(BA$7*$F917,2),$G917,0)","v":0},0,0,0,0,null,0]
["Гр.              Звездина             Надежда Леонидовна","",{"$f":"C919","v":6},"03-4-22.1073(333)",0.51500000000000001,1.5,0,0.51500000000000001,{"$f":"SUMIF(Y$14:BA$14,C918,Y$6:BA$6)","v":1733.45},{"$f":"IF(H918=0,ROUND(E918*I918,2),ROUND(H918*E918,2))","v":0.27},{"$f":"ROUND(F918*I918,2)","v":2600.1799999999998},{"$f":"IF(H918=0,ROUND(ROUND(F918*I918,2)*G918,2),ROUND(G918*H918,2))","v":0},{"$f":"L918-ROUND(G918*I918,2)","v":0},null,{"$f":"J918+L918+N918","v":0.27},null,405.07,{"$f":"ROUND(Q918*E918,2)","v":208.61},{"$f":"ROUND(F918*Q918,2)","v":607.61},{"$f":"ROUND(S918*G918,2)","v":0},{"$f":"T918-ROUND(Q918*G918,2)","v":0},null,{"$f":"R918+T918+V918","v":208.61},null,null,null,null,null,null,null,null,null,null,null,{"$f":"IF($I918=AI$6,$E918,0)","v":0},{"$f":"IF($K918=ROUND(AI$6*$F918,2),$G918,0)","v":0},{"$f":"IF($H918>0,AI918,0)","v":0},{"$f":"IF(AK918>0,1,0)","v":0},{"$f":"IF($H918>0,AJ918,0)","v":0},{"$f":"IF(AM918>0,1,0)","v":0},{"$f":"IF($I918=AO$6,$E918,0)","v":0},{"$f":"IF($K918=ROUND(AO$6*$F918,2),$G918,0)","v":0},{"$f":"IF($H918>0,AO918,0)","v":0},{"$f":"IF(AQ918>0,1,0)","v":0},{"$f":"IF($H918>0,AP918,0)","v":0},{"$f":"IF(AS918>0,1,0)","v":0},{"$f":"IF($I918=AU$6,$E918,0)","v":0.51500000000000001},{"$f":"IF($K918=ROUND(AU$6*$F918,2),$G918,0)","v":0},{"$f":"IF($H918>0,AU918,0)","v":0.51500000000000001},{"$f":"IF(AW918>0,1,0)","v":1},{"$f":"IF($H918>0,AV918,0)","v":0},{"$f":"IF(AY918>0,1,0)","v":0},{"$f":"IF($I918=BA$6,$E918,0)","v":0},{"$f":"IF($K918=ROUND(BA$6*$F918,2),$G918,0)","v":0},{"$f":"IF($H918>0,BA918,0)","v":0},{"$f":"IF(BC918>0,1,0)","v":0},{"$f":"IF($H918>0,BB918,0)","v":0},{"$f":"IF(BE918>0,1,0)","v":0},null,5.1500000000000005E-4,1.1000000000000001]
[{"$f":"IF(E919+G919>0,A918,\"\")","v":""},{"$f":"IF(E919+G919>0,B918,\"\")","v":""},6,"03-4-22.1073(333)",0,1.1000000000000001,0,0,{"$f":"SUMIF(Y$14:BA$14,C919,Y$6:BA$6)","v":1733.45},{"$f":"IF(H919=0,ROUND(E919*I919,2),ROUND(H919*E919,2))","v":0},{"$f":"ROUND(F919*I919,2)","v":1906.8},{"$f":"IF(H919=0,ROUND(ROUND(F919*I919,2)*G919,2),ROUND(G919*H919,2))","v":0},{"$f":"L919-ROUND(G919*I919,2)","v":0},null,{"$f":"J919+L919+N919","v":0},null,405.07,{"$f":"ROUND(Q919*E919,2)","v":0},{"$f":"ROUND(F919*Q919,2)","v":445.58},{"$f":"ROUND(S919*G919,2)","v":0},{"$f":"T919-ROUND(Q919*G919,2)","v":0},null,{"$f":"R919+T919+V919","v":0},null,null,null,null,null,null,null,null,null,null,null,{"$f":"IF($I919=AI$6,$E919,0)","v":0},0,{"$f":"IF($H919>0,AI919,0)","v":0},{"$f":"IF(AK919>0,1,0)","v":0},{"$f":"IF($H919>0,AJ919,0)","v":0},{"$f":"IF(AM919>0,1,0)","v":0},{"$f":"IF($I919=AO$6,$E919,0)","v":0},0,{"$f":"IF($H919>0,AO919,0)","v":0},{"$f":"IF(AQ919>0,1,0)","v":0},{"$f":"IF($H919>0,AP919,0)","v":0},{"$f":"IF(AS919>0,1,0)","v":0},{"$f":"IF($I919=AU$6,$E919,0)","v":0},0,{"$f":"IF($H919>0,AU919,0)","v":0},{"$f":"IF(AW919>0,1,0)","v":0},{"$f":"IF($H919>0,AV919,0)","v":0},{"$f":"IF(AY919>0,1,0)","v":0},{"$f":"IF($I919=BA$6,$E919,0)","v":0},0,{"$f":"IF($H919>0,BA919,0)","v":0},{"$f":"IF(BC919>0,1,0)","v":0},{"$f":"IF($H919>0,BB919,0)","v":0},{"$f":"IF(BE919>0,1,0)","v":0},null,0]
[{"$f":"IF(E920+G920>0,A918,\"\")","v":""},{"$f":"IF(E920+G920>0,B918,\"\")","v":""},{"$f":"C919","v":6},"03-4-22.1073(333)",0,1.5,0,0,{"$f":"SUMIF(Y$14:BA$14,C920,Y$7:BA$7)","v":0},0,0,0,0,null,0,null,405.07,0,607.61,0,0,null,0,null,null,null,null,null,null,null,null,null,null,null,{"$f":"IF($I920=AI$7,$E920,0)","v":0},{"$f":"IF($K920=ROUND(AI$7*$F920,2),$G920,0)","v":0},0,0,0,0,{"$f":"IF($I920=AO$7,$E920,0)","v":0},{"$f":"IF($K920=ROUND(AO$7*$F920,2),$G920,0)","v":0},0,0,0,0,{"$f":"IF($I920=AU$7,$E920,0)","v":0},{"$f":"IF($K920=ROUND(AU$7*$F920,2),$G920,0)","v":0},0,0,0,0,{"$f":"IF($I920=BA$7,$E920,0)","v":0},{"$f":"IF($K920=ROUND(BA$7*$F920,2),$G920,0)","v":0},0,0,0,0,null,0]
[{"$f":"IF(E921+G921>0,A918,\"\")","v":""},{"$f":"IF(E921+G921>0,B918,\"\")","v":""},{"$f":"C919","v":6},"03-4-22.1073(333)",0,1.1000000000000001,0,0,{"$f":"SUMIF(Y$14:BA$14,C921,Y$7:BA$7)","v":0},0,0,0,0,null,0,null,405.07,0,445.58,0,0,null,0,null,null,null,null,null,null,null,null,null,null,null,{"$f":"IF($I921=AI$7,$E921,0)","v":0},{"$f":"IF($K921=ROUND(AI$7*$F921,2),$G921,0)","v":0},0,0,0,0,{"$f":"IF($I921=AO$7,$E921,0)","v":0},{"$f":"IF($K921=ROUND(AO$7*$F921,2),$G921,0)","v":0},0,0,0,0,{"$f":"IF($I921=AU$7,$E921,0)","v":0},{"$f":"IF($K921=ROUND(AU$7*$F921,2),$G921,0)","v":0},0,0,0,0,{"$f":"IF($I921=BA$7,$E921,0)","v":0},{"$f":"IF($K921=ROUND(BA$7*$F921,2),$G921,0)","v":0},0,0,0,0,null,0]
["ИП             Беляева            Евгения Николаевна","Вельск, пекарня",{"$f":"C923","v":7},"03-4-22.1077(333)",0.20100000000000001,1.5,0,0.20100000000000001,{"$f":"SUMIF(Y$14:BA$14,C922,Y$6:BA$6)","v":2166.8000000000002},{"$f":"IF(H922=0,ROUND(E922*I922,2),ROUND(H922*E922,2))","v":0.04},{"$f":"ROUND(F922*I922,2)","v":3250.2},{"$f":"IF(H922=0,ROUND(ROUND(F922*I922,2)*G922,2),ROUND(G922*H922,2))","v":0},{"$f":"L922-ROUND(G922*I922,2)","v":0},null,{"$f":"J922+L922+N922","v":0.04},null,405.07,{"$f":"ROUND(Q922*E922,2)","v":81.42},{"$f":"ROUND(F922*Q922,2)","v":607.61},{"$f":"ROUND(S922*G922,2)","v":0},{"$f":"T922-ROUND(Q922*G922,2)","v":0},null,{"$f":"R922+T922+V922","v":81.42},null,null,null,null,null,null,null,null,null,null,null,{"$f":"IF($I922=AI$6,$E922,0)","v":0},{"$f":"IF($K922=ROUND(AI$6*$F922,2),$G922,0)","v":0},{"$f":"IF($H922>0,AI922,0)","v":0},{"$f":"IF(AK922>0,1,0)","v":0},{"$f":"IF($H922>0,AJ922,0)","v":0},{"$f":"IF(AM922>0,1,0)","v":0},{"$f":"IF($I922=AO$6,$E922,0)","v":0},{"$f":"IF($K922=ROUND(AO$6*$F922,2),$G922,0)","v":0},{"$f":"IF($H922>0,AO922,0)","v":0},{"$f":"IF(AQ922>0,1,0)","v":0},{"$f":"IF($H922>0,AP922,0)","v":0},{"$f":"IF(AS922>0,1,0)","v":0},{"$f":"IF($I922=AU$6,$E922,0)","v":0},{"$f":"IF($K922=ROUND(AU$6*$F922,2),$G922,0)","v":0},{"$f":"IF($H922>0,AU922,0)","v":0},{"$f":"IF(AW922>0,1,0)","v":0},{"$f":"IF($H922>0,AV922,0)","v":0},{"$f":"IF(AY922>0,1,0)","v":0},{"$f":"IF($I922=BA$6,$E922,0)","v":0.20100000000000001},{"$f":"IF($K922=ROUND(BA$6*$F922,2),$G922,0)","v":0},{"$f":"IF($H922>0,BA922,0)","v":0.20100000000000001},{"$f":"IF(BC922>0,1,0)","v":1},{"$f":"IF($H922>0,BB922,0)","v":0},{"$f":"IF(BE922>0,1,0)","v":0},null,2.0100000000000001E-4,0.5]
[{"$f":"IF(E923+G923>0,A922,\"\")","v":""},{"$f":"IF(E923+G923>0,B922,\"\")","v":""},7,"03-4-22.1077(333)",0,1.1000000000000001,0,0,{"$f":"SUMIF(Y$14:BA$14,C923,Y$6:BA$6)","v":2166.8000000000002},{"$f":"IF(H923=0,ROUND(E923*I923,2),ROUND(H923*E923,2))","v":0},{"$f":"ROUND(F923*I923,2)","v":2383.48},{"$f":"IF(H923=0,ROUND(ROUND(F923*I923,2)*G923,2),ROUND(G923*H923,2))","v":0},{"$f":"L923-ROUND(G923*I923,2)","v":0},null,{"$f":"J923+L923+N923","v":0},null,405.07,{"$f":"ROUND(Q923*E923,2)","v":0},{"$f":"ROUND(F923*Q923,2)","v":445.58},{"$f":"ROUND(S923*G923,2)","v":0},{"$f":"T923-ROUND(Q923*G923,2)","v":0},null,{"$f":"R923+T923+V923","v":0},null,null,null,null,null,null,null,null,null,null,null,{"$f":"IF($I923=AI$6,$E923,0)","v":0},0,{"$f":"IF($H923>0,AI923,0)","v":0},{"$f":"IF(AK923>0,1,0)","v":0},{"$f":"IF($H923>0,AJ923,0)","v":0},{"$f":"IF(AM923>0,1,0)","v":0},{"$f":"IF($I923=AO$6,$E923,0)","v":0},0,{"$f":"IF($H923>0,AO923,0)","v":0},{"$f":"IF(AQ923>0,1,0)","v":0},{"$f":"IF($H923>0,AP923,0)","v":0},{"$f":"IF(AS923>0,1,0)","v":0},{"$f":"IF($I923=AU$6,$E923,0)","v":0},0,{"$f":"IF($H923>0,AU923,0)","v":0},{"$f":"IF(AW923>0,1,0)","v":0},{"$f":"IF($H923>0,AV923,0)","v":0},{"$f":"IF(AY923>0,1,0)","v":0},{"$f":"IF($I923=BA$6,$E923,0)","v":0},0,{"$f":"IF($H923>0,BA923,0)","v":0},{"$f":"IF(BC923>0,1,0)","v":0},{"$f":"IF($H923>0,BB923,0)","v":0},{"$f":"IF(BE923>0,1,0)","v":0},null,0]
[{"$f":"IF(E924+G924>0,A922,\"\")","v":""},{"$f":"IF(E924+G924>0,B922,\"\")","v":""},{"$f":"C923","v":7},"03-4-22.1077(333)",0,1.5,0,0,{"$f":"SUMIF(Y$14:BA$14,C924,Y$7:BA$7)","v":0},0,0,0,0,null,0,null,405.07,0,607.61,0,0,null,0,null,null,null,null,null,null,null,null,null,null,null,{"$f":"IF($I924=AI$7,$E924,0)","v":0},{"$f":"IF($K924=ROUND(AI$7*$F924,2),$G924,0)","v":0},0,0,0,0,{"$f":"IF($I924=AO$7,$E924,0)","v":0},{"$f":"IF($K924=ROUND(AO$7*$F924,2),$G924,0)","v":0},0,0,0,0,{"$f":"IF($I924=AU$7,$E924,0)","v":0},{"$f":"IF($K924=ROUND(AU$7*$F924,2),$G924,0)","v":0},0,0,0,0,{"$f":"IF($I924=BA$7,$E924,0)","v":0},{"$f":"IF($K924=ROUND(BA$7*$F924,2),$G924,0)","v":0},0,0,0,0,null,0]
[{"$f":"IF(E925+G925>0,A922,\"\")","v":""},{"$f":"IF(E925+G925>0,B922,\"\")","v":""},{"$f":"C923","v":7},"03-4-22.1077(333)",0,1.1000000000000001,0,0,{"$f":"SUMIF(Y$14:BA$14,C925,Y$7:BA$7)","v":0},0,0,0,0,null,0,null,405.07,0,445.58,0,0,null,0,null,null,null,null,null,null,null,null,null,null,null,{"$f":"IF($I925=AI$7,$E925,0)","v":0},{"$f":"IF($K925=ROUND(AI$7*$F925,2),$G925,0)","v":0},0,0,0,0,{"$f":"IF($I925=AO$7,$E925,0)","v":0},{"$f":"IF($K925=ROUND(AO$7*$F925,2),$G925,0)","v":0},0,0,0,0,{"$f":"IF($I925=AU$7,$E925,0)","v":0},{"$f":"IF($K925=ROUND(AU$7*$F925,2),$G925,0)","v":0},0,0,0,0,{"$f":"IF($I925=BA$7,$E925,0)","v":0},{"$f":"IF($K925=ROUND(BA$7*$F925,2),$G925,0)","v":0},0,0,0,0,null,0]
["ИП               Карельская        Елена Юрьевна","",{"$f":"C927","v":7},"03-4-22.1079(333)",0.434,1.5,0,0.434,{"$f":"SUMIF(Y$14:BA$14,C926,Y$6:BA$6)","v":2166.8000000000002},{"$f":"IF(H926=0,ROUND(E926*I926,2),ROUND(H926*E926,2))","v":0.19},{"$f":"ROUND(F926*I926,2)","v":3250.2},{"$f":"IF(H926=0,ROUND(ROUND(F926*I926,2)*G926,2),ROUND(G926*H926,2))","v":0},{"$f":"L926-ROUND(G926*I926,2)","v":0},null,{"$f":"J926+L926+N926","v":0.19},null,405.07,{"$f":"ROUND(Q926*E926,2)","v":175.8},{"$f":"ROUND(F926*Q926,2)","v":607.61},{"$f":"ROUND(S926*G926,2)","v":0},{"$f":"T926-ROUND(Q926*G926,2)","v":0},null,{"$f":"R926+T926+V926","v":175.8},null,null,null,null,null,null,null,null,null,null,null,{"$f":"IF($I926=AI$6,$E926,0)","v":0},{"$f":"IF($K926=ROUND(AI$6*$F926,2),$G926,0)","v":0},{"$f":"IF($H926>0,AI926,0)","v":0},{"$f":"IF(AK926>0,1,0)","v":0},{"$f":"IF($H926>0,AJ926,0)","v":0},{"$f":"IF(AM926>0,1,0)","v":0},{"$f":"IF($I926=AO$6,$E926,0)","v":0},{"$f":"IF($K926=ROUND(AO$6*$F926,2),$G926,0)","v":0},{"$f":"IF($H926>0,AO926,0)","v":0},{"$f":"IF(AQ926>0,1,0)","v":0},{"$f":"IF($H926>0,AP926,0)","v":0},{"$f":"IF(AS926>0,1,0)","v":0},{"$f":"IF($I926=AU$6,$E926,0)","v":0},{"$f":"IF($K926=ROUND(AU$6*$F926,2),$G926,0)","v":0},{"$f":"IF($H926>0,AU926,0)","v":0},{"$f":"IF(AW926>0,1,0)","v":0},{"$f":"IF($H926>0,AV926,0)","v":0},{"$f":"IF(AY926>0,1,0)","v":0},{"$f":"IF($I926=BA$6,$E926,0)","v":0.434},{"$f":"IF($K926=ROUND(BA$6*$F926,2),$G926,0)","v":0},{"$f":"IF($H926>0,BA926,0)","v":0.434},{"$f":"IF(BC926>0,1,0)","v":1},{"$f":"IF($H926>0,BB926,0)","v":0},{"$f":"IF(BE926>0,1,0)","v":0},null,4.3399999999999998E-4,0.9]
[{"$f":"IF(E927+G927>0,A926,\"\")","v":""},{"$f":"IF(E927+G927>0,B926,\"\")","v":""},7,"03-4-22.1079(333)",0,1.1000000000000001,0,0,{"$f":"SUMIF(Y$14:BA$14,C927,Y$6:BA$6)","v":2166.8000000000002},{"$f":"IF(H927=0,ROUND(E927*I927,2),ROUND(H927*E927,2))","v":0},{"$f":"ROUND(F927*I927,2)","v":2383.48},{"$f":"IF(H927=0,ROUND(ROUND(F927*I927,2)*G927,2),ROUND(G927*H927,2))","v":0},{"$f":"L927-ROUND(G927*I927,2)","v":0},null,{"$f":"J927+L927+N927","v":0},null,405.07,{"$f":"ROUND(Q927*E927,2)","v":0},{"$f":"ROUND(F927*Q927,2)","v":445.58},{"$f":"ROUND(S927*G927,2)","v":0},{"$f":"T927-ROUND(Q927*G927,2)","v":0},null,{"$f":"R927+T927+V927","v":0},null,null,null,null,null,null,null,null,null,null,null,{"$f":"IF($I927=AI$6,$E927,0)","v":0},0,{"$f":"IF($H927>0,AI927,0)","v":0},{"$f":"IF(AK927>0,1,0)","v":0},{"$f":"IF($H927>0,AJ927,0)","v":0},{"$f":"IF(AM927>0,1,0)","v":0},{"$f":"IF($I927=AO$6,$E927,0)","v":0},0,{"$f":"IF($H927>0,AO927,0)","v":0},{"$f":"IF(AQ927>0,1,0)","v":0},{"$f":"IF($H927>0,AP927,0)","v":0},{"$f":"IF(AS927>0,1,0)","v":0},{"$f":"IF($I927=AU$6,$E927,0)","v":0},0,{"$f":"IF($H927>0,AU927,0)","v":0},{"$f":"IF(AW927>0,1,0)","v":0},{"$f":"IF($H927>0,AV927,0)","v":0},{"$f":"IF(AY927>0,1,0)","v":0},{"$f":"IF($I927=BA$6,$E927,0)","v":0},0,{"$f":"IF($H927>0,BA927,0)","v":0},{"$f":"IF(BC927>0,1,0)","v":0},{"$f":"IF($H927>0,BB927,0)","v":0},{"$f":"IF(BE927>0,1,0)","v":0},null,0]
[{"$f":"IF(E928+G928>0,A926,\"\")","v":""},{"$f":"IF(E928+G928>0,B926,\"\")","v":""},{"$f":"C927","v":7},"03-4-22.1079(333)",0,1.5,0,0,{"$f":"SUMIF(Y$14:BA$14,C928,Y$7:BA$7)","v":0},0,0,0,0,null,0,null,405.07,0,607.61,0,0,null,0,null,null,null,null,null,null,null,null,null,null,null,{"$f":"IF($I928=AI$7,$E928,0)","v":0},{"$f":"IF($K928=ROUND(AI$7*$F928,2),$G928,0)","v":0},0,0,0,0,{"$f":"IF($I928=AO$7,$E928,0)","v":0},{"$f":"IF($K928=ROUND(AO$7*$F928,2),$G928,0)","v":0},0,0,0,0,{"$f":"IF($I928=AU$7,$E928,0)","v":0},{"$f":"IF($K928=ROUND(AU$7*$F928,2),$G928,0)","v":0},0,0,0,0,{"$f":"IF($I928=BA$7,$E928,0)","v":0},{"$f":"IF($K928=ROUND(BA$7*$F928,2),$G928,0)","v":0},0,0,0,0,null,0]
[{"$f":"IF(E929+G929>0,A926,\"\")","v":""},{"$f":"IF(E929+G929>0,B926,\"\")","v":""},{"$f":"C927","v":7},"03-4-22.1079(333)",0,1.1000000000000001,0,0,{"$f":"SUMIF(Y$14:BA$14,C929,Y$7:BA$7)","v":0},0,0,0,0,null,0,null,405.07,0,445.58,0,0,null,0,null,null,null,null,null,null,null,null,null,null,null,{"$f":"IF($I929=AI$7,$E929,0)","v":0},{"$f":"IF($K929=ROUND(AI$7*$F929,2),$G929,0)","v":0},0,0,0,0,{"$f":"IF($I929=AO$7,$E929,0)","v":0},{"$f":"IF($K929=ROUND(AO$7*$F929,2),$G929,0)","v":0},0,0,0,0,{"$f":"IF($I929=AU$7,$E929,0)","v":0},{"$f":"IF($K929=ROUND(AU$7*$F929,2),$G929,0)","v":0},0,0,0,0,{"$f":"IF($I929=BA$7,$E929,0)","v":0},{"$f":"IF($K929=ROUND(BA$7*$F929,2),$G929,0)","v":0},0,0,0,0,null,0]
["Вельское РО АРОО охотников и рыболовов","",{"$f":"C931","v":7},"03-4-22.1082(333)",0,1.5,0,0,{"$f":"SUMIF(Y$14:BA$14,C930,Y$6:BA$6)","v":2166.8000000000002},{"$f":"IF(H930=0,ROUND(E930*I930,2),ROUND(H930*E930,2))","v":0},{"$f":"ROUND(F930*I930,2)","v":3250.2},{"$f":"IF(H930=0,ROUND(ROUND(F930*I930,2)*G930,2),ROUND(G930*H930,2))","v":0},{"$f":"L930-ROUND(G930*I930,2)","v":0},null,{"$f":"J930+L930+N930","v":0},null,405.07,{"$f":"ROUND(Q930*E930,2)","v":0},{"$f":"ROUND(F930*Q930,2)","v":607.61},{"$f":"ROUND(S930*G930,2)","v":0},{"$f":"T930-ROUND(Q930*G930,2)","v":0},null,{"$f":"R930+T930+V930","v":0},null,null,null,null,null,null,null,null,null,null,null,{"$f":"IF($I930=AI$6,$E930,0)","v":0},{"$f":"IF($K930=ROUND(AI$6*$F930,2),$G930,0)","v":0},{"$f":"IF($H930>0,AI930,0)","v":0},{"$f":"IF(AK930>0,1,0)","v":0},{"$f":"IF($H930>0,AJ930,0)","v":0},{"$f":"IF(AM930>0,1,0)","v":0},{"$f":"IF($I930=AO$6,$E930,0)","v":0},{"$f":"IF($K930=ROUND(AO$6*$F930,2),$G930,0)","v":0},{"$f":"IF($H930>0,AO930,0)","v":0},{"$f":"IF(AQ930>0,1,0)","v":0},{"$f":"IF($H930>0,AP930,0)","v":0},{"$f":"IF(AS930>0,1,0)","v":0},{"$f":"IF($I930=AU$6,$E930,0)","v":0},{"$f":"IF($K930=ROUND(AU$6*$F930,2),$G930,0)","v":0},{"$f":"IF($H930>0,AU930,0)","v":0},{"$f":"IF(AW930>0,1,0)","v":0},{"$f":"IF($H930>0,AV930,0)","v":0},{"$f":"IF(AY930>0,1,0)","v":0},{"$f":"IF($I930=BA$6,$E930,0)","v":0},{"$f":"IF($K930=ROUND(BA$6*$F930,2),$G930,0)","v":0},{"$f":"IF($H930>0,BA930,0)","v":0},{"$f":"IF(BC930>0,1,0)","v":0},{"$f":"IF($H930>0,BB930,0)","v":0},{"$f":"IF(BE930>0,1,0)","v":0},null,0,1]
[{"$f":"IF(E931+G931>0,A930,\"\")","v":""},{"$f":"IF(E931+G931>0,B930,\"\")","v":""},7,"03-4-22.1082(333)",0,1.1000000000000001,0,0,{"$f":"SUMIF(Y$14:BA$14,C931,Y$6:BA$6)","v":2166.8000000000002},{"$f":"IF(H931=0,ROUND(E931*I931,2),ROUND(H931*E931,2))","v":0},{"$f":"ROUND(F931*I931,2)","v":2383.48},{"$f":"IF(H931=0,ROUND(ROUND(F931*I931,2)*G931,2),ROUND(G931*H931,2))","v":0},{"$f":"L931-ROUND(G931*I931,2)","v":0},null,{"$f":"J931+L931+N931","v":0},null,405.07,{"$f":"ROUND(Q931*E931,2)","v":0},{"$f":"ROUND(F931*Q931,2)","v":445.58},{"$f":"ROUND(S931*G931,2)","v":0},{"$f":"T931-ROUND(Q931*G931,2)","v":0},null,{"$f":"R931+T931+V931","v":0},null,null,null,null,null,null,null,null,null,null,null,{"$f":"IF($I931=AI$6,$E931,0)","v":0},0,{"$f":"IF($H931>0,AI931,0)","v":0},{"$f":"IF(AK931>0,1,0)","v":0},{"$f":"IF($H931>0,AJ931,0)","v":0},{"$f":"IF(AM931>0,1,0)","v":0},{"$f":"IF($I931=AO$6,$E931,0)","v":0},0,{"$f":"IF($H931>0,AO931,0)","v":0},{"$f":"IF(AQ931>0,1,0)","v":0},{"$f":"IF($H931>0,AP931,0)","v":0},{"$f":"IF(AS931>0,1,0)","v":0},{"$f":"IF($I931=AU$6,$E931,0)","v":0},0,{"$f":"IF($H931>0,AU931,0)","v":0},{"$f":"IF(AW931>0,1,0)","v":0},{"$f":"IF($H931>0,AV931,0)","v":0},{"$f":"IF(AY931>0,1,0)","v":0},{"$f":"IF($I931=BA$6,$E931,0)","v":0},0,{"$f":"IF($H931>0,BA931,0)","v":0},{"$f":"IF(BC931>0,1,0)","v":0},{"$f":"IF($H931>0,BB931,0)","v":0},{"$f":"IF(BE931>0,1,0)","v":0},null,0]
[{"$f":"IF(E932+G932>0,A930,\"\")","v":""},{"$f":"IF(E932+G932>0,B930,\"\")","v":""},{"$f":"C931","v":7},"03-4-22.1082(333)",0,1.5,0,0,{"$f":"SUMIF(Y$14:BA$14,C932,Y$7:BA$7)","v":0},0,0,0,0,null,0,null,405.07,0,607.61,0,0,null,0,null,null,null,null,null,null,null,null,null,null,null,{"$f":"IF($I932=AI$7,$E932,0)","v":0},{"$f":"IF($K932=ROUND(AI$7*$F932,2),$G932,0)","v":0},0,0,0,0,{"$f":"IF($I932=AO$7,$E932,0)","v":0},{"$f":"IF($K932=ROUND(AO$7*$F932,2),$G932,0)","v":0},0,0,0,0,{"$f":"IF($I932=AU$7,$E932,0)","v":0},{"$f":"IF($K932=ROUND(AU$7*$F932,2),$G932,0)","v":0},0,0,0,0,{"$f":"IF($I932=BA$7,$E932,0)","v":0},{"$f":"IF($K932=ROUND(BA$7*$F932,2),$G932,0)","v":0},0,0,0,0,null,0]
[{"$f":"IF(E933+G933>0,A930,\"\")","v":""},{"$f":"IF(E933+G933>0,B930,\"\")","v":""},{"$f":"C931","v":7},"03-4-22.1082(333)",0,1.1000000000000001,0,0,{"$f":"SUMIF(Y$14:BA$14,C933,Y$7:BA$7)","v":0},0,0,0,0,null,0,null,405.07,0,445.58,0,0,null,0,null,null,null,null,null,null,null,null,null,null,null,{"$f":"IF($I933=AI$7,$E933,0)","v":0},{"$f":"IF($K933=ROUND(AI$7*$F933,2),$G933,0)","v":0},0,0,0,0,{"$f":"IF($I933=AO$7,$E933,0)","v":0},{"$f":"IF($K933=ROUND(AO$7*$F933,2),$G933,0)","v":0},0,0,0,0,{"$f":"IF($I933=AU$7,$E933,0)","v":0},{"$f":"IF($K933=ROUND(AU$7*$F933,2),$G933,0)","v":0},0,0,0,0,{"$f":"IF($I933=BA$7,$E933,0)","v":0},{"$f":"IF($K933=ROUND(BA$7*$F933,2),$G933,0)","v":0},0,0,0,0,null,0]
["ООО          \"Архоблвод\"","",{"$f":"C935","v":6},"03-4-22.1086(333)",8.0760000000000005,1.5,0,8.0760000000000005,{"$f":"SUMIF(Y$14:BA$14,C934,Y$6:BA$6)","v":1733.45},{"$f":"IF(H934=0,ROUND(E934*I934,2),ROUND(H934*E934,2))","v":65.22},{"$f":"ROUND(F934*I934,2)","v":2600.1799999999998},{"$f":"IF(H934=0,ROUND(ROUND(F934*I934,2)*G934,2),ROUND(G934*H934,2))","v":0},{"$f":"L934-ROUND(G934*I934,2)","v":0},null,{"$f":"J934+L934+N934","v":65.22},null,405.07,{"$f":"ROUND(Q934*E934,2)","v":3271.35},{"$f":"ROUND(F934*Q934,2)","v":607.61},{"$f":"ROUND(S934*G934,2)","v":0},{"$f":"T934-ROUND(Q934*G934,2)","v":0},null,{"$f":"R934+T934+V934","v":3271.35},null,null,null,null,null,null,null,null,null,null,null,{"$f":"IF($I934=AI$6,$E934,0)","v":0},{"$f":"IF($K934=ROUND(AI$6*$F934,2),$G934,0)","v":0},{"$f":"IF($H934>0,AI934,0)","v":0},{"$f":"IF(AK934>0,1,0)","v":0},{"$f":"IF($H934>0,AJ934,0)","v":0},{"$f":"IF(AM934>0,1,0)","v":0},{"$f":"IF($I934=AO$6,$E934,0)","v":0},{"$f":"IF($K934=ROUND(AO$6*$F934,2),$G934,0)","v":0},{"$f":"IF($H934>0,AO934,0)","v":0},{"$f":"IF(AQ934>0,1,0)","v":0},{"$f":"IF($H934>0,AP934,0)","v":0},{"$f":"IF(AS934>0,1,0)","v":0},{"$f":"IF($I934=AU$6,$E934,0)","v":8.0760000000000005},{"$f":"IF($K934=ROUND(AU$6*$F934,2),$G934,0)","v":0},{"$f":"IF($H934>0,AU934,0)","v":8.0760000000000005},{"$f":"IF(AW934>0,1,0)","v":1},{"$f":"IF($H934>0,AV934,0)","v":0},{"$f":"IF(AY934>0,1,0)","v":0},{"$f":"IF($I934=BA$6,$E934,0)","v":0},{"$f":"IF($K934=ROUND(BA$6*$F934,2),$G934,0)","v":0},{"$f":"IF($H934>0,BA934,0)","v":0},{"$f":"IF(BC934>0,1,0)","v":0},{"$f":"IF($H934>0,BB934,0)","v":0},{"$f":"IF(BE934>0,1,0)","v":0},null,8.0759999999999998E-3,7.6]
[{"$f":"IF(E935+G935>0,A934,\"\")","v":""},{"$f":"IF(E935+G935>0,B934,\"\")","v":""},6,"03-4-22.1086(333)",0,1.1000000000000001,0,0,{"$f":"SUMIF(Y$14:BA$14,C935,Y$6:BA$6)","v":1733.45},{"$f":"IF(H935=0,ROUND(E935*I935,2),ROUND(H935*E935,2))","v":0},{"$f":"ROUND(F935*I935,2)","v":1906.8},{"$f":"IF(H935=0,ROUND(ROUND(F935*I935,2)*G935,2),ROUND(G935*H935,2))","v":0},{"$f":"L935-ROUND(G935*I935,2)","v":0},null,{"$f":"J935+L935+N935","v":0},null,405.07,{"$f":"ROUND(Q935*E935,2)","v":0},{"$f":"ROUND(F935*Q935,2)","v":445.58},{"$f":"ROUND(S935*G935,2)","v":0},{"$f":"T935-ROUND(Q935*G935,2)","v":0},null,{"$f":"R935+T935+V935","v":0},null,null,null,null,null,null,null,null,null,null,null,{"$f":"IF($I935=AI$6,$E935,0)","v":0},0,{"$f":"IF($H935>0,AI935,0)","v":0},{"$f":"IF(AK935>0,1,0)","v":0},{"$f":"IF($H935>0,AJ935,0)","v":0},{"$f":"IF(AM935>0,1,0)","v":0},{"$f":"IF($I935=AO$6,$E935,0)","v":0},0,{"$f":"IF($H935>0,AO935,0)","v":0},{"$f":"IF(AQ935>0,1,0)","v":0},{"$f":"IF($H935>0,AP935,0)","v":0},{"$f":"IF(AS935>0,1,0)","v":0},{"$f":"IF($I935=AU$6,$E935,0)","v":0},0,{"$f":"IF($H935>0,AU935,0)","v":0},{"$f":"IF(AW935>0,1,0)","v":0},{"$f":"IF($H935>0,AV935,0)","v":0},{"$f":"IF(AY935>0,1,0)","v":0},{"$f":"IF($I935=BA$6,$E935,0)","v":0},0,{"$f":"IF($H935>0,BA935,0)","v":0},{"$f":"IF(BC935>0,1,0)","v":0},{"$f":"IF($H935>0,BB935,0)","v":0},{"$f":"IF(BE935>0,1,0)","v":0},null,0]
[{"$f":"IF(E936+G936>0,A934,\"\")","v":""},{"$f":"IF(E936+G936>0,B934,\"\")","v":""},{"$f":"C935","v":6},"03-4-22.1086(333)",0,1.5,0,0,{"$f":"SUMIF(Y$14:BA$14,C936,Y$7:BA$7)","v":0},0,0,0,0,null,0,null,405.07,0,607.61,0,0,null,0,null,null,null,null,null,null,null,null,null,null,null,{"$f":"IF($I936=AI$7,$E936,0)","v":0},{"$f":"IF($K936=ROUND(AI$7*$F936,2),$G936,0)","v":0},0,0,0,0,{"$f":"IF($I936=AO$7,$E936,0)","v":0},{"$f":"IF($K936=ROUND(AO$7*$F936,2),$G936,0)","v":0},0,0,0,0,{"$f":"IF($I936=AU$7,$E936,0)","v":0},{"$f":"IF($K936=ROUND(AU$7*$F936,2),$G936,0)","v":0},0,0,0,0,{"$f":"IF($I936=BA$7,$E936,0)","v":0},{"$f":"IF($K936=ROUND(BA$7*$F936,2),$G936,0)","v":0},0,0,0,0,null,0]
[{"$f":"IF(E937+G937>0,A934,\"\")","v":""},{"$f":"IF(E937+G937>0,B934,\"\")","v":""},{"$f":"C935","v":6},"03-4-22.1086(333)",0,1.1000000000000001,0,0,{"$f":"SUMIF(Y$14:BA$14,C937,Y$7:BA$7)","v":0},0,0,0,0,null,0,null,405.07,0,445.58,0,0,null,0,null,null,null,null,null,null,null,null,null,null,null,{"$f":"IF($I937=AI$7,$E937,0)","v":0},{"$f":"IF($K937=ROUND(AI$7*$F937,2),$G937,0)","v":0},0,0,0,0,{"$f":"IF($I937=AO$7,$E937,0)","v":0},{"$f":"IF($K937=ROUND(AO$7*$F937,2),$G937,0)","v":0},0,0,0,0,{"$f":"IF($I937=AU$7,$E937,0)","v":0},{"$f":"IF($K937=ROUND(AU$7*$F937,2),$G937,0)","v":0},0,0,0,0,{"$f":"IF($I937=BA$7,$E937,0)","v":0},{"$f":"IF($K937=ROUND(BA$7*$F937,2),$G937,0)","v":0},0,0,0,0,null,0]
["ООО          \"Диал - Север\"","Вельск, ул.Советская-80",{"$f":"C939","v":7},"03-4-23.366(333)",0,1.5,0,0,{"$f":"SUMIF(Y$14:BA$14,C938,Y$6:BA$6)","v":2166.8000000000002},{"$f":"IF(H938=0,ROUND(E938*I938,2),ROUND(H938*E938,2))","v":0},{"$f":"ROUND(F938*I938,2)","v":3250.2},{"$f":"IF(H938=0,ROUND(ROUND(F938*I938,2)*G938,2),ROUND(G938*H938,2))","v":0},{"$f":"L938-ROUND(G938*I938,2)","v":0},null,{"$f":"J938+L938+N938","v":0},null,405.07,{"$f":"ROUND(Q938*E938,2)","v":0},{"$f":"ROUND(F938*Q938,2)","v":607.61},{"$f":"ROUND(S938*G938,2)","v":0},{"$f":"T938-ROUND(Q938*G938,2)","v":0},null,{"$f":"R938+T938+V938","v":0},null,null,null,null,null,null,null,null,null,null,null,{"$f":"IF($I938=AI$6,$E938,0)","v":0},{"$f":"IF($K938=ROUND(AI$6*$F938,2),$G938,0)","v":0},{"$f":"IF($H938>0,AI938,0)","v":0},{"$f":"IF(AK938>0,1,0)","v":0},{"$f":"IF($H938>0,AJ938,0)","v":0},{"$f":"IF(AM938>0,1,0)","v":0},{"$f":"IF($I938=AO$6,$E938,0)","v":0},{"$f":"IF($K938=ROUND(AO$6*$F938,2),$G938,0)","v":0},{"$f":"IF($H938>0,AO938,0)","v":0},{"$f":"IF(AQ938>0,1,0)","v":0},{"$f":"IF($H938>0,AP938,0)","v":0},{"$f":"IF(AS938>0,1,0)","v":0},{"$f":"IF($I938=AU$6,$E938,0)","v":0},{"$f":"IF($K938=ROUND(AU$6*$F938,2),$G938,0)","v":0},{"$f":"IF($H938>0,AU938,0)","v":0},{"$f":"IF(AW938>0,1,0)","v":0},{"$f":"IF($H938>0,AV938,0)","v":0},{"$f":"IF(AY938>0,1,0)","v":0},{"$f":"IF($I938=BA$6,$E938,0)","v":0},{"$f":"IF($K938=ROUND(BA$6*$F938,2),$G938,0)","v":0},{"$f":"IF($H938>0,BA938,0)","v":0},{"$f":"IF(BC938>0,1,0)","v":0},{"$f":"IF($H938>0,BB938,0)","v":0},{"$f":"IF(BE938>0,1,0)","v":0},null,0,0.5]
[{"$f":"IF(E939+G939>0,A938,\"\")","v":""},{"$f":"IF(E939+G939>0,B938,\"\")","v":""},7,"03-4-23.366(333)",0,1.1000000000000001,0,0,{"$f":"SUMIF(Y$14:BA$14,C939,Y$6:BA$6)","v":2166.8000000000002},{"$f":"IF(H939=0,ROUND(E939*I939,2),ROUND(H939*E939,2))","v":0},{"$f":"ROUND(F939*I939,2)","v":2383.48},{"$f":"IF(H939=0,ROUND(ROUND(F939*I939,2)*G939,2),ROUND(G939*H939,2))","v":0},{"$f":"L939-ROUND(G939*I939,2)","v":0},null,{"$f":"J939+L939+N939","v":0},null,405.07,{"$f":"ROUND(Q939*E939,2)","v":0},{"$f":"ROUND(F939*Q939,2)","v":445.58},{"$f":"ROUND(S939*G939,2)","v":0},{"$f":"T939-ROUND(Q939*G939,2)","v":0},null,{"$f":"R939+T939+V939","v":0},null,null,null,null,null,null,null,null,null,null,null,{"$f":"IF($I939=AI$6,$E939,0)","v":0},0,{"$f":"IF($H939>0,AI939,0)","v":0},{"$f":"IF(AK939>0,1,0)","v":0},{"$f":"IF($H939>0,AJ939,0)","v":0},{"$f":"IF(AM939>0,1,0)","v":0},{"$f":"IF($I939=AO$6,$E939,0)","v":0},0,{"$f":"IF($H939>0,AO939,0)","v":0},{"$f":"IF(AQ939>0,1,0)","v":0},{"$f":"IF($H939>0,AP939,0)","v":0},{"$f":"IF(AS939>0,1,0)","v":0},{"$f":"IF($I939=AU$6,$E939,0)","v":0},0,{"$f":"IF($H939>0,AU939,0)","v":0},{"$f":"IF(AW939>0,1,0)","v":0},{"$f":"IF($H939>0,AV939,0)","v":0},{"$f":"IF(AY939>0,1,0)","v":0},{"$f":"IF($I939=BA$6,$E939,0)","v":0},0,{"$f":"IF($H939>0,BA939,0)","v":0},{"$f":"IF(BC939>0,1,0)","v":0},{"$f":"IF($H939>0,BB939,0)","v":0},{"$f":"IF(BE939>0,1,0)","v":0},null,0]
[{"$f":"IF(E940+G940>0,A938,\"\")","v":""},{"$f":"IF(E940+G940>0,B938,\"\")","v":""},{"$f":"C939","v":7},"03-4-23.366(333)",0,1.5,0,0,{"$f":"SUMIF(Y$14:BA$14,C940,Y$7:BA$7)","v":0},0,0,0,0,null,0,null,405.07,0,607.61,0,0,null,0,null,null,null,null,null,null,null,null,null,null,null,{"$f":"IF($I940=AI$7,$E940,0)","v":0},{"$f":"IF($K940=ROUND(AI$7*$F940,2),$G940,0)","v":0},0,0,0,0,{"$f":"IF($I940=AO$7,$E940,0)","v":0},{"$f":"IF($K940=ROUND(AO$7*$F940,2),$G940,0)","v":0},0,0,0,0,{"$f":"IF($I940=AU$7,$E940,0)","v":0},{"$f":"IF($K940=ROUND(AU$7*$F940,2),$G940,0)","v":0},0,0,0,0,{"$f":"IF($I940=BA$7,$E940,0)","v":0},{"$f":"IF($K940=ROUND(BA$7*$F940,2),$G940,0)","v":0},0,0,0,0,null,0]
[{"$f":"IF(E941+G941>0,A938,\"\")","v":""},{"$f":"IF(E941+G941>0,B938,\"\")","v":""},{"$f":"C939","v":7},"03-4-23.366(333)",0,1.1000000000000001,0,0,{"$f":"SUMIF(Y$14:BA$14,C941,Y$7:BA$7)","v":0},0,0,0,0,null,0,null,405.07,0,445.58,0,0,null,0,null,null,null,null,null,null,null,null,null,null,null,{"$f":"IF($I941=AI$7,$E941,0)","v":0},{"$f":"IF($K941=ROUND(AI$7*$F941,2),$G941,0)","v":0},0,0,0,0,{"$f":"IF($I941=AO$7,$E941,0)","v":0},{"$f":"IF($K941=ROUND(AO$7*$F941,2),$G941,0)","v":0},0,0,0,0,{"$f":"IF($I941=AU$7,$E941,0)","v":0},{"$f":"IF($K941=ROUND(AU$7*$F941,2),$G941,0)","v":0},0,0,0,0,{"$f":"IF($I941=BA$7,$E941,0)","v":0},{"$f":"IF($K941=ROUND(BA$7*$F941,2),$G941,0)","v":0},0,0,0,0,null,0]
["ООО          \"ВЕКТОР\" ","",{"$f":"C943","v":7},"03-4-23.1134(333)",0,1.5,0,0,{"$f":"SUMIF(Y$14:BA$14,C942,Y$6:BA$6)","v":2166.8000000000002},{"$f":"IF(H942=0,ROUND(E942*I942,2),ROUND(H942*E942,2))","v":0},{"$f":"ROUND(F942*I942,2)","v":3250.2},{"$f":"IF(H942=0,ROUND(ROUND(F942*I942,2)*G942,2),ROUND(G942*H942,2))","v":0},{"$f":"L942-ROUND(G942*I942,2)","v":0},null,{"$f":"J942+L942+N942","v":0},null,405.07,{"$f":"ROUND(Q942*E942,2)","v":0},{"$f":"ROUND(F942*Q942,2)","v":607.61},{"$f":"ROUND(S942*G942,2)","v":0},{"$f":"T942-ROUND(Q942*G942,2)","v":0},null,{"$f":"R942+T942+V942","v":0},null,null,null,null,null,null,null,null,null,null,null,{"$f":"IF($I942=AI$6,$E942,0)","v":0},{"$f":"IF($K942=ROUND(AI$6*$F942,2),$G942,0)","v":0},{"$f":"IF($H942>0,AI942,0)","v":0},{"$f":"IF(AK942>0,1,0)","v":0},{"$f":"IF($H942>0,AJ942,0)","v":0},{"$f":"IF(AM942>0,1,0)","v":0},{"$f":"IF($I942=AO$6,$E942,0)","v":0},{"$f":"IF($K942=ROUND(AO$6*$F942,2),$G942,0)","v":0},{"$f":"IF($H942>0,AO942,0)","v":0},{"$f":"IF(AQ942>0,1,0)","v":0},{"$f":"IF($H942>0,AP942,0)","v":0},{"$f":"IF(AS942>0,1,0)","v":0},{"$f":"IF($I942=AU$6,$E942,0)","v":0},{"$f":"IF($K942=ROUND(AU$6*$F942,2),$G942,0)","v":0},{"$f":"IF($H942>0,AU942,0)","v":0},{"$f":"IF(AW942>0,1,0)","v":0},{"$f":"IF($H942>0,AV942,0)","v":0},{"$f":"IF(AY942>0,1,0)","v":0},{"$f":"IF($I942=BA$6,$E942,0)","v":0},{"$f":"IF($K942=ROUND(BA$6*$F942,2),$G942,0)","v":0},{"$f":"IF($H942>0,BA942,0)","v":0},{"$f":"IF(BC942>0,1,0)","v":0},{"$f":"IF($H942>0,BB942,0)","v":0},{"$f":"IF(BE942>0,1,0)","v":0},null,0,0.7]
[{"$f":"IF(E943+G943>0,A942,\"\")","v":""},{"$f":"IF(E943+G943>0,B942,\"\")","v":""},7,"03-4-23.1134(333)",0,1.1000000000000001,0,0,{"$f":"SUMIF(Y$14:BA$14,C943,Y$6:BA$6)","v":2166.8000000000002},{"$f":"IF(H943=0,ROUND(E943*I943,2),ROUND(H943*E943,2))","v":0},{"$f":"ROUND(F943*I943,2)","v":2383.48},{"$f":"IF(H943=0,ROUND(ROUND(F943*I943,2)*G943,2),ROUND(G943*H943,2))","v":0},{"$f":"L943-ROUND(G943*I943,2)","v":0},null,{"$f":"J943+L943+N943","v":0},null,405.07,{"$f":"ROUND(Q943*E943,2)","v":0},{"$f":"ROUND(F943*Q943,2)","v":445.58},{"$f":"ROUND(S943*G943,2)","v":0},{"$f":"T943-ROUND(Q943*G943,2)","v":0},null,{"$f":"R943+T943+V943","v":0},null,null,null,null,null,null,null,null,null,null,null,{"$f":"IF($I943=AI$6,$E943,0)","v":0},0,{"$f":"IF($H943>0,AI943,0)","v":0},{"$f":"IF(AK943>0,1,0)","v":0},{"$f":"IF($H943>0,AJ943,0)","v":0},{"$f":"IF(AM943>0,1,0)","v":0},{"$f":"IF($I943=AO$6,$E943,0)","v":0},0,{"$f":"IF($H943>0,AO943,0)","v":0},{"$f":"IF(AQ943>0,1,0)","v":0},{"$f":"IF($H943>0,AP943,0)","v":0},{"$f":"IF(AS943>0,1,0)","v":0},{"$f":"IF($I943=AU$6,$E943,0)","v":0},0,{"$f":"IF($H943>0,AU943,0)","v":0},{"$f":"IF(AW943>0,1,0)","v":0},{"$f":"IF($H943>0,AV943,0)","v":0},{"$f":"IF(AY943>0,1,0)","v":0},{"$f":"IF($I943=BA$6,$E943,0)","v":0},0,{"$f":"IF($H943>0,BA943,0)","v":0},{"$f":"IF(BC943>0,1,0)","v":0},{"$f":"IF($H943>0,BB943,0)","v":0},{"$f":"IF(BE943>0,1,0)","v":0},null,0]
[{"$f":"IF(E944+G944>0,A942,\"\")","v":""},{"$f":"IF(E944+G944>0,B942,\"\")","v":""},{"$f":"C943","v":7},"03-4-23.1134(333)",0,1.5,0,0,{"$f":"SUMIF(Y$14:BA$14,C944,Y$7:BA$7)","v":0},0,0,0,0,null,0,null,405.07,0,607.61,0,0,null,0,null,null,null,null,null,null,null,null,null,null,null,{"$f":"IF($I944=AI$7,$E944,0)","v":0},{"$f":"IF($K944=ROUND(AI$7*$F944,2),$G944,0)","v":0},0,0,0,0,{"$f":"IF($I944=AO$7,$E944,0)","v":0},{"$f":"IF($K944=ROUND(AO$7*$F944,2),$G944,0)","v":0},0,0,0,0,{"$f":"IF($I944=AU$7,$E944,0)","v":0},{"$f":"IF($K944=ROUND(AU$7*$F944,2),$G944,0)","v":0},0,0,0,0,{"$f":"IF($I944=BA$7,$E944,0)","v":0},{"$f":"IF($K944=ROUND(BA$7*$F944,2),$G944,0)","v":0},0,0,0,0,null,0]
[{"$f":"IF(E945+G945>0,A942,\"\")","v":""},{"$f":"IF(E945+G945>0,B942,\"\")","v":""},{"$f":"C943","v":7},"03-4-23.1134(333)",0,1.1000000000000001,0,0,{"$f":"SUMIF(Y$14:BA$14,C945,Y$7:BA$7)","v":0},0,0,0,0,null,0,null,405.07,0,445.58,0,0,null,0,null,null,null,null,null,null,null,null,null,null,null,{"$f":"IF($I945=AI$7,$E945,0)","v":0},{"$f":"IF($K945=ROUND(AI$7*$F945,2),$G945,0)","v":0},0,0,0,0,{"$f":"IF($I945=AO$7,$E945,0)","v":0},{"$f":"IF($K945=ROUND(AO$7*$F945,2),$G945,0)","v":0},0,0,0,0,{"$f":"IF($I945=AU$7,$E945,0)","v":0},{"$f":"IF($K945=ROUND(AU$7*$F945,2),$G945,0)","v":0},0,0,0,0,{"$f":"IF($I945=BA$7,$E945,0)","v":0},{"$f":"IF($K945=ROUND(BA$7*$F945,2),$G945,0)","v":0},0,0,0,0,null,0]
["ООО          \"Абсолют - Сервис\"","",{"$f":"C947","v":6},"03-4-23.1139(333)",0,1.5,0,0,{"$f":"SUMIF(Y$14:BA$14,C946,Y$6:BA$6)","v":1733.45},{"$f":"IF(H946=0,ROUND(E946*I946,2),ROUND(H946*E946,2))","v":0},{"$f":"ROUND(F946*I946,2)","v":2600.1799999999998},{"$f":"IF(H946=0,ROUND(ROUND(F946*I946,2)*G946,2),ROUND(G946*H946,2))","v":0},{"$f":"L946-ROUND(G946*I946,2)","v":0},null,{"$f":"J946+L946+N946","v":0},null,405.07,{"$f":"ROUND(Q946*E946,2)","v":0},{"$f":"ROUND(F946*Q946,2)","v":607.61},{"$f":"ROUND(S946*G946,2)","v":0},{"$f":"T946-ROUND(Q946*G946,2)","v":0},null,{"$f":"R946+T946+V946","v":0},null,null,null,null,null,null,null,null,null,null,null,{"$f":"IF($I946=AI$6,$E946,0)","v":0},{"$f":"IF($K946=ROUND(AI$6*$F946,2),$G946,0)","v":0},{"$f":"IF($H946>0,AI946,0)","v":0},{"$f":"IF(AK946>0,1,0)","v":0},{"$f":"IF($H946>0,AJ946,0)","v":0},{"$f":"IF(AM946>0,1,0)","v":0},{"$f":"IF($I946=AO$6,$E946,0)","v":0},{"$f":"IF($K946=ROUND(AO$6*$F946,2),$G946,0)","v":0},{"$f":"IF($H946>0,AO946,0)","v":0},{"$f":"IF(AQ946>0,1,0)","v":0},{"$f":"IF($H946>0,AP946,0)","v":0},{"$f":"IF(AS946>0,1,0)","v":0},{"$f":"IF($I946=AU$6,$E946,0)","v":0},{"$f":"IF($K946=ROUND(AU$6*$F946,2),$G946,0)","v":0},{"$f":"IF($H946>0,AU946,0)","v":0},{"$f":"IF(AW946>0,1,0)","v":0},{"$f":"IF($H946>0,AV946,0)","v":0},{"$f":"IF(AY946>0,1,0)","v":0},{"$f":"IF($I946=BA$6,$E946,0)","v":0},{"$f":"IF($K946=ROUND(BA$6*$F946,2),$G946,0)","v":0},{"$f":"IF($H946>0,BA946,0)","v":0},{"$f":"IF(BC946>0,1,0)","v":0},{"$f":"IF($H946>0,BB946,0)","v":0},{"$f":"IF(BE946>0,1,0)","v":0},null,0,0]
[{"$f":"IF(E947+G947>0,A946,\"\")","v":""},{"$f":"IF(E947+G947>0,B946,\"\")","v":""},6,"03-4-23.1139(333)",0,1.1000000000000001,0,0,{"$f":"SUMIF(Y$14:BA$14,C947,Y$6:BA$6)","v":1733.45},{"$f":"IF(H947=0,ROUND(E947*I947,2),ROUND(H947*E947,2))","v":0},{"$f":"ROUND(F947*I947,2)","v":1906.8},{"$f":"IF(H947=0,ROUND(ROUND(F947*I947,2)*G947,2),ROUND(G947*H947,2))","v":0},{"$f":"L947-ROUND(G947*I947,2)","v":0},null,{"$f":"J947+L947+N947","v":0},null,405.07,{"$f":"ROUND(Q947*E947,2)","v":0},{"$f":"ROUND(F947*Q947,2)","v":445.58},{"$f":"ROUND(S947*G947,2)","v":0},{"$f":"T947-ROUND(Q947*G947,2)","v":0},null,{"$f":"R947+T947+V947","v":0},null,null,null,null,null,null,null,null,null,null,null,{"$f":"IF($I947=AI$6,$E947,0)","v":0},0,{"$f":"IF($H947>0,AI947,0)","v":0},{"$f":"IF(AK947>0,1,0)","v":0},{"$f":"IF($H947>0,AJ947,0)","v":0},{"$f":"IF(AM947>0,1,0)","v":0},{"$f":"IF($I947=AO$6,$E947,0)","v":0},0,{"$f":"IF($H947>0,AO947,0)","v":0},{"$f":"IF(AQ947>0,1,0)","v":0},{"$f":"IF($H947>0,AP947,0)","v":0},{"$f":"IF(AS947>0,1,0)","v":0},{"$f":"IF($I947=AU$6,$E947,0)","v":0},0,{"$f":"IF($H947>0,AU947,0)","v":0},{"$f":"IF(AW947>0,1,0)","v":0},{"$f":"IF($H947>0,AV947,0)","v":0},{"$f":"IF(AY947>0,1,0)","v":0},{"$f":"IF($I947=BA$6,$E947,0)","v":0},0,{"$f":"IF($H947>0,BA947,0)","v":0},{"$f":"IF(BC947>0,1,0)","v":0},{"$f":"IF($H947>0,BB947,0)","v":0},{"$f":"IF(BE947>0,1,0)","v":0},null,0]
[{"$f":"IF(E948+G948>0,A946,\"\")","v":""},{"$f":"IF(E948+G948>0,B946,\"\")","v":""},{"$f":"C947","v":6},"03-4-23.1139(333)",0,1.5,0,0,{"$f":"SUMIF(Y$14:BA$14,C948,Y$7:BA$7)","v":0},0,0,0,0,null,0,null,405.07,0,607.61,0,0,null,0,null,null,null,null,null,null,null,null,null,null,null,{"$f":"IF($I948=AI$7,$E948,0)","v":0},{"$f":"IF($K948=ROUND(AI$7*$F948,2),$G948,0)","v":0},0,0,0,0,{"$f":"IF($I948=AO$7,$E948,0)","v":0},{"$f":"IF($K948=ROUND(AO$7*$F948,2),$G948,0)","v":0},0,0,0,0,{"$f":"IF($I948=AU$7,$E948,0)","v":0},{"$f":"IF($K948=ROUND(AU$7*$F948,2),$G948,0)","v":0},0,0,0,0,{"$f":"IF($I948=BA$7,$E948,0)","v":0},{"$f":"IF($K948=ROUND(BA$7*$F948,2),$G948,0)","v":0},0,0,0,0,null,0]
[{"$f":"IF(E949+G949>0,A946,\"\")","v":""},{"$f":"IF(E949+G949>0,B946,\"\")","v":""},{"$f":"C947","v":6},"03-4-23.1139(333)",0,1.1000000000000001,0,0,{"$f":"SUMIF(Y$14:BA$14,C949,Y$7:BA$7)","v":0},0,0,0,0,null,0,null,405.07,0,445.58,0,0,null,0,null,null,null,null,null,null,null,null,null,null,null,{"$f":"IF($I949=AI$7,$E949,0)","v":0},{"$f":"IF($K949=ROUND(AI$7*$F949,2),$G949,0)","v":0},0,0,0,0,{"$f":"IF($I949=AO$7,$E949,0)","v":0},{"$f":"IF($K949=ROUND(AO$7*$F949,2),$G949,0)","v":0},0,0,0,0,{"$f":"IF($I949=AU$7,$E949,0)","v":0},{"$f":"IF($K949=ROUND(AU$7*$F949,2),$G949,0)","v":0},0,0,0,0,{"$f":"IF($I949=BA$7,$E949,0)","v":0},{"$f":"IF($K949=ROUND(BA$7*$F949,2),$G949,0)","v":0},0,0,0,0,null,0]
["ИП               Попова             Елена Александровна","д.Горка Муравьевская",{"$f":"C951","v":7},"03-4-23.1140(333)",0,1.5,0,0,{"$f":"SUMIF(Y$14:BA$14,C950,Y$6:BA$6)","v":2166.8000000000002},{"$f":"IF(H950=0,ROUND(E950*I950,2),ROUND(H950*E950,2))","v":0},{"$f":"ROUND(F950*I950,2)","v":3250.2},{"$f":"IF(H950=0,ROUND(ROUND(F950*I950,2)*G950,2),ROUND(G950*H950,2))","v":0},{"$f":"L950-ROUND(G950*I950,2)","v":0},null,{"$f":"J950+L950+N950","v":0},null,405.07,{"$f":"ROUND(Q950*E950,2)","v":0},{"$f":"ROUND(F950*Q950,2)","v":607.61},{"$f":"ROUND(S950*G950,2)","v":0},{"$f":"T950-ROUND(Q950*G950,2)","v":0},null,{"$f":"R950+T950+V950","v":0},null,null,null,null,null,null,null,null,null,null,null,{"$f":"IF($I950=AI$6,$E950,0)","v":0},{"$f":"IF($K950=ROUND(AI$6*$F950,2),$G950,0)","v":0},{"$f":"IF($H950>0,AI950,0)","v":0},{"$f":"IF(AK950>0,1,0)","v":0},{"$f":"IF($H950>0,AJ950,0)","v":0},{"$f":"IF(AM950>0,1,0)","v":0},{"$f":"IF($I950=AO$6,$E950,0)","v":0},{"$f":"IF($K950=ROUND(AO$6*$F950,2),$G950,0)","v":0},{"$f":"IF($H950>0,AO950,0)","v":0},{"$f":"IF(AQ950>0,1,0)","v":0},{"$f":"IF($H950>0,AP950,0)","v":0},{"$f":"IF(AS950>0,1,0)","v":0},{"$f":"IF($I950=AU$6,$E950,0)","v":0},{"$f":"IF($K950=ROUND(AU$6*$F950,2),$G950,0)","v":0},{"$f":"IF($H950>0,AU950,0)","v":0},{"$f":"IF(AW950>0,1,0)","v":0},{"$f":"IF($H950>0,AV950,0)","v":0},{"$f":"IF(AY950>0,1,0)","v":0},{"$f":"IF($I950=BA$6,$E950,0)","v":0},{"$f":"IF($K950=ROUND(BA$6*$F950,2),$G950,0)","v":0},{"$f":"IF($H950>0,BA950,0)","v":0},{"$f":"IF(BC950>0,1,0)","v":0},{"$f":"IF($H950>0,BB950,0)","v":0},{"$f":"IF(BE950>0,1,0)","v":0},null,0,0]
[{"$f":"IF(E951+G951>0,A950,\"\")","v":""},{"$f":"IF(E951+G951>0,B950,\"\")","v":""},7,"03-4-23.1140(333)",0,1.1000000000000001,0,0,{"$f":"SUMIF(Y$14:BA$14,C951,Y$6:BA$6)","v":2166.8000000000002},{"$f":"IF(H951=0,ROUND(E951*I951,2),ROUND(H951*E951,2))","v":0},{"$f":"ROUND(F951*I951,2)","v":2383.48},{"$f":"IF(H951=0,ROUND(ROUND(F951*I951,2)*G951,2),ROUND(G951*H951,2))","v":0},{"$f":"L951-ROUND(G951*I951,2)","v":0},null,{"$f":"J951+L951+N951","v":0},null,405.07,{"$f":"ROUND(Q951*E951,2)","v":0},{"$f":"ROUND(F951*Q951,2)","v":445.58},{"$f":"ROUND(S951*G951,2)","v":0},{"$f":"T951-ROUND(Q951*G951,2)","v":0},null,{"$f":"R951+T951+V951","v":0},null,null,null,null,null,null,null,null,null,null,null,{"$f":"IF($I951=AI$6,$E951,0)","v":0},0,{"$f":"IF($H951>0,AI951,0)","v":0},{"$f":"IF(AK951>0,1,0)","v":0},{"$f":"IF($H951>0,AJ951,0)","v":0},{"$f":"IF(AM951>0,1,0)","v":0},{"$f":"IF($I951=AO$6,$E951,0)","v":0},0,{"$f":"IF($H951>0,AO951,0)","v":0},{"$f":"IF(AQ951>0,1,0)","v":0},{"$f":"IF($H951>0,AP951,0)","v":0},{"$f":"IF(AS951>0,1,0)","v":0},{"$f":"IF($I951=AU$6,$E951,0)","v":0},0,{"$f":"IF($H951>0,AU951,0)","v":0},{"$f":"IF(AW951>0,1,0)","v":0},{"$f":"IF($H951>0,AV951,0)","v":0},{"$f":"IF(AY951>0,1,0)","v":0},{"$f":"IF($I951=BA$6,$E951,0)","v":0},0,{"$f":"IF($H951>0,BA951,0)","v":0},{"$f":"IF(BC951>0,1,0)","v":0},{"$f":"IF($H951>0,BB951,0)","v":0},{"$f":"IF(BE951>0,1,0)","v":0},null,0]
[{"$f":"IF(E952+G952>0,A950,\"\")","v":""},{"$f":"IF(E952+G952>0,B950,\"\")","v":""},{"$f":"C951","v":7},"03-4-23.1140(333)",0,1.5,0,0,{"$f":"SUMIF(Y$14:BA$14,C952,Y$7:BA$7)","v":0},0,0,0,0,null,0,null,405.07,0,607.61,0,0,null,0,null,null,null,null,null,null,null,null,null,null,null,{"$f":"IF($I952=AI$7,$E952,0)","v":0},{"$f":"IF($K952=ROUND(AI$7*$F952,2),$G952,0)","v":0},0,0,0,0,{"$f":"IF($I952=AO$7,$E952,0)","v":0},{"$f":"IF($K952=ROUND(AO$7*$F952,2),$G952,0)","v":0},0,0,0,0,{"$f":"IF($I952=AU$7,$E952,0)","v":0},{"$f":"IF($K952=ROUND(AU$7*$F952,2),$G952,0)","v":0},0,0,0,0,{"$f":"IF($I952=BA$7,$E952,0)","v":0},{"$f":"IF($K952=ROUND(BA$7*$F952,2),$G952,0)","v":0},0,0,0,0,null,0]
[{"$f":"IF(E953+G953>0,A950,\"\")","v":""},{"$f":"IF(E953+G953>0,B950,\"\")","v":""},{"$f":"C951","v":7},"03-4-23.1140(333)",0,1.1000000000000001,0,0,{"$f":"SUMIF(Y$14:BA$14,C953,Y$7:BA$7)","v":0},0,0,0,0,null,0,null,405.07,0,445.58,0,0,null,0,null,null,null,null,null,null,null,null,null,null,null,{"$f":"IF($I953=AI$7,$E953,0)","v":0},{"$f":"IF($K953=ROUND(AI$7*$F953,2),$G953,0)","v":0},0,0,0,0,{"$f":"IF($I953=AO$7,$E953,0)","v":0},{"$f":"IF($K953=ROUND(AO$7*$F953,2),$G953,0)","v":0},0,0,0,0,{"$f":"IF($I953=AU$7,$E953,0)","v":0},{"$f":"IF($K953=ROUND(AU$7*$F953,2),$G953,0)","v":0},0,0,0,0,{"$f":"IF($I953=BA$7,$E953,0)","v":0},{"$f":"IF($K953=ROUND(BA$7*$F953,2),$G953,0)","v":0},0,0,0,0,null,0]
["ООО          \"ПАРТНЕР\"","д.Плесовская, ул.Нагорная-1А",{"$f":"C955","v":6},"",0,1.5,0,0,{"$f":"SUMIF(Y$14:BA$14,C954,Y$6:BA$6)","v":1733.45},{"$f":"IF(H954=0,ROUND(E954*I954,2),ROUND(H954*E954,2))","v":0},{"$f":"ROUND(F954*I954,2)","v":2600.1799999999998},{"$f":"IF(H954=0,ROUND(ROUND(F954*I954,2)*G954,2),ROUND(G954*H954,2))","v":0},{"$f":"L954-ROUND(G954*I954,2)","v":0},null,{"$f":"J954+L954+N954","v":0},null,405.07,{"$f":"ROUND(Q954*E954,2)","v":0},{"$f":"ROUND(F954*Q954,2)","v":607.61},{"$f":"ROUND(S954*G954,2)","v":0},{"$f":"T954-ROUND(Q954*G954,2)","v":0},null,{"$f":"R954+T954+V954","v":0},null,null,null,null,null,null,null,null,null,null,null,{"$f":"IF($I954=AI$6,$E954,0)","v":0},{"$f":"IF($K954=ROUND(AI$6*$F954,2),$G954,0)","v":0},{"$f":"IF($H954>0,AI954,0)","v":0},{"$f":"IF(AK954>0,1,0)","v":0},{"$f":"IF($H954>0,AJ954,0)","v":0},{"$f":"IF(AM954>0,1,0)","v":0},{"$f":"IF($I954=AO$6,$E954,0)","v":0},{"$f":"IF($K954=ROUND(AO$6*$F954,2),$G954,0)","v":0},{"$f":"IF($H954>0,AO954,0)","v":0},{"$f":"IF(AQ954>0,1,0)","v":0},{"$f":"IF($H954>0,AP954,0)","v":0},{"$f":"IF(AS954>0,1,0)","v":0},{"$f":"IF($I954=AU$6,$E954,0)","v":0},{"$f":"IF($K954=ROUND(AU$6*$F954,2),$G954,0)","v":0},{"$f":"IF($H954>0,AU954,0)","v":0},{"$f":"IF(AW954>0,1,0)","v":0},{"$f":"IF($H954>0,AV954,0)","v":0},{"$f":"IF(AY954>0,1,0)","v":0},{"$f":"IF($I954=BA$6,$E954,0)","v":0},{"$f":"IF($K954=ROUND(BA$6*$F954,2),$G954,0)","v":0},{"$f":"IF($H954>0,BA954,0)","v":0},{"$f":"IF(BC954>0,1,0)","v":0},{"$f":"IF($H954>0,BB954,0)","v":0},{"$f":"IF(BE954>0,1,0)","v":0},null,0,0]
[{"$f":"IF(E955+G955>0,A954,\"\")","v":""},{"$f":"IF(E955+G955>0,B954,\"\")","v":""},6,"",0,1.1000000000000001,0,0,{"$f":"SUMIF(Y$14:BA$14,C955,Y$6:BA$6)","v":1733.45},{"$f":"IF(H955=0,ROUND(E955*I955,2),ROUND(H955*E955,2))","v":0},{"$f":"ROUND(F955*I955,2)","v":1906.8},{"$f":"IF(H955=0,ROUND(ROUND(F955*I955,2)*G955,2),ROUND(G955*H955,2))","v":0},{"$f":"L955-ROUND(G955*I955,2)","v":0},null,{"$f":"J955+L955+N955","v":0},null,405.07,{"$f":"ROUND(Q955*E955,2)","v":0},{"$f":"ROUND(F955*Q955,2)","v":445.58},{"$f":"ROUND(S955*G955,2)","v":0},{"$f":"T955-ROUND(Q955*G955,2)","v":0},null,{"$f":"R955+T955+V955","v":0},null,null,null,null,null,null,null,null,null,null,null,{"$f":"IF($I955=AI$6,$E955,0)","v":0},0,{"$f":"IF($H955>0,AI955,0)","v":0},{"$f":"IF(AK955>0,1,0)","v":0},{"$f":"IF($H955>0,AJ955,0)","v":0},{"$f":"IF(AM955>0,1,0)","v":0},{"$f":"IF($I955=AO$6,$E955,0)","v":0},0,{"$f":"IF($H955>0,AO955,0)","v":0},{"$f":"IF(AQ955>0,1,0)","v":0},{"$f":"IF($H955>0,AP955,0)","v":0},{"$f":"IF(AS955>0,1,0)","v":0},{"$f":"IF($I955=AU$6,$E955,0)","v":0},0,{"$f":"IF($H955>0,AU955,0)","v":0},{"$f":"IF(AW955>0,1,0)","v":0},{"$f":"IF($H955>0,AV955,0)","v":0},{"$f":"IF(AY955>0,1,0)","v":0},{"$f":"IF($I955=BA$6,$E955,0)","v":0},0,{"$f":"IF($H955>0,BA955,0)","v":0},{"$f":"IF(BC955>0,1,0)","v":0},{"$f":"IF($H955>0,BB955,0)","v":0},{"$f":"IF(BE955>0,1,0)","v":0},null,0]
[{"$f":"IF(E956+G956>0,A954,\"\")","v":""},{"$f":"IF(E956+G956>0,B954,\"\")","v":""},{"$f":"C955","v":6},"",0,1.5,0,0,{"$f":"SUMIF(Y$14:BA$14,C956,Y$7:BA$7)","v":0},0,0,0,0,null,0,null,405.07,0,607.61,0,0,null,0,null,null,null,null,null,null,null,null,null,null,null,{"$f":"IF($I956=AI$7,$E956,0)","v":0},{"$f":"IF($K956=ROUND(AI$7*$F956,2),$G956,0)","v":0},0,0,0,0,{"$f":"IF($I956=AO$7,$E956,0)","v":0},{"$f":"IF($K956=ROUND(AO$7*$F956,2),$G956,0)","v":0},0,0,0,0,{"$f":"IF($I956=AU$7,$E956,0)","v":0},{"$f":"IF($K956=ROUND(AU$7*$F956,2),$G956,0)","v":0},0,0,0,0,{"$f":"IF($I956=BA$7,$E956,0)","v":0},{"$f":"IF($K956=ROUND(BA$7*$F956,2),$G956,0)","v":0},0,0,0,0,null,0]
[{"$f":"IF(E957+G957>0,A954,\"\")","v":""},{"$f":"IF(E957+G957>0,B954,\"\")","v":""},{"$f":"C955","v":6},"",0,1.1000000000000001,0,0,{"$f":"SUMIF(Y$14:BA$14,C957,Y$7:BA$7)","v":0},0,0,0,0,null,0,null,405.07,0,445.58,0,0,null,0,null,null,null,null,null,null,null,null,null,null,null,{"$f":"IF($I957=AI$7,$E957,0)","v":0},{"$f":"IF($K957=ROUND(AI$7*$F957,2),$G957,0)","v":0},0,0,0,0,{"$f":"IF($I957=AO$7,$E957,0)","v":0},{"$f":"IF($K957=ROUND(AO$7*$F957,2),$G957,0)","v":0},0,0,0,0,{"$f":"IF($I957=AU$7,$E957,0)","v":0},{"$f":"IF($K957=ROUND(AU$7*$F957,2),$G957,0)","v":0},0,0,0,0,{"$f":"IF($I957=BA$7,$E957,0)","v":0},{"$f":"IF($K957=ROUND(BA$7*$F957,2),$G957,0)","v":0},0,0,0,0,null,0]
["","",{"$f":"C959","v":""},"",0,1.5,0,0,{"$f":"SUMIF(Y$14:BA$14,C958,Y$6:BA$6)","v":0},{"$f":"IF(H958=0,ROUND(E958*I958,2),ROUND(H958*E958,2))","v":0},{"$f":"ROUND(F958*I958,2)","v":0},{"$f":"IF(H958=0,ROUND(ROUND(F958*I958,2)*G958,2),ROUND(G958*H958,2))","v":0},{"$f":"L958-ROUND(G958*I958,2)","v":0},null,{"$f":"J958+L958+N958","v":0},null,405.07,{"$f":"ROUND(Q958*E958,2)","v":0},{"$f":"ROUND(F958*Q958,2)","v":607.61},{"$f":"ROUND(S958*G958,2)","v":0},{"$f":"T958-ROUND(Q958*G958,2)","v":0},null,{"$f":"R958+T958+V958","v":0},null,null,null,null,null,null,null,null,null,null,null,{"$f":"IF($I958=AI$6,$E958,0)","v":0},{"$f":"IF($K958=ROUND(AI$6*$F958,2),$G958,0)","v":0},{"$f":"IF($H958>0,AI958,0)","v":0},{"$f":"IF(AK958>0,1,0)","v":0},{"$f":"IF($H958>0,AJ958,0)","v":0},{"$f":"IF(AM958>0,1,0)","v":0},{"$f":"IF($I958=AO$6,$E958,0)","v":0},{"$f":"IF($K958=ROUND(AO$6*$F958,2),$G958,0)","v":0},{"$f":"IF($H958>0,AO958,0)","v":0},{"$f":"IF(AQ958>0,1,0)","v":0},{"$f":"IF($H958>0,AP958,0)","v":0},{"$f":"IF(AS958>0,1,0)","v":0},{"$f":"IF($I958=AU$6,$E958,0)","v":0},{"$f":"IF($K958=ROUND(AU$6*$F958,2),$G958,0)","v":0},{"$f":"IF($H958>0,AU958,0)","v":0},{"$f":"IF(AW958>0,1,0)","v":0},{"$f":"IF($H958>0,AV958,0)","v":0},{"$f":"IF(AY958>0,1,0)","v":0},{"$f":"IF($I958=BA$6,$E958,0)","v":0},{"$f":"IF($K958=ROUND(BA$6*$F958,2),$G958,0)","v":0},{"$f":"IF($H958>0,BA958,0)","v":0},{"$f":"IF(BC958>0,1,0)","v":0},{"$f":"IF($H958>0,BB958,0)","v":0},{"$f":"IF(BE958>0,1,0)","v":0},null,0,0]
[{"$f":"IF(E959+G959>0,A958,\"\")","v":""},{"$f":"IF(E959+G959>0,B958,\"\")","v":""},"","",0,1.1000000000000001,0,0,{"$f":"SUMIF(Y$14:BA$14,C959,Y$6:BA$6)","v":0},{"$f":"IF(H959=0,ROUND(E959*I959,2),ROUND(H959*E959,2))","v":0},{"$f":"ROUND(F959*I959,2)","v":0},{"$f":"IF(H959=0,ROUND(ROUND(F959*I959,2)*G959,2),ROUND(G959*H959,2))","v":0},{"$f":"L959-ROUND(G959*I959,2)","v":0},null,{"$f":"J959+L959+N959","v":0},null,405.07,{"$f":"ROUND(Q959*E959,2)","v":0},{"$f":"ROUND(F959*Q959,2)","v":445.58},{"$f":"ROUND(S959*G959,2)","v":0},{"$f":"T959-ROUND(Q959*G959,2)","v":0},null,{"$f":"R959+T959+V959","v":0},null,null,null,null,null,null,null,null,null,null,null,{"$f":"IF($I959=AI$6,$E959,0)","v":0},0,{"$f":"IF($H959>0,AI959,0)","v":0},{"$f":"IF(AK959>0,1,0)","v":0},{"$f":"IF($H959>0,AJ959,0)","v":0},{"$f":"IF(AM959>0,1,0)","v":0},{"$f":"IF($I959=AO$6,$E959,0)","v":0},0,{"$f":"IF($H959>0,AO959,0)","v":0},{"$f":"IF(AQ959>0,1,0)","v":0},{"$f":"IF($H959>0,AP959,0)","v":0},{"$f":"IF(AS959>0,1,0)","v":0},{"$f":"IF($I959=AU$6,$E959,0)","v":0},0,{"$f":"IF($H959>0,AU959,0)","v":0},{"$f":"IF(AW959>0,1,0)","v":0},{"$f":"IF($H959>0,AV959,0)","v":0},{"$f":"IF(AY959>0,1,0)","v":0},{"$f":"IF($I959=BA$6,$E959,0)","v":0},0,{"$f":"IF($H959>0,BA959,0)","v":0},{"$f":"IF(BC959>0,1,0)","v":0},{"$f":"IF($H959>0,BB959,0)","v":0},{"$f":"IF(BE959>0,1,0)","v":0},null,0]
[{"$f":"IF(E960+G960>0,A958,\"\")","v":""},{"$f":"IF(E960+G960>0,B958,\"\")","v":""},{"$f":"C959","v":""},"",0,1.5,0,0,{"$f":"SUMIF(Y$14:BA$14,C960,Y$7:BA$7)","v":0},0,0,0,0,null,0,null,405.07,0,607.61,0,0,null,0,null,null,null,null,null,null,null,null,null,null,null,{"$f":"IF($I960=AI$7,$E960,0)","v":0},{"$f":"IF($K960=ROUND(AI$7*$F960,2),$G960,0)","v":0},0,0,0,0,{"$f":"IF($I960=AO$7,$E960,0)","v":0},{"$f":"IF($K960=ROUND(AO$7*$F960,2),$G960,0)","v":0},0,0,0,0,{"$f":"IF($I960=AU$7,$E960,0)","v":0},{"$f":"IF($K960=ROUND(AU$7*$F960,2),$G960,0)","v":0},0,0,0,0,{"$f":"IF($I960=BA$7,$E960,0)","v":0},{"$f":"IF($K960=ROUND(BA$7*$F960,2),$G960,0)","v":0},0,0,0,0,null,0]
[{"$f":"IF(E961+G961>0,A958,\"\")","v":""},{"$f":"IF(E961+G961>0,B958,\"\")","v":""},{"$f":"C959","v":""},"",0,1.1000000000000001,0,0,{"$f":"SUMIF(Y$14:BA$14,C961,Y$7:BA$7)","v":0},0,0,0,0,null,0,null,405.07,0,445.58,0,0,null,0,null,null,null,null,null,null,null,null,null,null,null,{"$f":"IF($I961=AI$7,$E961,0)","v":0},{"$f":"IF($K961=ROUND(AI$7*$F961,2),$G961,0)","v":0},0,0,0,0,{"$f":"IF($I961=AO$7,$E961,0)","v":0},{"$f":"IF($K961=ROUND(AO$7*$F961,2),$G961,0)","v":0},0,0,0,0,{"$f":"IF($I961=AU$7,$E961,0)","v":0},{"$f":"IF($K961=ROUND(AU$7*$F961,2),$G961,0)","v":0},0,0,0,0,{"$f":"IF($I961=BA$7,$E961,0)","v":0},{"$f":"IF($K961=ROUND(BA$7*$F961,2),$G961,0)","v":0},0,0,0,0,null,0]
["","",{"$f":"C963","v":""},"",0,1.5,0,0,{"$f":"SUMIF(Y$14:BA$14,C962,Y$6:BA$6)","v":0},{"$f":"IF(H962=0,ROUND(E962*I962,2),ROUND(H962*E962,2))","v":0},{"$f":"ROUND(F962*I962,2)","v":0},{"$f":"IF(H962=0,ROUND(ROUND(F962*I962,2)*G962,2),ROUND(G962*H962,2))","v":0},{"$f":"L962-ROUND(G962*I962,2)","v":0},null,{"$f":"J962+L962+N962","v":0},null,405.07,{"$f":"ROUND(Q962*E962,2)","v":0},{"$f":"ROUND(F962*Q962,2)","v":607.61},{"$f":"ROUND(S962*G962,2)","v":0},{"$f":"T962-ROUND(Q962*G962,2)","v":0},null,{"$f":"R962+T962+V962","v":0},null,null,null,null,null,null,null,null,null,null,null,{"$f":"IF($I962=AI$6,$E962,0)","v":0},{"$f":"IF($K962=ROUND(AI$6*$F962,2),$G962,0)","v":0},{"$f":"IF($H962>0,AI962,0)","v":0},{"$f":"IF(AK962>0,1,0)","v":0},{"$f":"IF($H962>0,AJ962,0)","v":0},{"$f":"IF(AM962>0,1,0)","v":0},{"$f":"IF($I962=AO$6,$E962,0)","v":0},{"$f":"IF($K962=ROUND(AO$6*$F962,2),$G962,0)","v":0},{"$f":"IF($H962>0,AO962,0)","v":0},{"$f":"IF(AQ962>0,1,0)","v":0},{"$f":"IF($H962>0,AP962,0)","v":0},{"$f":"IF(AS962>0,1,0)","v":0},{"$f":"IF($I962=AU$6,$E962,0)","v":0},{"$f":"IF($K962=ROUND(AU$6*$F962,2),$G962,0)","v":0},{"$f":"IF($H962>0,AU962,0)","v":0},{"$f":"IF(AW962>0,1,0)","v":0},{"$f":"IF($H962>0,AV962,0)","v":0},{"$f":"IF(AY962>0,1,0)","v":0},{"$f":"IF($I962=BA$6,$E962,0)","v":0},{"$f":"IF($K962=ROUND(BA$6*$F962,2),$G962,0)","v":0},{"$f":"IF($H962>0,BA962,0)","v":0},{"$f":"IF(BC962>0,1,0)","v":0},{"$f":"IF($H962>0,BB962,0)","v":0},{"$f":"IF(BE962>0,1,0)","v":0},null,0,0]
[{"$f":"IF(E963+G963>0,A962,\"\")","v":""},{"$f":"IF(E963+G963>0,B962,\"\")","v":""},"","",0,1.1000000000000001,0,0,{"$f":"SUMIF(Y$14:BA$14,C963,Y$6:BA$6)","v":0},{"$f":"IF(H963=0,ROUND(E963*I963,2),ROUND(H963*E963,2))","v":0},{"$f":"ROUND(F963*I963,2)","v":0},{"$f":"IF(H963=0,ROUND(ROUND(F963*I963,2)*G963,2),ROUND(G963*H963,2))","v":0},{"$f":"L963-ROUND(G963*I963,2)","v":0},null,{"$f":"J963+L963+N963","v":0},null,405.07,{"$f":"ROUND(Q963*E963,2)","v":0},{"$f":"ROUND(F963*Q963,2)","v":445.58},{"$f":"ROUND(S963*G963,2)","v":0},{"$f":"T963-ROUND(Q963*G963,2)","v":0},null,{"$f":"R963+T963+V963","v":0},null,null,null,null,null,null,null,null,null,null,null,{"$f":"IF($I963=AI$6,$E963,0)","v":0},0,{"$f":"IF($H963>0,AI963,0)","v":0},{"$f":"IF(AK963>0,1,0)","v":0},{"$f":"IF($H963>0,AJ963,0)","v":0},{"$f":"IF(AM963>0,1,0)","v":0},{"$f":"IF($I963=AO$6,$E963,0)","v":0},0,{"$f":"IF($H963>0,AO963,0)","v":0},{"$f":"IF(AQ963>0,1,0)","v":0},{"$f":"IF($H963>0,AP963,0)","v":0},{"$f":"IF(AS963>0,1,0)","v":0},{"$f":"IF($I963=AU$6,$E963,0)","v":0},0,{"$f":"IF($H963>0,AU963,0)","v":0},{"$f":"IF(AW963>0,1,0)","v":0},{"$f":"IF($H963>0,AV963,0)","v":0},{"$f":"IF(AY963>0,1,0)","v":0},{"$f":"IF($I963=BA$6,$E963,0)","v":0},0,{"$f":"IF($H963>0,BA963,0)","v":0},{"$f":"IF(BC963>0,1,0)","v":0},{"$f":"IF($H963>0,BB963,0)","v":0},{"$f":"IF(BE963>0,1,0)","v":0},null,0]
[{"$f":"IF(E964+G964>0,A962,\"\")","v":""},{"$f":"IF(E964+G964>0,B962,\"\")","v":""},{"$f":"C963","v":""},"",0,1.5,0,0,{"$f":"SUMIF(Y$14:BA$14,C964,Y$7:BA$7)","v":0},0,0,0,0,null,0,null,405.07,0,607.61,0,0,null,0,null,null,null,null,null,null,null,null,null,null,null,{"$f":"IF($I964=AI$7,$E964,0)","v":0},{"$f":"IF($K964=ROUND(AI$7*$F964,2),$G964,0)","v":0},0,0,0,0,{"$f":"IF($I964=AO$7,$E964,0)","v":0},{"$f":"IF($K964=ROUND(AO$7*$F964,2),$G964,0)","v":0},0,0,0,0,{"$f":"IF($I964=AU$7,$E964,0)","v":0},{"$f":"IF($K964=ROUND(AU$7*$F964,2),$G964,0)","v":0},0,0,0,0,{"$f":"IF($I964=BA$7,$E964,0)","v":0},{"$f":"IF($K964=ROUND(BA$7*$F964,2),$G964,0)","v":0},0,0,0,0,null,0]
[{"$f":"IF(E965+G965>0,A962,\"\")","v":""},{"$f":"IF(E965+G965>0,B962,\"\")","v":""},{"$f":"C963","v":""},"",0,1.1000000000000001,0,0,{"$f":"SUMIF(Y$14:BA$14,C965,Y$7:BA$7)","v":0},0,0,0,0,null,0,null,405.07,0,445.58,0,0,null,0,null,null,null,null,null,null,null,null,null,null,null,{"$f":"IF($I965=AI$7,$E965,0)","v":0},{"$f":"IF($K965=ROUND(AI$7*$F965,2),$G965,0)","v":0},0,0,0,0,{"$f":"IF($I965=AO$7,$E965,0)","v":0},{"$f":"IF($K965=ROUND(AO$7*$F965,2),$G965,0)","v":0},0,0,0,0,{"$f":"IF($I965=AU$7,$E965,0)","v":0},{"$f":"IF($K965=ROUND(AU$7*$F965,2),$G965,0)","v":0},0,0,0,0,{"$f":"IF($I965=BA$7,$E965,0)","v":0},{"$f":"IF($K965=ROUND(BA$7*$F965,2),$G965,0)","v":0},0,0,0,0,null,0]
["","",{"$f":"C967","v":""},"",0,1.5,0,0,{"$f":"SUMIF(Y$14:BA$14,C966,Y$6:BA$6)","v":0},{"$f":"IF(H966=0,ROUND(E966*I966,2),ROUND(H966*E966,2))","v":0},{"$f":"ROUND(F966*I966,2)","v":0},{"$f":"IF(H966=0,ROUND(ROUND(F966*I966,2)*G966,2),ROUND(G966*H966,2))","v":0},{"$f":"L966-ROUND(G966*I966,2)","v":0},null,{"$f":"J966+L966+N966","v":0},null,405.07,{"$f":"ROUND(Q966*E966,2)","v":0},{"$f":"ROUND(F966*Q966,2)","v":607.61},{"$f":"ROUND(S966*G966,2)","v":0},{"$f":"T966-ROUND(Q966*G966,2)","v":0},null,{"$f":"R966+T966+V966","v":0},null,null,null,null,null,null,null,null,null,null,null,{"$f":"IF($I966=AI$6,$E966,0)","v":0},{"$f":"IF($K966=ROUND(AI$6*$F966,2),$G966,0)","v":0},{"$f":"IF($H966>0,AI966,0)","v":0},{"$f":"IF(AK966>0,1,0)","v":0},{"$f":"IF($H966>0,AJ966,0)","v":0},{"$f":"IF(AM966>0,1,0)","v":0},{"$f":"IF($I966=AO$6,$E966,0)","v":0},{"$f":"IF($K966=ROUND(AO$6*$F966,2),$G966,0)","v":0},{"$f":"IF($H966>0,AO966,0)","v":0},{"$f":"IF(AQ966>0,1,0)","v":0},{"$f":"IF($H966>0,AP966,0)","v":0},{"$f":"IF(AS966>0,1,0)","v":0},{"$f":"IF($I966=AU$6,$E966,0)","v":0},{"$f":"IF($K966=ROUND(AU$6*$F966,2),$G966,0)","v":0},{"$f":"IF($H966>0,AU966,0)","v":0},{"$f":"IF(AW966>0,1,0)","v":0},{"$f":"IF($H966>0,AV966,0)","v":0},{"$f":"IF(AY966>0,1,0)","v":0},{"$f":"IF($I966=BA$6,$E966,0)","v":0},{"$f":"IF($K966=ROUND(BA$6*$F966,2),$G966,0)","v":0},{"$f":"IF($H966>0,BA966,0)","v":0},{"$f":"IF(BC966>0,1,0)","v":0},{"$f":"IF($H966>0,BB966,0)","v":0},{"$f":"IF(BE966>0,1,0)","v":0},null,0,0]
[{"$f":"IF(E967+G967>0,A966,\"\")","v":""},{"$f":"IF(E967+G967>0,B966,\"\")","v":""},"","",0,1.1000000000000001,0,0,{"$f":"SUMIF(Y$14:BA$14,C967,Y$6:BA$6)","v":0},{"$f":"IF(H967=0,ROUND(E967*I967,2),ROUND(H967*E967,2))","v":0},{"$f":"ROUND(F967*I967,2)","v":0},{"$f":"IF(H967=0,ROUND(ROUND(F967*I967,2)*G967,2),ROUND(G967*H967,2))","v":0},{"$f":"L967-ROUND(G967*I967,2)","v":0},null,{"$f":"J967+L967+N967","v":0},null,405.07,{"$f":"ROUND(Q967*E967,2)","v":0},{"$f":"ROUND(F967*Q967,2)","v":445.58},{"$f":"ROUND(S967*G967,2)","v":0},{"$f":"T967-ROUND(Q967*G967,2)","v":0},null,{"$f":"R967+T967+V967","v":0},null,null,null,null,null,null,null,null,null,null,null,{"$f":"IF($I967=AI$6,$E967,0)","v":0},0,{"$f":"IF($H967>0,AI967,0)","v":0},{"$f":"IF(AK967>0,1,0)","v":0},{"$f":"IF($H967>0,AJ967,0)","v":0},{"$f":"IF(AM967>0,1,0)","v":0},{"$f":"IF($I967=AO$6,$E967,0)","v":0},0,{"$f":"IF($H967>0,AO967,0)","v":0},{"$f":"IF(AQ967>0,1,0)","v":0},{"$f":"IF($H967>0,AP967,0)","v":0},{"$f":"IF(AS967>0,1,0)","v":0},{"$f":"IF($I967=AU$6,$E967,0)","v":0},0,{"$f":"IF($H967>0,AU967,0)","v":0},{"$f":"IF(AW967>0,1,0)","v":0},{"$f":"IF($H967>0,AV967,0)","v":0},{"$f":"IF(AY967>0,1,0)","v":0},{"$f":"IF($I967=BA$6,$E967,0)","v":0},0,{"$f":"IF($H967>0,BA967,0)","v":0},{"$f":"IF(BC967>0,1,0)","v":0},{"$f":"IF($H967>0,BB967,0)","v":0},{"$f":"IF(BE967>0,1,0)","v":0},null,0]
[{"$f":"IF(E968+G968>0,A966,\"\")","v":""},{"$f":"IF(E968+G968>0,B966,\"\")","v":""},{"$f":"C967","v":""},"",0,1.5,0,0,{"$f":"SUMIF(Y$14:BA$14,C968,Y$7:BA$7)","v":0},0,0,0,0,null,0,null,405.07,0,607.61,0,0,null,0,null,null,null,null,null,null,null,null,null,null,null,{"$f":"IF($I968=AI$7,$E968,0)","v":0},{"$f":"IF($K968=ROUND(AI$7*$F968,2),$G968,0)","v":0},0,0,0,0,{"$f":"IF($I968=AO$7,$E968,0)","v":0},{"$f":"IF($K968=ROUND(AO$7*$F968,2),$G968,0)","v":0},0,0,0,0,{"$f":"IF($I968=AU$7,$E968,0)","v":0},{"$f":"IF($K968=ROUND(AU$7*$F968,2),$G968,0)","v":0},0,0,0,0,{"$f":"IF($I968=BA$7,$E968,0)","v":0},{"$f":"IF($K968=ROUND(BA$7*$F968,2),$G968,0)","v":0},0,0,0,0,null,0]
[{"$f":"IF(E969+G969>0,A966,\"\")","v":""},{"$f":"IF(E969+G969>0,B966,\"\")","v":""},{"$f":"C967","v":""},"",0,1.1000000000000001,0,0,{"$f":"SUMIF(Y$14:BA$14,C969,Y$7:BA$7)","v":0},0,0,0,0,null,0,null,405.07,0,445.58,0,0,null,0,null,null,null,null,null,null,null,null,null,null,null,{"$f":"IF($I969=AI$7,$E969,0)","v":0},{"$f":"IF($K969=ROUND(AI$7*$F969,2),$G969,0)","v":0},0,0,0,0,{"$f":"IF($I969=AO$7,$E969,0)","v":0},{"$f":"IF($K969=ROUND(AO$7*$F969,2),$G969,0)","v":0},0,0,0,0,{"$f":"IF($I969=AU$7,$E969,0)","v":0},{"$f":"IF($K969=ROUND(AU$7*$F969,2),$G969,0)","v":0},0,0,0,0,{"$f":"IF($I969=BA$7,$E969,0)","v":0},{"$f":"IF($K969=ROUND(BA$7*$F969,2),$G969,0)","v":0},0,0,0,0,null,0]
["","",{"$f":"C971","v":""},"",0,1.5,0,0,{"$f":"SUMIF(Y$14:BA$14,C970,Y$6:BA$6)","v":0},{"$f":"IF(H970=0,ROUND(E970*I970,2),ROUND(H970*E970,2))","v":0},{"$f":"ROUND(F970*I970,2)","v":0},{"$f":"IF(H970=0,ROUND(ROUND(F970*I970,2)*G970,2),ROUND(G970*H970,2))","v":0},{"$f":"L970-ROUND(G970*I970,2)","v":0},null,{"$f":"J970+L970+N970","v":0},null,405.07,{"$f":"ROUND(Q970*E970,2)","v":0},{"$f":"ROUND(F970*Q970,2)","v":607.61},{"$f":"ROUND(S970*G970,2)","v":0},{"$f":"T970-ROUND(Q970*G970,2)","v":0},null,{"$f":"R970+T970+V970","v":0},null,null,null,null,null,null,null,null,null,null,null,{"$f":"IF($I970=AI$6,$E970,0)","v":0},{"$f":"IF($K970=ROUND(AI$6*$F970,2),$G970,0)","v":0},{"$f":"IF($H970>0,AI970,0)","v":0},{"$f":"IF(AK970>0,1,0)","v":0},{"$f":"IF($H970>0,AJ970,0)","v":0},{"$f":"IF(AM970>0,1,0)","v":0},{"$f":"IF($I970=AO$6,$E970,0)","v":0},{"$f":"IF($K970=ROUND(AO$6*$F970,2),$G970,0)","v":0},{"$f":"IF($H970>0,AO970,0)","v":0},{"$f":"IF(AQ970>0,1,0)","v":0},{"$f":"IF($H970>0,AP970,0)","v":0},{"$f":"IF(AS970>0,1,0)","v":0},{"$f":"IF($I970=AU$6,$E970,0)","v":0},{"$f":"IF($K970=ROUND(AU$6*$F970,2),$G970,0)","v":0},{"$f":"IF($H970>0,AU970,0)","v":0},{"$f":"IF(AW970>0,1,0)","v":0},{"$f":"IF($H970>0,AV970,0)","v":0},{"$f":"IF(AY970>0,1,0)","v":0},{"$f":"IF($I970=BA$6,$E970,0)","v":0},{"$f":"IF($K970=ROUND(BA$6*$F970,2),$G970,0)","v":0},{"$f":"IF($H970>0,BA970,0)","v":0},{"$f":"IF(BC970>0,1,0)","v":0},{"$f":"IF($H970>0,BB970,0)","v":0},{"$f":"IF(BE970>0,1,0)","v":0},null,0,0]
[{"$f":"IF(E971+G971>0,A970,\"\")","v":""},{"$f":"IF(E971+G971>0,B970,\"\")","v":""},"","",0,1.1000000000000001,0,0,{"$f":"SUMIF(Y$14:BA$14,C971,Y$6:BA$6)","v":0},{"$f":"IF(H971=0,ROUND(E971*I971,2),ROUND(H971*E971,2))","v":0},{"$f":"ROUND(F971*I971,2)","v":0},{"$f":"IF(H971=0,ROUND(ROUND(F971*I971,2)*G971,2),ROUND(G971*H971,2))","v":0},{"$f":"L971-ROUND(G971*I971,2)","v":0},null,{"$f":"J971+L971+N971","v":0},null,405.07,{"$f":"ROUND(Q971*E971,2)","v":0},{"$f":"ROUND(F971*Q971,2)","v":445.58},{"$f":"ROUND(S971*G971,2)","v":0},{"$f":"T971-ROUND(Q971*G971,2)","v":0},null,{"$f":"R971+T971+V971","v":0},null,null,null,null,null,null,null,null,null,null,null,{"$f":"IF($I971=AI$6,$E971,0)","v":0},0,{"$f":"IF($H971>0,AI971,0)","v":0},{"$f":"IF(AK971>0,1,0)","v":0},{"$f":"IF($H971>0,AJ971,0)","v":0},{"$f":"IF(AM971>0,1,0)","v":0},{"$f":"IF($I971=AO$6,$E971,0)","v":0},0,{"$f":"IF($H971>0,AO971,0)","v":0},{"$f":"IF(AQ971>0,1,0)","v":0},{"$f":"IF($H971>0,AP971,0)","v":0},{"$f":"IF(AS971>0,1,0)","v":0},{"$f":"IF($I971=AU$6,$E971,0)","v":0},0,{"$f":"IF($H971>0,AU971,0)","v":0},{"$f":"IF(AW971>0,1,0)","v":0},{"$f":"IF($H971>0,AV971,0)","v":0},{"$f":"IF(AY971>0,1,0)","v":0},{"$f":"IF($I971=BA$6,$E971,0)","v":0},0,{"$f":"IF($H971>0,BA971,0)","v":0},{"$f":"IF(BC971>0,1,0)","v":0},{"$f":"IF($H971>0,BB971,0)","v":0},{"$f":"IF(BE971>0,1,0)","v":0},null,0]
[{"$f":"IF(E972+G972>0,A970,\"\")","v":""},{"$f":"IF(E972+G972>0,B970,\"\")","v":""},{"$f":"C971","v":""},"",0,1.5,0,0,{"$f":"SUMIF(Y$14:BA$14,C972,Y$7:BA$7)","v":0},0,0,0,0,null,0,null,405.07,0,607.61,0,0,null,0,null,null,null,null,null,null,null,null,null,null,null,{"$f":"IF($I972=AI$7,$E972,0)","v":0},{"$f":"IF($K972=ROUND(AI$7*$F972,2),$G972,0)","v":0},0,0,0,0,{"$f":"IF($I972=AO$7,$E972,0)","v":0},{"$f":"IF($K972=ROUND(AO$7*$F972,2),$G972,0)","v":0},0,0,0,0,{"$f":"IF($I972=AU$7,$E972,0)","v":0},{"$f":"IF($K972=ROUND(AU$7*$F972,2),$G972,0)","v":0},0,0,0,0,{"$f":"IF($I972=BA$7,$E972,0)","v":0},{"$f":"IF($K972=ROUND(BA$7*$F972,2),$G972,0)","v":0},0,0,0,0,null,0]
[{"$f":"IF(E973+G973>0,A970,\"\")","v":""},{"$f":"IF(E973+G973>0,B970,\"\")","v":""},{"$f":"C971","v":""},"",0,1.1000000000000001,0,0,{"$f":"SUMIF(Y$14:BA$14,C973,Y$7:BA$7)","v":0},0,0,0,0,null,0,null,405.07,0,445.58,0,0,null,0,null,null,null,null,null,null,null,null,null,null,null,{"$f":"IF($I973=AI$7,$E973,0)","v":0},{"$f":"IF($K973=ROUND(AI$7*$F973,2),$G973,0)","v":0},0,0,0,0,{"$f":"IF($I973=AO$7,$E973,0)","v":0},{"$f":"IF($K973=ROUND(AO$7*$F973,2),$G973,0)","v":0},0,0,0,0,{"$f":"IF($I973=AU$7,$E973,0)","v":0},{"$f":"IF($K973=ROUND(AU$7*$F973,2),$G973,0)","v":0},0,0,0,0,{"$f":"IF($I973=BA$7,$E973,0)","v":0},{"$f":"IF($K973=ROUND(BA$7*$F973,2),$G973,0)","v":0},0,0,0,0,null,0]
["","",{"$f":"C975","v":""},"",0,1.5,0,0,{"$f":"SUMIF(Y$14:BA$14,C974,Y$6:BA$6)","v":0},{"$f":"IF(H974=0,ROUND(E974*I974,2),ROUND(H974*E974,2))","v":0},{"$f":"ROUND(F974*I974,2)","v":0},{"$f":"IF(H974=0,ROUND(ROUND(F974*I974,2)*G974,2),ROUND(G974*H974,2))","v":0},{"$f":"L974-ROUND(G974*I974,2)","v":0},null,{"$f":"J974+L974+N974","v":0},null,405.07,{"$f":"ROUND(Q974*E974,2)","v":0},{"$f":"ROUND(F974*Q974,2)","v":607.61},{"$f":"ROUND(S974*G974,2)","v":0},{"$f":"T974-ROUND(Q974*G974,2)","v":0},null,{"$f":"R974+T974+V974","v":0},null,null,null,null,null,null,null,null,null,null,null,{"$f":"IF($I974=AI$6,$E974,0)","v":0},{"$f":"IF($K974=ROUND(AI$6*$F974,2),$G974,0)","v":0},{"$f":"IF($H974>0,AI974,0)","v":0},{"$f":"IF(AK974>0,1,0)","v":0},{"$f":"IF($H974>0,AJ974,0)","v":0},{"$f":"IF(AM974>0,1,0)","v":0},{"$f":"IF($I974=AO$6,$E974,0)","v":0},{"$f":"IF($K974=ROUND(AO$6*$F974,2),$G974,0)","v":0},{"$f":"IF($H974>0,AO974,0)","v":0},{"$f":"IF(AQ974>0,1,0)","v":0},{"$f":"IF($H974>0,AP974,0)","v":0},{"$f":"IF(AS974>0,1,0)","v":0},{"$f":"IF($I974=AU$6,$E974,0)","v":0},{"$f":"IF($K974=ROUND(AU$6*$F974,2),$G974,0)","v":0},{"$f":"IF($H974>0,AU974,0)","v":0},{"$f":"IF(AW974>0,1,0)","v":0},{"$f":"IF($H974>0,AV974,0)","v":0},{"$f":"IF(AY974>0,1,0)","v":0},{"$f":"IF($I974=BA$6,$E974,0)","v":0},{"$f":"IF($K974=ROUND(BA$6*$F974,2),$G974,0)","v":0},{"$f":"IF($H974>0,BA974,0)","v":0},{"$f":"IF(BC974>0,1,0)","v":0},{"$f":"IF($H974>0,BB974,0)","v":0},{"$f":"IF(BE974>0,1,0)","v":0},null,0,0]
[{"$f":"IF(E975+G975>0,A974,\"\")","v":""},{"$f":"IF(E975+G975>0,B974,\"\")","v":""},"","",0,1.1000000000000001,0,0,{"$f":"SUMIF(Y$14:BA$14,C975,Y$6:BA$6)","v":0},{"$f":"IF(H975=0,ROUND(E975*I975,2),ROUND(H975*E975,2))","v":0},{"$f":"ROUND(F975*I975,2)","v":0},{"$f":"IF(H975=0,ROUND(ROUND(F975*I975,2)*G975,2),ROUND(G975*H975,2))","v":0},{"$f":"L975-ROUND(G975*I975,2)","v":0},null,{"$f":"J975+L975+N975","v":0},null,405.07,{"$f":"ROUND(Q975*E975,2)","v":0},{"$f":"ROUND(F975*Q975,2)","v":445.58},{"$f":"ROUND(S975*G975,2)","v":0},{"$f":"T975-ROUND(Q975*G975,2)","v":0},null,{"$f":"R975+T975+V975","v":0},null,null,null,null,null,null,null,null,null,null,null,{"$f":"IF($I975=AI$6,$E975,0)","v":0},0,{"$f":"IF($H975>0,AI975,0)","v":0},{"$f":"IF(AK975>0,1,0)","v":0},{"$f":"IF($H975>0,AJ975,0)","v":0},{"$f":"IF(AM975>0,1,0)","v":0},{"$f":"IF($I975=AO$6,$E975,0)","v":0},0,{"$f":"IF($H975>0,AO975,0)","v":0},{"$f":"IF(AQ975>0,1,0)","v":0},{"$f":"IF($H975>0,AP975,0)","v":0},{"$f":"IF(AS975>0,1,0)","v":0},{"$f":"IF($I975=AU$6,$E975,0)","v":0},0,{"$f":"IF($H975>0,AU975,0)","v":0},{"$f":"IF(AW975>0,1,0)","v":0},{"$f":"IF($H975>0,AV975,0)","v":0},{"$f":"IF(AY975>0,1,0)","v":0},{"$f":"IF($I975=BA$6,$E975,0)","v":0},0,{"$f":"IF($H975>0,BA975,0)","v":0},{"$f":"IF(BC975>0,1,0)","v":0},{"$f":"IF($H975>0,BB975,0)","v":0},{"$f":"IF(BE975>0,1,0)","v":0},null,0]
[{"$f":"IF(E976+G976>0,A974,\"\")","v":""},{"$f":"IF(E976+G976>0,B974,\"\")","v":""},{"$f":"C975","v":""},"",0,1.5,0,0,{"$f":"SUMIF(Y$14:BA$14,C976,Y$7:BA$7)","v":0},0,0,0,0,null,0,null,{"$f":"IF(BI976>0,Q$6,Q$6)","v":405.07},0,607.61,0,0,null,0,null,null,null,null,null,null,null,null,null,null,null,{"$f":"IF($I976=AI$7,$E976,0)","v":0},{"$f":"IF($K976=ROUND(AI$7*$F976,2),$G976,0)","v":0},0,0,0,0,{"$f":"IF($I976=AO$7,$E976,0)","v":0},{"$f":"IF($K976=ROUND(AO$7*$F976,2),$G976,0)","v":0},0,0,0,0,{"$f":"IF($I976=AU$7,$E976,0)","v":0},{"$f":"IF($K976=ROUND(AU$7*$F976,2),$G976,0)","v":0},0,0,0,0,{"$f":"IF($I976=BA$7,$E976,0)","v":0},{"$f":"IF($K976=ROUND(BA$7*$F976,2),$G976,0)","v":0},0,0,0,0,null,0]
[{"$f":"IF(E977+G977>0,A974,\"\")","v":""},{"$f":"IF(E977+G977>0,B974,\"\")","v":""},{"$f":"C975","v":""},"",0,1.1000000000000001,0,{"$f":"E977+G977","v":0},{"$f":"SUMIF(Y$14:BA$14,C977,Y$7:BA$7)","v":0},0,0,0,0,null,0,null,405.07,0,445.58,0,0,null,0,null,null,null,null,null,null,null,null,null,null,null,{"$f":"IF($I977=AI$7,$E977,0)","v":0},{"$f":"IF($K977=ROUND(AI$7*$F977,2),$G977,0)","v":0},0,0,0,0,{"$f":"IF($I977=AO$7,$E977,0)","v":0},{"$f":"IF($K977=ROUND(AO$7*$F977,2),$G977,0)","v":0},0,0,0,0,{"$f":"IF($I977=AU$7,$E977,0)","v":0},{"$f":"IF($K977=ROUND(AU$7*$F977,2),$G977,0)","v":0},0,0,0,0,{"$f":"IF($I977=BA$7,$E977,0)","v":0},{"$f":"IF($K977=ROUND(BA$7*$F977,2),$G977,0)","v":0},0,0,0,0,null,{"$f":"H977/1000","v":0}]
["","",{"$f":"C979","v":""},"",0,1.5,0,0,{"$f":"SUMIF(Y$14:BA$14,C978,Y$6:BA$6)","v":0},{"$f":"IF(H978=0,ROUND(E978*I978,2),ROUND(H978*E978,2))","v":0},{"$f":"ROUND(F978*I978,2)","v":0},{"$f":"IF(H978=0,ROUND(ROUND(F978*I978,2)*G978,2),ROUND(G978*H978,2))","v":0},{"$f":"L978-ROUND(G978*I978,2)","v":0},null,{"$f":"J978+L978+N978","v":0},null,405.07,{"$f":"ROUND(Q978*E978,2)","v":0},{"$f":"ROUND(F978*Q978,2)","v":607.61},{"$f":"ROUND(S978*G978,2)","v":0},{"$f":"T978-ROUND(Q978*G978,2)","v":0},null,{"$f":"R978+T978+V978","v":0},null,null,null,null,null,null,null,null,null,null,null,{"$f":"IF($I978=AI$6,$E978,0)","v":0},{"$f":"IF($K978=ROUND(AI$6*$F978,2),$G978,0)","v":0},{"$f":"IF($H978>0,AI978,0)","v":0},{"$f":"IF(AK978>0,1,0)","v":0},{"$f":"IF($H978>0,AJ978,0)","v":0},{"$f":"IF(AM978>0,1,0)","v":0},{"$f":"IF($I978=AO$6,$E978,0)","v":0},{"$f":"IF($K978=ROUND(AO$6*$F978,2),$G978,0)","v":0},{"$f":"IF($H978>0,AO978,0)","v":0},{"$f":"IF(AQ978>0,1,0)","v":0},{"$f":"IF($H978>0,AP978,0)","v":0},{"$f":"IF(AS978>0,1,0)","v":0},{"$f":"IF($I978=AU$6,$E978,0)","v":0},{"$f":"IF($K978=ROUND(AU$6*$F978,2),$G978,0)","v":0},{"$f":"IF($H978>0,AU978,0)","v":0},{"$f":"IF(AW978>0,1,0)","v":0},{"$f":"IF($H978>0,AV978,0)","v":0},{"$f":"IF(AY978>0,1,0)","v":0},{"$f":"IF($I978=BA$6,$E978,0)","v":0},{"$f":"IF($K978=ROUND(BA$6*$F978,2),$G978,0)","v":0},{"$f":"IF($H978>0,BA978,0)","v":0},{"$f":"IF(BC978>0,1,0)","v":0},{"$f":"IF($H978>0,BB978,0)","v":0},{"$f":"IF(BE978>0,1,0)","v":0},null,0,0]
[{"$f":"IF(E979+G979>0,A978,\"\")","v":""},{"$f":"IF(E979+G979>0,B978,\"\")","v":""},"","",0,1.1000000000000001,0,0,{"$f":"SUMIF(Y$14:BA$14,C979,Y$6:BA$6)","v":0},{"$f":"IF(H979=0,ROUND(E979*I979,2),ROUND(H979*E979,2))","v":0},{"$f":"ROUND(F979*I979,2)","v":0},{"$f":"IF(H979=0,ROUND(ROUND(F979*I979,2)*G979,2),ROUND(G979*H979,2))","v":0},{"$f":"L979-ROUND(G979*I979,2)","v":0},null,{"$f":"J979+L979+N979","v":0},null,405.07,{"$f":"ROUND(Q979*E979,2)","v":0},{"$f":"ROUND(F979*Q979,2)","v":445.58},{"$f":"ROUND(S979*G979,2)","v":0},{"$f":"T979-ROUND(Q979*G979,2)","v":0},null,{"$f":"R979+T979+V979","v":0},null,null,null,null,null,null,null,null,null,null,null,{"$f":"IF($I979=AI$6,$E979,0)","v":0},0,{"$f":"IF($H979>0,AI979,0)","v":0},{"$f":"IF(AK979>0,1,0)","v":0},{"$f":"IF($H979>0,AJ979,0)","v":0},{"$f":"IF(AM979>0,1,0)","v":0},{"$f":"IF($I979=AO$6,$E979,0)","v":0},0,{"$f":"IF($H979>0,AO979,0)","v":0},{"$f":"IF(AQ979>0,1,0)","v":0},{"$f":"IF($H979>0,AP979,0)","v":0},{"$f":"IF(AS979>0,1,0)","v":0},{"$f":"IF($I979=AU$6,$E979,0)","v":0},0,{"$f":"IF($H979>0,AU979,0)","v":0},{"$f":"IF(AW979>0,1,0)","v":0},{"$f":"IF($H979>0,AV979,0)","v":0},{"$f":"IF(AY979>0,1,0)","v":0},{"$f":"IF($I979=BA$6,$E979,0)","v":0},0,{"$f":"IF($H979>0,BA979,0)","v":0},{"$f":"IF(BC979>0,1,0)","v":0},{"$f":"IF($H979>0,BB979,0)","v":0},{"$f":"IF(BE979>0,1,0)","v":0},null,0]
[{"$f":"IF(E980+G980>0,A978,\"\")","v":""},{"$f":"IF(E980+G980>0,B978,\"\")","v":""},{"$f":"C979","v":""},"",0,1.5,0,0,{"$f":"SUMIF(Y$14:BA$14,C980,Y$7:BA$7)","v":0},0,0,0,0,null,0,null,405.07,0,607.61,0,0,null,0,null,null,null,null,null,null,null,null,null,null,null,{"$f":"IF($I980=AI$7,$E980,0)","v":0},{"$f":"IF($K980=ROUND(AI$7*$F980,2),$G980,0)","v":0},0,0,0,0,{"$f":"IF($I980=AO$7,$E980,0)","v":0},{"$f":"IF($K980=ROUND(AO$7*$F980,2),$G980,0)","v":0},0,0,0,0,{"$f":"IF($I980=AU$7,$E980,0)","v":0},{"$f":"IF($K980=ROUND(AU$7*$F980,2),$G980,0)","v":0},0,0,0,0,{"$f":"IF($I980=BA$7,$E980,0)","v":0},{"$f":"IF($K980=ROUND(BA$7*$F980,2),$G980,0)","v":0},0,0,0,0,null,0]
[{"$f":"IF(E981+G981>0,A978,\"\")","v":""},{"$f":"IF(E981+G981>0,B978,\"\")","v":""},{"$f":"C979","v":""},"",0,1.1000000000000001,0,0,{"$f":"SUMIF(Y$14:BA$14,C981,Y$7:BA$7)","v":0},0,0,0,0,null,0,null,405.07,0,445.58,0,0,null,0,null,null,null,null,null,null,null,null,null,null,null,{"$f":"IF($I981=AI$7,$E981,0)","v":0},{"$f":"IF($K981=ROUND(AI$7*$F981,2),$G981,0)","v":0},0,0,0,0,{"$f":"IF($I981=AO$7,$E981,0)","v":0},{"$f":"IF($K981=ROUND(AO$7*$F981,2),$G981,0)","v":0},0,0,0,0,{"$f":"IF($I981=AU$7,$E981,0)","v":0},{"$f":"IF($K981=ROUND(AU$7*$F981,2),$G981,0)","v":0},0,0,0,0,{"$f":"IF($I981=BA$7,$E981,0)","v":0},{"$f":"IF($K981=ROUND(BA$7*$F981,2),$G981,0)","v":0},0,0,0,0,null,0]
["","",{"$f":"C983","v":""},"",0,1.5,0,0,{"$f":"SUMIF(Y$14:BA$14,C982,Y$6:BA$6)","v":0},{"$f":"IF(H982=0,ROUND(E982*I982,2),ROUND(H982*E982,2))","v":0},{"$f":"ROUND(F982*I982,2)","v":0},{"$f":"IF(H982=0,ROUND(ROUND(F982*I982,2)*G982,2),ROUND(G982*H982,2))","v":0},{"$f":"L982-ROUND(G982*I982,2)","v":0},null,{"$f":"J982+L982+N982","v":0},null,405.07,{"$f":"ROUND(Q982*E982,2)","v":0},{"$f":"ROUND(F982*Q982,2)","v":607.61},{"$f":"ROUND(S982*G982,2)","v":0},{"$f":"T982-ROUND(Q982*G982,2)","v":0},null,{"$f":"R982+T982+V982","v":0},null,null,null,null,null,null,null,null,null,null,null,{"$f":"IF($I982=AI$6,$E982,0)","v":0},{"$f":"IF($K982=ROUND(AI$6*$F982,2),$G982,0)","v":0},{"$f":"IF($H982>0,AI982,0)","v":0},{"$f":"IF(AK982>0,1,0)","v":0},{"$f":"IF($H982>0,AJ982,0)","v":0},{"$f":"IF(AM982>0,1,0)","v":0},{"$f":"IF($I982=AO$6,$E982,0)","v":0},{"$f":"IF($K982=ROUND(AO$6*$F982,2),$G982,0)","v":0},{"$f":"IF($H982>0,AO982,0)","v":0},{"$f":"IF(AQ982>0,1,0)","v":0},{"$f":"IF($H982>0,AP982,0)","v":0},{"$f":"IF(AS982>0,1,0)","v":0},{"$f":"IF($I982=AU$6,$E982,0)","v":0},{"$f":"IF($K982=ROUND(AU$6*$F982,2),$G982,0)","v":0},{"$f":"IF($H982>0,AU982,0)","v":0},{"$f":"IF(AW982>0,1,0)","v":0},{"$f":"IF($H982>0,AV982,0)","v":0},{"$f":"IF(AY982>0,1,0)","v":0},{"$f":"IF($I982=BA$6,$E982,0)","v":0},{"$f":"IF($K982=ROUND(BA$6*$F982,2),$G982,0)","v":0},{"$f":"IF($H982>0,BA982,0)","v":0},{"$f":"IF(BC982>0,1,0)","v":0},{"$f":"IF($H982>0,BB982,0)","v":0},{"$f":"IF(BE982>0,1,0)","v":0},null,0,0]
[{"$f":"IF(E983+G983>0,A982,\"\")","v":""},{"$f":"IF(E983+G983>0,B982,\"\")","v":""},"","",0,1.1000000000000001,0,0,{"$f":"SUMIF(Y$14:BA$14,C983,Y$6:BA$6)","v":0},{"$f":"IF(H983=0,ROUND(E983*I983,2),ROUND(H983*E983,2))","v":0},{"$f":"ROUND(F983*I983,2)","v":0},{"$f":"IF(H983=0,ROUND(ROUND(F983*I983,2)*G983,2),ROUND(G983*H983,2))","v":0},{"$f":"L983-ROUND(G983*I983,2)","v":0},null,{"$f":"J983+L983+N983","v":0},null,405.07,{"$f":"ROUND(Q983*E983,2)","v":0},{"$f":"ROUND(F983*Q983,2)","v":445.58},{"$f":"ROUND(S983*G983,2)","v":0},{"$f":"T983-ROUND(Q983*G983,2)","v":0},null,{"$f":"R983+T983+V983","v":0},null,null,null,null,null,null,null,null,null,null,null,{"$f":"IF($I983=AI$6,$E983,0)","v":0},0,{"$f":"IF($H983>0,AI983,0)","v":0},{"$f":"IF(AK983>0,1,0)","v":0},{"$f":"IF($H983>0,AJ983,0)","v":0},{"$f":"IF(AM983>0,1,0)","v":0},{"$f":"IF($I983=AO$6,$E983,0)","v":0},0,{"$f":"IF($H983>0,AO983,0)","v":0},{"$f":"IF(AQ983>0,1,0)","v":0},{"$f":"IF($H983>0,AP983,0)","v":0},{"$f":"IF(AS983>0,1,0)","v":0},{"$f":"IF($I983=AU$6,$E983,0)","v":0},0,{"$f":"IF($H983>0,AU983,0)","v":0},{"$f":"IF(AW983>0,1,0)","v":0},{"$f":"IF($H983>0,AV983,0)","v":0},{"$f":"IF(AY983>0,1,0)","v":0},{"$f":"IF($I983=BA$6,$E983,0)","v":0},0,{"$f":"IF($H983>0,BA983,0)","v":0},{"$f":"IF(BC983>0,1,0)","v":0},{"$f":"IF($H983>0,BB983,0)","v":0},{"$f":"IF(BE983>0,1,0)","v":0},null,0]
[{"$f":"IF(E984+G984>0,A982,\"\")","v":""},{"$f":"IF(E984+G984>0,B982,\"\")","v":""},{"$f":"C983","v":""},"",0,1.5,0,0,{"$f":"SUMIF(Y$14:BA$14,C984,Y$7:BA$7)","v":0},0,0,0,0,null,0,null,405.07,0,607.61,0,0,null,0,null,null,null,null,null,null,null,null,null,null,null,{"$f":"IF($I984=AI$7,$E984,0)","v":0},{"$f":"IF($K984=ROUND(AI$7*$F984,2),$G984,0)","v":0},0,0,0,0,{"$f":"IF($I984=AO$7,$E984,0)","v":0},{"$f":"IF($K984=ROUND(AO$7*$F984,2),$G984,0)","v":0},0,0,0,0,{"$f":"IF($I984=AU$7,$E984,0)","v":0},{"$f":"IF($K984=ROUND(AU$7*$F984,2),$G984,0)","v":0},0,0,0,0,{"$f":"IF($I984=BA$7,$E984,0)","v":0},{"$f":"IF($K984=ROUND(BA$7*$F984,2),$G984,0)","v":0},0,0,0,0,null,0]
[{"$f":"IF(E985+G985>0,A982,\"\")","v":""},{"$f":"IF(E985+G985>0,B982,\"\")","v":""},{"$f":"C983","v":""},"",0,1.1000000000000001,0,0,{"$f":"SUMIF(Y$14:BA$14,C985,Y$7:BA$7)","v":0},0,0,0,0,null,0,null,405.07,0,445.58,0,0,null,0,null,null,null,null,null,null,null,null,null,null,null,{"$f":"IF($I985=AI$7,$E985,0)","v":0},{"$f":"IF($K985=ROUND(AI$7*$F985,2),$G985,0)","v":0},0,0,0,0,{"$f":"IF($I985=AO$7,$E985,0)","v":0},{"$f":"IF($K985=ROUND(AO$7*$F985,2),$G985,0)","v":0},0,0,0,0,{"$f":"IF($I985=AU$7,$E985,0)","v":0},{"$f":"IF($K985=ROUND(AU$7*$F985,2),$G985,0)","v":0},0,0,0,0,{"$f":"IF($I985=BA$7,$E985,0)","v":0},{"$f":"IF($K985=ROUND(BA$7*$F985,2),$G985,0)","v":0},0,0,0,0,null,0]
["","",{"$f":"C987","v":""},"",0,1.5,0,0,{"$f":"SUMIF(Y$14:BA$14,C986,Y$6:BA$6)","v":0},{"$f":"IF(H986=0,ROUND(E986*I986,2),ROUND(H986*E986,2))","v":0},{"$f":"ROUND(F986*I986,2)","v":0},{"$f":"IF(H986=0,ROUND(ROUND(F986*I986,2)*G986,2),ROUND(G986*H986,2))","v":0},{"$f":"L986-ROUND(G986*I986,2)","v":0},null,{"$f":"J986+L986+N986","v":0},null,405.07,{"$f":"ROUND(Q986*E986,2)","v":0},{"$f":"ROUND(F986*Q986,2)","v":607.61},{"$f":"ROUND(S986*G986,2)","v":0},{"$f":"T986-ROUND(Q986*G986,2)","v":0},null,{"$f":"R986+T986+V986","v":0},null,null,null,null,null,null,null,null,null,null,null,{"$f":"IF($I986=AI$6,$E986,0)","v":0},{"$f":"IF($K986=ROUND(AI$6*$F986,2),$G986,0)","v":0},{"$f":"IF($H986>0,AI986,0)","v":0},{"$f":"IF(AK986>0,1,0)","v":0},{"$f":"IF($H986>0,AJ986,0)","v":0},{"$f":"IF(AM986>0,1,0)","v":0},{"$f":"IF($I986=AO$6,$E986,0)","v":0},{"$f":"IF($K986=ROUND(AO$6*$F986,2),$G986,0)","v":0},{"$f":"IF($H986>0,AO986,0)","v":0},{"$f":"IF(AQ986>0,1,0)","v":0},{"$f":"IF($H986>0,AP986,0)","v":0},{"$f":"IF(AS986>0,1,0)","v":0},{"$f":"IF($I986=AU$6,$E986,0)","v":0},{"$f":"IF($K986=ROUND(AU$6*$F986,2),$G986,0)","v":0},{"$f":"IF($H986>0,AU986,0)","v":0},{"$f":"IF(AW986>0,1,0)","v":0},{"$f":"IF($H986>0,AV986,0)","v":0},{"$f":"IF(AY986>0,1,0)","v":0},{"$f":"IF($I986=BA$6,$E986,0)","v":0},{"$f":"IF($K986=ROUND(BA$6*$F986,2),$G986,0)","v":0},{"$f":"IF($H986>0,BA986,0)","v":0},{"$f":"IF(BC986>0,1,0)","v":0},{"$f":"IF($H986>0,BB986,0)","v":0},{"$f":"IF(BE986>0,1,0)","v":0},null,0,0]
[{"$f":"IF(E987+G987>0,A986,\"\")","v":""},{"$f":"IF(E987+G987>0,B986,\"\")","v":""},"","",0,1.1000000000000001,0,0,{"$f":"SUMIF(Y$14:BA$14,C987,Y$6:BA$6)","v":0},{"$f":"IF(H987=0,ROUND(E987*I987,2),ROUND(H987*E987,2))","v":0},{"$f":"ROUND(F987*I987,2)","v":0},{"$f":"IF(H987=0,ROUND(ROUND(F987*I987,2)*G987,2),ROUND(G987*H987,2))","v":0},{"$f":"L987-ROUND(G987*I987,2)","v":0},null,{"$f":"J987+L987+N987","v":0},null,405.07,{"$f":"ROUND(Q987*E987,2)","v":0},{"$f":"ROUND(F987*Q987,2)","v":445.58},{"$f":"ROUND(S987*G987,2)","v":0},{"$f":"T987-ROUND(Q987*G987,2)","v":0},null,{"$f":"R987+T987+V987","v":0},null,null,null,null,null,null,null,null,null,null,null,{"$f":"IF($I987=AI$6,$E987,0)","v":0},0,{"$f":"IF($H987>0,AI987,0)","v":0},{"$f":"IF(AK987>0,1,0)","v":0},{"$f":"IF($H987>0,AJ987,0)","v":0},{"$f":"IF(AM987>0,1,0)","v":0},{"$f":"IF($I987=AO$6,$E987,0)","v":0},0,{"$f":"IF($H987>0,AO987,0)","v":0},{"$f":"IF(AQ987>0,1,0)","v":0},{"$f":"IF($H987>0,AP987,0)","v":0},{"$f":"IF(AS987>0,1,0)","v":0},{"$f":"IF($I987=AU$6,$E987,0)","v":0},0,{"$f":"IF($H987>0,AU987,0)","v":0},{"$f":"IF(AW987>0,1,0)","v":0},{"$f":"IF($H987>0,AV987,0)","v":0},{"$f":"IF(AY987>0,1,0)","v":0},{"$f":"IF($I987=BA$6,$E987,0)","v":0},0,{"$f":"IF($H987>0,BA987,0)","v":0},{"$f":"IF(BC987>0,1,0)","v":0},{"$f":"IF($H987>0,BB987,0)","v":0},{"$f":"IF(BE987>0,1,0)","v":0},null,0]
[{"$f":"IF(E988+G988>0,A986,\"\")","v":""},{"$f":"IF(E988+G988>0,B986,\"\")","v":""},{"$f":"C987","v":""},"",0,1.5,0,0,{"$f":"SUMIF(Y$14:BA$14,C988,Y$7:BA$7)","v":0},0,0,0,0,null,0,null,405.07,0,607.61,0,0,null,0,null,null,null,null,null,null,null,null,null,null,null,{"$f":"IF($I988=AI$7,$E988,0)","v":0},{"$f":"IF($K988=ROUND(AI$7*$F988,2),$G988,0)","v":0},0,0,0,0,{"$f":"IF($I988=AO$7,$E988,0)","v":0},{"$f":"IF($K988=ROUND(AO$7*$F988,2),$G988,0)","v":0},0,0,0,0,{"$f":"IF($I988=AU$7,$E988,0)","v":0},{"$f":"IF($K988=ROUND(AU$7*$F988,2),$G988,0)","v":0},0,0,0,0,{"$f":"IF($I988=BA$7,$E988,0)","v":0},{"$f":"IF($K988=ROUND(BA$7*$F988,2),$G988,0)","v":0},0,0,0,0,null,0]
[{"$f":"IF(E989+G989>0,A986,\"\")","v":""},{"$f":"IF(E989+G989>0,B986,\"\")","v":""},{"$f":"C987","v":""},"",0,1.1000000000000001,0,0,{"$f":"SUMIF(Y$14:BA$14,C989,Y$7:BA$7)","v":0},0,0,0,0,null,0,null,405.07,0,445.58,0,0,null,0,null,null,null,null,null,null,null,null,null,null,null,{"$f":"IF($I989=AI$7,$E989,0)","v":0},{"$f":"IF($K989=ROUND(AI$7*$F989,2),$G989,0)","v":0},0,0,0,0,{"$f":"IF($I989=AO$7,$E989,0)","v":0},{"$f":"IF($K989=ROUND(AO$7*$F989,2),$G989,0)","v":0},0,0,0,0,{"$f":"IF($I989=AU$7,$E989,0)","v":0},{"$f":"IF($K989=ROUND(AU$7*$F989,2),$G989,0)","v":0},0,0,0,0,{"$f":"IF($I989=BA$7,$E989,0)","v":0},{"$f":"IF($K989=ROUND(BA$7*$F989,2),$G989,0)","v":0},0,0,0,0,null,0]
["","",{"$f":"C991","v":""},"",0,1.5,0,0,{"$f":"SUMIF(Y$14:BA$14,C990,Y$6:BA$6)","v":0},{"$f":"IF(H990=0,ROUND(E990*I990,2),ROUND(H990*E990,2))","v":0},{"$f":"ROUND(F990*I990,2)","v":0},{"$f":"IF(H990=0,ROUND(ROUND(F990*I990,2)*G990,2),ROUND(G990*H990,2))","v":0},{"$f":"L990-ROUND(G990*I990,2)","v":0},null,{"$f":"J990+L990+N990","v":0},null,405.07,{"$f":"ROUND(Q990*E990,2)","v":0},{"$f":"ROUND(F990*Q990,2)","v":607.61},{"$f":"ROUND(S990*G990,2)","v":0},{"$f":"T990-ROUND(Q990*G990,2)","v":0},null,{"$f":"R990+T990+V990","v":0},null,null,null,null,null,null,null,null,null,null,null,{"$f":"IF($I990=AI$6,$E990,0)","v":0},{"$f":"IF($K990=ROUND(AI$6*$F990,2),$G990,0)","v":0},{"$f":"IF($H990>0,AI990,0)","v":0},{"$f":"IF(AK990>0,1,0)","v":0},{"$f":"IF($H990>0,AJ990,0)","v":0},{"$f":"IF(AM990>0,1,0)","v":0},{"$f":"IF($I990=AO$6,$E990,0)","v":0},{"$f":"IF($K990=ROUND(AO$6*$F990,2),$G990,0)","v":0},{"$f":"IF($H990>0,AO990,0)","v":0},{"$f":"IF(AQ990>0,1,0)","v":0},{"$f":"IF($H990>0,AP990,0)","v":0},{"$f":"IF(AS990>0,1,0)","v":0},{"$f":"IF($I990=AU$6,$E990,0)","v":0},{"$f":"IF($K990=ROUND(AU$6*$F990,2),$G990,0)","v":0},{"$f":"IF($H990>0,AU990,0)","v":0},{"$f":"IF(AW990>0,1,0)","v":0},{"$f":"IF($H990>0,AV990,0)","v":0},{"$f":"IF(AY990>0,1,0)","v":0},{"$f":"IF($I990=BA$6,$E990,0)","v":0},{"$f":"IF($K990=ROUND(BA$6*$F990,2),$G990,0)","v":0},{"$f":"IF($H990>0,BA990,0)","v":0},{"$f":"IF(BC990>0,1,0)","v":0},{"$f":"IF($H990>0,BB990,0)","v":0},{"$f":"IF(BE990>0,1,0)","v":0},null,0,0]
[{"$f":"IF(E991+G991>0,A990,\"\")","v":""},{"$f":"IF(E991+G991>0,B990,\"\")","v":""},"","",0,1.1000000000000001,0,0,{"$f":"SUMIF(Y$14:BA$14,C991,Y$6:BA$6)","v":0},{"$f":"IF(H991=0,ROUND(E991*I991,2),ROUND(H991*E991,2))","v":0},{"$f":"ROUND(F991*I991,2)","v":0},{"$f":"IF(H991=0,ROUND(ROUND(F991*I991,2)*G991,2),ROUND(G991*H991,2))","v":0},{"$f":"L991-ROUND(G991*I991,2)","v":0},null,{"$f":"J991+L991+N991","v":0},null,405.07,{"$f":"ROUND(Q991*E991,2)","v":0},{"$f":"ROUND(F991*Q991,2)","v":445.58},{"$f":"ROUND(S991*G991,2)","v":0},{"$f":"T991-ROUND(Q991*G991,2)","v":0},null,{"$f":"R991+T991+V991","v":0},null,null,null,null,null,null,null,null,null,null,null,{"$f":"IF($I991=AI$6,$E991,0)","v":0},0,{"$f":"IF($H991>0,AI991,0)","v":0},{"$f":"IF(AK991>0,1,0)","v":0},{"$f":"IF($H991>0,AJ991,0)","v":0},{"$f":"IF(AM991>0,1,0)","v":0},{"$f":"IF($I991=AO$6,$E991,0)","v":0},0,{"$f":"IF($H991>0,AO991,0)","v":0},{"$f":"IF(AQ991>0,1,0)","v":0},{"$f":"IF($H991>0,AP991,0)","v":0},{"$f":"IF(AS991>0,1,0)","v":0},{"$f":"IF($I991=AU$6,$E991,0)","v":0},0,{"$f":"IF($H991>0,AU991,0)","v":0},{"$f":"IF(AW991>0,1,0)","v":0},{"$f":"IF($H991>0,AV991,0)","v":0},{"$f":"IF(AY991>0,1,0)","v":0},{"$f":"IF($I991=BA$6,$E991,0)","v":0},0,{"$f":"IF($H991>0,BA991,0)","v":0},{"$f":"IF(BC991>0,1,0)","v":0},{"$f":"IF($H991>0,BB991,0)","v":0},{"$f":"IF(BE991>0,1,0)","v":0},null,0]
[{"$f":"IF(E992+G992>0,A990,\"\")","v":""},{"$f":"IF(E992+G992>0,B990,\"\")","v":""},{"$f":"C991","v":""},"",0,1.5,0,0,{"$f":"SUMIF(Y$14:BA$14,C992,Y$7:BA$7)","v":0},0,0,0,0,null,0,null,405.07,0,607.61,0,0,null,0,null,null,null,null,null,null,null,null,null,null,null,{"$f":"IF($I992=AI$7,$E992,0)","v":0},{"$f":"IF($K992=ROUND(AI$7*$F992,2),$G992,0)","v":0},0,0,0,0,{"$f":"IF($I992=AO$7,$E992,0)","v":0},{"$f":"IF($K992=ROUND(AO$7*$F992,2),$G992,0)","v":0},0,0,0,0,{"$f":"IF($I992=AU$7,$E992,0)","v":0},{"$f":"IF($K992=ROUND(AU$7*$F992,2),$G992,0)","v":0},0,0,0,0,{"$f":"IF($I992=BA$7,$E992,0)","v":0},{"$f":"IF($K992=ROUND(BA$7*$F992,2),$G992,0)","v":0},0,0,0,0,null,0]
[{"$f":"IF(E993+G993>0,A990,\"\")","v":""},{"$f":"IF(E993+G993>0,B990,\"\")","v":""},{"$f":"C991","v":""},"",0,1.1000000000000001,0,0,{"$f":"SUMIF(Y$14:BA$14,C993,Y$7:BA$7)","v":0},0,0,0,0,null,0,null,405.07,0,445.58,0,0,null,0,null,null,null,null,null,null,null,null,null,null,null,{"$f":"IF($I993=AI$7,$E993,0)","v":0},{"$f":"IF($K993=ROUND(AI$7*$F993,2),$G993,0)","v":0},0,0,0,0,{"$f":"IF($I993=AO$7,$E993,0)","v":0},{"$f":"IF($K993=ROUND(AO$7*$F993,2),$G993,0)","v":0},0,0,0,0,{"$f":"IF($I993=AU$7,$E993,0)","v":0},{"$f":"IF($K993=ROUND(AU$7*$F993,2),$G993,0)","v":0},0,0,0,0,{"$f":"IF($I993=BA$7,$E993,0)","v":0},{"$f":"IF($K993=ROUND(BA$7*$F993,2),$G993,0)","v":0},0,0,0,0,null,0]
["","",{"$f":"C995","v":""},"",0,1.5,0,0,{"$f":"SUMIF(Y$14:BA$14,C994,Y$6:BA$6)","v":0},{"$f":"IF(H994=0,ROUND(E994*I994,2),ROUND(H994*E994,2))","v":0},{"$f":"ROUND(F994*I994,2)","v":0},{"$f":"IF(H994=0,ROUND(ROUND(F994*I994,2)*G994,2),ROUND(G994*H994,2))","v":0},{"$f":"L994-ROUND(G994*I994,2)","v":0},null,{"$f":"J994+L994+N994","v":0},null,405.07,{"$f":"ROUND(Q994*E994,2)","v":0},{"$f":"ROUND(F994*Q994,2)","v":607.61},{"$f":"ROUND(S994*G994,2)","v":0},{"$f":"T994-ROUND(Q994*G994,2)","v":0},null,{"$f":"R994+T994+V994","v":0},null,null,null,null,null,null,null,null,null,null,null,{"$f":"IF($I994=AI$6,$E994,0)","v":0},{"$f":"IF($K994=ROUND(AI$6*$F994,2),$G994,0)","v":0},{"$f":"IF($H994>0,AI994,0)","v":0},{"$f":"IF(AK994>0,1,0)","v":0},{"$f":"IF($H994>0,AJ994,0)","v":0},{"$f":"IF(AM994>0,1,0)","v":0},{"$f":"IF($I994=AO$6,$E994,0)","v":0},{"$f":"IF($K994=ROUND(AO$6*$F994,2),$G994,0)","v":0},{"$f":"IF($H994>0,AO994,0)","v":0},{"$f":"IF(AQ994>0,1,0)","v":0},{"$f":"IF($H994>0,AP994,0)","v":0},{"$f":"IF(AS994>0,1,0)","v":0},{"$f":"IF($I994=AU$6,$E994,0)","v":0},{"$f":"IF($K994=ROUND(AU$6*$F994,2),$G994,0)","v":0},{"$f":"IF($H994>0,AU994,0)","v":0},{"$f":"IF(AW994>0,1,0)","v":0},{"$f":"IF($H994>0,AV994,0)","v":0},{"$f":"IF(AY994>0,1,0)","v":0},{"$f":"IF($I994=BA$6,$E994,0)","v":0},{"$f":"IF($K994=ROUND(BA$6*$F994,2),$G994,0)","v":0},{"$f":"IF($H994>0,BA994,0)","v":0},{"$f":"IF(BC994>0,1,0)","v":0},{"$f":"IF($H994>0,BB994,0)","v":0},{"$f":"IF(BE994>0,1,0)","v":0},null,0,0]
[{"$f":"IF(E995+G995>0,A994,\"\")","v":""},{"$f":"IF(E995+G995>0,B994,\"\")","v":""},"","",0,1.1000000000000001,0,0,{"$f":"SUMIF(Y$14:BA$14,C995,Y$6:BA$6)","v":0},{"$f":"IF(H995=0,ROUND(E995*I995,2),ROUND(H995*E995,2))","v":0},{"$f":"ROUND(F995*I995,2)","v":0},{"$f":"IF(H995=0,ROUND(ROUND(F995*I995,2)*G995,2),ROUND(G995*H995,2))","v":0},{"$f":"L995-ROUND(G995*I995,2)","v":0},null,{"$f":"J995+L995+N995","v":0},null,405.07,{"$f":"ROUND(Q995*E995,2)","v":0},{"$f":"ROUND(F995*Q995,2)","v":445.58},{"$f":"ROUND(S995*G995,2)","v":0},{"$f":"T995-ROUND(Q995*G995,2)","v":0},null,{"$f":"R995+T995+V995","v":0},null,null,null,null,null,null,null,null,null,null,null,{"$f":"IF($I995=AI$6,$E995,0)","v":0},0,{"$f":"IF($H995>0,AI995,0)","v":0},{"$f":"IF(AK995>0,1,0)","v":0},{"$f":"IF($H995>0,AJ995,0)","v":0},{"$f":"IF(AM995>0,1,0)","v":0},{"$f":"IF($I995=AO$6,$E995,0)","v":0},0,{"$f":"IF($H995>0,AO995,0)","v":0},{"$f":"IF(AQ995>0,1,0)","v":0},{"$f":"IF($H995>0,AP995,0)","v":0},{"$f":"IF(AS995>0,1,0)","v":0},{"$f":"IF($I995=AU$6,$E995,0)","v":0},0,{"$f":"IF($H995>0,AU995,0)","v":0},{"$f":"IF(AW995>0,1,0)","v":0},{"$f":"IF($H995>0,AV995,0)","v":0},{"$f":"IF(AY995>0,1,0)","v":0},{"$f":"IF($I995=BA$6,$E995,0)","v":0},0,{"$f":"IF($H995>0,BA995,0)","v":0},{"$f":"IF(BC995>0,1,0)","v":0},{"$f":"IF($H995>0,BB995,0)","v":0},{"$f":"IF(BE995>0,1,0)","v":0},null,0]
[{"$f":"IF(E996+G996>0,A994,\"\")","v":""},{"$f":"IF(E996+G996>0,B994,\"\")","v":""},{"$f":"C995","v":""},"",0,1.5,0,0,{"$f":"SUMIF(Y$14:BA$14,C996,Y$7:BA$7)","v":0},0,0,0,0,null,0,null,405.07,0,607.61,0,0,null,0,null,null,null,null,null,null,null,null,null,null,null,{"$f":"IF($I996=AI$7,$E996,0)","v":0},{"$f":"IF($K996=ROUND(AI$7*$F996,2),$G996,0)","v":0},0,0,0,0,{"$f":"IF($I996=AO$7,$E996,0)","v":0},{"$f":"IF($K996=ROUND(AO$7*$F996,2),$G996,0)","v":0},0,0,0,0,{"$f":"IF($I996=AU$7,$E996,0)","v":0},{"$f":"IF($K996=ROUND(AU$7*$F996,2),$G996,0)","v":0},0,0,0,0,{"$f":"IF($I996=BA$7,$E996,0)","v":0},{"$f":"IF($K996=ROUND(BA$7*$F996,2),$G996,0)","v":0},0,0,0,0,null,0]
[{"$f":"IF(E997+G997>0,A994,\"\")","v":""},{"$f":"IF(E997+G997>0,B994,\"\")","v":""},{"$f":"C995","v":""},"",0,1.1000000000000001,0,0,{"$f":"SUMIF(Y$14:BA$14,C997,Y$7:BA$7)","v":0},0,0,0,0,null,0,null,405.07,0,445.58,0,0,null,0,null,null,null,null,null,null,null,null,null,null,null,{"$f":"IF($I997=AI$7,$E997,0)","v":0},{"$f":"IF($K997=ROUND(AI$7*$F997,2),$G997,0)","v":0},0,0,0,0,{"$f":"IF($I997=AO$7,$E997,0)","v":0},{"$f":"IF($K997=ROUND(AO$7*$F997,2),$G997,0)","v":0},0,0,0,0,{"$f":"IF($I997=AU$7,$E997,0)","v":0},{"$f":"IF($K997=ROUND(AU$7*$F997,2),$G997,0)","v":0},0,0,0,0,{"$f":"IF($I997=BA$7,$E997,0)","v":0},{"$f":"IF($K997=ROUND(BA$7*$F997,2),$G997,0)","v":0},0,0,0,0,null,0]
["","",{"$f":"C999","v":""},"",0,1.5,0,0,{"$f":"SUMIF(Y$14:BA$14,C998,Y$6:BA$6)","v":0},{"$f":"IF(H998=0,ROUND(E998*I998,2),ROUND(H998*E998,2))","v":0},{"$f":"ROUND(F998*I998,2)","v":0},{"$f":"IF(H998=0,ROUND(ROUND(F998*I998,2)*G998,2),ROUND(G998*H998,2))","v":0},{"$f":"L998-ROUND(G998*I998,2)","v":0},null,{"$f":"J998+L998+N998","v":0},null,405.07,{"$f":"ROUND(Q998*E998,2)","v":0},{"$f":"ROUND(F998*Q998,2)","v":607.61},{"$f":"ROUND(S998*G998,2)","v":0},{"$f":"T998-ROUND(Q998*G998,2)","v":0},null,{"$f":"R998+T998+V998","v":0},null,null,null,null,null,null,null,null,null,null,null,{"$f":"IF($I998=AI$6,$E998,0)","v":0},{"$f":"IF($K998=ROUND(AI$6*$F998,2),$G998,0)","v":0},{"$f":"IF($H998>0,AI998,0)","v":0},{"$f":"IF(AK998>0,1,0)","v":0},{"$f":"IF($H998>0,AJ998,0)","v":0},{"$f":"IF(AM998>0,1,0)","v":0},{"$f":"IF($I998=AO$6,$E998,0)","v":0},{"$f":"IF($K998=ROUND(AO$6*$F998,2),$G998,0)","v":0},{"$f":"IF($H998>0,AO998,0)","v":0},{"$f":"IF(AQ998>0,1,0)","v":0},{"$f":"IF($H998>0,AP998,0)","v":0},{"$f":"IF(AS998>0,1,0)","v":0},{"$f":"IF($I998=AU$6,$E998,0)","v":0},{"$f":"IF($K998=ROUND(AU$6*$F998,2),$G998,0)","v":0},{"$f":"IF($H998>0,AU998,0)","v":0},{"$f":"IF(AW998>0,1,0)","v":0},{"$f":"IF($H998>0,AV998,0)","v":0},{"$f":"IF(AY998>0,1,0)","v":0},{"$f":"IF($I998=BA$6,$E998,0)","v":0},{"$f":"IF($K998=ROUND(BA$6*$F998,2),$G998,0)","v":0},{"$f":"IF($H998>0,BA998,0)","v":0},{"$f":"IF(BC998>0,1,0)","v":0},{"$f":"IF($H998>0,BB998,0)","v":0},{"$f":"IF(BE998>0,1,0)","v":0},null,0,0]
[{"$f":"IF(E999+G999>0,A998,\"\")","v":""},{"$f":"IF(E999+G999>0,B998,\"\")","v":""},"","",0,1.1000000000000001,0,0,{"$f":"SUMIF(Y$14:BA$14,C999,Y$6:BA$6)","v":0},{"$f":"IF(H999=0,ROUND(E999*I999,2),ROUND(H999*E999,2))","v":0},{"$f":"ROUND(F999*I999,2)","v":0},{"$f":"IF(H999=0,ROUND(ROUND(F999*I999,2)*G999,2),ROUND(G999*H999,2))","v":0},{"$f":"L999-ROUND(G999*I999,2)","v":0},null,{"$f":"J999+L999+N999","v":0},null,405.07,{"$f":"ROUND(Q999*E999,2)","v":0},{"$f":"ROUND(F999*Q999,2)","v":445.58},{"$f":"ROUND(S999*G999,2)","v":0},{"$f":"T999-ROUND(Q999*G999,2)","v":0},null,{"$f":"R999+T999+V999","v":0},null,null,null,null,null,null,null,null,null,null,null,0,0,{"$f":"IF($H999>0,AI999,0)","v":0},{"$f":"IF(AK999>0,1,0)","v":0},{"$f":"IF($H999>0,AJ999,0)","v":0},{"$f":"IF(AM999>0,1,0)","v":0},0,0,{"$f":"IF($H999>0,AO999,0)","v":0},{"$f":"IF(AQ999>0,1,0)","v":0},{"$f":"IF($H999>0,AP999,0)","v":0},{"$f":"IF(AS999>0,1,0)","v":0},0,0,{"$f":"IF($H999>0,AU999,0)","v":0},{"$f":"IF(AW999>0,1,0)","v":0},{"$f":"IF($H999>0,AV999,0)","v":0},{"$f":"IF(AY999>0,1,0)","v":0},0,0,{"$f":"IF($H999>0,BA999,0)","v":0},{"$f":"IF(BC999>0,1,0)","v":0},{"$f":"IF($H999>0,BB999,0)","v":0},{"$f":"IF(BE999>0,1,0)","v":0},null,0]
[{"$f":"IF(E1000+G1000>0,A998,\"\")","v":""},{"$f":"IF(E1000+G1000>0,B998,\"\")","v":""},{"$f":"C999","v":""},"",0,1.5,0,0,{"$f":"SUMIF(Y$14:BA$14,C1000,Y$7:BA$7)","v":0},0,0,0,0,null,0,null,405.07,0,607.61,0,0,null,0,null,null,null,null,null,null,null,null,null,null,null,{"$f":"IF($I1000=AI$7,$E1000,0)","v":0},{"$f":"IF($K1000=ROUND(AI$7*$F1000,2),$G1000,0)","v":0},0,0,0,0,{"$f":"IF($I1000=AO$7,$E1000,0)","v":0},{"$f":"IF($K1000=ROUND(AO$7*$F1000,2),$G1000,0)","v":0},0,0,0,0,{"$f":"IF($I1000=AU$7,$E1000,0)","v":0},{"$f":"IF($K1000=ROUND(AU$7*$F1000,2),$G1000,0)","v":0},0,0,0,0,{"$f":"IF($I1000=BA$7,$E1000,0)","v":0},{"$f":"IF($K1000=ROUND(BA$7*$F1000,2),$G1000,0)","v":0},0,0,0,0,null,0]
[{"$f":"IF(E1001+G1001>0,A998,\"\")","v":""},{"$f":"IF(E1001+G1001>0,B998,\"\")","v":""},{"$f":"C999","v":""},"",0,1.1000000000000001,0,0,{"$f":"SUMIF(Y$14:BA$14,C1001,Y$7:BA$7)","v":0},0,0,0,0,null,0,null,405.07,0,445.58,0,0,null,0,null,null,null,null,null,null,null,null,null,null,null,{"$f":"IF($I1001=AI$7,$E1001,0)","v":0},{"$f":"IF($K1001=ROUND(AI$7*$F1001,2),$G1001,0)","v":0},0,0,0,0,{"$f":"IF($I1001=AO$7,$E1001,0)","v":0},{"$f":"IF($K1001=ROUND(AO$7*$F1001,2),$G1001,0)","v":0},0,0,0,0,{"$f":"IF($I1001=AU$7,$E1001,0)","v":0},{"$f":"IF($K1001=ROUND(AU$7*$F1001,2),$G1001,0)","v":0},0,0,0,0,{"$f":"IF($I1001=BA$7,$E1001,0)","v":0},{"$f":"IF($K1001=ROUND(BA$7*$F1001,2),$G1001,0)","v":0},0,0,0,0,null,0]
["","",{"$f":"C1003","v":""},"",0,1.5,0,0,{"$f":"SUMIF(Y$14:BA$14,C1002,Y$6:BA$6)","v":0},{"$f":"IF(H1002=0,ROUND(E1002*I1002,2),ROUND(H1002*E1002,2))","v":0},{"$f":"ROUND(F1002*I1002,2)","v":0},{"$f":"IF(H1002=0,ROUND(ROUND(F1002*I1002,2)*G1002,2),ROUND(G1002*H1002,2))","v":0},{"$f":"L1002-ROUND(G1002*I1002,2)","v":0},null,{"$f":"J1002+L1002+N1002","v":0},null,405.07,{"$f":"ROUND(Q1002*E1002,2)","v":0},{"$f":"ROUND(F1002*Q1002,2)","v":607.61},{"$f":"ROUND(S1002*G1002,2)","v":0},{"$f":"T1002-ROUND(Q1002*G1002,2)","v":0},null,{"$f":"R1002+T1002+V1002","v":0},null,null,null,null,null,null,null,null,null,null,null,{"$f":"IF($I1002=AI$6,$E1002,0)","v":0},{"$f":"IF($K1002=ROUND(AI$6*$F1002,2),$G1002,0)","v":0},{"$f":"IF($H1002>0,AI1002,0)","v":0},{"$f":"IF(AK1002>0,1,0)","v":0},{"$f":"IF($H1002>0,AJ1002,0)","v":0},{"$f":"IF(AM1002>0,1,0)","v":0},{"$f":"IF($I1002=AO$6,$E1002,0)","v":0},{"$f":"IF($K1002=ROUND(AO$6*$F1002,2),$G1002,0)","v":0},{"$f":"IF($H1002>0,AO1002,0)","v":0},{"$f":"IF(AQ1002>0,1,0)","v":0},{"$f":"IF($H1002>0,AP1002,0)","v":0},{"$f":"IF(AS1002>0,1,0)","v":0},{"$f":"IF($I1002=AU$6,$E1002,0)","v":0},{"$f":"IF($K1002=ROUND(AU$6*$F1002,2),$G1002,0)","v":0},{"$f":"IF($H1002>0,AU1002,0)","v":0},{"$f":"IF(AW1002>0,1,0)","v":0},{"$f":"IF($H1002>0,AV1002,0)","v":0},{"$f":"IF(AY1002>0,1,0)","v":0},{"$f":"IF($I1002=BA$6,$E1002,0)","v":0},{"$f":"IF($K1002=ROUND(BA$6*$F1002,2),$G1002,0)","v":0},{"$f":"IF($H1002>0,BA1002,0)","v":0},{"$f":"IF(BC1002>0,1,0)","v":0},{"$f":"IF($H1002>0,BB1002,0)","v":0},{"$f":"IF(BE1002>0,1,0)","v":0},null,0,0]
[{"$f":"IF(E1003+G1003>0,A1002,\"\")","v":""},{"$f":"IF(E1003+G1003>0,B1002,\"\")","v":""},"","",0,1.1000000000000001,0,0,{"$f":"SUMIF(Y$14:BA$14,C1003,Y$6:BA$6)","v":0},{"$f":"IF(H1003=0,ROUND(E1003*I1003,2),ROUND(H1003*E1003,2))","v":0},{"$f":"ROUND(F1003*I1003,2)","v":0},{"$f":"IF(H1003=0,ROUND(ROUND(F1003*I1003,2)*G1003,2),ROUND(G1003*H1003,2))","v":0},{"$f":"L1003-ROUND(G1003*I1003,2)","v":0},null,{"$f":"J1003+L1003+N1003","v":0},null,405.07,{"$f":"ROUND(Q1003*E1003,2)","v":0},{"$f":"ROUND(F1003*Q1003,2)","v":445.58},{"$f":"ROUND(S1003*G1003,2)","v":0},{"$f":"T1003-ROUND(Q1003*G1003,2)","v":0},null,{"$f":"R1003+T1003+V1003","v":0},null,null,null,null,null,null,null,null,null,null,null,{"$f":"IF($I1003=AI$6,$E1003,0)","v":0},0,{"$f":"IF($H1003>0,AI1003,0)","v":0},{"$f":"IF(AK1003>0,1,0)","v":0},{"$f":"IF($H1003>0,AJ1003,0)","v":0},{"$f":"IF(AM1003>0,1,0)","v":0},{"$f":"IF($I1003=AO$6,$E1003,0)","v":0},0,{"$f":"IF($H1003>0,AO1003,0)","v":0},{"$f":"IF(AQ1003>0,1,0)","v":0},{"$f":"IF($H1003>0,AP1003,0)","v":0},{"$f":"IF(AS1003>0,1,0)","v":0},{"$f":"IF($I1003=AU$6,$E1003,0)","v":0},0,{"$f":"IF($H1003>0,AU1003,0)","v":0},{"$f":"IF(AW1003>0,1,0)","v":0},{"$f":"IF($H1003>0,AV1003,0)","v":0},{"$f":"IF(AY1003>0,1,0)","v":0},{"$f":"IF($I1003=BA$6,$E1003,0)","v":0},0,{"$f":"IF($H1003>0,BA1003,0)","v":0},{"$f":"IF(BC1003>0,1,0)","v":0},{"$f":"IF($H1003>0,BB1003,0)","v":0},{"$f":"IF(BE1003>0,1,0)","v":0},null,0]
[{"$f":"IF(E1004+G1004>0,A1002,\"\")","v":""},{"$f":"IF(E1004+G1004>0,B1002,\"\")","v":""},{"$f":"C1003","v":""},"",0,1.5,0,0,{"$f":"SUMIF(Y$14:BA$14,C1004,Y$7:BA$7)","v":0},0,0,0,0,null,0,null,405.07,0,607.61,0,0,null,0,null,null,null,null,null,null,null,null,null,null,null,{"$f":"IF($I1004=AI$7,$E1004,0)","v":0},{"$f":"IF($K1004=ROUND(AI$7*$F1004,2),$G1004,0)","v":0},0,0,0,0,{"$f":"IF($I1004=AO$7,$E1004,0)","v":0},{"$f":"IF($K1004=ROUND(AO$7*$F1004,2),$G1004,0)","v":0},0,0,0,0,{"$f":"IF($I1004=AU$7,$E1004,0)","v":0},{"$f":"IF($K1004=ROUND(AU$7*$F1004,2),$G1004,0)","v":0},0,0,0,0,{"$f":"IF($I1004=BA$7,$E1004,0)","v":0},{"$f":"IF($K1004=ROUND(BA$7*$F1004,2),$G1004,0)","v":0},0,0,0,0,null,0]
[{"$f":"IF(E1005+G1005>0,A1002,\"\")","v":""},{"$f":"IF(E1005+G1005>0,B1002,\"\")","v":""},{"$f":"C1003","v":""},"",0,1.1000000000000001,0,0,{"$f":"SUMIF(Y$14:BA$14,C1005,Y$7:BA$7)","v":0},0,0,0,0,null,0,null,405.07,0,445.58,0,0,null,0,null,null,null,null,null,null,null,null,null,null,null,{"$f":"IF($I1005=AI$7,$E1005,0)","v":0},{"$f":"IF($K1005=ROUND(AI$7*$F1005,2),$G1005,0)","v":0},0,0,0,0,{"$f":"IF($I1005=AO$7,$E1005,0)","v":0},{"$f":"IF($K1005=ROUND(AO$7*$F1005,2),$G1005,0)","v":0},0,0,0,0,{"$f":"IF($I1005=AU$7,$E1005,0)","v":0},{"$f":"IF($K1005=ROUND(AU$7*$F1005,2),$G1005,0)","v":0},0,0,0,0,{"$f":"IF($I1005=BA$7,$E1005,0)","v":0},{"$f":"IF($K1005=ROUND(BA$7*$F1005,2),$G1005,0)","v":0},0,0,0,0,null,0]
["","",{"$f":"C1007","v":""},"",0,1.5,0,0,{"$f":"SUMIF(Y$14:BA$14,C1006,Y$6:BA$6)","v":0},{"$f":"IF(H1006=0,ROUND(E1006*I1006,2),ROUND(H1006*E1006,2))","v":0},{"$f":"ROUND(F1006*I1006,2)","v":0},{"$f":"IF(H1006=0,ROUND(ROUND(F1006*I1006,2)*G1006,2),ROUND(G1006*H1006,2))","v":0},{"$f":"L1006-ROUND(G1006*I1006,2)","v":0},null,{"$f":"J1006+L1006+N1006","v":0},null,405.07,{"$f":"ROUND(Q1006*E1006,2)","v":0},{"$f":"ROUND(F1006*Q1006,2)","v":607.61},{"$f":"ROUND(S1006*G1006,2)","v":0},{"$f":"T1006-ROUND(Q1006*G1006,2)","v":0},null,{"$f":"R1006+T1006+V1006","v":0},null,null,null,null,null,null,null,null,null,null,null,{"$f":"IF($I1006=AI$6,$E1006,0)","v":0},{"$f":"IF($K1006=ROUND(AI$6*$F1006,2),$G1006,0)","v":0},{"$f":"IF($H1006>0,AI1006,0)","v":0},{"$f":"IF(AK1006>0,1,0)","v":0},{"$f":"IF($H1006>0,AJ1006,0)","v":0},{"$f":"IF(AM1006>0,1,0)","v":0},{"$f":"IF($I1006=AO$6,$E1006,0)","v":0},{"$f":"IF($K1006=ROUND(AO$6*$F1006,2),$G1006,0)","v":0},{"$f":"IF($H1006>0,AO1006,0)","v":0},{"$f":"IF(AQ1006>0,1,0)","v":0},{"$f":"IF($H1006>0,AP1006,0)","v":0},{"$f":"IF(AS1006>0,1,0)","v":0},{"$f":"IF($I1006=AU$6,$E1006,0)","v":0},{"$f":"IF($K1006=ROUND(AU$6*$F1006,2),$G1006,0)","v":0},{"$f":"IF($H1006>0,AU1006,0)","v":0},{"$f":"IF(AW1006>0,1,0)","v":0},{"$f":"IF($H1006>0,AV1006,0)","v":0},{"$f":"IF(AY1006>0,1,0)","v":0},{"$f":"IF($I1006=BA$6,$E1006,0)","v":0},{"$f":"IF($K1006=ROUND(BA$6*$F1006,2),$G1006,0)","v":0},{"$f":"IF($H1006>0,BA1006,0)","v":0},{"$f":"IF(BC1006>0,1,0)","v":0},{"$f":"IF($H1006>0,BB1006,0)","v":0},{"$f":"IF(BE1006>0,1,0)","v":0},null,0,0]
[{"$f":"IF(E1007+G1007>0,A1006,\"\")","v":""},{"$f":"IF(E1007+G1007>0,B1006,\"\")","v":""},"","",0,1.1000000000000001,0,0,{"$f":"SUMIF(Y$14:BA$14,C1007,Y$6:BA$6)","v":0},{"$f":"IF(H1007=0,ROUND(E1007*I1007,2),ROUND(H1007*E1007,2))","v":0},{"$f":"ROUND(F1007*I1007,2)","v":0},{"$f":"IF(H1007=0,ROUND(ROUND(F1007*I1007,2)*G1007,2),ROUND(G1007*H1007,2))","v":0},{"$f":"L1007-ROUND(G1007*I1007,2)","v":0},null,{"$f":"J1007+L1007+N1007","v":0},null,405.07,{"$f":"ROUND(Q1007*E1007,2)","v":0},{"$f":"ROUND(F1007*Q1007,2)","v":445.58},{"$f":"ROUND(S1007*G1007,2)","v":0},{"$f":"T1007-ROUND(Q1007*G1007,2)","v":0},null,{"$f":"R1007+T1007+V1007","v":0},null,null,null,null,null,null,null,null,null,null,null,{"$f":"IF($I1007=AI$6,$E1007,0)","v":0},0,{"$f":"IF($H1007>0,AI1007,0)","v":0},{"$f":"IF(AK1007>0,1,0)","v":0},{"$f":"IF($H1007>0,AJ1007,0)","v":0},{"$f":"IF(AM1007>0,1,0)","v":0},{"$f":"IF($I1007=AO$6,$E1007,0)","v":0},0,{"$f":"IF($H1007>0,AO1007,0)","v":0},{"$f":"IF(AQ1007>0,1,0)","v":0},{"$f":"IF($H1007>0,AP1007,0)","v":0},{"$f":"IF(AS1007>0,1,0)","v":0},{"$f":"IF($I1007=AU$6,$E1007,0)","v":0},0,{"$f":"IF($H1007>0,AU1007,0)","v":0},{"$f":"IF(AW1007>0,1,0)","v":0},{"$f":"IF($H1007>0,AV1007,0)","v":0},{"$f":"IF(AY1007>0,1,0)","v":0},{"$f":"IF($I1007=BA$6,$E1007,0)","v":0},0,{"$f":"IF($H1007>0,BA1007,0)","v":0},{"$f":"IF(BC1007>0,1,0)","v":0},{"$f":"IF($H1007>0,BB1007,0)","v":0},{"$f":"IF(BE1007>0,1,0)","v":0},null,0]
[{"$f":"IF(E1008+G1008>0,A1006,\"\")","v":""},{"$f":"IF(E1008+G1008>0,B1006,\"\")","v":""},{"$f":"C1007","v":""},"",0,1.5,0,0,{"$f":"SUMIF(Y$14:BA$14,C1008,Y$7:BA$7)","v":0},0,0,0,0,null,0,null,405.07,0,607.61,0,0,null,0,null,null,null,null,null,null,null,null,null,null,null,{"$f":"IF($I1008=AI$7,$E1008,0)","v":0},{"$f":"IF($K1008=ROUND(AI$7*$F1008,2),$G1008,0)","v":0},0,0,0,0,{"$f":"IF($I1008=AO$7,$E1008,0)","v":0},{"$f":"IF($K1008=ROUND(AO$7*$F1008,2),$G1008,0)","v":0},0,0,0,0,{"$f":"IF($I1008=AU$7,$E1008,0)","v":0},{"$f":"IF($K1008=ROUND(AU$7*$F1008,2),$G1008,0)","v":0},0,0,0,0,{"$f":"IF($I1008=BA$7,$E1008,0)","v":0},{"$f":"IF($K1008=ROUND(BA$7*$F1008,2),$G1008,0)","v":0},0,0,0,0,null,0]
[{"$f":"IF(E1009+G1009>0,A1006,\"\")","v":""},{"$f":"IF(E1009+G1009>0,B1006,\"\")","v":""},{"$f":"C1007","v":""},"",0,1.1000000000000001,0,0,{"$f":"SUMIF(Y$14:BA$14,C1009,Y$7:BA$7)","v":0},0,0,0,0,null,0,null,405.07,0,445.58,0,0,null,0,null,null,null,null,null,null,null,null,null,null,null,{"$f":"IF($I1009=AI$7,$E1009,0)","v":0},{"$f":"IF($K1009=ROUND(AI$7*$F1009,2),$G1009,0)","v":0},0,0,0,0,{"$f":"IF($I1009=AO$7,$E1009,0)","v":0},{"$f":"IF($K1009=ROUND(AO$7*$F1009,2),$G1009,0)","v":0},0,0,0,0,{"$f":"IF($I1009=AU$7,$E1009,0)","v":0},{"$f":"IF($K1009=ROUND(AU$7*$F1009,2),$G1009,0)","v":0},0,0,0,0,{"$f":"IF($I1009=BA$7,$E1009,0)","v":0},{"$f":"IF($K1009=ROUND(BA$7*$F1009,2),$G1009,0)","v":0},0,0,0,0,null,0]
["","","","",0,null,null,0,{"$f":"SUMIF(Y$14:BG$14,C1010,Y$6:BG$6)","v":0},0,null,null,null,null,0,null,null,null,null,null,null,null,null,null,null,null,null,null,null,null,null,null,null,null,null,null,null,null,null,null,null,null,null,null,null,null,null,null,null,null,null,null,null,null,null,null,null,null,{"$f":"E1010","v":0},0,""]
["Вельский район            абонентский участок","Вельский район",8,"03-6-04.002",401.08800000000002,null,null,401.08800000000002,{"$f":"SUMIF(Y$14:BG$14,C1011,Y$6:BG$6)","v":811.31},160871.57999999999,null,null,null,null,160871.57999999999,null,null,null,null,null,null,null,null,null,null,null,null,null,null,null,null,null,null,null,null,null,null,null,null,null,null,null,null,null,null,null,null,null,null,null,null,null,null,null,null,null,null,null,401.08800000000002,0.401088,786.7109999999999]
["Коношское ОП ООО ПКП \"ТИТАН\"","",8,"03-4-21.161",0.874,null,null,0.874,{"$f":"SUMIF(Y$14:BG$14,C1012,Y$6:BG$6)","v":811.31},0.76,null,null,null,null,0.76,null,null,null,null,null,null,null,null,null,null,null,null,null,null,null,null,null,null,null,null,null,null,null,null,null,null,null,null,null,null,null,null,null,null,null,null,null,null,null,null,null,null,null,0.874,8.7399999999999999E-4,2.399]
["ГБУЗ АО   \"Вельская ЦРБ\"","",8,"03-4-23.144",0,null,null,0,{"$f":"SUMIF(Y$14:BG$14,C1013,Y$6:BG$6)","v":811.31},0,null,null,null,null,0,null,null,null,null,null,null,null,null,null,null,null,null,null,null,null,null,null,null,null,null,null,null,null,null,null,null,null,null,null,null,null,null,null,null,null,null,null,null,null,null,null,null,null,0,0,0.2]
["","",8,"",0,null,null,0,811.31,0,null,null,null,null,0,null,null,null,null,null,null,null,null,null,null,null,null,null,null,null,null,null,null,null,null,null,null,null,null,null,null,null,null,null,null,null,null,null,null,null,null,null,null,null,null,null,null,null,0,0,0]
["","",8,"",0,null,null,0,811.31,0,null,null,null,null,0,null,null,null,null,null,null,null,null,null,null,null,null,null,null,null,null,null,null,null,null,null,null,null,null,null,null,null,null,null,null,null,null,null,null,null,null,null,null,null,null,null,null,null,0,0,0]
["МПРО прихода Свято-Успенской церкви","Вельск + д.Покровская",8,"03-4-23.511(333)",1.39,null,null,1.39,811.31,1.93,null,null,null,null,1.93,null,null,null,null,null,null,null,null,null,null,null,null,null,null,null,null,null,null,null,null,null,null,null,null,null,null,null,null,null,null,null,null,null,null,null,null,null,null,null,null,null,null,null,1.39,1.39E-3,2.46]
["ООО     \"ВельскГазСервис\"","факт",null,null,{"$f":"SUM(E16:E1016)","v":1281.401000000001},null,{"$f":"SUM(G16:G1016)","v":12.436000000000002},1293.8370000000009,null,{"$f":"SUM(J16:J1016)","v":260497.74000000011},null,{"$f":"SUM(L16:L1016)","v":65.000000000000014},{"$f":"SUM(M16:M1016)","v":-21541.620000000003},{"$f":"SUM(N16:N1016)","v":0},{"$f":"SUM(O16:O1016)","v":260562.74000000011},{"$f":"O1017+W1017","v":623790.26000000024},null,{"$f":"SUM(R16:R1016)","v":355671.29000000004},null,{"$f":"SUM(T16:T1016)","v":7556.23},{"$f":"SUM(U16:U1016)","v":2518.7800000000002},{"$f":"SUM(V16:V1016)","v":0},{"$f":"SUM(W16:W1016)","v":363227.52000000008},null,null,null,null,null,null,null,null,null,null,null,{"$f":"SUM(AI16:AI1016)","v":282.51800000000003},{"$f":"SUM(AJ16:AJ1016)","v":0},{"$f":"SUM(AK16:AK1016)","v":282.51800000000003},null,{"$f":"SUM(AM16:AM1016)","v":0},null,{"$f":"SUM(AO16:AO1016)","v":335.56099999999998},{"$f":"SUM(AP16:AP1016)","v":1.946},{"$f":"SUM(AQ16:AQ1016)","v":335.56099999999998},null,{"$f":"SUM(AS16:AS1016)","v":1.946},null,{"$f":"SUM(AU16:AU1016)","v":223.73400000000001},{"$f":"SUM(AV16:AV1016)","v":8.8189999999999991},{"$f":"SUM(AW16:AW1016)","v":223.73400000000001},null,{"$f":"SUM(AY16:AY1016)","v":8.8189999999999991},null,{"$f":"SUM(BA16:BA1016)","v":36.235999999999997},{"$f":"SUM(BB16:BB1016)","v":1.6709999999999998},{"$f":"SUM(BC16:BC1016)","v":36.235999999999997},null,{"$f":"SUM(BE16:BE1016)","v":1.6709999999999998},null,{"$f":"SUM(BG16:BG1016)","v":403.35200000000003},1.2938370000000008,{"$f":"SUM(BI16:BI1016)","v":2000.1670000000001}]
["в том числе с коэффициентом  1,5",null,null,null,null,null,{"$f":"SUMIF($F$16:$F$1015,1.5,G$16:G$1015)","v":12.436000000000002},12.436000000000002,null,null,null,{"$f":"SUMIF($F$16:$F$1015,1.5,L$16:L$1015)","v":65.000000000000014},{"$f":"SUMIF($F$16:$F$1015,1.5,M$16:M$1015)","v":-21541.620000000003},null,null,null,null,null,null,null,null,null,null,null,null,null,null,null,null,null,null,null,null,null,null,{"$f":"SUMIF($F$16:$F$1015,1.5,AJ$16:AJ$1015)","v":0},null,null,{"$f":"SUMIF($F$16:$F$1015,1.5,AM$16:AM$1015)","v":0},null,null,{"$f":"SUMIF($F$16:$F$1015,1.5,AP$16:AP$1015)","v":1.946},null,null,{"$f":"SUMIF($F$16:$F$1015,1.5,AS$16:AS$1015)","v":1.946},null,null,{"$f":"SUMIF($F$16:$F$1015,1.5,AV$16:AV$1015)","v":8.8189999999999991},null,null,{"$f":"SUMIF($F$16:$F$1015,1.5,AY$16:AY$1015)","v":8.8189999999999991},null,null,{"$f":"SUMIF($F$16:$F$1015,1.5,BB$16:BB$1015)","v":1.6709999999999998},null,null,{"$f":"SUMIF($F$16:$F$1015,1.5,BE$16:BE$1015)","v":1.6709999999999998}]
["в том числе с коэффициентом  1,1",null,null,null,null,null,{"$f":"SUMIF($F$16:$F$1015,1.1,G$16:G$1015)","v":0},0,null,null,null,{"$f":"SUMIF($F$16:$F$1015,1.1,L$16:L$1015)","v":0},{"$f":"SUMIF($F$16:$F$1015,1.1,M$16:M$1015)","v":0},null,null,null,null,null,null,null,null,null,null,null,null,null,null,null,null,null,null,null,null,null,null,{"$f":"SUMIF($F$16:$F$1015,1.1,AJ$16:AJ$1015)","v":0},null,null,{"$f":"SUMIF($F$16:$F$1015,1.1,AM$16:AM$1015)","v":0},null,null,{"$f":"SUMIF($F$16:$F$1015,1.1,AP$16:AP$1015)","v":0},null,null,{"$f":"SUMIF($F$16:$F$1015,1.1,AS$16:AS$1015)","v":0},null,null,{"$f":"SUMIF($F$16:$F$1015,1.1,AV$16:AV$1015)","v":0},null,null,{"$f":"SUMIF($F$16:$F$1015,1.1,AY$16:AY$1015)","v":0},null,null,{"$f":"SUMIF($F$16:$F$1015,1.1,BB$16:BB$1015)","v":0},null,null,{"$f":"SUMIF($F$16:$F$1015,1.1,BE$16:BE$1015)","v":0}]
[null,"план",null,null,{"$f":"E1017+G1017","v":1293.8370000000009},null,null,null,null,null,null,null,null,null,null,null,null,null,null,null,null,null,null,null,null,null,null,null,null,null,null,null,null,null,{"$f":"SUMIF($C16:$C1016,4,$BI16:$BI1016)","v":321.7},null,null,null,null,null,{"$f":"SUMIF($C16:$C1016,5,$BI16:$BI1016)","v":461.6},null,null,null,null,null,{"$f":"SUMIF($C16:$C1016,6,$BI16:$BI1016)","v":355.21499999999997},null,null,null,null,null,{"$f":"SUMIF($C16:$C1016,7,$BI16:$BI1016)","v":69.882000000000019},null,null,null,null,null,{"$f":"SUMIF($C16:$C1016,8,$BI16:$BI1016)","v":791.77}]
[]
["Сумма услуг по тарифам ФАС,  руб.",null,null,null,null,null,null,null,null,{"$f":"SUM(AI1022,AO1022,AU1022,BA1022,BG1022)","v":323956.89},null,{"$f":"SUM(AJ1022,AP1022,AV1022,BB1022)","v":-1154.48},null,null,{"$f":"J1022+L1022+J1026+L1026+N1022","v":422490.88},{"$f":"O1022+W1022","v":785718.42999999993},null,{"$f":"ROUND(SUMIF(Q$16:Q1015,Q5,E$16:E1015)*$Q$5,2)+ROUND(SUMIF(Q$16:Q1015,Q$6,E$16:E1015)*$Q$6,2)","v":355671.31},null,{"$f":"T1023+T1024","v":7556.24},null,null,{"$f":"R1022+T1022+V1022","v":363227.55},null,null,null,null,null,null,null,null,null,null,null,{"$f":"ROUND((SUM(AI$16:AI$1009)-SUM(AK$16:AK$1009))*AI6,2)","v":0},{"$f":"AJ1023+AJ1024","v":0},{"$f":"SUM(AK21:AK1021)","v":282.51800000000003},null,{"$f":"SUM(AM21:AM1021)","v":0},null,{"$f":"ROUND((SUM(AO$16:AO$1009)-SUM(AQ$16:AQ$1009))*AO6,2)","v":0},{"$f":"AP1023+AP1024","v":0},{"$f":"SUM(AQ21:AQ1021)","v":587.86699999999996},null,{"$f":"SUM(AS21:AS1021)","v":5.8380000000000001},null,{"$f":"ROUND((SUM(AU$16:AU$1009)-AU818-SUM(AW$16:AW$1009))*AU6,2)","v":-3286.62},{"$f":"AV1023+AV1024","v":-1154.48},{"$f":"SUM(AW21:AW1021)","v":447.46800000000002},null,{"$f":"SUM(AY21:AY1021)","v":26.456999999999997},null,{"$f":"ROUND((SUM(BA$16:BA$1009)-SUM(BC$16:BC$1009))*BA6,2)","v":0},{"$f":"BB1023+BB1024","v":0},{"$f":"SUM(BC21:BC1021)","v":72.471999999999994},null,{"$f":"SUM(BE21:BE1021)","v":5.0129999999999999},null,{"$f":"ROUND(SUM(BG1010:BG1016)*BG6,2)","v":327243.51}]
["в том числе с коэффициентом  1,5",null,null,null,null,1.5,null,null,null,null,null,{"$f":"SUM(AJ1023,AP1023,AV1023,BB1023)","v":-1154.48},null,null,null,null,null,null,null,{"$f":"ROUND(G1018*ROUND($Q$6*F1023,2),2)","v":7556.24},null,null,null,null,null,null,null,null,null,null,null,null,null,null,null,{"$f":"ROUND((SUMIF($F$16:$F$1009,$F1023,AJ$16:AJ$1009)-SUMIF($F$16:$F$1009,$F1023,AM$16:AM$1009))*ROUND(AI$6*$F1023,2),2)","v":0},null,null,{"$f":"SUMIF($F$16:$F$1015,1.5,AM$16:AM$1015)","v":0},null,null,{"$f":"ROUND((SUMIF($F$16:$F$1009,$F1023,AP$16:AP$1009)-SUMIF($F$16:$F$1009,$F1023,AS$16:AS$1009))*ROUND(AO$6*$F1023,2),2)","v":0},null,null,{"$f":"SUMIF($F$16:$F$1015,1.5,AS$16:AS$1015)","v":1.946},null,null,{"$f":"ROUND((SUMIF($F$16:$F$1009,$F1023,AV$16:AV$1009)-AV818-SUMIF($F$16:$F$1009,$F1023,AY$16:AY$1009))*ROUND(AU$6*$F1023,2),2)","v":-1154.48},null,null,{"$f":"SUMIF($F$16:$F$1015,1.5,AY$16:AY$1015)","v":8.8189999999999991},null,null,{"$f":"ROUND((SUMIF($F$16:$F$1009,$F1023,BB$16:BB$1009)-SUMIF($F$16:$F$1009,$F1023,BE$16:BE$1009))*ROUND(BA$6*$F1023,2),2)","v":0},null,null,{"$f":"SUMIF($F$16:$F$1015,1.5,BE$16:BE$1015)","v":1.6709999999999998}]
["в том числе с коэффициентом  1,1",null,null,null,null,1.1000000000000001,null,null,null,null,null,0,null,null,null,null,null,null,null,{"$f":"ROUND(G1019*ROUND($Q$6*F1024,2),2)","v":0},null,null,null,null,null,null,null,null,null,null,null,null,null,null,null,{"$f":"ROUND((SUMIF($F$16:$F$1009,$F1024,AJ$16:AJ$1009)-SUMIF($F$16:$F$1009,$F1024,AM$16:AM$1009))*ROUND(AI$6*$F1024,2),2)","v":0},null,null,{"$f":"SUMIF($F$16:$F$1015,1.1,AM$16:AM$1015)","v":0},null,null,{"$f":"ROUND((SUMIF($F$16:$F$1009,$F1024,AP$16:AP$1009)-SUMIF($F$16:$F$1009,$F1024,AS$16:AS$1009))*ROUND(AO$6*$F1024,2),2)","v":0},null,null,{"$f":"SUMIF($F$16:$F$1015,1.1,AS$16:AS$1015)","v":0},null,null,{"$f":"ROUND((SUMIF($F$16:$F$1009,$F1024,AV$16:AV$1009)-SUMIF($F$16:$F$1009,$F1024,AY$16:AY$1009))*ROUND(AU$6*$F1024,2),2)","v":0},null,null,{"$f":"SUMIF($F$16:$F$1015,1.1,AY$16:AY$1015)","v":0},null,null,{"$f":"ROUND((SUMIF($F$16:$F$1009,$F1024,BB$16:BB$1009)-SUMIF($F$16:$F$1009,$F1024,BE$16:BE$1009))*ROUND(BA$6*$F1024,2),2)","v":0},null,null,{"$f":"SUMIF($F$16:$F$1015,1.1,BE$16:BE$1015)","v":0}]
[]
["Сумма услуг по расчетным тарифам,  руб.",null,null,null,null,null,null,null,null,{"$f":"SUM(AI1026,AO1026,AU1026,BA1026,BG1026)","v":99623.47},null,{"$f":"SUM(AJ1026,AP1026,AV1026,BB1026)","v":65.000000000000014},null,null,null,null,null,null,null,null,null,null,null,null,null,null,null,null,null,null,null,null,null,null,{"$f":"SUMIF(AL$16:AL$1009,1,$J16:$J1009)","v":79816.42},{"$f":"SUMIF(AN$16:AN$1009,1,$L16:$L1009)","v":0},{"$f":"SUM(AK25:AK1025)","v":565.03600000000006},null,{"$f":"SUM(AM25:AM1025)","v":0},null,{"$f":"SUMIF(AR$16:AR$1009,1,$J16:$J1009)","v":19020.690000000002},{"$f":"SUMIF(AT$16:AT$1009,1,$L16:$L1009)","v":26.48},{"$f":"SUM(AQ25:AQ1025)","v":1123.6009999999999},null,{"$f":"SUM(AS25:AS1025)","v":13.622},null,{"$f":"SUMIF(AX$16:AX$1009,1,$J16:$J1009)","v":764.52999999999963},{"$f":"SUMIF(AZ$16:AZ$1009,1,$L16:$L1009)","v":36.900000000000006},{"$f":"SUM(AW25:AW1025)","v":894.93600000000004},null,{"$f":"SUM(AY25:AY1025)","v":61.73299999999999},null,{"$f":"SUMIF(BD$16:BD$1009,1,$J16:$J1009)","v":21.829999999999995},{"$f":"SUMIF(BF$16:BF$1009,1,$L16:$L1009)","v":1.6200000000000003},{"$f":"SUM(BC25:BC1025)","v":144.94399999999999},null,{"$f":"SUM(BE25:BE1025)","v":11.696999999999999}]
["в том числе с коэффициентом  1,5",null,null,null,null,1.5,null,null,null,null,null,{"$f":"SUM(AJ1027,AP1027,AV1027,BB1027)","v":65.000000000000014},null,null,null,null,null,null,null,null,null,null,null,null,null,null,null,null,null,null,null,null,null,null,null,{"$f":"SUMIFS($L$16:$L$1009,$F$16:$F$1009,$F1027,AN$16:AN$1009,1)","v":0},null,null,{"$f":"SUMIF($F$16:$F$1015,1.5,AM$16:AM$1015)","v":0},null,null,{"$f":"SUMIFS($L$16:$L$1009,$F$16:$F$1009,$F1027,AT$16:AT$1009,1)","v":26.48},null,null,{"$f":"SUMIF($F$16:$F$1015,1.5,AS$16:AS$1015)","v":1.946},null,null,{"$f":"SUMIFS($L$16:$L$1009,$F$16:$F$1009,$F1027,AZ$16:AZ$1009,1)","v":36.900000000000006},null,null,{"$f":"SUMIF($F$16:$F$1015,1.5,AY$16:AY$1015)","v":8.8189999999999991},null,null,{"$f":"SUMIFS($L$16:$L$1009,$F$16:$F$1009,$F1027,BF$16:BF$1009,1)","v":1.6200000000000003},null,null,{"$f":"SUMIF($F$16:$F$1015,1.5,BE$16:BE$1015)","v":1.6709999999999998}]
["в том числе с коэффициентом  1,1",null,null,null,null,1.1000000000000001,null,null,null,null,null,0,null,null,null,null,null,null,null,null,null,null,null,null,null,null,null,null,null,null,null,null,null,null,null,{"$f":"SUMIFS($L$16:$L$1009,$F$16:$F$1009,$F1028,AN$16:AN$1009,1)","v":0},null,null,{"$f":"SUMIF($F$16:$F$1015,1.1,AM$16:AM$1015)","v":0},null,null,{"$f":"SUMIFS($L$16:$L$1009,$F$16:$F$1009,$F1028,AT$16:AT$1009,1)","v":0},null,null,{"$f":"SUMIF($F$16:$F$1015,1.1,AS$16:AS$1015)","v":0},null,null,{"$f":"SUMIFS($L$16:$L$1009,$F$16:$F$1009,$F1028,AZ$16:AZ$1009,1)","v":0},null,null,{"$f":"SUMIF($F$16:$F$1015,1.1,AY$16:AY$1015)","v":0},null,null,{"$f":"SUMIFS($L$16:$L$1009,$F$16:$F$1009,$F1028,BF$16:BF$1009,1)","v":0},null,null,{"$f":"SUMIF($F$16:$F$1015,1.1,BE$16:BE$1015)","v":0}]